BEGIN:VCALENDAR
PRODID:-//AT Content Types//AT Event//EN
VERSION:2.0
METHOD:PUBLISH
BEGIN:VEVENT
DTSTAMP:20260423T101426Z
CREATED:20240208T102233Z
UID:ATEvent-b1e17e34d6034df7888133b313b3d7c7
LAST-MODIFIED:20240717T091514Z
SUMMARY:Public drop-in event
DTSTART:20240223T130000Z
DTEND:20240223T160000Z
DESCRIPTION:Please come and meet us at our next drop-in event to hear 
 more about the new option and to ask us any questions you may have.\n\
 nVenue: Jubilee Hall Room\, Old School Rooms\, 1 Station Road\, Congre
 sbury\, \nBS49 5DY
CLASS:PUBLIC
END:VEVENT
END:VCALENDAR
