Workbook
Name CCNS: [1]Application!$I$184
Name existingPermitRef: [1]Application!$K$4
Name isSG: [1]Application!$L$91
Name LocalAuth: [1]Application!$D$105
Name MobilePlant: [1]Application!$E$102
Name NaceCode: [1]Application!$K$98
Name NatSecure: [1]Application!$I$186
Name PlantLoc_Easting: [1]Plant_Details!$F$4
Name PlantLoc_Lat: [1]Plant_Details!$H$4
Name PlantLoc_Long: [1]Plant_Details!$I$4
Name PlantLoc_Northing: [1]Plant_Details!$G$4
Name Ruleset: [1]Application!$D$89
Name SiteAddr_Locality: [1]Application!$D$101
Name SiteAddr_Postcode: [1]Application!$D$103
Name SiteAddr_Premise: [1]Application!$D$99
Name SiteAddr_Street: [1]Application!$D$100
Name SiteAddr_Town: [1]Application!$D$102
Name SiteName: [1]Application!$D$98

Sheet MCP_or_generator_list
A1: Plant Name | B1: Point Source Emission Reference | C1: NACE Code (required information) | D1: Traceable identifier for the individual medium combustion plant (MCP) or generator (required information) | E1: Plant Manufacturer | F1: Model Name | G1: Is the plant stationary or mobile? | H1: Stack or emission point national grid reference (required information) | I1: Easting | J1: Northing | K1: Latitude | L1: Longitude | M1: Date operation started (required information) | N1: Rated thermal input of the individual MCP or generator in MW thermal (required information) | O1: Total rated thermal input of all plant or generators on site in MWth | P1: Technology or type (required information) | Q1: Main fuel type used (required information) | R1: Secondary fuel type used (required information if plant is dual fired or uses a secondary fuel as a back up) | S1: Is the secondary fuel used as a back up? and/or does the plant co fire using the secondary fuel? | T1: Percentage of secondary fuel type used | U1: Will the medium combustion plant be operated as a limited operting hours plant? (required information) | V1: Annual operating hours. Please enter the hours the plant is intended to run. | W1: Do you want to declare that your existing MCP will meet new MCP emission limit values (ELVs) from the medium combustion plant directive? | X1: Annual load factor as a percentage | Y1: Background nitrogen dioxide (NO2) in ug/m3 | Z1: Stack height (meters) | AA1: What is the emission rate for the pollutants (Nm3/s ) | AB1: Is the plant in an Air Quality Management Area (AQMA) for a declared pollutant? | AC1: What is the name of the local authority who has declared th AQMA? | AD1: Closest human receptor (meters) | AE1: Human receptor details | AF1: Closest Ecological receptor (meters) | AG1: Ecological receptor details | AH1: Will secondary abatement be fitted to the plant | AI1: What type of secondary abatement will be fitted? | AJ1: date of capacity market of balancing service agreement or FiT accreditation (DD/MM/YYYY)
A2: Guidance | B2: See 2324033 – ERA Figure 3 Emission Points to Atmosphere – Generator Stacks | C2: NACE code means Nomenclature of Economic Activities and is the European statistical classification of economic activities | D2: Serial number or other unique identifier, name plate, manufacturer and or model | E2: Indicative Manufacture only - Suppier not yet selected. | H2: Enter the coordinates of the emission point of the plant (not the site). You should enter this as a National Grid Reference or as a Latitude and Longitude pair. You should enter the values using the same coordinate system that you collected the raw data in. | M2: When the plant or generator was first put into operation or the commissioning date, leave blank if new and not yet operating | N2: This is for each individual unit. You should calculate this using one of the methods given in this guidance on calculating capacity: | O2: This should be the total of all the individual units of any size | P2: Boiler, Engine, Back up generator, turbine, boiler CHP, Engine CHP | Q2: Gas oil, Gas oil substitute, Hydrogen, Liquid fuels other than gas oil, Natural gas, Biogas, Other gaseous fuels, Solid biomass, Waste biomass, Woody solid biomass, Straw, Other solid fuels | R2: Gas oil, Gas oil substitute, Hydrogen, Liquid fuels other than gas oil, Natural gas, Biogas, Other gaseous fuels, Solid biomass, Waste biomass, Woody solid biomass, Straw, Other solid fuels | S2: Back up, co firing, both | T2: Only required where co firing | U2: Where the option of exemption under Article 6 (8) of the medium combustion plant directive is used the operator (as identified in Part A of the application form) can declare by indicating here that the MCP will not be operated more than the number of hours referred to in this paragraph. | V2: This should be the total for the year and be to the nearest whole number | W2: Applicable for existing MCP plant only. You may want to claim this to demonstrate low risk impacts to habitats as part of an air emissions risk assessment. If you do make this voluntary declaration we will include new MCP ELVs from the medium combustion plant directive in your permit. | Y2: Go to the Defra UK Air website and select the most recent background map data. Set the local authority to that of your site location and the pollutant to NO2 | AB2: AQMAs interactive map | AJ2: applicable to SG applications only
C3: Full Classification | N3: Capacity Guidance | Y3: Background Mapping data for local authorities - Defra, UK
C4: Simple List | Q4: Click Here to see MCP New Fuels Direction 2024
A5: Emergency Standby Generator (Back up 1) | B5: A1 | C5: J63 | D5: N/A - MCP not yet purchased | E5: CAT | F5: Not yet selected | G5: Stationary | I5: 503348.3 | J5: 180454 | N5: 8.48 | O5: =N37 -> 222.98 | P5: Back up generator | Q5: Gas oil | U5: Yes | V5: 500 | X5: 100 | Y5: 20.4 | Z5: 25 | AA5: 9.15 | AB5: Yes | AC5: Buckinghamshire Council | AD5: 55 | AE5: Residential | AF5: 3830 | AG5: Black Park SSSI | AH5: No
A6: Emergency Standby Generator (Back up 2) | B6: A2 | C6: J63 | D6: N/A - MCP not yet purchased | E6: CAT | F6: Not yet selected | G6: Stationary | I6: 503354.3 | J6: 180455.8 | N6: 8.48 | O6: =O5 -> 222.98 | P6: Back up generator | Q6: Gas oil | R6: Gas oil substitute | S6: Co firing | T6: HVO Gas oil substitute will be used subject to availability | U6: Yes | V6: 500 | X6: 100 | Y6: 20.4 | Z6: 25 | AA6: 9.15 | AB6: Yes | AC6: Buckinghamshire Council | AD6: 55 | AE6: Residential | AF6: 3830 | AG6: Black Park SSSI | AH6: No
A7: Standby Generator 1 | B7: A3 | C7: J63 | D7: N/A - MCP not yet purchased | E7: CAT | F7: Not yet selected | G7: Stationary | I7: 503360.3 | J7: 180457.6 | N7: 8.48 | O7: =O6 -> 222.98 | P7: Back up generator | Q7: Gas oil | R7: Gas oil substitute | S7: Co firing | U7: Yes | V7: 500 | X7: 100 | Y7: 20.4 | Z7: 25 | AA7: 9.15 | AB7: Yes | AC7: Buckinghamshire Council | AD7: 55 | AE7: Residential | AF7: 3830 | AG7: Black Park SSSI | AH7: No
A8: Standby Generator 2 | B8: A4 | C8: J63 | D8: N/A - MCP not yet purchased | E8: CAT | F8: Not yet selected | G8: Stationary | I8: 503366.4 | J8: 180459.4 | N8: 8.48 | O8: =O7 -> 222.98 | P8: Back up generator | Q8: Gas oil | R8: Gas oil substitute | S8: Co firing | U8: Yes | V8: 500 | X8: 100 | Y8: 20.4 | Z8: 25 | AA8: 9.15 | AB8: Yes | AC8: Buckinghamshire Council | AD8: 55 | AE8: Residential | AF8: 3830 | AG8: Black Park SSSI | AH8: No
A9: Standby Generator 3 | B9: A5 | C9: J63 | D9: N/A - MCP not yet purchased | E9: CAT | F9: Not yet selected | G9: Stationary | I9: 503372.4 | J9: 180461.2 | N9: 8.48 | O9: =O8 -> 222.98 | P9: Back up generator | Q9: Gas oil | R9: Gas oil substitute | S9: Co firing | U9: Yes | V9: 500 | X9: 100 | Y9: 20.4 | Z9: 25 | AA9: 9.15 | AB9: Yes | AC9: Buckinghamshire Council | AD9: 55 | AE9: Residential | AF9: 3830 | AG9: Black Park SSSI | AH9: No
A10: Standby Generator 4 | B10: A6 | C10: J63 | D10: N/A - MCP not yet purchased | E10: CAT | F10: Not yet selected | G10: Stationary | I10: 503378.4 | J10: 180463 | N10: 8.48 | O10: =O9 -> 222.98 | P10: Back up generator | Q10: Gas oil | R10: Gas oil substitute | S10: Co firing | U10: Yes | V10: 500 | X10: 100 | Y10: 20.4 | Z10: 25 | AA10: 9.15 | AB10: Yes | AC10: Buckinghamshire Council | AD10: 55 | AE10: Residential | AF10: 3830 | AG10: Black Park SSSI | AH10: No
A11: Standby Generator 5 | B11: A7 | C11: J63 | D11: N/A - MCP not yet purchased | E11: CAT | F11: Not yet selected | G11: Stationary | I11: 503384.4 | J11: 180464.9 | N11: 8.48 | O11: =O10 -> 222.98 | P11: Back up generator | Q11: Gas oil | R11: Gas oil substitute | S11: Co firing | U11: Yes | V11: 500 | X11: 100 | Y11: 20.4 | Z11: 25 | AA11: 9.15 | AB11: Yes | AC11: Buckinghamshire Council | AD11: 55 | AE11: Residential | AF11: 3830 | AG11: Black Park SSSI | AH11: No
A12: Standby Generator 6 | B12: A8 | C12: J63 | D12: N/A - MCP not yet purchased | E12: CAT | F12: Not yet selected | G12: Stationary | I12: 503390.4 | J12: 180466.7 | N12: 8.48 | O12: =O11 -> 222.98 | P12: Back up generator | Q12: Gas oil | R12: Gas oil substitute | S12: Co firing | U12: Yes | V12: 500 | X12: 100 | Y12: 20.4 | Z12: 25 | AA12: 9.15 | AB12: Yes | AC12: Buckinghamshire Council | AD12: 55 | AE12: Residential | AF12: 3830 | AG12: Black Park SSSI | AH12: No
A13: Standby Generator 7 | B13: A9 | C13: J63 | D13: N/A - MCP not yet purchased | E13: CAT | F13: Not yet selected | G13: Stationary | I13: 503396.5 | J13: 180468.5 | N13: 8.48 | O13: =O12 -> 222.98 | P13: Back up generator | Q13: Gas oil | R13: Gas oil substitute | S13: Co firing | U13: Yes | V13: 500 | X13: 100 | Y13: 20.4 | Z13: 25 | AA13: 9.15 | AB13: Yes | AC13: Buckinghamshire Council | AD13: 55 | AE13: Residential | AF13: 3830 | AG13: Black Park SSSI | AH13: No
A14: Standby Generator 8 | B14: A10 | C14: J63 | D14: N/A - MCP not yet purchased | E14: CAT | F14: Not yet selected | G14: Stationary | I14: 503402.5 | J14: 180470.3 | N14: 8.48 | O14: =O13 -> 222.98 | P14: Back up generator | Q14: Gas oil | R14: Gas oil substitute | S14: Co firing | U14: Yes | V14: 500 | X14: 100 | Y14: 20.4 | Z14: 25 | AA14: 9.15 | AB14: Yes | AC14: Buckinghamshire Council | AD14: 55 | AE14: Residential | AF14: 3830 | AG14: Black Park SSSI | AH14: No
A15: Standby Generator 9 | B15: A11 | C15: J63 | D15: N/A - MCP not yet purchased | E15: CAT | F15: Not yet selected | G15: Stationary | I15: 503408.5 | J15: 180472.1 | N15: 8.48 | O15: =O14 -> 222.98 | P15: Back up generator | Q15: Gas oil | R15: Gas oil substitute | S15: Co firing | U15: Yes | V15: 500 | X15: 100 | Y15: 20.4 | Z15: 25 | AA15: 9.15 | AB15: Yes | AC15: Buckinghamshire Council | AD15: 55 | AE15: Residential | AF15: 3830 | AG15: Black Park SSSI | AH15: No
A16: Standby Generator 10 | B16: A12 | C16: J63 | D16: N/A - MCP not yet purchased | E16: CAT | F16: Not yet selected | G16: Stationary | I16: 503414.5 | J16: 180474 | N16: 8.48 | O16: =O15 -> 222.98 | P16: Back up generator | Q16: Gas oil | R16: Gas oil substitute | S16: Co firing | U16: Yes | V16: 500 | X16: 100 | Y16: 20.4 | Z16: 25 | AA16: 9.15 | AB16: Yes | AC16: Buckinghamshire Council | AD16: 55 | AE16: Residential | AF16: 3830 | AG16: Black Park SSSI | AH16: No
A17: Standby Generator 11 | B17: A13 | C17: J63 | D17: N/A - MCP not yet purchased | E17: CAT | F17: Not yet selected | G17: Stationary | I17: 503420.6 | J17: 180475.8 | N17: 8.48 | O17: =O16 -> 222.98 | P17: Back up generator | Q17: Gas oil | R17: Gas oil substitute | S17: Co firing | U17: Yes | V17: 500 | X17: 100 | Y17: 20.4 | Z17: 25 | AA17: 9.15 | AB17: Yes | AC17: Buckinghamshire Council | AD17: 55 | AE17: Residential | AF17: 3830 | AG17: Black Park SSSI | AH17: No
A18: Standby Generator 12 | B18: A14 | C18: J63 | D18: N/A - MCP not yet purchased | E18: CAT | F18: Not yet selected | G18: Stationary | I18: 503426.6 | J18: 180477.6 | N18: 8.48 | O18: =O17 -> 222.98 | P18: Back up generator | Q18: Gas oil | R18: Gas oil substitute | S18: Co firing | U18: Yes | V18: 500 | X18: 100 | Y18: 20.4 | Z18: 25 | AA18: 9.15 | AB18: Yes | AC18: Buckinghamshire Council | AD18: 55 | AE18: Residential | AF18: 3830 | AG18: Black Park SSSI | AH18: No
... A31: House Generator | B31: A27 | C31: J63 | D31: N/A - MCP not yet purchased | E31: CAT | F31: Not yet selected | G31: Stationary | I31: 503500.9 | J31: 180500.1 | N31: 2.5 | O31: =O30 -> 222.98 | P31: Back up generator | Q31: Gas oil | R31: Gas oil substitute | S31: Co firing | U31: Yes | V31: 500 | X31: 100 | Y31: 20.4 | Z31: 25 | AA31: 2.32 | AB31: Yes | AC31: Buckinghamshire Council | AD31: 55 | AE31: Residential | AF31: 3830 | AG31: Black Park SSSI | AH31: No
N37: =SUM(N5:N36) -> 222.98
A41: Add more rows as you need them

Sheet Thermal Input Rating Calc
C1: Deployment | D1: Critical
B2: Model | C2: Reference Model | D2: CAT C175-20 EM1365
B3: Fuel | C3: 824.7 | D3: at 100% Power Rating
B4: Diesel | C4: 42700 | D4: Calorific Value (LHV)
B5: Density | C5: 0.85 | D5: Fuel Density
B6: Thermal Input | C6: =(C3*C4*C5)/3600 -> 8314.5796 | D6: Thermal Input ["=Consumption (l/hr) x calorific value x density"]
C7: =C6*1.02 -> 8480.8712 | D7: added 2% margin for BImSchG application
C11: Deployment | D11: House
C12: Reference Model | D12: CAT C32 EM0777
C13: 252.3 | D13: at 100% Power Rating
C14: 42700 | D14: Calorific Value (LHV)
C15: 0.85 | D15: Fuel Density
C16: =(C13*C14*C15)/3600 -> 2543.6746 | D16: Thermal Input ["=Consumption (l/hr) x calorific value x density"]
C17: =C16*1.02 -> 2594.5481 | D17: added 2% margin for BImSchG application

Sheet Resp_1
A1: Plant Name | B1: _1136 | C1: _1333 | D1: _1234 | E1: Easting | F1: Northing | G1: Lat | H1: Long | I1: _1224 | J1: _1137 | K1: _1118 | L1: _1125 | M1: _1152 | N1: _1230 | O1: _1138 | P1: _1328 | Q1: _1062 | R1: _1326 | S1: _1021 | T1: _1015 | U1: _1140 | V1: _1121 | W1: _1117 | X1: _1124 | Y1: _2005 | Z1: _1016 | AA1: _2006 | AB1: _1150 | AC1: _1040 | AD1: _1225 | AE1: _2017 | AF1: Release Point NGR | AG1: Mobile Plant | AH1: NACE Code
A2: =MCP_or_generator_list!A5 -> Emergency Standby Generator (Back up 1) | B2: =MCP_or_generator_list!F5 -> Not yet selected | C2: =MCP_or_generator_list!E5 -> CAT | D2: =MCP_or_generator_list!#REF! -> #REF! | E2: =MCP_or_generator_list!I5 -> 503348.3 | F2: =MCP_or_generator_list!J5 -> 180454 | G2: =MCP_or_generator_list!K5 -> 0 | H2: =MCP_or_generator_list!L5 -> 0 | I2: =MCP_or_generator_list!M5 -> 0 | J2: =MCP_or_generator_list!N5 -> 8.48 | K2: =MCP_or_generator_list!P5 -> Back up generator | L2: =MCP_or_generator_list!#REF! -> #REF! | M2: =MCP_or_generator_list!R5 -> 0 | N2: =MCP_or_generator_list!S5 -> 0 | O2: =MCP_or_generator_list!T5 -> 0 | P2: =MCP_or_generator_list!U5 -> Yes | Q2: =MCP_or_generator_list!V5 -> 500 | R2: =MCP_or_generator_list!W5 -> 0 | S2: =MCP_or_generator_list!X5 -> 100 | T2: =MCP_or_generator_list!Y5 -> 20.4 | U2: =MCP_or_generator_list!Z5 -> 25 | V2: =MCP_or_generator_list!AB5 -> Yes | W2: =MCP_or_generator_list!AC5 -> Buckinghamshire Council | X2: =MCP_or_generator_list!AD5 -> 55 | Y2: =MCP_or_generator_list!AE5 -> Residential | Z2: =MCP_or_generator_list!AF5 -> 3830 | AA2: =MCP_or_generator_list!AG5 -> Black Park SSSI | AB2: =MCP_or_generator_list!AH5 -> No | AC2: =MCP_or_generator_list!AI5 -> 0 | AD2: =MCP_or_generator_list!AJ5 -> 0 | AE2: =MCP_or_generator_list!AA5 -> 9.15 | AF2: =MCP_or_generator_list!H5 -> 0 | AG2: =IF(ISERROR(SEARCH("mobile",MCP_or_generator_list!G5)),"No","Yes") -> No | AH2: =MCP_or_generator_list!C5 -> J63
A3: =MCP_or_generator_list!A6 -> Emergency Standby Generator (Back up 2) | B3: =MCP_or_generator_list!F6 -> Not yet selected | C3: =MCP_or_generator_list!E6 -> CAT | D3: =MCP_or_generator_list!#REF! -> #REF! | E3: =MCP_or_generator_list!I6 -> 503354.3 | F3: =MCP_or_generator_list!J6 -> 180455.8 | G3: =MCP_or_generator_list!K6 -> 0 | H3: =MCP_or_generator_list!L6 -> 0 | I3: =MCP_or_generator_list!M6 -> 0 | J3: =MCP_or_generator_list!N6 -> 8.48 | K3: =MCP_or_generator_list!P6 -> Back up generator | L3: =MCP_or_generator_list!Q5 -> Gas oil | M3: =MCP_or_generator_list!R6 -> Gas oil substitute | N3: =MCP_or_generator_list!S6 -> Co firing | O3: =MCP_or_generator_list!T6 -> HVO Gas oil substitute will be used subject to availability | P3: =MCP_or_generator_list!U6 -> Yes | Q3: =MCP_or_generator_list!V6 -> 500 | R3: =MCP_or_generator_list!W6 -> 0 | S3: =MCP_or_generator_list!X6 -> 100 | T3: =MCP_or_generator_list!Y6 -> 20.4 | U3: =MCP_or_generator_list!Z6 -> 25 | V3: =MCP_or_generator_list!AB6 -> Yes | W3: =MCP_or_generator_list!AC6 -> Buckinghamshire Council | X3: =MCP_or_generator_list!AD6 -> 55 | Y3: =MCP_or_generator_list!AE6 -> Residential | Z3: =MCP_or_generator_list!AF6 -> 3830 | AA3: =MCP_or_generator_list!AG6 -> Black Park SSSI | AB3: =MCP_or_generator_list!AH6 -> No | AC3: =MCP_or_generator_list!AI6 -> 0 | AD3: =MCP_or_generator_list!AJ6 -> 0 | AE3: =MCP_or_generator_list!AA6 -> 9.15 | AF3: =MCP_or_generator_list!H6 -> 0 | AG3: =IF(ISERROR(SEARCH("mobile",MCP_or_generator_list!G6)),"No","Yes") -> No | AH3: =MCP_or_generator_list!C6 -> J63
A4: =MCP_or_generator_list!A7 -> Standby Generator 1 | B4: =MCP_or_generator_list!F7 -> Not yet selected | C4: =MCP_or_generator_list!E7 -> CAT | D4: =MCP_or_generator_list!#REF! -> #REF! | E4: =MCP_or_generator_list!I7 -> 503360.3 | F4: =MCP_or_generator_list!#REF! -> #REF! | G4: =MCP_or_generator_list!K7 -> 0 | H4: =MCP_or_generator_list!L7 -> 0 | I4: =MCP_or_generator_list!M7 -> 0 | J4: =MCP_or_generator_list!N7 -> 8.48 | K4: =MCP_or_generator_list!P7 -> Back up generator | L4: =MCP_or_generator_list!Q7 -> Gas oil | M4: =MCP_or_generator_list!R7 -> Gas oil substitute | N4: =MCP_or_generator_list!S7 -> Co firing | O4: =MCP_or_generator_list!T7 -> 0 | P4: =MCP_or_generator_list!U7 -> Yes | Q4: =MCP_or_generator_list!V7 -> 500 | R4: =MCP_or_generator_list!W7 -> 0 | ... U4: =MCP_or_generator_list!Z7 -> 25 | V4: =MCP_or_generator_list!AB7 -> Yes | W4: =MCP_or_generator_list!AC7 -> Buckinghamshire Council | X4: =MCP_or_generator_list!AD7 -> 55 | Y4: =MCP_or_generator_list!AE7 -> Residential | Z4: =MCP_or_generator_list!AF7 -> 3830 | AA4: =MCP_or_generator_list!AG7 -> Black Park SSSI | AB4: =MCP_or_generator_list!AH7 -> No | AC4: =MCP_or_generator_list!AI7 -> 0 | AD4: =MCP_or_generator_list!AJ7 -> 0 | AE4: =MCP_or_generator_list!AA7 -> 9.15 | AF4: =MCP_or_generator_list!H7 -> 0 | AG4: =IF(ISERROR(SEARCH("mobile",MCP_or_generator_list!G7)),"No","Yes") -> No | AH4: =MCP_or_generator_list!C7 -> J63
A5: =MCP_or_generator_list!A8 -> Standby Generator 2 | B5: =MCP_or_generator_list!F8 -> Not yet selected | C5: =MCP_or_generator_list!E8 -> CAT | D5: =MCP_or_generator_list!#REF! -> #REF! | E5: =MCP_or_generator_list!J7 -> 180457.6 | F5: =MCP_or_generator_list!J8 -> 180459.4 | G5: =MCP_or_generator_list!K8 -> 0 | H5: =MCP_or_generator_list!L8 -> 0 | I5: =MCP_or_generator_list!M8 -> 0 | J5: =MCP_or_generator_list!N8 -> 8.48 | K5: =MCP_or_generator_list!P8 -> Back up generator | L5: =MCP_or_generator_list!Q8 -> Gas oil | M5: =MCP_or_generator_list!R8 -> Gas oil substitute | N5: =MCP_or_generator_list!S8 -> Co firing | O5: =MCP_or_generator_list!T8 -> 0 | P5: =MCP_or_generator_list!U8 -> Yes | Q5: =MCP_or_generator_list!V8 -> 500 | R5: =MCP_or_generator_list!W8 -> 0 | ... U5: =MCP_or_generator_list!Z8 -> 25 | V5: =MCP_or_generator_list!AB8 -> Yes | W5: =MCP_or_generator_list!AC8 -> Buckinghamshire Council | X5: =MCP_or_generator_list!AD8 -> 55 | Y5: =MCP_or_generator_list!AE8 -> Residential | Z5: =MCP_or_generator_list!AF8 -> 3830 | AA5: =MCP_or_generator_list!AG8 -> Black Park SSSI | AB5: =MCP_or_generator_list!AH8 -> No | AC5: =MCP_or_generator_list!AI8 -> 0 | AD5: =MCP_or_generator_list!AJ8 -> 0 | AE5: =MCP_or_generator_list!AA8 -> 9.15 | AF5: =MCP_or_generator_list!H8 -> 0 | AG5: =IF(ISERROR(SEARCH("mobile",MCP_or_generator_list!G8)),"No","Yes") -> No | AH5: =MCP_or_generator_list!C8 -> J63
A6: =MCP_or_generator_list!A9 -> Standby Generator 3 | B6: =MCP_or_generator_list!F9 -> Not yet selected | C6: =MCP_or_generator_list!E9 -> CAT | D6: =MCP_or_generator_list!#REF! -> #REF! | E6: =MCP_or_generator_list!I9 -> 503372.4 | F6: =MCP_or_generator_list!J9 -> 180461.2 | G6: =MCP_or_generator_list!K9 -> 0 | H6: =MCP_or_generator_list!L9 -> 0 | I6: =MCP_or_generator_list!M9 -> 0 | J6: =MCP_or_generator_list!N9 -> 8.48 | K6: =MCP_or_generator_list!P9 -> Back up generator | L6: =MCP_or_generator_list!Q9 -> Gas oil | M6: =MCP_or_generator_list!R9 -> Gas oil substitute | N6: =MCP_or_generator_list!S9 -> Co firing | O6: =MCP_or_generator_list!T9 -> 0 | P6: =MCP_or_generator_list!U9 -> Yes | Q6: =MCP_or_generator_list!V9 -> 500 | R6: =MCP_or_generator_list!W9 -> 0 | ... U6: =MCP_or_generator_list!Z9 -> 25 | V6: =MCP_or_generator_list!AB9 -> Yes | W6: =MCP_or_generator_list!AC9 -> Buckinghamshire Council | X6: =MCP_or_generator_list!AD9 -> 55 | Y6: =MCP_or_generator_list!AE9 -> Residential | Z6: =MCP_or_generator_list!AF9 -> 3830 | AA6: =MCP_or_generator_list!AG9 -> Black Park SSSI | AB6: =MCP_or_generator_list!AH9 -> No | AC6: =MCP_or_generator_list!AI9 -> 0 | AD6: =MCP_or_generator_list!AJ9 -> 0 | AE6: =MCP_or_generator_list!AA9 -> 9.15 | AF6: =MCP_or_generator_list!H9 -> 0 | AG6: =IF(ISERROR(SEARCH("mobile",MCP_or_generator_list!G9)),"No","Yes") -> No | AH6: =MCP_or_generator_list!C9 -> J63
A7: =MCP_or_generator_list!A10 -> Standby Generator 4 | B7: =MCP_or_generator_list!F10 -> Not yet selected | C7: =MCP_or_generator_list!E10 -> CAT | D7: =MCP_or_generator_list!#REF! -> #REF! | E7: =MCP_or_generator_list!I10 -> 503378.4 | F7: =MCP_or_generator_list!J10 -> 180463 | G7: =MCP_or_generator_list!K10 -> 0 | H7: =MCP_or_generator_list!L10 -> 0 | I7: =MCP_or_generator_list!M10 -> 0 | J7: =MCP_or_generator_list!N10 -> 8.48 | K7: =MCP_or_generator_list!P10 -> Back up generator | L7: =MCP_or_generator_list!Q10 -> Gas oil | M7: =MCP_or_generator_list!R10 -> Gas oil substitute | N7: =MCP_or_generator_list!S10 -> Co firing | O7: =MCP_or_generator_list!T10 -> 0 | P7: =MCP_or_generator_list!U10 -> Yes | Q7: =MCP_or_generator_list!V10 -> 500 | R7: =MCP_or_generator_list!W10 -> 0 | ... U7: =MCP_or_generator_list!Z10 -> 25 | V7: =MCP_or_generator_list!AB10 -> Yes | W7: =MCP_or_generator_list!AC10 -> Buckinghamshire Council | X7: =MCP_or_generator_list!AD10 -> 55 | Y7: =MCP_or_generator_list!AE10 -> Residential | Z7: =MCP_or_generator_list!AF10 -> 3830 | AA7: =MCP_or_generator_list!AG10 -> Black Park SSSI | AB7: =MCP_or_generator_list!AH10 -> No | AC7: =MCP_or_generator_list!AI10 -> 0 | AD7: =MCP_or_generator_list!AJ10 -> 0 | AE7: =MCP_or_generator_list!AA10 -> 9.15 | AF7: =MCP_or_generator_list!H10 -> 0 | AG7: =IF(ISERROR(SEARCH("mobile",MCP_or_generator_list!G10)),"No","Yes") -> No | AH7: =MCP_or_generator_list!C10 -> J63
A8: =MCP_or_generator_list!A11 -> Standby Generator 5 | B8: =MCP_or_generator_list!F11 -> Not yet selected | C8: =MCP_or_generator_list!E11 -> CAT | D8: =MCP_or_generator_list!#REF! -> #REF! | E8: =MCP_or_generator_list!I11 -> 503384.4 | F8: =MCP_or_generator_list!J11 -> 180464.9 | G8: =MCP_or_generator_list!K11 -> 0 | H8: =MCP_or_generator_list!L11 -> 0 | I8: =MCP_or_generator_list!M11 -> 0 | J8: =MCP_or_generator_list!N11 -> 8.48 | K8: =MCP_or_generator_list!P11 -> Back up generator | L8: =MCP_or_generator_list!Q11 -> Gas oil | M8: =MCP_or_generator_list!R11 -> Gas oil substitute | N8: =MCP_or_generator_list!S11 -> Co firing | O8: =MCP_or_generator_list!T11 -> 0 | P8: =MCP_or_generator_list!U11 -> Yes | Q8: =MCP_or_generator_list!V11 -> 500 | R8: =MCP_or_generator_list!W11 -> 0 | ... U8: =MCP_or_generator_list!Z11 -> 25 | V8: =MCP_or_generator_list!AB11 -> Yes | W8: =MCP_or_generator_list!AC11 -> Buckinghamshire Council | X8: =MCP_or_generator_list!AD11 -> 55 | Y8: =MCP_or_generator_list!AE11 -> Residential | Z8: =MCP_or_generator_list!AF11 -> 3830 | AA8: =MCP_or_generator_list!AG11 -> Black Park SSSI | AB8: =MCP_or_generator_list!AH11 -> No | AC8: =MCP_or_generator_list!AI11 -> 0 | AD8: =MCP_or_generator_list!AJ11 -> 0 | AE8: =MCP_or_generator_list!AA11 -> 9.15 | AF8: =MCP_or_generator_list!H11 -> 0 | AG8: =IF(ISERROR(SEARCH("mobile",MCP_or_generator_list!G11)),"No","Yes") -> No | AH8: =MCP_or_generator_list!C11 -> J63
A9: =MCP_or_generator_list!A12 -> Standby Generator 6 | B9: =MCP_or_generator_list!F12 -> Not yet selected | C9: =MCP_or_generator_list!E12 -> CAT | D9: =MCP_or_generator_list!#REF! -> #REF! | E9: =MCP_or_generator_list!I12 -> 503390.4 | F9: =MCP_or_generator_list!J12 -> 180466.7 | G9: =MCP_or_generator_list!K12 -> 0 | H9: =MCP_or_generator_list!L12 -> 0 | I9: =MCP_or_generator_list!M12 -> 0 | J9: =MCP_or_generator_list!N12 -> 8.48 | K9: =MCP_or_generator_list!P12 -> Back up generator | L9: =MCP_or_generator_list!Q12 -> Gas oil | M9: =MCP_or_generator_list!R12 -> Gas oil substitute | N9: =MCP_or_generator_list!S12 -> Co firing | O9: =MCP_or_generator_list!T12 -> 0 | P9: =MCP_or_generator_list!U12 -> Yes | Q9: =MCP_or_generator_list!V12 -> 500 | R9: =MCP_or_generator_list!W12 -> 0 | ... U9: =MCP_or_generator_list!Z12 -> 25 | V9: =MCP_or_generator_list!AB12 -> Yes | W9: =MCP_or_generator_list!AC12 -> Buckinghamshire Council | X9: =MCP_or_generator_list!AD12 -> 55 | Y9: =MCP_or_generator_list!AE12 -> Residential | Z9: =MCP_or_generator_list!AF12 -> 3830 | AA9: =MCP_or_generator_list!AG12 -> Black Park SSSI | AB9: =MCP_or_generator_list!AH12 -> No | AC9: =MCP_or_generator_list!AI12 -> 0 | AD9: =MCP_or_generator_list!AJ12 -> 0 | AE9: =MCP_or_generator_list!AA12 -> 9.15 | AF9: =MCP_or_generator_list!H12 -> 0 | AG9: =IF(ISERROR(SEARCH("mobile",MCP_or_generator_list!G12)),"No","Yes") -> No | AH9: =MCP_or_generator_list!C12 -> J63
A10: =MCP_or_generator_list!A13 -> Standby Generator 7 | B10: =MCP_or_generator_list!F13 -> Not yet selected | C10: =MCP_or_generator_list!E13 -> CAT | D10: =MCP_or_generator_list!#REF! -> #REF! | E10: =MCP_or_generator_list!I13 -> 503396.5 | F10: =MCP_or_generator_list!J13 -> 180468.5 | G10: =MCP_or_generator_list!K13 -> 0 | H10: =MCP_or_generator_list!L13 -> 0 | I10: =MCP_or_generator_list!M13 -> 0 | J10: =MCP_or_generator_list!N13 -> 8.48 | K10: =MCP_or_generator_list!P13 -> Back up generator | L10: =MCP_or_generator_list!Q13 -> Gas oil | M10: =MCP_or_generator_list!R13 -> Gas oil substitute | N10: =MCP_or_generator_list!S13 -> Co firing | O10: =MCP_or_generator_list!T13 -> 0 | P10: =MCP_or_generator_list!U13 -> Yes | Q10: =MCP_or_generator_list!V13 -> 500 | R10: =MCP_or_generator_list!W13 -> 0 | ... U10: =MCP_or_generator_list!Z13 -> 25 | V10: =MCP_or_generator_list!AB13 -> Yes | W10: =MCP_or_generator_list!AC13 -> Buckinghamshire Council | X10: =MCP_or_generator_list!AD13 -> 55 | Y10: =MCP_or_generator_list!AE13 -> Residential | Z10: =MCP_or_generator_list!AF13 -> 3830 | AA10: =MCP_or_generator_list!AG13 -> Black Park SSSI | AB10: =MCP_or_generator_list!AH13 -> No | AC10: =MCP_or_generator_list!AI13 -> 0 | AD10: =MCP_or_generator_list!AJ13 -> 0 | AE10: =MCP_or_generator_list!AA13 -> 9.15 | AF10: =MCP_or_generator_list!H13 -> 0 | AG10: =IF(ISERROR(SEARCH("mobile",MCP_or_generator_list!G13)),"No","Yes") -> No | AH10: =MCP_or_generator_list!C13 -> J63
A11: =MCP_or_generator_list!A14 -> Standby Generator 8 | B11: =MCP_or_generator_list!F14 -> Not yet selected | C11: =MCP_or_generator_list!E14 -> CAT | D11: =MCP_or_generator_list!#REF! -> #REF! | E11: =MCP_or_generator_list!I14 -> 503402.5 | F11: =MCP_or_generator_list!J14 -> 180470.3 | G11: =MCP_or_generator_list!K14 -> 0 | H11: =MCP_or_generator_list!L14 -> 0 | I11: =MCP_or_generator_list!M14 -> 0 | J11: =MCP_or_generator_list!N14 -> 8.48 | K11: =MCP_or_generator_list!P14 -> Back up generator | L11: =MCP_or_generator_list!Q14 -> Gas oil | M11: =MCP_or_generator_list!R14 -> Gas oil substitute | N11: =MCP_or_generator_list!S14 -> Co firing | O11: =MCP_or_generator_list!T14 -> 0 | P11: =MCP_or_generator_list!U14 -> Yes | Q11: =MCP_or_generator_list!V14 -> 500 | R11: =MCP_or_generator_list!W14 -> 0 | ... U11: =MCP_or_generator_list!Z14 -> 25 | V11: =MCP_or_generator_list!AB14 -> Yes | W11: =MCP_or_generator_list!AC14 -> Buckinghamshire Council | X11: =MCP_or_generator_list!AD14 -> 55 | Y11: =MCP_or_generator_list!AE14 -> Residential | Z11: =MCP_or_generator_list!AF14 -> 3830 | AA11: =MCP_or_generator_list!AG14 -> Black Park SSSI | AB11: =MCP_or_generator_list!AH14 -> No | AC11: =MCP_or_generator_list!AI14 -> 0 | AD11: =MCP_or_generator_list!AJ14 -> 0 | AE11: =MCP_or_generator_list!AA14 -> 9.15 | AF11: =MCP_or_generator_list!H14 -> 0 | AG11: =IF(ISERROR(SEARCH("mobile",MCP_or_generator_list!G14)),"No","Yes") -> No | AH11: =MCP_or_generator_list!C14 -> J63
A12: =MCP_or_generator_list!A36 -> 0 | B12: =MCP_or_generator_list!D36 -> 0 | C12: =MCP_or_generator_list!E36 -> 0 | D12: =MCP_or_generator_list!F36 -> 0 | E12: =MCP_or_generator_list!I36 -> 0 | F12: =MCP_or_generator_list!J36 -> 0 | G12: =MCP_or_generator_list!K36 -> 0 | H12: =MCP_or_generator_list!L36 -> 0 | I12: =MCP_or_generator_list!M36 -> 0 | J12: =MCP_or_generator_list!N36 -> 0 | K12: =MCP_or_generator_list!P36 -> 0 | L12: =MCP_or_generator_list!Q36 -> 0 | M12: =MCP_or_generator_list!R36 -> 0 | N12: =MCP_or_generator_list!S36 -> 0 | O12: =MCP_or_generator_list!T36 -> 0 | P12: =MCP_or_generator_list!U36 -> 0 | Q12: =MCP_or_generator_list!V36 -> 0 | R12: =MCP_or_generator_list!W36 -> 0 | ... U12: =MCP_or_generator_list!Z36 -> 0 | V12: =MCP_or_generator_list!AB36 -> 0 | W12: =MCP_or_generator_list!AC36 -> 0 | X12: =MCP_or_generator_list!AD36 -> 0 | Y12: =MCP_or_generator_list!AE36 -> 0 | Z12: =MCP_or_generator_list!AF36 -> 0 | AA12: =MCP_or_generator_list!AG36 -> 0 | AB12: =MCP_or_generator_list!AH36 -> 0 | AC12: =MCP_or_generator_list!AI36 -> 0 | AD12: =MCP_or_generator_list!AJ36 -> 0 | AE12: =MCP_or_generator_list!AA36 -> 0 | AF12: =MCP_or_generator_list!H36 -> 0 | AG12: =IF(ISERROR(SEARCH("mobile",MCP_or_generator_list!G36)),"No","Yes") -> No | AH12: =MCP_or_generator_list!C36 -> 0
A13: =MCP_or_generator_list!A37 -> 0 | B13: =MCP_or_generator_list!D37 -> 0 | C13: =MCP_or_generator_list!E37 -> 0 | D13: =MCP_or_generator_list!F37 -> 0 | E13: =MCP_or_generator_list!I37 -> 0 | F13: =MCP_or_generator_list!J37 -> 0 | G13: =MCP_or_generator_list!K37 -> 0 | H13: =MCP_or_generator_list!L37 -> 0 | I13: =MCP_or_generator_list!M37 -> 0 | J13: =MCP_or_generator_list!N37 -> 222.98 | K13: =MCP_or_generator_list!P37 -> 0 | L13: =MCP_or_generator_list!Q37 -> 0 | M13: =MCP_or_generator_list!R37 -> 0 | N13: =MCP_or_generator_list!S37 -> 0 | O13: =MCP_or_generator_list!T37 -> 0 | P13: =MCP_or_generator_list!U37 -> 0 | Q13: =MCP_or_generator_list!V37 -> 0 | R13: =MCP_or_generator_list!W37 -> 0 | ... U13: =MCP_or_generator_list!Z37 -> 0 | V13: =MCP_or_generator_list!AB37 -> 0 | W13: =MCP_or_generator_list!AC37 -> 0 | X13: =MCP_or_generator_list!AD37 -> 0 | Y13: =MCP_or_generator_list!AE37 -> 0 | Z13: =MCP_or_generator_list!AF37 -> 0 | AA13: =MCP_or_generator_list!AG37 -> 0 | AB13: =MCP_or_generator_list!AH37 -> 0 | AC13: =MCP_or_generator_list!AI37 -> 0 | AD13: =MCP_or_generator_list!AJ37 -> 0 | AE13: =MCP_or_generator_list!AA37 -> 0 | AF13: =MCP_or_generator_list!H37 -> 0 | AG13: =IF(ISERROR(SEARCH("mobile",MCP_or_generator_list!G37)),"No","Yes") -> No | AH13: =MCP_or_generator_list!C37 -> 0
A14: =MCP_or_generator_list!A38 -> 0 | B14: =MCP_or_generator_list!D38 -> 0 | C14: =MCP_or_generator_list!E38 -> 0 | D14: =MCP_or_generator_list!F38 -> 0 | E14: =MCP_or_generator_list!I38 -> 0 | F14: =MCP_or_generator_list!J38 -> 0 | G14: =MCP_or_generator_list!K38 -> 0 | H14: =MCP_or_generator_list!L38 -> 0 | I14: =MCP_or_generator_list!M38 -> 0 | J14: =MCP_or_generator_list!N38 -> 0 | K14: =MCP_or_generator_list!P38 -> 0 | L14: =MCP_or_generator_list!Q38 -> 0 | M14: =MCP_or_generator_list!R38 -> 0 | N14: =MCP_or_generator_list!S38 -> 0 | O14: =MCP_or_generator_list!T38 -> 0 | P14: =MCP_or_generator_list!U38 -> 0 | Q14: =MCP_or_generator_list!V38 -> 0 | R14: =MCP_or_generator_list!W38 -> 0 | ... U14: =MCP_or_generator_list!Z38 -> 0 | V14: =MCP_or_generator_list!AB38 -> 0 | W14: =MCP_or_generator_list!AC38 -> 0 | X14: =MCP_or_generator_list!AD38 -> 0 | Y14: =MCP_or_generator_list!AE38 -> 0 | Z14: =MCP_or_generator_list!AF38 -> 0 | AA14: =MCP_or_generator_list!AG38 -> 0 | AB14: =MCP_or_generator_list!AH38 -> 0 | AC14: =MCP_or_generator_list!AI38 -> 0 | AD14: =MCP_or_generator_list!AJ38 -> 0 | AE14: =MCP_or_generator_list!AA38 -> 0 | AF14: =MCP_or_generator_list!H38 -> 0 | AG14: =IF(ISERROR(SEARCH("mobile",MCP_or_generator_list!G38)),"No","Yes") -> No | AH14: =MCP_or_generator_list!C38 -> 0
A15: =MCP_or_generator_list!A39 -> 0 | B15: =MCP_or_generator_list!D39 -> 0 | C15: =MCP_or_generator_list!E39 -> 0 | D15: =MCP_or_generator_list!F39 -> 0 | E15: =MCP_or_generator_list!I39 -> 0 | F15: =MCP_or_generator_list!J39 -> 0 | G15: =MCP_or_generator_list!K39 -> 0 | H15: =MCP_or_generator_list!L39 -> 0 | I15: =MCP_or_generator_list!M39 -> 0 | J15: =MCP_or_generator_list!N39 -> 0 | K15: =MCP_or_generator_list!P39 -> 0 | L15: =MCP_or_generator_list!Q39 -> 0 | M15: =MCP_or_generator_list!R39 -> 0 | N15: =MCP_or_generator_list!S39 -> 0 | O15: =MCP_or_generator_list!T39 -> 0 | P15: =MCP_or_generator_list!U39 -> 0 | Q15: =MCP_or_generator_list!V39 -> 0 | R15: =MCP_or_generator_list!W39 -> 0 | ... U15: =MCP_or_generator_list!Z39 -> 0 | V15: =MCP_or_generator_list!AB39 -> 0 | W15: =MCP_or_generator_list!AC39 -> 0 | X15: =MCP_or_generator_list!AD39 -> 0 | Y15: =MCP_or_generator_list!AE39 -> 0 | Z15: =MCP_or_generator_list!AF39 -> 0 | AA15: =MCP_or_generator_list!AG39 -> 0 | AB15: =MCP_or_generator_list!AH39 -> 0 | AC15: =MCP_or_generator_list!AI39 -> 0 | AD15: =MCP_or_generator_list!AJ39 -> 0 | AE15: =MCP_or_generator_list!AA39 -> 0 | AF15: =MCP_or_generator_list!H39 -> 0 | AG15: =IF(ISERROR(SEARCH("mobile",MCP_or_generator_list!G39)),"No","Yes") -> No | AH15: =MCP_or_generator_list!C39 -> 0
A16: =MCP_or_generator_list!A40 -> 0 | B16: =MCP_or_generator_list!D40 -> 0 | C16: =MCP_or_generator_list!E40 -> 0 | D16: =MCP_or_generator_list!F40 -> 0 | E16: =MCP_or_generator_list!I40 -> 0 | F16: =MCP_or_generator_list!J40 -> 0 | G16: =MCP_or_generator_list!K40 -> 0 | H16: =MCP_or_generator_list!L40 -> 0 | I16: =MCP_or_generator_list!M40 -> 0 | J16: =MCP_or_generator_list!N40 -> 0 | K16: =MCP_or_generator_list!P40 -> 0 | L16: =MCP_or_generator_list!Q40 -> 0 | M16: =MCP_or_generator_list!R40 -> 0 | N16: =MCP_or_generator_list!S40 -> 0 | O16: =MCP_or_generator_list!T40 -> 0 | P16: =MCP_or_generator_list!U40 -> 0 | Q16: =MCP_or_generator_list!V40 -> 0 | R16: =MCP_or_generator_list!W40 -> 0 | ... U16: =MCP_or_generator_list!Z40 -> 0 | V16: =MCP_or_generator_list!AB40 -> 0 | W16: =MCP_or_generator_list!AC40 -> 0 | X16: =MCP_or_generator_list!AD40 -> 0 | Y16: =MCP_or_generator_list!AE40 -> 0 | Z16: =MCP_or_generator_list!AF40 -> 0 | AA16: =MCP_or_generator_list!AG40 -> 0 | AB16: =MCP_or_generator_list!AH40 -> 0 | AC16: =MCP_or_generator_list!AI40 -> 0 | AD16: =MCP_or_generator_list!AJ40 -> 0 | AE16: =MCP_or_generator_list!AA40 -> 0 | AF16: =MCP_or_generator_list!H40 -> 0 | AG16: =IF(ISERROR(SEARCH("mobile",MCP_or_generator_list!G40)),"No","Yes") -> No | AH16: =MCP_or_generator_list!C40 -> 0
A19: Named Range | B19: Value | I19: MCP-DateCommissioned | J19: ThermalInput | K19: MCP-CombustionTechnology | L19: MCP-FuelMain | M19: MCP-FuelSec | N19: MCP-FuelSecWhen | O19: MCP-FuelUsageSec | P19: MCP-Limitedhrs | R19: MeetnewELV | S19: MCP-Loadas% | T19: MCP-BackgroundNO2 | U19: MCP-StackHeight | V19: AQMA | W19: AQMA LA | X19: HumanReceptor | Y19: MCP_HumanReceptorDetails | Z19: EcoReceptor | AA19: MCP_EcoReceptorDetails | AB19: MCP-Abated | AC19: MCP-AbateType | AD19: MCP-CapBalAgree
A20: MobilePlant | B20: =IF(ISERROR(SEARCH("Mobile",MCP_or_generator_list!G5)),"No","Yes") -> No
A21: NaceCode | B21: =MCP_or_generator_list!C5 -> J63
A23: Plant Name | B23: Plant Name
A24: _1136 | B24: Serial No. of Plant (If already purchased)
A25: _1333 | B25: Plant Manufacturer
A26: _1234 | B26: Model Name
A27: Easting | B27: Easting
A28: Northing | B28: Northing
A29: Lat | B29: Lat
A30: Long | B30: Long
A31: _1224 | B31: Commissioning Date
A32: _1137 | B32: Size (MWth)
A33: _1118 | B33: Technology
A34: _1125 | B34: Fuel/Main Fuel
A35: IF an individual plant uses more than one fuel, give the proportions | B35: IF an individual plant uses more than one fuel, give the proportions
A36: 0 | B36: 0
A37: 02 | B37: 0
A38: 03 | B38: 0
A39: 04 | B39: 0
A40: Stack Height (metres) | B40: Stack Height (metres)
A41: _1027 | B41: If new plant does the flue share a common windshield?
A42: _1062 | B42: Annual Hours
A43: _1328 | B43: Limited Operating Hours
A44: _1021 | B44: Annual Load (%)
A45: _1121 | B45: In AQMA
A46: _1117 | B46: AQMA Local Authority
A47: _1124 | B47: Closest Human Receptor (metres)
A48: _2005 | B48: Human Receptor Details
A49: _1016 | B49: Closest Ecological Receptor (metres)
A50: _2006 | B50: Ecological Receptor Details
A51: _1015 | B51: Background NO2 (μg/m3)
... A54: _1326 | B54: Will Meet New ELVs
