Workbook

Sheet TAB KEY
C2: Tab Title | D2: Content
C3: Sources Scoped IN or OUT | D3: Lists the site projects covered by the Permit variation and which elements have been scoped-in and scoped-out of the noise assessment.
B4: Source Data | C4: Hepworth 2020 - Creamery Meas | D4: Lists source noise measurement results obtained by Hepworth Acoustics at the creamery in 2020 that are not reported in Hepworth Reports 1 to 4.
C5: Hepworth 2021 - Creamery Meas | D5: Lists source noise measurement results obtained by Hepworth Acoustics at the creamery in 2021 that are not reported in Hepworth Reports 1 to 4.
C6: Hepworth 2 Source Data - Creamery | D6: Lists key source noise data for the creamery taken from Hepworth Report 2.
C7: Hepworth 1 Source Data - WPF | D7: Lists key the full tabulated source noise data for the WPF taken from Hepworth Report 1.
C8: Hepworth 3 Source Data - WPF | D8: Lists key the full tabulated source noise data for the WPF taken from Hepworth Report 3.
C9: Hepworth 4 Source Data - WPF | D9: Lists key the full tabulated source noise data for the WPF taken from Hepworth Report 4.
C10: Hepworth 2020 - WPF Meas | D10: Lists source noise measurement results obtained by Hepworth Acoustics at the WPF in 2020 that are not reported in Hepworth Reports 1 to 4.
C11: Hepworth 2021 - WPF Meas | D11: Lists source noise measurement results obtained by Hepworth Acoustics at the WPF in 2021 that are not reported in Hepworth Reports 1 to 4.
C12: WSP 2022 Survey - Tertiary Filts | D12: Lists course noise measurement results obtained by WSP in 2022, of the Downstream Tertiary Filters.
C13: Agitator and Top Mixer | D13: Present Manufacturers noise emission data for the silo agitators and top mixers.
B14: Calcs | C14: Creamery #2 | D14: Present the source data used, analysis / calculations and resulting noise model inputs applied in the modelling and assessment of the creamery projects / elements that have been scoped-in to the noise assessment.
C15: Creamery #3
C16: Creamery #5
C17: Lagoon OCU | D17: Present the source data used, analysis / calculations and resulting noise model inputs applied in the modelling and assessment of the WPF projects / elements that have been scoped-in to the noise assessment.
C18: DAFS
C19: BT1 and Divert Tank OCU
C20: Downstream Tertiary Filters
C21: BT1 Landia Pumps
C22: Surface Directivities | D22: Details the surface directivities calculated to apply to area sources, as applied within the noise model

Sheet Sources Scoped IN or OUT
B3: Creamery
B5: Project Number | C5: Project Description | D5: Status | E5: Element | F5: Notes | G5: Scoped IN or OUT
B6: 1 | C6: CiP 4hr turnaround | D6: Installed and operational | E6: All Internal | F6: Internal only Small compared to existing Op Removed from Receptors Unlikely to cause significant change in operational noise levels | G6: OUT
B7: 2 | C7: Milk Protein Standardisation | D7: Proposed | E7: Internal | F7: Internal only Small compared to existing Op Removed from Receptors Unlikely to cause significant change in operational noise levels | G7: OUT
E8: Potential Future External Silos (No. 2) each with associated agitators | F8: If required, to be installed adjacent to existing raw milk silos. If required, silos would have low level agitators akin to existing Silos. Agitator option: Lightnin / SPX S-Series Agitator | G8: IN
B9: 3 | C9: Milk Fat Standardisation | D9: Proposed | E9: Internal | F9: Internal only Small compared to existing Op Removed from Receptors Unlikely to cause significant change in operational noise levels | G9: OUT
E10: Possible Future 60,000 litre Cream Silos (no.2) each with associated top entry Mixers | F10: If required, to be installed to replace the existing 30,000 litre silos. If required, silos would have top entry mixers akin to existing Silos (SPX Lightnin XDQ-117) with Lightnin A310/A510 Low Solidity Hydrofoil Impeller (spxflow.com) | G10: IN
E11: Potential Future Freezer Building | F11: Western side of existing facility removed from receptors. To contain chest freezers - No external refrigeration plant | G11: IN
B12: 4 | C12: Whey Protein Concentrate | D12: Installed and operational | E12: Internal | F12: Internal only Removed from Receptors Unlikely to cause significant change in operational noise levels No external walls | G12: OUT
B13: 5 | C13: GOS Bulk Loading | D13: Installed and operational | E13: Internal (Tank) | F13: Internal only Removed from Receptors Unlikely to cause significant change in operational noise levels No external walls | G13: OUT
E14: Internal (Loading) | F14: New internal loading bay with roller shutter doors to both ends. Southside of Existing installation building | G14: IN
E15: External containerised CIP Unit | F15: adjacent to southern façade for new loading bay | G15: IN
B16: 6 | C16: Cheese Growth Capacity | D16: Proposed | E16: Internal | F16: Internal only Removed from Receptors Unlikely to cause significant change in operational noise levels No external walls | G16: OUT
B18: Water Processing Facility
B20: Project Number | C20: Project Description | D20: Status | E20: Element | F20: Notes | G20: Scoped IN or OUT
B21: - | C21: Contingency lagoon & Odour Control Unit (OCU) | D21: Installed and operational | E21: Lagoon | F21: Not noise generative | G21: OUT
E22: Odour Control Unit (OCU) | F22: Potential to be noise generative | G22: IN
B23: - | C23: Two new Dissolved Air Floatation units (DAFs) | D23: Installed and operational | E23: 2 x DAFS | F23: Potential to be noise generative | G23: IN
B24: - | C24: Covering / extraction from Balancing Tank 1 (BT1) and divert tanks & OCU | D24: Installed and operational | E24: Covering Balancing Tank (BT) 1 and Divert Tanks | F24: Not noise generative | G24: OUT
E25: Odour Control Unit (OCU) | F25: Potential to be noise generative | G25: IN
B26: - | C26: Upgraded Activated Filter Membrane (AFM) filtration tanks | D26: Installed and operational | E26: Upgraded AFM Filtration Tanks | F26: Not noise generative | G26: OUT
B27: - | C27: 3rd Reverse Osmosis (RO) plant | D27: Proposed | E27: 3rd Reverse Osmosis (RO) Plant | F27: Not noise generative | G27: OUT
B28: - | C28: UF / RO overflow attenuation tank | D28: Proposed | E28: UF / RO overflow attenuation tank | F28: Not noise generative | G28: OUT
B29: - | C29: Downstream tertiary filters | D29: Installed and operational | E29: Downstream Tertiary Filters | F29: Potential to be noise generative | G29: IN
B30: - | C30: 4th Membrane Bioreactor (MBR) loop | D30: Proposed | E30: 4th Membrane Bioreactor (MBR) loop | F30: Not noise generative | G30: OUT
B31: - | C31: New raw material store | D31: Installed and operational | E31: New raw material store | F31: Not noise generative | G31: OUT
B32: - | C32: Upgraded outfall pipework from WPF | D32: Installed and operational | E32: Outfall pipework | F32: Not noise generative | G32: OUT
B33: - | C33: New aeration pumps for BT1 | D33: Installed and operational | E33: 4 x Landia Pumps | F33: Noise generative | G33: IN
B34: - | C34: Installation of acoustic fencing | D34: Installed | E34: Acoustic Fence | F34: Not noise generative | G34: OUT (but included in model)
B35: - | C35: Noise monitoring equipment | D35: Installed and operational | E35: Noise monitoring equipment | F35: Not noise generative | G35: OUT
B36: - | C36: Floating discs on BT1 and anoxic pits 2 and 3 | D36: Installed and operational | E36: Floating discs on BT1 and anoxic pits 2 and 3 | F36: Not noise generative | G36: OUT
B37: - | C37: Perimeter Containment Wall | D37: Installed | E37: Perimeter Containment Wall | F37: Not noise generative | G37: OUT (but included in model)
... B40: - | C40: Installation of an automated forward / divert solution for both cheese/whey and Demin/GOS | D40: Proposed | E40: Forward / divert solution for both cheese/whey and Demin/GOS | F40: Not noise generative | G40: OUT

Sheet Hepworth 2020 - Creamery Meas
D2: Creamery
D4: Measurements Hepworth Acoustics during 2020 Survey Visits.
B6: Assessment Data Ref. | K6: Noise Level L90, dB - LINEAR
K7: Third octave Band Centre Frequency (Hz)
D8: Plan Location | E8: Mic Location | F8: Measurement Notes | G8: LAeq | H8: LAFmax | I8: LA10 | J8: LA90 | K8: 25 | L8: 31.5 | M8: 40 | N8: 50 | O8: 63 | P8: 80 | Q8: 100 | R8: 125 | S8: 160 | T8: 200 | U8: 250 | V8: 315 | W8: 400 | X8: 500 | Y8: 630 | Z8: 800 | AA8: 1000 | AB8: 1250 | AC8: 1600 | AD8: 2000 | AE8: 2500 | AF8: 3150 | AG8: 4000 | AH8: 5000 | AI8: 6300 | AJ8: 8000 | AK8: 10000 | AL8: 12500 | AM8: 16000 | AN8: 20000
B9: 2020_Hep__CRM_1a | D9: 1 | E9: ground level | F9: to 'quiet' side of silos | G9: 61.3 | H9: 72.5 | I9: 60.8 | J9: 59.9 | K9: 50.5 | L9: 57.3 | M9: 58 | N9: 59.2 | O9: 54.7 | P9: 48.7 | Q9: 47.6 | R9: 48.8 | S9: 51.7 | T9: 53.2 | U9: 56.7 | V9: 51.7 | W9: 50.8 | X9: 51 | Y9: 51.2 | Z9: 53.7 | AA9: 51.5 | AB9: 48.2 | AC9: 44.1 | AD9: 41.4 | AE9: 37.8 | AF9: 36.5 | AG9: 35.9 | AH9: 28.9 | AI9: 24.3 | AJ9: 23 | AK9: 13.9 | AL9: 10.5 | AM9: 9.8 | AN9: 9.8
B10: 2020_Hep__CRM_1b | E10: ~8m up | G10: 58.3 | H10: 60.2 | I10: 58.8 | J10: 57.6 | K10: 54.7 | L10: 57.3 | M10: 63.5 | N10: 53.4 | O10: 58.6 | P10: 54.8 | Q10: 50.8 | R10: 48.5 | S10: 47.7 | T10: 48.5 | U10: 49 | V10: 50.9 | W10: 47.9 | X10: 50 | Y10: 50 | Z10: 50 | AA10: 49.8 | AB10: 46.7 | AC10: 43.8 | AD10: 43.6 | AE10: 41.2 | AF10: 37.5 | AG10: 35.6 | AH10: 31.7 | AI10: 25.4 | AJ10: 20.1 | AK10: 14.9 | AL10: 10.9 | AM10: 9.9 | AN10: 9.9
B11: 2020_Hep__CRM_2a | D11: 2 | E11: ~8m up, maybe 2-4m from agitator | F11: difficult to be sure what's going on, but measurements typically believed to be mostly due to nearest agitator…. where >72 more stuff going on, where <70 less residual noise/less plant..... All agitators on/off on fairly short cycles | G11: 71.8 | H11: 73.2 | I11: 72.4 | J11: 71.2 | K11: 50.9 | L11: 56.6 | M11: 57.4 | N11: 58.1 | O11: 60 | P11: 63.3 | Q11: 58.8 | R11: 50.7 | S11: 51.9 | T11: 54.5 | U11: 61.7 | V11: 58.6 | W11: 57.8 | X11: 62.6 | Y11: 62 | Z11: 65.6 | AA11: 61.8 | AB11: 63.2 | AC11: 60.5 | AD11: 55.8 | AE11: 51 | AF11: 46.2 | AG11: 44.5 | AH11: 39 | AI11: 33.5 | AJ11: 30.3 | AK11: 25.9 | AL11: 22.1 | AM11: 13.5 | AN11: 9.8
B12: 2020_Hep__CRM_2b | E12: ~8m up, maybe 2-4m from agitator | G12: 72 | H12: 73.8 | I12: 73.1 | J12: 71 | K12: 52.8 | L12: 56.6 | M12: 57.3 | N12: 58.7 | O12: 60.2 | P12: 62.7 | Q12: 57.8 | R12: 51.2 | S12: 53.1 | T12: 55 | U12: 60.8 | V12: 57.6 | W12: 57.1 | X12: 62.8 | Y12: 62.3 | Z12: 65 | AA12: 61.3 | AB12: 63.2 | AC12: 59.7 | AD12: 55.9 | AE12: 50.9 | AF12: 46.3 | AG12: 44.7 | AH12: 39.2 | AI12: 33.7 | AJ12: 30.7 | AK12: 26.6 | AL12: 22.6 | AM12: 14 | AN12: 9.8
B13: 2020_Hep__CRM_2c | E13: ~8m up, maybe 2-4m from agitator | G13: 72.5 | H13: 74.1 | I13: 73.2 | J13: 71.7 | K13: 52.4 | L13: 58.2 | M13: 57.5 | N13: 59.4 | O13: 62 | P13: 63.2 | Q13: 58.7 | R13: 50.7 | S13: 52.6 | T13: 54.3 | U13: 60.4 | V13: 57.1 | W13: 57.9 | X13: 62.6 | Y13: 64.4 | Z13: 66.3 | AA13: 61.2 | AB13: 62.1 | AC13: 61.2 | AD13: 56.9 | AE13: 51.6 | AF13: 46.6 | AG13: 45 | AH13: 39.5 | AI13: 34.6 | AJ13: 31.1 | AK13: 27.3 | AL13: 23.4 | AM13: 15 | AN13: 9.8
B14: 2020_Hep__CRM_3a | D14: 3 | E14: ~8m up, maybe 2-4m from agitator | G14: 73.2 | H14: 76.8 | I14: 74.6 | J14: 72 | K14: 52.9 | L14: 57.6 | M14: 58.3 | N14: 60.3 | O14: 62.8 | P14: 64 | Q14: 60.8 | R14: 52.7 | S14: 52.4 | T14: 54.4 | U14: 60.4 | V14: 56.8 | W14: 58.7 | X14: 62.4 | Y14: 63.3 | Z14: 67.8 | AA14: 62.3 | AB14: 62.3 | AC14: 60.8 | AD14: 57 | AE14: 51.8 | AF14: 47 | AG14: 45.6 | AH14: 40.1 | AI14: 35.5 | AJ14: 31.6 | AK14: 27.5 | AL14: 23.5 | AM14: 15.3 | AN14: 9.9
B15: 2020_Hep__CRM_3b | E15: ~8m up, maybe 2-4m from agitator | G15: 78.9 | H15: 81.2 | I15: 80.1 | J15: 77.3 | K15: 53.2 | L15: 55 | M15: 53.7 | N15: 55.2 | O15: 59.6 | P15: 65.6 | Q15: 59.2 | R15: 55.6 | S15: 54.3 | T15: 55.8 | U15: 58 | V15: 57.4 | W15: 61.2 | X15: 63.3 | Y15: 62.9 | Z15: 75.9 | AA15: 70.5 | AB15: 59 | AC15: 58.2 | AD15: 57 | AE15: 53.5 | AF15: 52.2 | AG15: 49.9 | AH15: 45.8 | AI15: 44.5 | AJ15: 43.8 | AK15: 41.8 | AL15: 38.3 | AM15: 38 | AN15: 36.6
B16: 2020_Hep__CRM_3c | E16: ~8m up, maybe 2-4m from agitator | G16: 75.3 | H16: 80.7 | I16: 78.2 | J16: 72.3 | K16: 54.3 | L16: 57.4 | M16: 54 | N16: 55.2 | O16: 59.7 | P16: 66.9 | Q16: 60.9 | R16: 55.3 | S16: 52.9 | T16: 55 | U16: 58.6 | V16: 59.5 | W16: 62.1 | X16: 64.7 | Y16: 63.2 | Z16: 68.1 | AA16: 64.2 | AB16: 58.5 | AC16: 58.2 | AD16: 56.5 | AE16: 52.6 | AF16: 51.5 | AG16: 48.9 | AH16: 44.9 | AI16: 42.7 | AJ16: 41.7 | AK16: 39.1 | AL16: 35.2 | AM16: 34.2 | AN16: 32.5
B17: 2020_Hep__CRM_4a | D17: 4 | E17: ~8m up, maybe 2-4m from agitator | G17: 70.2 | H17: 71.8 | I17: 70.8 | J17: 69.3 | K17: 56.7 | L17: 59 | M17: 55.8 | N17: 58.5 | O17: 62.6 | P17: 57.1 | Q17: 57.6 | R17: 53.1 | S17: 54.2 | T17: 55.3 | U17: 57.9 | V17: 60.1 | W17: 57.7 | X17: 59.5 | Y17: 61.8 | Z17: 64.4 | AA17: 61.4 | AB17: 56.8 | AC17: 55.5 | AD17: 53.2 | AE17: 49.8 | AF17: 48.8 | AG17: 46.5 | AH17: 42.4 | AI17: 39.8 | AJ17: 38.8 | AK17: 35.4 | AL17: 31.1 | AM17: 29.6 | AN17: 26.4
B18: 2020_Hep__CRM_4b | E18: ~8m up, maybe 2-4m from agitator | G18: 69.8 | H18: 71.7 | I18: 70.8 | J18: 68.2 | K18: 54.6 | L18: 56.1 | M18: 54.8 | N18: 58.4 | O18: 62.3 | P18: 58.2 | Q18: 54.2 | R18: 51.4 | S18: 54.4 | T18: 54.6 | U18: 57.5 | V18: 59.6 | W18: 57.7 | X18: 58.3 | Y18: 59 | Z18: 63.7 | AA18: 61.7 | AB18: 56.5 | AC18: 54.4 | AD18: 52.1 | AE18: 47.9 | AF18: 47.1 | AG18: 44.1 | AH18: 39.6 | AI18: 36 | AJ18: 34.9 | AK18: 31.9 | AL18: 27.8 | AM18: 26.4 | AN18: 23.8
B19: 2020_Hep__CRM_4c | E19: ~8m up, maybe 2-4m from agitator | G19: 65.7 | H19: 69.7 | I19: 67.2 | J19: 64.1 | K19: 56.1 | L19: 56.3 | M19: 55.1 | N19: 53.8 | O19: 51.4 | P19: 48.6 | Q19: 51.7 | R19: 53.8 | S19: 50.8 | T19: 53.1 | U19: 56.8 | V19: 55.3 | W19: 53.6 | X19: 55.6 | Y19: 53.9 | Z19: 57.4 | AA19: 55.5 | AB19: 52.9 | AC19: 50.6 | AD19: 48.4 | AE19: 45.3 | AF19: 44.3 | AG19: 41.6 | AH19: 36.8 | AI19: 33.5 | AJ19: 32.5 | AK19: 29.4 | AL19: 24.5 | AM19: 23 | AN19: 19.5
B20: 2020_Hep__CRM_5 | D20: 5 | E20: ~6m up, ~3m laterally from silo | F20: water tanks…. no agitation, no noise | G20: 64 | H20: 64.7 | I20: 64.4 | J20: 63.6 | K20: 58 | L20: 59.9 | M20: 60.8 | N20: 62.2 | O20: 64.6 | P20: 65.6 | Q20: 59.2 | R20: 59.2 | S20: 60.1 | T20: 55.3 | U20: 57.6 | V20: 58.4 | W20: 57.6 | X20: 55 | Y20: 54.5 | Z20: 53.8 | AA20: 53.3 | AB20: 51.6 | AC20: 50.3 | AD20: 49 | AE20: 48.4 | AF20: 47.1 | AG20: 44.2 | AH20: 39 | AI20: 34.1 | AJ20: 29 | AK20: 23.1 | AL20: 18.2 | AM20: 9.8 | AN20: 9.8
B21: 2020_Hep__CRM_6 | D21: 6 | E21: ~6m up, ~3m laterally from silo | G21: 66.3 | H21: 67.5 | I21: 66.8 | J21: 65.9 | K21: 57.1 | L21: 57.7 | M21: 60.3 | N21: 63.8 | O21: 65.7 | P21: 68.7 | Q21: 60.7 | R21: 61.5 | S21: 63.5 | T21: 58.4 | U21: 58.2 | V21: 58.9 | W21: 58 | X21: 57.8 | Y21: 56.7 | Z21: 55.8 | AA21: 55.1 | AB21: 53.8 | AC21: 52.7 | AD21: 52.2 | AE21: 53.2 | AF21: 51.3 | AG21: 46.9 | AH21: 41.3 | AI21: 37 | AJ21: 32.1 | AK21: 26 | AL21: 21.7 | AM21: 11.5 | AN21: 9.8
B22: 2020_Hep__CRM_7 | D22: 7 | E22: ~6m up, opposite side of site route | G22: 66.1 | H22: 67 | I22: 66.6 | J22: 65.5 | K22: 61 | L22: 64.7 | M22: 59.7 | N22: 60.8 | O22: 63.7 | P22: 64.6 | Q22: 60.4 | R22: 60.9 | S22: 61.9 | T22: 58.2 | U22: 58.9 | V22: 59.4 | W22: 57.5 | X22: 57.1 | Y22: 57.1 | Z22: 55.7 | AA22: 55.5 | AB22: 53.3 | AC22: 52.6 | AD22: 51.5 | AE22: 52.5 | AF22: 50.8 | AG22: 47.3 | AH22: 42.3 | AI22: 37.9 | AJ22: 32.6 | AK22: 26.7 | AL22: 21.7 | AM22: 11.8 | AN22: 9.8
B23: 2020_Hep__CRM_8 | D23: 8 | E23: ~6m up, bit south, looking towards noisier area | G23: 70.9 | H23: 72.1 | I23: 71.5 | J23: 70.2 | K23: 66.8 | L23: 63.8 | M23: 63.1 | N23: 67 | O23: 73.2 | P23: 76.7 | Q23: 63 | R23: 62.4 | S23: 64.6 | T23: 59.8 | U23: 65.5 | V23: 64.1 | W23: 61.1 | X23: 61.6 | Y23: 60.6 | Z23: 60.5 | AA23: 60.1 | AB23: 57.6 | AC23: 55.4 | AD23: 57 | AE23: 58.2 | AF23: 55.7 | AG23: 51 | AH23: 45.7 | AI23: 42 | AJ23: 37.1 | AK23: 32.6 | AL23: 29.8 | AM23: 24.7 | AN23: 21.8
B24: 2020_Hep__CRM_9a | D24: 9 | E24: ~6m up | F24: probably during CIP (cleaning) - more noise…........... All agitators inside buildings | G24: 67.5 | H24: 69.9 | I24: 69.1 | J24: 66.2 | K24: 63.3 | L24: 58.2 | M24: 61.2 | N24: 65.6 | O24: 62.9 | P24: 60.8 | Q24: 63.2 | R24: 63.2 | S24: 62.4 | T24: 61.4 | U24: 62.2 | V24: 61 | W24: 64 | X24: 57.5 | Y24: 56.5 | Z24: 56 | AA24: 52.8 | AB24: 52.4 | AC24: 50.6 | AD24: 49.6 | AE24: 47.2 | AF24: 46.1 | AG24: 43.6 | AH24: 39.5 | AI24: 37 | AJ24: 34.5 | AK24: 32.3 | AL24: 25.3 | AM24: 19 | AN24: 13.4
B25: 2020_Hep__CRM_10a | D25: 10 | E25: ~6m up | G25: 62.5 | H25: 69.5 | I25: 63 | J25: 61.5 | K25: 68.5 | L25: 65.2 | M25: 64 | N25: 65.2 | O25: 63.2 | P25: 59.5 | Q25: 60.5 | R25: 59.2 | S25: 57.8 | T25: 56.6 | U25: 60.8 | V25: 57.6 | W25: 56.2 | X25: 51.9 | Y25: 50.9 | Z25: 49.9 | AA25: 48.4 | AB25: 49.3 | AC25: 46.9 | AD25: 45.8 | AE25: 43.5 | AF25: 42.3 | AG25: 40.6 | AH25: 38.2 | AI25: 35.5 | AJ25: 32.8 | AK25: 30.3 | AL25: 26.6 | AM25: 26.6 | AN25: 28.3
B26: 2020_Hep__CRM_11a | D26: 11 | E26: ~6m up | G26: 68.5 | H26: 71.4 | I26: 69 | J26: 67.8 | K26: 59.2 | L26: 56.9 | M26: 61.5 | N26: 63.6 | O26: 62.3 | P26: 63.8 | Q26: 65.2 | R26: 67 | S26: 65.2 | T26: 64.5 | U26: 66.5 | V26: 65.5 | W26: 65 | X26: 58.3 | Y26: 56.2 | Z26: 54.4 | AA26: 53.1 | AB26: 52.6 | AC26: 51.7 | AD26: 49.1 | AE26: 47.1 | AF26: 49.9 | AG26: 48.8 | AH26: 46.4 | AI26: 42.2 | AJ26: 37.3 | AK26: 33.2 | AL26: 28.3 | AM26: 22.9 | AN26: 16.5
B27: 2020_Hep__CRM_12a | D27: 12 | E27: ~6m up | G27: 72.6 | H27: 74 | I27: 73.2 | J27: 72 | K27: 65.7 | L27: 64.4 | M27: 62.8 | N27: 65.1 | O27: 64.5 | P27: 65.9 | Q27: 68 | R27: 67.2 | S27: 66.3 | T27: 67.7 | U27: 69.7 | V27: 70.5 | W27: 70.8 | X27: 61.8 | Y27: 59.7 | Z27: 57.9 | AA27: 57 | AB27: 56.5 | AC27: 54.5 | AD27: 53.1 | AE27: 51.7 | AF27: 54.5 | AG27: 52.8 | AH27: 49.5 | AI27: 44.7 | AJ27: 41.2 | AK27: 36.8 | AL27: 31.8 | AM27: 25.9 | AN27: 19.7
B28: 2020_Hep__CRM_13a | D28: 13 | E28: ~6m up | G28: 69 | H28: 72.7 | I28: 70.7 | J28: 66.9 | K28: 62 | L28: 60.6 | M28: 58.9 | N28: 58.5 | O28: 56.6 | P28: 56.7 | Q28: 57.3 | R28: 55.7 | S28: 57.3 | T28: 55.5 | U28: 58 | V28: 55.3 | W28: 60.8 | X28: 54.9 | Y28: 53.4 | Z28: 56.7 | AA28: 54.3 | AB28: 56.5 | AC28: 54.7 | AD28: 56 | AE28: 53.6 | AF28: 48 | AG28: 44.6 | AH28: 41 | AI28: 36.7 | AJ28: 31 | AK28: 25.4 | AL28: 20.7 | AM28: 14.8 | AN28: 9.9
B29: 2020_Hep__CRM_14a | D29: 14 | E29: ~6m up | G29: 67.8 | H29: 69 | I29: 68.4 | J29: 67 | K29: 60.3 | L29: 59.6 | M29: 58.3 | N29: 63.4 | O29: 63 | P29: 59.3 | Q29: 59.3 | R29: 55 | S29: 55.8 | T29: 55 | U29: 57.9 | V29: 56.6 | W29: 58.9 | X29: 58.9 | Y29: 56 | Z29: 54.8 | AA29: 54.6 | AB29: 54.2 | AC29: 54.7 | AD29: 57.1 | AE29: 56.6 | AF29: 54.9 | AG29: 53.2 | AH29: 52.2 | AI29: 49.5 | AJ29: 46.5 | AK29: 41.8 | AL29: 36.4 | AM29: 29.1 | AN29: 19.2
B30: 2020_Hep__CRM_9b | D30: 9 | E30: ground level | F30: no CIP, more representative - no apparent high level source…................. All agitators inside buildings | G30: 62.2 | H30: 73 | I30: 63.4 | J30: 58.6 | K30: 57.9 | L30: 60.5 | M30: 57.4 | N30: 61.5 | O30: 59.9 | P30: 59.4 | Q30: 56.7 | R30: 55.9 | S30: 59.2 | T30: 56.9 | U30: 53 | V30: 51.2 | W30: 51.2 | X30: 50.8 | Y30: 48.3 | Z30: 48.5 | AA30: 48.5 | AB30: 47.7 | AC30: 46 | AD30: 45.2 | AE30: 43.9 | AF30: 41.9 | AG30: 38.6 | AH30: 34 | AI30: 32.4 | AJ30: 30.1 | AK30: 26.3 | AL30: 22.9 | AM30: 18.2 | AN30: 12.8
B31: 2020_Hep__CRM_10b | D31: 10 | E31: ground level | G31: 55.5 | H31: 60.6 | I31: 56.6 | J31: 54.6 | K31: 64.6 | L31: 63.8 | M31: 60.6 | N31: 63.5 | O31: 58.8 | P31: 56 | Q31: 54.7 | R31: 50.5 | S31: 53.3 | T31: 52 | U31: 51.6 | V31: 47.1 | W31: 45.1 | X31: 45.3 | Y31: 44 | Z31: 43.6 | AA31: 43.2 | AB31: 43.7 | AC31: 41.9 | AD31: 41.7 | AE31: 39.1 | AF31: 36.7 | AG31: 33.4 | AH31: 29 | AI31: 26.4 | AJ31: 22.7 | AK31: 18.9 | AL31: 14.8 | AM31: 12.1 | AN31: 9.9
B32: 2020_Hep__CRM_11b | D32: 11 | E32: ground level | G32: 58.1 | H32: 63.1 | I32: 59.6 | J32: 56.7 | K32: 54.9 | L32: 55.1 | M32: 54.8 | N32: 56.2 | O32: 54.1 | P32: 55.9 | Q32: 53.8 | R32: 52.4 | S32: 53.9 | T32: 50.9 | U32: 50.2 | V32: 47.4 | W32: 48.1 | X32: 48.3 | Y32: 47.5 | Z32: 46.9 | AA32: 46.5 | AB32: 46.2 | AC32: 45.6 | AD32: 43.4 | AE32: 40.7 | AF32: 39 | AG32: 37.5 | AH32: 34.5 | AI32: 30.3 | AJ32: 28.1 | AK32: 22.1 | AL32: 17.3 | AM32: 11.3 | AN32: 9.8
B33: 2020_Hep__CRM_12b | D33: 12 | E33: ground level | G33: 61.4 | H33: 68.6 | I33: 64.2 | J33: 58.2 | K33: 64.8 | L33: 63.6 | M33: 61.2 | N33: 66.3 | O33: 62.1 | P33: 61.2 | Q33: 61.8 | R33: 53.6 | S33: 55.9 | T33: 53.9 | U33: 53.8 | V33: 50.3 | W33: 49.7 | X33: 51 | Y33: 48.2 | Z33: 46.6 | AA33: 47.1 | AB33: 46.4 | AC33: 46.1 | AD33: 44.2 | AE33: 42.6 | AF33: 40.3 | AG33: 38.6 | AH33: 35.4 | AI33: 31.9 | AJ33: 29.2 | AK33: 23.7 | AL33: 20 | AM33: 15.2 | AN33: 12.2
B34: 2020_Hep__CRM_13b | D34: 13 | E34: ground level | G34: 60.4 | H34: 66.6 | I34: 62.4 | J34: 58.5 | K34: 68.1 | L34: 65.6 | M34: 64.7 | N34: 66.7 | O34: 63.4 | P34: 62.8 | Q34: 59.1 | R34: 54.3 | S34: 54.9 | T34: 54.3 | U34: 54.9 | V34: 51.3 | W34: 51.9 | X34: 51.8 | Y34: 48 | Z34: 46.8 | AA34: 46.6 | AB34: 46.6 | AC34: 45.6 | AD34: 44.3 | AE34: 43.5 | AF34: 40.6 | AG34: 38.8 | AH34: 36.1 | AI34: 32.3 | AJ34: 29.8 | AK34: 24.6 | AL34: 20.7 | AM34: 15.5 | AN34: 11.1
B35: 2020_Hep__CRM_14b | D35: 14 | E35: ground level | G35: 60.8 | H35: 64.2 | I35: 61.4 | J35: 60.2 | K35: 67.1 | L35: 69.6 | M35: 66.3 | N35: 69 | O35: 63.9 | P35: 59 | Q35: 57.9 | R35: 56.3 | S35: 56.7 | T35: 56.2 | U35: 56.5 | V35: 52.1 | W35: 52.7 | X35: 53.5 | Y35: 49.9 | Z35: 48.8 | AA35: 47.5 | AB35: 47.5 | AC35: 47 | AD35: 46.7 | AE35: 45.9 | AF35: 43.2 | AG35: 41.1 | AH35: 38 | AI35: 35.4 | AJ35: 31.9 | AK35: 27.8 | AL35: 24.4 | AM35: 19.3 | AN35: 13.6
B36: 2020_Hep__CRM_15 | D36: 15 | E36: inside | F36: reverberant level in whey silo house | G36: 82.3 | H36: 84 | I36: 83.4 | J36: 81.5 | K36: 55.6 | L36: 59 | M36: 58.4 | N36: 64 | O36: 61.3 | P36: 68.6 | Q36: 72.5 | R36: 67.6 | S36: 72.3 | T36: 76.6 | U36: 72.9 | V36: 71.6 | W36: 72.4 | X36: 71.3 | Y36: 70.8 | Z36: 71.7 | AA36: 71.2 | AB36: 69.9 | AC36: 70.6 | AD36: 69 | AE36: 69.8 | AF36: 68.8 | AG36: 67.8 | AH36: 63.9 | AI36: 62.2 | AJ36: 60.4 | AK36: 54.9 | AL36: 53.9 | AM36: 48.1 | AN36: 41.9
D38: Measurement Locations:
D41: Milk Silos and Agitators NW corner of site | G41: Water Tanks West Side of Site | R41: Silos etc SE side of site
D42: Locations 1 to 4 | G42: Locations 5 to 8 | R42: Locations 10 to 15

Sheet Hepworth 2021 - Creamery Meas
D2: Creamery
D4: Measurements Hepworth Acoustics during 2021 Survey Visits.
B6: Assessment Data Ref. | K6: Noise Level L90, dB - LINEAR
K7: Third octave Band Centre Frequency (Hz)
D8: Plan Location | E8: Mic Location | F8: Measurement Notes | G8: LAeq | H8: LAFmax | I8: LA10 | J8: LA90 | K8: 25 | L8: 31.5 | M8: 40 | N8: 50 | O8: 63 | P8: 80 | Q8: 100 | R8: 125 | S8: 160 | T8: 200 | U8: 250 | V8: 315 | W8: 400 | X8: 500 | Y8: 630 | Z8: 800 | AA8: 1000 | AB8: 1250 | AC8: 1600 | AD8: 2000 | AE8: 2500 | AF8: 3150 | AG8: 4000 | AH8: 5000 | AI8: 6300 | AJ8: 8000 | AK8: 10000 | AL8: 12500 | AM8: 16000 | AN8: 20000
B9: 2021_Hep__CRM_2_3_4 | D9: Equivalent to 2, 3 and 4 of 2020 survey | E9: 1m from Milk Permate Silo Agitator | F9: definitive' agitator level - Mic elevated above silo | G9: 70 | H9: 71 | I9: 70.5 | J9: 69.6 | K9: 52.3 | L9: 59 | M9: 56 | N9: 57.9 | O9: 62 | P9: 61.2 | Q9: 74.1 | R9: 57.3 | S9: 54.9 | T9: 58.6 | U9: 60.9 | V9: 57.4 | W9: 55.5 | X9: 58.3 | Y9: 63 | Z9: 62.7 | AA9: 61.1 | AB9: 57.6 | AC9: 59.2 | AD9: 56.8 | AE9: 52.4 | AF9: 51.5 | AG9: 49.6 | AH9: 43.2 | AI9: 41.4 | AJ9: 38.4 | AK9: 34.8 | AL9: 29.1 | AM9: 23.7 | AN9: 17.1
B10: 2021_Hep__CRM_16 | D10: 24 | E10: 1m from Cream Silo agitator / mixer | F10: Mic Elevated above cream silo | G10: 68.5 | H10: 69.5 | I10: 69 | J10: 68 | K10: 52.9 | L10: 53.1 | M10: 51.9 | N10: 52.9 | O10: 53.9 | P10: 54.1 | Q10: 56.6 | R10: 58.6 | S10: 59.5 | T10: 61.4 | U10: 61.5 | V10: 60.5 | W10: 56.1 | X10: 56.6 | Y10: 66.6 | Z10: 57.3 | AA10: 55.5 | AB10: 55 | AC10: 54.2 | AD10: 46.9 | AE10: 48.8 | AF10: 48.3 | AG10: 43.4 | AH10: 36.8 | AI10: 28.4 | AJ10: 27.4 | AK10: 22.2 | AL10: 15.6 | AM10: 14.4 | AN10: 9.9
B11: 2021_Hep__CRM_17 | D11: 25 | E11: Outside GOS Bulk Loading CIP Container | F11: No noise audible | G11: - | H11: - | I11: - | J11: - | K11: - | L11: - | M11: - | N11: - | O11: - | P11: - | Q11: - | R11: - | S11: - | T11: - | U11: - | V11: - | W11: - | X11: - | Y11: - | Z11: - | AA11: - | AB11: - | AC11: - | AD11: - | AE11: - | AF11: - | AG11: - | AH11: - | AI11: - | AJ11: - | AK11: - | AL11: - | AM11: - | AN11: -
B12: 2021_Hep__CRM_18 | D12: 26 | E12: Inside GOS Bulk Loading CIP Container | F12: Internal Reverberant level | G12: 57.5 | H12: 58.9 | I12: 58.3 | J12: 56.8 | K12: 60.5 | L12: 57.9 | M12: 52.9 | N12: 60.3 | O12: 50.6 | P12: 57.7 | Q12: 55.4 | R12: 51.9 | S12: 43.5 | T12: 41.8 | U12: 43 | V12: 45.2 | W12: 43.1 | X12: 48.4 | Y12: 47.8 | Z12: 47.9 | AA12: 48.9 | AB12: 46.9 | AC12: 45.1 | AD12: 42.6 | AE12: 43.5 | AF12: 41 | AG12: 40.4 | AH12: 39.7 | AI12: 31.8 | AJ12: 26.3 | AK12: 21.2 | AL12: 18.6 | AM12: 19.5 | AN12: 13.3
B13: 2021_Hep__CRM_19 | D13: 27 | E13: Inside Lagoon Hut | F13: Lagoon is covered; no noise. Some noise from hut, but low against residual, hence measurement inside hut - Octave Bands not 1/3rds | G13: 57.8 | H13: 60.7 | I13: 58.4 | J13: 57 | K13: 63.5 | N13: 62.9 | Q13: 62.1 | T13: 53.2 | W13: 55.3 | Z13: 50.7 | AC13: 46.3 | AF13: 40.8 | AI13: 34.2 | AL13: 20.2
B14: 2021_Hep__CRM_20 | D14: 28 | E14: 1m in front Lagoon OCU motor | F14: No appreciable noise from actual tank, just the motor | G14: 73.2 | H14: 74.1 | I14: 73.6 | J14: 72.7 | K14: 61.6 | L14: 63.2 | M14: 60.9 | N14: 67 | O14: 63.3 | P14: 62.6 | Q14: 61.1 | R14: 56.1 | S14: 63.1 | T14: 57.9 | U14: 60.5 | V14: 64.2 | W14: 61.3 | X14: 62 | Y14: 62.8 | Z14: 64.1 | AA14: 64.1 | AB14: 63.7 | AC14: 63.2 | AD14: 60.5 | AE14: 56.2 | AF14: 51.6 | AG14: 49.4 | AH14: 45.7 | AI14: 42.9 | AJ14: 40.6 | AK14: 38 | AL14: 34.2 | AM14: 37.2 | AN14: 26.6
B15: 2021_Hep__CRM_21 | D15: 29 | E15: 1m to side of Lagoon OCU motor | G15: 72.2 | H15: 73.8 | I15: 73.1 | J15: 71.4 | K15: 61.5 | L15: 61.9 | M15: 59.1 | N15: 66.6 | O15: 62.2 | P15: 61.2 | Q15: 60.4 | R15: 56.7 | S15: 64 | T15: 58.2 | U15: 60.2 | V15: 63.7 | W15: 58.7 | X15: 63.1 | Y15: 63.5 | Z15: 63.3 | AA15: 61 | AB15: 61 | AC15: 60.2 | AD15: 59.7 | AE15: 55.1 | AF15: 50.5 | AG15: 48.1 | AH15: 43.8 | AI15: 40.4 | AJ15: 38.4 | AK15: 35.3 | AL15: 33.6 | AM15: 32.8 | AN15: 26.5
B16: 2021_Hep__CRM_22 | D16: 30 | E16: 10m from HGV pass - On creamery haul route | F16: Source | G16: 70.6 | H16: 76.2 | I16: 74.3 | J16: 61.2 | K16: 65.1 | L16: 64.3 | M16: 63.1 | N16: 68 | O16: 64.4 | P16: 64.5 | Q16: 65.9 | R16: 62.7 | S16: 58.6 | T16: 57.5 | U16: 54.5 | V16: 54.1 | W16: 52.9 | X16: 51.7 | Y16: 50.1 | Z16: 52.8 | AA16: 51.5 | AB16: 51.4 | AC16: 47.9 | AD16: 48.1 | AE16: 45.8 | AF16: 45.2 | AG16: 44 | AH16: 43.3 | AI16: 39.9 | AJ16: 36.1 | AK16: 32 | AL16: 27.5 | AM16: 21.3 | AN16: 13.3
B17: 2021_Hep__CRM_23 | D17: 31 | E17: Background for above | F17: Residual | G17: 59.8 | H17: 63.6 | I17: 60.3 | J17: 58.9 | K17: 61.3 | L17: 59.1 | M17: 56.2 | N17: 61.7 | O17: 60.8 | P17: 62.4 | Q17: 64.7 | R17: 55.3 | S17: 53.5 | T17: 53.3 | U17: 52.4 | V17: 49.7 | W17: 49.4 | X17: 48.4 | Y17: 47 | Z17: 48.3 | AA17: 48.2 | AB17: 49 | AC17: 45.6 | AD17: 45.2 | AE17: 43.6 | AF17: 42.3 | AG17: 41.1 | AH17: 40 | AI17: 36.7 | AJ17: 33.1 | AK17: 27.8 | AL17: 22.6 | AM17: 16.6 | AN17: 9.9
B18: 2021_Hep__CRM_24 | D18: 32 | E18: 10m from HGV pass - On creamery haul route | F18: Source | G18: 69.7 | H18: 73.3 | I18: 72.3 | J18: 60.8 | K18: 54.5 | L18: 53.4 | M18: 55.2 | N18: 56.6 | O18: 55.3 | P18: 53.5 | Q18: 57.8 | R18: 52.5 | S18: 51.4 | T18: 56.6 | U18: 54.5 | V18: 51 | W18: 50.2 | X18: 52.2 | Y18: 52.6 | Z18: 53.2 | AA18: 51 | AB18: 50.4 | AC18: 51.1 | AD18: 46.9 | AE18: 44.9 | AF18: 41.8 | AG18: 41 | AH18: 37.4 | AI18: 35.8 | AJ18: 34.2 | AK18: 32.6 | AL18: 28.4 | AM18: 24.8 | AN18: 19.6
B19: 2021_Hep__CRM_25 | D19: 33 | E19: Background for above | F19: Residual | G19: 55.7 | H19: 58.5 | I19: 56.4 | J19: 54.7 | K19: 51.8 | L19: 50.9 | M19: 51 | N19: 53.5 | O19: 51.2 | P19: 49.3 | Q19: 63.7 | R19: 47.6 | S19: 46 | T19: 46.9 | U19: 46.4 | V19: 39.7 | W19: 40.7 | X19: 45 | Y19: 47.3 | Z19: 46.6 | AA19: 44.3 | AB19: 40.7 | AC19: 38.2 | AD19: 35.8 | AE19: 33.8 | AF19: 33.2 | AG19: 33.9 | AH19: 30.9 | AI19: 33 | AJ19: 33.2 | AK19: 32.2 | AL19: 29.6 | AM19: 26.4 | AN19: 23.8
B20: 2021_Hep__CRM_26 | D20: 34 | E20: Inside pumphouse | F20: Pumphouse measures ~ 7m x 1.8m x 2.5m | G20: 81.3 | H20: 82.1 | I20: 81.6 | J20: 81 | K20: 52 | L20: 52 | M20: 51.7 | N20: 56.6 | O20: 52.4 | P20: 48.4 | Q20: 55.1 | R20: 64 | S20: 67.8 | T20: 66.3 | U20: 68.5 | V20: 67 | W20: 68.3 | X20: 70.4 | Y20: 70.1 | Z20: 70.9 | AA20: 71.2 | AB20: 70 | AC20: 69.4 | AD20: 67.3 | AE20: 68.1 | AF20: 67.3 | AG20: 69 | AH20: 64.6 | AI20: 61.5 | AJ20: 61.5 | AK20: 56.3 | AL20: 54.6 | AM20: 55.5 | AN20: 45.7
B21: 2021_Hep__CRM_27 | D21: 35 | E21: 1m outside of pumphouse | G21: 61.1 | H21: 62.3 | I21: 61.6 | J21: 60.4 | K21: 60.8 | L21: 51.4 | M21: 53.2 | N21: 63.5 | O21: 54.8 | P21: 47.6 | Q21: 49.4 | R21: 51.3 | S21: 49.3 | T21: 56.1 | U21: 64.8 | V21: 50.3 | W21: 49.7 | X21: 50.6 | Y21: 48.2 | Z21: 48.4 | AA21: 48.6 | AB21: 48.3 | AC21: 46.5 | AD21: 46.3 | AE21: 46.4 | AF21: 43.4 | AG21: 43.2 | AH21: 40.5 | AI21: 36.1 | AJ21: 33 | AK21: 26.8 | AL21: 22.8 | AM21: 19.5 | AN21: 10.5
B22: 2021_Hep__CRM_28 | D22: 36 | E22: 5m to side truck while pumping | F22: Trucks tend to (maybe need to) idle when pumping; this is therefore idling noise | G22: 68.4 | H22: 69.4 | I22: 68.8 | J22: 68.1 | K22: 65.2 | L22: 54.5 | M22: 62.1 | N22: 77.3 | O22: 59.3 | P22: 51.9 | Q22: 55 | R22: 56.9 | S22: 51.7 | T22: 56.3 | U22: 56.7 | V22: 53 | W22: 55.6 | X22: 61.3 | Y22: 58.3 | Z22: 59.2 | AA22: 58.7 | AB22: 58.1 | AC22: 56.6 | AD22: 56.9 | AE22: 55.3 | AF22: 52.1 | AG22: 50.1 | AH22: 47.5 | AI22: 42.2 | AJ22: 39.5 | AK22: 36.5 | AL22: 33.6 | AM22: 29.5 | AN22: 24.3
B23: 2021_Hep__CRM_29 | D23: 37 | E23: 5m to front of truck while pumping | G23: 68.4 | H23: 69.5 | I23: 68.8 | J23: 67.7 | K23: 56.4 | L23: 54.9 | M23: 55.8 | N23: 68 | O23: 58.8 | P23: 54.3 | Q23: 55.3 | R23: 57.5 | S23: 51.4 | T23: 53.3 | U23: 54.4 | V23: 51.2 | W23: 54.1 | X23: 61.2 | Y23: 59.2 | Z23: 62.2 | AA23: 59.1 | AB23: 56.8 | AC23: 56.3 | AD23: 54.8 | AE23: 53.5 | AF23: 49.3 | AG23: 48.2 | AH23: 44.9 | AI23: 39.3 | AJ23: 37.2 | AK23: 33.2 | AL23: 30.5 | AM23: 26.2 | AN23: 20.7
D27: Milk Permate Silo Agitator | G27: Cream Silo Agitator / Mixer | R27: GOS Bulk Loading Containerised CIP: | X27: Lagoon Hut | AE27: Lagoon OCU | AK27: Milk Pump Room
D28: 2021_Hep__CRM_2_3_4
D29: Equivalent to Locations 2,3,4 form 202 survey: | G29: Location 2: | R29: Outside
R45: Inside

Sheet Hepworth 2 Source Data-Creamery
B2: Creamery
B4: HEPWORTH REPORT 2: 2018 Creamery and WPF Report
B5: Report Reference: P18-389-R01v2
B6: Date: November 2018
B7: Author: Graham Bowland
B8: Report Checker: Donald Quinn
D9: Assessment Data Ref.
B10: SILOS
F11: LAeq, dB | G11: Distance (m)
B12: "2.19 The new silos include two new silos immediately to the south of three existing silos of the same type, that are stepped away from the main Creamery building. All noise generating equipment (pumps) associated with these silos are located within a small enclosed building that abuts the silo sides at low level. A noise measurement was undertaken at a distance of 1m from two of the existing three existing silos. The relevant noise source was not dominant even at this distance, and hence a residual noise measurement was also undertaken at greater distance but where noise from other sources was perceived comparable. The measured noise levels were 57dB LAeq at 1m from two silos and 56dB LAeq at greater distance. It is therefore be calculated that the reference specific noise level per unit is no more than 50dB LAeq at 1m." | D12: 2018_Hep__CRM_30 | F12: 50 | G12: 1
D14: Assessment Data Ref.
B15: AGITATOR AND TOP MIXER
F16: LAeq, dB | G16: Distance (m) | H16: Notes
B17: "2.5 Each raw milk silo (existing and proposed) includes two agitators, one of which is at low level and fully housed and another which is approximately mid-way up the silo. The higher elevated agitators are positioned with motors located externally to the tank, with each oriented inwards to the centre line between the two rows of silos. The specific model of raw milk silo agitator is an SPX Waukesha Cherry-Burrell S-Series. 2.7 For the smaller cream silos, the agitators are located on top. The specific model of cream silo agitator is a SPX Lightnin XDQ-117. 2.8 For both above mentioned agitators, it has not been able to definitively confirm reference noise emissions levels. The manufacturer’s stated ‘maximum’ level is 85dBA at 1m, however the same data sheet that provides this info, the same for both agitators, also states: “This equipment does not produce high noise or vibration. However, the operator may experience high noise or vibration in the location of this equipment due to another source.” 2.9 A noise level of 85dBA in fact corresponds to the ‘upper exposure action values’ as set out in the Health and Safety Executive document The Control of Noise at Work Regulations, 2005 so would certainly be regarded as ‘high’. As such there is an apparent conflict in the manufacturers’ information. 2.10 Indeed, based on experience of similar cases, we are reasonably confident that the manufacturer’s stated ‘maximum’ level is simply a statement that emissions do not exceed noise exposure legislative thresholds, rather than being a precise measure of the noise emission from the specific item. 2.11 This view is reinforced by our inspection of similar existing agitators on the existing silos at the site. For these, no noise was discernible as being clearly attributable to the agitators over and above the general noise in the vicinity, albeit that this is based on an inspection carried out from a ground level position due to physical access constraints. 2.12 Despite exhaustive efforts, we have been unable to confirm the precise noise level with the manufacturers, and it is likely that actual test data may not exist, however actual noise emission levels are anticipated to be substantially below 85dB at 1m." | D17: 2018_Hep__CRM_31 | F17: <85 | G17: 1 | H17: Maximum

Sheet Hepworth 1 Source Data - WPF
D2: Water Processing Facility
D4: Source:
D5: HEPWORTH REPORT 1: 2018 Baseline Noise Assessment Report
D6: Report Reference: P18-098-R01v2
D7: Date: October 2018
D8: Author: Graham Bowland | AO8: A-weighting
D9: Report Checker: Paul Bassett | AQ9: Third octave Band Centre Frequency (Hz)
D10: + associated measurement files and notes as provided by the Author | AQ10: 50 | AR10: 63 | AS10: 80 | AT10: 100 | AU10: 125 | AV10: 160 | AW10: 200 | AX10: 250 | AY10: 315 | AZ10: 400 | BA10: 500 | BB10: 630 | BC10: 800 | BD10: 1000 | BE10: 1250 | BF10: 1600 | BG10: 2000 | BH10: 2500 | BI10: 3150 | BJ10: 4000 | BK10: 5000 | BL10: 6300 | BM10: 8000 | BN10: 10000
AP11: A-Weighting Curve | AQ11: -30.2 | AR11: -26.2 | AS11: -22.5 | AT11: -19.1 | AU11: -16.1 | AV11: -13.4 | AW11: -10.9 | AX11: -8.6 | AY11: -6.6 | AZ11: -4.2 | BA11: -3.2 | BB11: -1.9 | BC11: -0.8 | BD11: 0 | BE11: 0.6 | BF11: 1 | BG11: 1.2 | BH11: 1.3 | BI11: 1.2 | BJ11: 1 | BK11: 0.5 | BL11: -0.1 | BM11: -1.1 | BN11: -2.5
D12: Third Octave L90 On-site Noise Measurements - Reported | AF12: Octave L90 On-site Noise Levels - Calculated
B13: Assessment Data Ref. | D13: Location No. (Fig 2 Below) | E13: Description | F13: Noise Level L90, dB - LINEAR | AD13: LA90 | AF13: Noise Level L90 dB - LINEAR | AO13: Location No. (Fig 2) | AP13: Description | AQ13: Noise Level L90, dB - A-WEIGHTED | BO13: LA90
B14: WSP Data Ref. | F14: Third octave Band Centre Frequency (Hz) | AF14: Octave Band Centre Frequency (Hz) | AQ14: Third octave Band Centre Frequency (Hz)
F15: 50 | G15: 63 | H15: 80 | I15: 100 | J15: 125 | K15: 160 | L15: 200 | M15: 250 | N15: 315 | O15: 400 | P15: 500 | Q15: 630 | R15: 800 | S15: 1000 | T15: 1250 | U15: 1600 | V15: 2000 | W15: 2500 | X15: 3150 | Y15: 4000 | Z15: 5000 | AA15: 6300 | AB15: 8000 | AC15: 10000 | AF15: =G15 -> 63 | AG15: =J15 -> 125 | AH15: =M15 -> 250 | AI15: =P15 -> 500 | AJ15: =S15 -> 1000 | AK15: =V15 -> 2000 | AL15: =Y15 -> 4000 | AM15: =AB15 -> 8000 | AQ15: 50 | AR15: 63 | AS15: 80 | AT15: 100 | AU15: 125 | AV15: 160 | AW15: 200 | AX15: 250 | AY15: 315 | AZ15: 400 | BA15: 500 | BB15: 630 | BC15: 800 | BD15: 1000 | BE15: 1250 | BF15: 1600 | BG15: 2000 | BH15: 2500 | BI15: 3150 | BJ15: 4000 | BK15: 5000 | BL15: 6300 | BM15: 8000 | BN15: 10000
B16: 2018_Hep__WPF_1 | D16: 1 | E16: 1m from noisy pipe on gantry between BT1 and Divert | F16: 62 | G16: 58 | H16: 61 | I16: 62 | J16: 64 | K16: 67 | L16: 62 | M16: 66 | N16: 61 | O16: 56 | P16: 59 | Q16: 57 | R16: 59 | S16: 63 | T16: 61 | U16: 67 | V16: 66 | W16: 70 | X16: 69 | Y16: 66 | Z16: 69 | AA16: 61 | AB16: 54 | AC16: 55 | AD16: 78 | AF16: {=[1]!dbsum(F16:H16)} -> 65.4 | AG16: {=[1]!dbsum(I16:K16)} -> 69.6 | AH16: {=[1]!dbsum(L16:N16)} -> 68.3 | AI16: {=[1]!dbsum(O16:Q16)} -> 62.3 | AJ16: {=[1]!dbsum(R16:T16)} -> 66.1 | AK16: {=[1]!dbsum(U16:W16)} -> 72.8 | AL16: {=[1]!dbsum(X16:Z16)} -> 73 | AM16: {=[1]!dbsum(AA16:AC16)} -> 62.6 | AO16: =D16 -> 1 | AP16: =E16 -> 1m from noisy pipe on gantry between BT1 and Divert | AQ16: =F16+AQ$11 -> 31.8 | AR16: =G16+AR$11 -> 31.8 | AS16: =H16+AS$11 -> 38.5 | AT16: =I16+AT$11 -> 42.9 | AU16: =J16+AU$11 -> 47.9 | AV16: =K16+AV$11 -> 53.6 | AW16: =L16+AW$11 -> 51.1 | AX16: =M16+AX$11 -> 57.4 | ... BN16: =AC16+BN$11 -> 52.5 | BO16: =[1]!dbsum(AQ16:BN16) -> 77.6
B17: 2018_Hep_WPF_2 | D17: 2 | E17: 1m from two pumps between BT1 and Divert | F17: 77 | G17: 66 | H17: 57 | I17: 60 | J17: 65 | K17: 67 | L17: 66 | M17: 63 | N17: 65 | O17: 67 | P17: 68 | Q17: 67 | R17: 66 | S17: 79 | T17: 68 | U17: 67 | V17: 66 | W17: 66 | X17: 63 | Y17: 65 | Z17: 61 | AA17: 60 | AB17: 62 | AC17: 54 | AD17: 81.8 | AF17: {=[1]!dbsum(F17:H17)} -> 77.4 | AG17: {=[1]!dbsum(I17:K17)} -> 69.6 | AH17: {=[1]!dbsum(L17:N17)} -> 69.6 | AI17: {=[1]!dbsum(O17:Q17)} -> 72.1 | AJ17: {=[1]!dbsum(R17:T17)} -> 79.5 | AK17: {=[1]!dbsum(U17:W17)} -> 71.1 | AL17: {=[1]!dbsum(X17:Z17)} -> 68.1 | AM17: {=[1]!dbsum(AA17:AC17)} -> 64.5 | AO17: =D17 -> 2 | AP17: =E17 -> 1m from two pumps between BT1 and Divert | AQ17: =F17+AQ$11 -> 46.8 | AR17: =G17+AR$11 -> 39.8 | AS17: =H17+AS$11 -> 34.5 | AT17: =I17+AT$11 -> 40.9 | AU17: =J17+AU$11 -> 48.9 | AV17: =K17+AV$11 -> 53.6 | AW17: =L17+AW$11 -> 55.1 | AX17: =M17+AX$11 -> 54.4 | ... BN17: =AC17+BN$11 -> 51.5 | BO17: =[1]!dbsum(AQ17:BN17) -> 81
B18: 2018_Hep_WPF_3 | D18: 3 | E18: Close to BT1 and Divert | F18: 67 | G18: 55 | H18: 51 | I18: 55 | J18: 61 | K18: 65 | L18: 64 | M18: 57 | N18: 53 | O18: 58 | P18: 52 | Q18: 51 | R18: 50 | S18: 55 | T18: 49 | U18: 51 | V18: 51 | W18: 53 | X18: 52 | Y18: 51 | Z18: 49 | AA18: 43 | AB18: 41 | AC18: 40 | AD18: 65.2 | AF18: {=[1]!dbsum(F18:H18)} -> 67.4 | AG18: {=[1]!dbsum(I18:K18)} -> 66.8 | AH18: {=[1]!dbsum(L18:N18)} -> 65.1 | AI18: {=[1]!dbsum(O18:Q18)} -> 59.6 | AJ18: {=[1]!dbsum(R18:T18)} -> 57 | AK18: {=[1]!dbsum(U18:W18)} -> 56.5 | AL18: {=[1]!dbsum(X18:Z18)} -> 55.6 | AM18: {=[1]!dbsum(AA18:AC18)} -> 46.3 | AO18: =D18 -> 3 | AP18: =E18 -> Close to BT1 and Divert | AQ18: =F18+AQ$11 -> 36.8 | AR18: =G18+AR$11 -> 28.8 | AS18: =H18+AS$11 -> 28.5 | AT18: =I18+AT$11 -> 35.9 | AU18: =J18+AU$11 -> 44.9 | AV18: =K18+AV$11 -> 51.6 | AW18: =L18+AW$11 -> 53.1 | AX18: =M18+AX$11 -> 48.4 | ... BN18: =AC18+BN$11 -> 37.5 | BO18: =[1]!dbsum(AQ18:BN18) -> 63.9
B19: 2018_Hep_WPF_4 | D19: 4 | E19: Close to BT1 and Divert | F19: 55 | G19: 51 | H19: 49 | I19: 49 | J19: 47 | K19: 58 | L19: 57 | M19: 44 | N19: 45 | O19: 46 | P19: 44 | Q19: 44 | R19: 47 | S19: 53 | T19: 44 | U19: 46 | V19: 44 | W19: 47 | X19: 47 | Y19: 46 | Z19: 44 | AA19: 40 | AB19: 37 | AC19: 34 | AD19: 59.6 | AF19: {=[1]!dbsum(F19:H19)} -> 57.2 | AG19: {=[1]!dbsum(I19:K19)} -> 58.8 | AH19: {=[1]!dbsum(L19:N19)} -> 57.5 | AI19: {=[1]!dbsum(O19:Q19)} -> 49.5 | AJ19: {=[1]!dbsum(R19:T19)} -> 54.4 | AK19: {=[1]!dbsum(U19:W19)} -> 50.6 | AL19: {=[1]!dbsum(X19:Z19)} -> 50.6 | AM19: {=[1]!dbsum(AA19:AC19)} -> 42.4 | AO19: =D19 -> 4 | AP19: =E19 -> Close to BT1 and Divert | AQ19: =F19+AQ$11 -> 24.8 | AR19: =G19+AR$11 -> 24.8 | AS19: =H19+AS$11 -> 26.5 | AT19: =I19+AT$11 -> 29.9 | AU19: =J19+AU$11 -> 30.9 | AV19: =K19+AV$11 -> 44.6 | AW19: =L19+AW$11 -> 46.1 | AX19: =M19+AX$11 -> 35.4 | ... BN19: =AC19+BN$11 -> 31.5 | BO19: =[1]!dbsum(AQ19:BN19) -> 58.5
B20: 2018_Hep_WPF_5 | D20: 5 | E20: At site boundary | F20: 58 | G20: 49 | H20: 47 | I20: 48 | J20: 50 | K20: 54 | L20: 52 | M20: 45 | N20: 40 | O20: 39 | P20: 39 | Q20: 38 | R20: 39 | S20: 38 | T20: 37 | U20: 37 | V20: 37 | W20: 40 | X20: 42 | Y20: 40 | Z20: 38 | AA20: 31 | AB20: 27 | AC20: 24 | AD20: 53.2 | AF20: {=[1]!dbsum(F20:H20)} -> 58.8 | AG20: {=[1]!dbsum(I20:K20)} -> 56.2 | AH20: {=[1]!dbsum(L20:N20)} -> 53 | AI20: {=[1]!dbsum(O20:Q20)} -> 43.5 | AJ20: {=[1]!dbsum(R20:T20)} -> 42.8 | AK20: {=[1]!dbsum(U20:W20)} -> 43 | AL20: {=[1]!dbsum(X20:Z20)} -> 45.1 | AM20: {=[1]!dbsum(AA20:AC20)} -> 33 | AO20: =D20 -> 5 | AP20: =E20 -> At site boundary | AQ20: =F20+AQ$11 -> 27.8 | AR20: =G20+AR$11 -> 22.8 | AS20: =H20+AS$11 -> 24.5 | AT20: =I20+AT$11 -> 28.9 | AU20: =J20+AU$11 -> 33.9 | AV20: =K20+AV$11 -> 40.6 | AW20: =L20+AW$11 -> 41.1 | AX20: =M20+AX$11 -> 36.4 | ... BN20: =AC20+BN$11 -> 21.5 | BO20: =[1]!dbsum(AQ20:BN20) -> 51.3
B21: 2018_Hep_WPF_6 | D21: 6 | E21: 5m in front of centrifuges (1 on) and atomiser | F21: 57 | G21: 53 | H21: 52 | I21: 52 | J21: 56 | K21: 55 | L21: 56 | M21: 55 | N21: 53 | O21: 52 | P21: 52 | Q21: 51 | R21: 49 | S21: 50 | T21: 50 | U21: 51 | V21: 50 | W21: 48 | X21: 46 | Y21: 45 | Z21: 43 | AA21: 40 | AB21: 40 | AC21: 33 | AD21: 61.6 | AF21: {=[1]!dbsum(F21:H21)} -> 59.3 | AG21: {=[1]!dbsum(I21:K21)} -> 59.4 | AH21: {=[1]!dbsum(L21:N21)} -> 59.6 | AI21: {=[1]!dbsum(O21:Q21)} -> 56.5 | AJ21: {=[1]!dbsum(R21:T21)} -> 54.5 | AK21: {=[1]!dbsum(U21:W21)} -> 54.6 | AL21: {=[1]!dbsum(X21:Z21)} -> 49.6 | AM21: {=[1]!dbsum(AA21:AC21)} -> 43.4 | AO21: =D21 -> 6 | AP21: =E21 -> 5m in front of centrifuges (1 on) and atomiser | AQ21: =F21+AQ$11 -> 26.8 | AR21: =G21+AR$11 -> 26.8 | AS21: =H21+AS$11 -> 29.5 | AT21: =I21+AT$11 -> 32.9 | AU21: =J21+AU$11 -> 39.9 | AV21: =K21+AV$11 -> 41.6 | AW21: =L21+AW$11 -> 45.1 | AX21: =M21+AX$11 -> 46.4 | ... BN21: =AC21+BN$11 -> 30.5 | BO21: =[1]!dbsum(AQ21:BN21) -> 60.6
B22: 2018_Hep_WPF_7 | D22: 7 | E22: 5m from half open doors of DAF 1 | F22: 75 | G22: 63 | H22: 58 | I22: 64 | J22: 66 | K22: 70 | L22: 69 | M22: 60 | N22: 57 | O22: 61 | P22: 63 | Q22: 59 | R22: 62 | S22: 59 | T22: 58 | U22: 58 | V22: 57 | W22: 57 | X22: 57 | Y22: 56 | Z22: 55 | AA22: 52 | AB22: 48 | AC22: 44 | AD22: 71 | AF22: {=[1]!dbsum(F22:H22)} -> 75.3 | AG22: {=[1]!dbsum(I22:K22)} -> 72.2 | AH22: {=[1]!dbsum(L22:N22)} -> 69.8 | AI22: {=[1]!dbsum(O22:Q22)} -> 66.1 | AJ22: {=[1]!dbsum(R22:T22)} -> 64.8 | AK22: {=[1]!dbsum(U22:W22)} -> 62.1 | AL22: {=[1]!dbsum(X22:Z22)} -> 60.8 | AM22: {=[1]!dbsum(AA22:AC22)} -> 53.9 | AO22: =D22 -> 7 | AP22: =E22 -> 5m from half open doors of DAF 1 | AQ22: =F22+AQ$11 -> 44.8 | AR22: =G22+AR$11 -> 36.8 | AS22: =H22+AS$11 -> 35.5 | AT22: =I22+AT$11 -> 44.9 | AU22: =J22+AU$11 -> 49.9 | AV22: =K22+AV$11 -> 56.6 | AW22: =L22+AW$11 -> 58.1 | AX22: =M22+AX$11 -> 51.4 | ... BN22: =AC22+BN$11 -> 41.5 | BO22: =[1]!dbsum(AQ22:BN22) -> 70.1
B23: 2018_Hep_WPF_8 | D23: 8 | E23: 5m from roller shutter main open DAF 2 | F23: 64 | G23: 56 | H23: 68 | I23: 56 | J23: 56 | K23: 65 | L23: 57 | M23: 57 | N23: 65 | O23: 61 | P23: 63 | Q23: 65 | R23: 61 | S23: 60 | T23: 60 | U23: 60 | V23: 58 | W23: 59 | X23: 58 | Y23: 58 | Z23: 57 | AA23: 52 | AB23: 51 | AC23: 48 | AD23: 72.2 | AF23: {=[1]!dbsum(F23:H23)} -> 69.6 | AG23: {=[1]!dbsum(I23:K23)} -> 66 | AH23: {=[1]!dbsum(L23:N23)} -> 66.2 | AI23: {=[1]!dbsum(O23:Q23)} -> 68.1 | AJ23: {=[1]!dbsum(R23:T23)} -> 65.1 | AK23: {=[1]!dbsum(U23:W23)} -> 63.8 | AL23: {=[1]!dbsum(X23:Z23)} -> 62.5 | AM23: {=[1]!dbsum(AA23:AC23)} -> 55.4 | AO23: =D23 -> 8 | AP23: =E23 -> 5m from roller shutter main open DAF 2 | AQ23: =F23+AQ$11 -> 33.8 | AR23: =G23+AR$11 -> 29.8 | AS23: =H23+AS$11 -> 45.5 | AT23: =I23+AT$11 -> 36.9 | AU23: =J23+AU$11 -> 39.9 | AV23: =K23+AV$11 -> 51.6 | AW23: =L23+AW$11 -> 46.1 | AX23: =M23+AX$11 -> 48.4 | ... BN23: =AC23+BN$11 -> 45.5 | BO23: =[1]!dbsum(AQ23:BN23) -> 71.2
B24: 2018_Hep_WPF_9 | D24: 9 | E24: 1m from open pipe | F24: 70 | G24: 68 | H24: 68 | I24: 57 | J24: 60 | K24: 63 | L24: 58 | M24: 61 | N24: 79 | O24: 78 | P24: 63 | Q24: 62 | R24: 55 | S24: 57 | T24: 48 | U24: 49 | V24: 43 | W24: 44 | X24: 44 | Y24: 37 | Z24: 34 | AA24: 28 | AB24: 26 | AC24: 22 | AD24: 76.6 | AF24: {=[1]!dbsum(F24:H24)} -> 73.5 | AG24: {=[1]!dbsum(I24:K24)} -> 65.4 | AH24: {=[1]!dbsum(L24:N24)} -> 79.1 | AI24: {=[1]!dbsum(O24:Q24)} -> 78.2 | AJ24: {=[1]!dbsum(R24:T24)} -> 59.4 | AK24: {=[1]!dbsum(U24:W24)} -> 51 | AL24: {=[1]!dbsum(X24:Z24)} -> 45.1 | AM24: {=[1]!dbsum(AA24:AC24)} -> 30.7 | AO24: =D24 -> 9 | AP24: =E24 -> 1m from open pipe | AQ24: =F24+AQ$11 -> 39.8 | AR24: =G24+AR$11 -> 41.8 | AS24: =H24+AS$11 -> 45.5 | AT24: =I24+AT$11 -> 37.9 | AU24: =J24+AU$11 -> 43.9 | AV24: =K24+AV$11 -> 49.6 | AW24: =L24+AW$11 -> 47.1 | AX24: =M24+AX$11 -> 52.4 | ... BN24: =AC24+BN$11 -> 19.5 | BO24: =[1]!dbsum(AQ24:BN24) -> 76.5
B25: 2018_Hep_WPF_10 | D25: 10 | E25: At site boundary | F25: 67 | G25: 68 | H25: 63 | I25: 54 | J25: 57 | K25: 54 | L25: 53 | M25: 54 | N25: 58 | O25: 60 | P25: 55 | Q25: 51 | R25: 45 | S25: 42 | T25: 41 | U25: 43 | V25: 38 | W25: 38 | X25: 37 | Y25: 36 | Z25: 33 | AA25: 29 | AB25: 27 | AC25: 24 | AD25: 60.6 | AF25: {=[1]!dbsum(F25:H25)} -> 71.2 | AG25: {=[1]!dbsum(I25:K25)} -> 60 | AH25: {=[1]!dbsum(L25:N25)} -> 60.3 | AI25: {=[1]!dbsum(O25:Q25)} -> 61.6 | AJ25: {=[1]!dbsum(R25:T25)} -> 47.8 | AK25: {=[1]!dbsum(U25:W25)} -> 45.1 | AL25: {=[1]!dbsum(X25:Z25)} -> 40.4 | AM25: {=[1]!dbsum(AA25:AC25)} -> 31.9 | AO25: =D25 -> 10 | AP25: =E25 -> At site boundary | AQ25: =F25+AQ$11 -> 36.8 | AR25: =G25+AR$11 -> 41.8 | AS25: =H25+AS$11 -> 40.5 | AT25: =I25+AT$11 -> 34.9 | AU25: =J25+AU$11 -> 40.9 | AV25: =K25+AV$11 -> 40.6 | AW25: =L25+AW$11 -> 42.1 | AX25: =M25+AX$11 -> 45.4 | ... BN25: =AC25+BN$11 -> 21.5 | BO25: =[1]!dbsum(AQ25:BN25) -> 59.9
B26: 2018_Hep_WPF_11 | D26: 11 | E26: 1m from AT1a aerator/blower | F26: 66 | G26: 64 | H26: 65 | I26: 68 | J26: 70 | K26: 71 | L26: 74 | M26: 74 | N26: 71 | O26: 63 | P26: 64 | Q26: 67 | R26: 64 | S26: 65 | T26: 63 | U26: 65 | V26: 62 | W26: 63 | X26: 62 | Y26: 60 | Z26: 60 | AA26: 54 | AB26: 53 | AC26: 51 | AD26: 76.6 | AF26: {=[1]!dbsum(F26:H26)} -> 69.8 | AG26: {=[1]!dbsum(I26:K26)} -> 74.6 | AH26: {=[1]!dbsum(L26:N26)} -> 78 | AI26: {=[1]!dbsum(O26:Q26)} -> 69.8 | AJ26: {=[1]!dbsum(R26:T26)} -> 68.8 | AK26: {=[1]!dbsum(U26:W26)} -> 68.3 | AL26: {=[1]!dbsum(X26:Z26)} -> 65.5 | AM26: {=[1]!dbsum(AA26:AC26)} -> 57.6 | AO26: =D26 -> 11 | AP26: =E26 -> 1m from AT1a aerator/blower | AQ26: =F26+AQ$11 -> 35.8 | AR26: =G26+AR$11 -> 37.8 | AS26: =H26+AS$11 -> 42.5 | AT26: =I26+AT$11 -> 48.9 | AU26: =J26+AU$11 -> 53.9 | AV26: =K26+AV$11 -> 57.6 | AW26: =L26+AW$11 -> 63.1 | AX26: =M26+AX$11 -> 65.4 | ... BN26: =AC26+BN$11 -> 48.5 | BO26: =[1]!dbsum(AQ26:BN26) -> 75.5
B27: 2018_Hep_WPF_12 | D27: 12 | E27: 1m from AT1a aerator (blower not operating) | F27: 62 | G27: 61 | H27: 64 | I27: 64 | J27: 63 | K27: 63 | L27: 62 | M27: 62 | N27: 61 | O27: 59 | P27: 59 | Q27: 59 | R27: 57 | S27: 57 | T27: 52 | U27: 52 | V27: 51 | W27: 52 | X27: 50 | Y27: 48 | Z27: 47 | AA27: 45 | AB27: 44 | AC27: 43 | AD27: 67.2 | AF27: {=[1]!dbsum(F27:H27)} -> 67.3 | AG27: {=[1]!dbsum(I27:K27)} -> 68.1 | AH27: {=[1]!dbsum(L27:N27)} -> 66.5 | AI27: {=[1]!dbsum(O27:Q27)} -> 63.8 | AJ27: {=[1]!dbsum(R27:T27)} -> 60.6 | AK27: {=[1]!dbsum(U27:W27)} -> 56.5 | AL27: {=[1]!dbsum(X27:Z27)} -> 53.3 | AM27: {=[1]!dbsum(AA27:AC27)} -> 48.8 | AO27: =D27 -> 12 | AP27: =E27 -> 1m from AT1a aerator (blower not operating) | AQ27: =F27+AQ$11 -> 31.8 | AR27: =G27+AR$11 -> 34.8 | AS27: =H27+AS$11 -> 41.5 | AT27: =I27+AT$11 -> 44.9 | AU27: =J27+AU$11 -> 46.9 | AV27: =K27+AV$11 -> 49.6 | AW27: =L27+AW$11 -> 51.1 | AX27: =M27+AX$11 -> 53.4 | ... BN27: =AC27+BN$11 -> 40.5 | BO27: =[1]!dbsum(AQ27:BN27) -> 66
... B35: 2018_Hep_WPF_20 | D35: 20 | E35: At site boundary | F35: 57 | G35: 54 | H35: 55 | I35: 49 | J35: 46 | K35: 47 | L35: 50 | M35: 50 | N35: 48 | O35: 51 | P35: 49 | Q35: 46 | R35: 51 | S35: 48 | T35: 47 | U35: 50 | V35: 49 | W35: 45 | X35: 44 | Y35: 50 | Z35: 40 | AA35: 47 | AB35: 66 | AC35: 50 | AD35: 67 | AF35: {=[1]!dbsum(F35:H35)} -> 60.3 | AG35: {=[1]!dbsum(I35:K35)} -> 52.3 | AH35: {=[1]!dbsum(L35:N35)} -> 54.2 | AI35: {=[1]!dbsum(O35:Q35)} -> 53.9 | AJ35: {=[1]!dbsum(R35:T35)} -> 53.8 | AK35: {=[1]!dbsum(U35:W35)} -> 53.2 | AL35: {=[1]!dbsum(X35:Z35)} -> 51.3 | AM35: {=[1]!dbsum(AA35:AC35)} -> 66.2 | AO35: =D35 -> 20 | AP35: =E35 -> At site boundary | AQ35: =F35+AQ$11 -> 26.8 | AR35: =G35+AR$11 -> 27.8 | AS35: =H35+AS$11 -> 32.5 | AT35: =I35+AT$11 -> 29.9 | AU35: =J35+AU$11 -> 29.9 | AV35: =K35+AV$11 -> 33.6 | AW35: =L35+AW$11 -> 39.1 | AX35: =M35+AX$11 -> 41.4 | ... BN35: =AC35+BN$11 -> 47.5 | BO35: =[1]!dbsum(AQ35:BN35) -> 66
D91: TARCTOR ACTIVITY: | E91: "3.28 As well as the fixed noise sources some measurements were undertaken of tractor activity. Noise levels were measured at typically 30m from a tractor manoeuvring and idling at the sludge processing plant. During this time there was further tractor activity passing in-bound and out-bound from the WWTP site towing vacuum tankers. This was considered representative of worst-case intensity of tractor activity at the site. Over the course of a 5-minute period a noise level of 59dB LAeq was measured. After tractor activity had ceased a further brief noise measurement was undertaken of the steady residual ambient noise at the same location, and 54dB LAeq was measured. On this basis a worst-case reference noise level for tractor activity of 57dB LAeq at 30m may be derived." | F91: 57 | G91: dB(A)@30m
D93: HEPWORTH REPORT 2: 2018 Creamery and WPF Report
D94: Report Reference: P18-389-R01v2
D95: Date: November 2018
D96: Author: Graham Bowland
D97: Report Checker: Donald Quinn
D99: MBR PLANT BLOWERS | E99: "2.24 The proposed noise emitting MBR plant to be housed within the building is a set of Aerzen Delta Blower G5 units, up to 4 of which may operate at any one time. The manufacturer’s stated noise emissions level, per individual unit, is 86dB LpA at 1m, however this can be reduced to 69dB LpA at 1m by application of manufacturer-supplied acoustic hoods." | F99: 86 | G99: dB(A) @ 1m | H99: Without Acoustic Hoods
F100: 69 | G100: dB(A) @ 1m | H100: With Acoustic Hoods
D102: RO Plant (pumps) | E102: "2.25 The proposed noise emitting RO plant to be housed within the building will be a set of multistage pumps that are used to pump the water through the RO membranes, up to 4 of which may operate at any one time. Typically, these will be Grundfos CRN 15 15kW pumps or equivalent, for which the manufacturer’s stated noise emissions level, per individual unit, is 72dB LpA at 1m. " | F102: 72 | G102: dB(A) @ 1m

Sheet Hepworth 3 Source Data - WPF
D2: Water Processing Facility
D4: Source:
D5: HEPWORTH REPORT 3: 2020 WPF Noise Assessment
D6: Report Reference: P20-150-R01v1
D7: Date: April 2020
D8: Author: Graham Bowland | AP8: A-weighting
D9: Report Checker: Donald Quinn | AR9: Third octave Band Centre Frequency (Hz)
AR10: 50 | AS10: 63 | AT10: 80 | AU10: 100 | AV10: 125 | AW10: 160 | AX10: 200 | AY10: 250 | AZ10: 315 | BA10: 400 | BB10: 500 | BC10: 630 | BD10: 800 | BE10: 1000 | BF10: 1250 | BG10: 1600 | BH10: 2000 | BI10: 2500 | BJ10: 3150 | BK10: 4000 | BL10: 5000 | BM10: 6300 | BN10: 8000 | BO10: 10000 | BQ10: Reference Level (dB(A) | BR10: 85
AQ11: A-Weighting Curve | AR11: -30.2 | AS11: -26.2 | AT11: -22.5 | AU11: -19.1 | AV11: -16.1 | AW11: -13.4 | AX11: -10.9 | AY11: -8.6 | AZ11: -6.6 | BA11: -4.2 | BB11: -3.2 | BC11: -1.9 | BD11: -0.8 | BE11: 0 | BF11: 0.6 | BG11: 1 | BH11: 1.2 | BI11: 1.3 | BJ11: 1.2 | BK11: 1 | BL11: 0.5 | BM11: -0.1 | BN11: -1.1 | BO11: -2.5
D12: Third Octave L90 On-site Noise Measurements - Reported | AG12: Octave L90 On-site Noise Levels - Calculated
B13: Assessment Data Ref. | D13: 2020Location No. (Fig 2 Below) | E13: 2018 Location No. (See Hepworth 1 Source Data - WPF Tab) | F13: Description | G13: Noise Level L90, dB - LINEAR | AE13: LA90 | AG13: Noise Level L90 dB - LINEAR | AP13: Location No. (Fig 2) | AQ13: Description | AR13: Noise Level L90, dB - A-WEIGHTED | BP13: LA90
B14: WSP Data Ref. | G14: Third octave Band Centre Frequency (Hz) | AG14: Octave Band Centre Frequency (Hz) | AR14: Third octave Band Centre Frequency (Hz)
G15: 50 | H15: 63 | I15: 80 | J15: 100 | K15: 125 | L15: 160 | M15: 200 | N15: 250 | O15: 315 | P15: 400 | Q15: 500 | R15: 630 | S15: 800 | T15: 1000 | U15: 1250 | V15: 1600 | W15: 2000 | X15: 2500 | Y15: 3150 | Z15: 4000 | AA15: 5000 | AB15: 6300 | AC15: 8000 | AD15: 10000 | AG15: =H15 -> 63 | AH15: =K15 -> 125 | AI15: =N15 -> 250 | AJ15: =Q15 -> 500 | AK15: =T15 -> 1000 | AL15: =W15 -> 2000 | AM15: =Z15 -> 4000 | AN15: =AC15 -> 8000 | AR15: 50 | AS15: 63 | AT15: 80 | AU15: 100 | AV15: 125 | AW15: 160 | AX15: 200 | AY15: 250 | AZ15: 315 | BA15: 400 | BB15: 500 | BC15: 630 | BD15: 800 | BE15: 1000 | BF15: 1250 | BG15: 1600 | BH15: 2000 | BI15: 2500 | BJ15: 3150 | BK15: 4000 | BL15: 5000 | BM15: 6300 | BN15: 8000 | BO15: 10000 | BR15: Correct to 85 dB(A)
B16: 2020_Hep_WPF_1 | D16: 1 | F16: 5m in front of centrifuge, both operating, facing SW unit | G16: 65 | H16: 64 | I16: 60 | J16: 64 | K16: 58 | L16: 59 | M16: 58 | N16: 56 | O16: 58 | P16: 56 | Q16: 52 | R16: 52 | S16: 51 | T16: 50 | U16: 48 | V16: 48 | W16: 47 | X16: 46 | Y16: 50 | Z16: 44 | AA16: 43 | AB16: 41 | AC16: 33 | AD16: 65 | AE16: - | AG16: {=[1]!dbsum(G16:I16)} -> 68.2 | AH16: {=[1]!dbsum(J16:L16)} -> 66 | AI16: {=[1]!dbsum(M16:O16)} -> 62.2 | AJ16: {=[1]!dbsum(P16:R16)} -> 58.5 | AK16: {=[1]!dbsum(S16:U16)} -> 54.6 | AL16: {=[1]!dbsum(V16:X16)} -> 51.8 | AM16: {=[1]!dbsum(Y16:AA16)} -> 51.6 | AN16: {=[1]!dbsum(AB16:AD16)} -> 65 | AP16: =D16 -> 1 | AQ16: =F16 -> 5m in front of centrifuge, both operating, facing SW unit | AR16: =G16+AR$11 -> 34.8 | AS16: =H16+AS$11 -> 37.8 | AT16: =I16+AT$11 -> 37.5 | AU16: =J16+AU$11 -> 44.9 | AV16: =K16+AV$11 -> 41.9 | AW16: =L16+AW$11 -> 45.6 | AX16: =M16+AX$11 -> 47.1 | AY16: =N16+AY$11 -> 47.4 | ... BO16: =AD16+BO$11 -> 62.5 | BP16: =[1]!dbsum(AR16:BO16) -> 64.9 | BR16: =$BR$10-BP16 -> 20.1
B17: 2020_Hep_WPF_2 | D17: 2 | E17: 6 | F17: 5m in front of centrifuge, both operating, between units | G17: 66 | H17: 63 | I17: 62 | J17: 61 | K17: 60 | L17: 59 | M17: 57 | N17: 57 | O17: 59 | P17: 56 | Q17: 51 | R17: 51 | S17: 51 | T17: 50 | U17: 48 | V17: 47 | W17: 47 | X17: 47 | Y17: 49 | Z17: 44 | AA17: 42 | AB17: 40 | AC17: 35 | AD17: 66 | AE17: - | AG17: {=[1]!dbsum(G17:I17)} -> 68.8 | AH17: {=[1]!dbsum(J17:L17)} -> 64.8 | AI17: {=[1]!dbsum(M17:O17)} -> 62.5 | AJ17: {=[1]!dbsum(P17:R17)} -> 58.1 | AK17: {=[1]!dbsum(S17:U17)} -> 54.6 | AL17: {=[1]!dbsum(V17:X17)} -> 51.8 | AM17: {=[1]!dbsum(Y17:AA17)} -> 50.8 | AN17: {=[1]!dbsum(AB17:AD17)} -> 66 | AP17: =D17 -> 2 | AQ17: =F17 -> 5m in front of centrifuge, both operating, between units | AR17: =G17+AR$11 -> 35.8 | AS17: =H17+AS$11 -> 36.8 | AT17: =I17+AT$11 -> 39.5 | AU17: =J17+AU$11 -> 41.9 | AV17: =K17+AV$11 -> 43.9 | AW17: =L17+AW$11 -> 45.6 | AX17: =M17+AX$11 -> 46.1 | AY17: =N17+AY$11 -> 48.4 | ... BO17: =AD17+BO$11 -> 63.5 | BP17: =[1]!dbsum(AR17:BO17) -> 65.5 | BR17: =$BR$10-BP17 -> 19.5
B18: 2020_Hep_WPF_3 | D18: 3 | F18: 5m in front of centrifuge, both operating, facing NE unit | G18: 67 | H18: 66 | I18: 63 | J18: 61 | K18: 60 | L18: 60 | M18: 58 | N18: 56 | O18: 57 | P18: 56 | Q18: 52 | R18: 52 | S18: 50 | T18: 50 | U18: 48 | V18: 48 | W18: 48 | X18: 46 | Y18: 49 | Z18: 43 | AA18: 41 | AB18: 40 | AC18: 33 | AD18: 67 | AE18: - | AG18: {=[1]!dbsum(G18:I18)} -> 70.4 | AH18: {=[1]!dbsum(J18:L18)} -> 65.1 | AI18: {=[1]!dbsum(M18:O18)} -> 61.8 | AJ18: {=[1]!dbsum(P18:R18)} -> 58.5 | AK18: {=[1]!dbsum(S18:U18)} -> 54.2 | AL18: {=[1]!dbsum(V18:X18)} -> 52.2 | AM18: {=[1]!dbsum(Y18:AA18)} -> 50.5 | AN18: {=[1]!dbsum(AB18:AD18)} -> 67 | AP18: =D18 -> 3 | AQ18: =F18 -> 5m in front of centrifuge, both operating, facing NE unit | AR18: =G18+AR$11 -> 36.8 | AS18: =H18+AS$11 -> 39.8 | AT18: =I18+AT$11 -> 40.5 | AU18: =J18+AU$11 -> 41.9 | AV18: =K18+AV$11 -> 43.9 | AW18: =L18+AW$11 -> 46.6 | AX18: =M18+AX$11 -> 47.1 | AY18: =N18+AY$11 -> 47.4 | ... BO18: =AD18+BO$11 -> 64.5 | BP18: =[1]!dbsum(AR18:BO18) -> 66.1 | BR18: =$BR$10-BP18 -> 18.9
B19: 2020_Hep_WPF_4 | D19: 4 | F19: On path NW of tank, facing loose pipe hanging down | G19: 60 | H19: 58 | I19: 54 | J19: 56 | K19: 59 | L19: 58 | M19: 55 | N19: 48 | O19: 50 | P19: 50 | Q19: 49 | R19: 54 | S19: 54 | T19: 53 | U19: 51 | V19: 52 | W19: 50 | X19: 48 | Y19: 48 | Z19: 42 | AA19: 40 | AB19: 39 | AC19: 37 | AD19: 60 | AE19: - | AG19: {=[1]!dbsum(G19:I19)} -> 62.7 | AH19: {=[1]!dbsum(J19:L19)} -> 62.6 | AI19: {=[1]!dbsum(M19:O19)} -> 56.8 | AJ19: {=[1]!dbsum(P19:R19)} -> 56.3 | AK19: {=[1]!dbsum(S19:U19)} -> 57.6 | AL19: {=[1]!dbsum(V19:X19)} -> 55.1 | AM19: {=[1]!dbsum(Y19:AA19)} -> 49.5 | AN19: {=[1]!dbsum(AB19:AD19)} -> 60.1 | AP19: =D19 -> 4 | AQ19: =F19 -> On path NW of tank, facing loose pipe hanging down | AR19: =G19+AR$11 -> 29.8 | AS19: =H19+AS$11 -> 31.8 | AT19: =I19+AT$11 -> 31.5 | AU19: =J19+AU$11 -> 36.9 | AV19: =K19+AV$11 -> 42.9 | AW19: =L19+AW$11 -> 44.6 | AX19: =M19+AX$11 -> 44.1 | AY19: =N19+AY$11 -> 39.4 | ... BO19: =AD19+BO$11 -> 57.5 | BP19: =[1]!dbsum(AR19:BO19) -> 63 | BR19: =$BR$10-BP19 -> 22
B20: 2020_Hep_WPF_5 | D20: 5 | E20: 1 | F20: On gantry between BT1 and Divert | G20: 58 | H20: 58 | I20: 57 | J20: 58 | K20: 58 | L20: 59 | M20: 58 | N20: 60 | O20: 59 | P20: 61 | Q20: 58 | R20: 63 | S20: 63 | T20: 62 | U20: 60 | V20: 58 | W20: 56 | X20: 54 | Y20: 53 | Z20: 49 | AA20: 46 | AB20: 47 | AC20: 41 | AD20: 58 | AE20: - | AG20: {=[1]!dbsum(G20:I20)} -> 62.5 | AH20: {=[1]!dbsum(J20:L20)} -> 63.1 | AI20: {=[1]!dbsum(M20:O20)} -> 63.8 | AJ20: {=[1]!dbsum(P20:R20)} -> 65.9 | AK20: {=[1]!dbsum(S20:U20)} -> 66.6 | AL20: {=[1]!dbsum(V20:X20)} -> 61.1 | AM20: {=[1]!dbsum(Y20:AA20)} -> 55 | AN20: {=[1]!dbsum(AB20:AD20)} -> 58.4 | AP20: =D20 -> 5 | AQ20: =F20 -> On gantry between BT1 and Divert | AR20: =G20+AR$11 -> 27.8 | AS20: =H20+AS$11 -> 31.8 | AT20: =I20+AT$11 -> 34.5 | AU20: =J20+AU$11 -> 38.9 | AV20: =K20+AV$11 -> 41.9 | AW20: =L20+AW$11 -> 45.6 | AX20: =M20+AX$11 -> 47.1 | AY20: =N20+AY$11 -> 51.4 | ... BO20: =AD20+BO$11 -> 55.5 | BP20: =[1]!dbsum(AR20:BO20) -> 69.7 | BR20: =$BR$10-BP20 -> 15.3
B21: 2020_Hep_WPF_6 | D21: 6 | E21: 2 | F21: Ground level between BT1 and Diver | G21: 61 | H21: 59 | I21: 56 | J21: 59 | K21: 61 | L21: 63 | M21: 61 | N21: 60 | O21: 62 | P21: 64 | Q21: 61 | R21: 63 | S21: 63 | T21: 62 | U21: 60 | V21: 60 | W21: 57 | X21: 55 | Y21: 60 | Z21: 58 | AA21: 54 | AB21: 62 | AC21: 52 | AD21: 61 | AE21: - | AG21: {=[1]!dbsum(G21:I21)} -> 63.9 | AH21: {=[1]!dbsum(J21:L21)} -> 66.1 | AI21: {=[1]!dbsum(M21:O21)} -> 65.8 | AJ21: {=[1]!dbsum(P21:R21)} -> 67.6 | AK21: {=[1]!dbsum(S21:U21)} -> 66.6 | AL21: {=[1]!dbsum(V21:X21)} -> 62.6 | AM21: {=[1]!dbsum(Y21:AA21)} -> 62.7 | AN21: {=[1]!dbsum(AB21:AD21)} -> 64.8 | AP21: =D21 -> 6 | AQ21: =F21 -> Ground level between BT1 and Diver | AR21: =G21+AR$11 -> 30.8 | AS21: =H21+AS$11 -> 32.8 | AT21: =I21+AT$11 -> 33.5 | AU21: =J21+AU$11 -> 39.9 | AV21: =K21+AV$11 -> 44.9 | AW21: =L21+AW$11 -> 49.6 | AX21: =M21+AX$11 -> 50.1 | AY21: =N21+AY$11 -> 51.4 | ... BO21: =AD21+BO$11 -> 58.5 | BP21: =[1]!dbsum(AR21:BO21) -> 71.8 | BR21: =$BR$10-BP21 -> 13.2
B22: 2020_Hep_WPF_7 | D22: 7 | E22: 3 | F22: Midway between outside edges of BT1 and Divert | G22: 54 | H22: 54 | I22: 52 | J22: 54 | K22: 54 | L22: 57 | M22: 54 | N22: 56 | O22: 57 | P22: 61 | Q22: 56 | R22: 61 | S22: 60 | T22: 60 | U22: 58 | V22: 57 | W22: 55 | X22: 52 | Y22: 51 | Z22: 47 | AA22: 45 | AB22: 44 | AC22: 40 | AD22: 54 | AE22: - | AG22: {=[1]!dbsum(G22:I22)} -> 58.2 | AH22: {=[1]!dbsum(J22:L22)} -> 60 | AI22: {=[1]!dbsum(M22:O22)} -> 60.6 | AJ22: {=[1]!dbsum(P22:R22)} -> 64.6 | AK22: {=[1]!dbsum(S22:U22)} -> 64.2 | AL22: {=[1]!dbsum(V22:X22)} -> 59.9 | AM22: {=[1]!dbsum(Y22:AA22)} -> 53.2 | AN22: {=[1]!dbsum(AB22:AD22)} -> 54.6 | AP22: =D22 -> 7 | AQ22: =F22 -> Midway between outside edges of BT1 and Divert | AR22: =G22+AR$11 -> 23.8 | AS22: =H22+AS$11 -> 27.8 | AT22: =I22+AT$11 -> 29.5 | AU22: =J22+AU$11 -> 34.9 | AV22: =K22+AV$11 -> 37.9 | AW22: =L22+AW$11 -> 43.6 | AX22: =M22+AX$11 -> 43.1 | AY22: =N22+AY$11 -> 47.4 | ... BO22: =AD22+BO$11 -> 51.5 | BP22: =[1]!dbsum(AR22:BO22) -> 67.8 | BR22: =$BR$10-BP22 -> 17.2
B23: 2020_Hep_WPF_8 | D23: 8 | E23: 4 | F23: Above manhole set back from BT1 and Divert | G23: 53 | H23: 55 | I23: 51 | J23: 52 | K23: 52 | L23: 51 | M23: 51 | N23: 56 | O23: 55 | P23: 53 | Q23: 51 | R23: 56 | S23: 55 | T23: 55 | U23: 53 | V23: 51 | W23: 49 | X23: 47 | Y23: 46 | Z23: 42 | AA23: 39 | AB23: 39 | AC23: 34 | AD23: 53 | AE23: - | AG23: {=[1]!dbsum(G23:I23)} -> 58.1 | AH23: {=[1]!dbsum(J23:L23)} -> 56.5 | AI23: {=[1]!dbsum(M23:O23)} -> 59.2 | AJ23: {=[1]!dbsum(P23:R23)} -> 58.6 | AK23: {=[1]!dbsum(S23:U23)} -> 59.2 | AL23: {=[1]!dbsum(V23:X23)} -> 54.1 | AM23: {=[1]!dbsum(Y23:AA23)} -> 48 | AN23: {=[1]!dbsum(AB23:AD23)} -> 53.2 | AP23: =D23 -> 8 | AQ23: =F23 -> Above manhole set back from BT1 and Divert | AR23: =G23+AR$11 -> 22.8 | AS23: =H23+AS$11 -> 28.8 | AT23: =I23+AT$11 -> 28.5 | AU23: =J23+AU$11 -> 32.9 | AV23: =K23+AV$11 -> 35.9 | AW23: =L23+AW$11 -> 37.6 | AX23: =M23+AX$11 -> 40.1 | AY23: =N23+AY$11 -> 47.4 | ... BO23: =AD23+BO$11 -> 50.5 | BP23: =[1]!dbsum(AR23:BO23) -> 62.7 | BR23: =$BR$10-BP23 -> 22.3
B24: 2020_Hep_WPF_9 | D24: 9 | E24: 5 | F24: At site boundary set back from BT1 and Divert | G24: 52 | H24: 53 | I24: 50 | J24: 48 | K24: 47 | L24: 48 | M24: 44 | N24: 46 | O24: 50 | P24: 51 | Q24: 45 | R24: 49 | S24: 48 | T24: 49 | U24: 48 | V24: 46 | W24: 44 | X24: 42 | Y24: 40 | Z24: 37 | AA24: 34 | AB24: 33 | AC24: 28 | AD24: 52 | AE24: - | AG24: {=[1]!dbsum(G24:I24)} -> 56.6 | AH24: {=[1]!dbsum(J24:L24)} -> 52.5 | AI24: {=[1]!dbsum(M24:O24)} -> 52.2 | AJ24: {=[1]!dbsum(P24:R24)} -> 53.7 | AK24: {=[1]!dbsum(S24:U24)} -> 53.1 | AL24: {=[1]!dbsum(V24:X24)} -> 49.1 | AM24: {=[1]!dbsum(Y24:AA24)} -> 42.4 | AN24: {=[1]!dbsum(AB24:AD24)} -> 52.1 | AP24: =D24 -> 9 | AQ24: =F24 -> At site boundary set back from BT1 and Divert | AR24: =G24+AR$11 -> 21.8 | AS24: =H24+AS$11 -> 26.8 | AT24: =I24+AT$11 -> 27.5 | AU24: =J24+AU$11 -> 28.9 | AV24: =K24+AV$11 -> 30.9 | AW24: =L24+AW$11 -> 34.6 | AX24: =M24+AX$11 -> 33.1 | AY24: =N24+AY$11 -> 37.4 | ... BO24: =AD24+BO$11 -> 49.5 | BP24: =[1]!dbsum(AR24:BO24) -> 57.6 | BR24: =$BR$10-BP24 -> 27.4
B25: 2020_Hep_WPF_10 | D25: 10 | F25: 1m from new ground level pump towards W of Divert | G25: 58 | H25: 59 | I25: 60 | J25: 59 | K25: 59 | L25: 61 | M25: 62 | N25: 60 | O25: 67 | P25: 65 | Q25: 64 | R25: 69 | S25: 70 | T25: 69 | U25: 68 | V25: 68 | W25: 65 | X25: 63 | Y25: 61 | Z25: 57 | AA25: 55 | AB25: 54 | AC25: 51 | AD25: 58 | AE25: - | AG25: {=[1]!dbsum(G25:I25)} -> 63.8 | AH25: {=[1]!dbsum(J25:L25)} -> 64.5 | AI25: {=[1]!dbsum(M25:O25)} -> 68.8 | AJ25: {=[1]!dbsum(P25:R25)} -> 71.3 | AK25: {=[1]!dbsum(S25:U25)} -> 73.8 | AL25: {=[1]!dbsum(V25:X25)} -> 70.6 | AM25: {=[1]!dbsum(Y25:AA25)} -> 63.2 | AN25: {=[1]!dbsum(AB25:AD25)} -> 60 | AP25: =D25 -> 10 | AQ25: =F25 -> 1m from new ground level pump towards W of Divert | AR25: =G25+AR$11 -> 27.8 | AS25: =H25+AS$11 -> 32.8 | AT25: =I25+AT$11 -> 37.5 | AU25: =J25+AU$11 -> 39.9 | AV25: =K25+AV$11 -> 42.9 | AW25: =L25+AW$11 -> 47.6 | AX25: =M25+AX$11 -> 51.1 | AY25: =N25+AY$11 -> 51.4 | ... BO25: =AD25+BO$11 -> 55.5 | BP25: =[1]!dbsum(AR25:BO25) -> 77 | BR25: =$BR$10-BP25 -> 8
B26: 2020_Hep_WPF_11 | D26: 11 | F26: 1m from new ground level pump towards N of Divert | G26: 57 | H26: 57 | I26: 54 | J26: 57 | K26: 58 | L26: 58 | M26: 57 | N26: 63 | O26: 64 | P26: 64 | Q26: 62 | R26: 64 | S26: 66 | T26: 69 | U26: 65 | V26: 61 | W26: 60 | X26: 59 | Y26: 56 | Z26: 52 | AA26: 50 | AB26: 47 | AC26: 44 | AD26: 57 | AE26: - | AG26: {=[1]!dbsum(G26:I26)} -> 61 | AH26: {=[1]!dbsum(J26:L26)} -> 62.5 | AI26: {=[1]!dbsum(M26:O26)} -> 67 | AJ26: {=[1]!dbsum(P26:R26)} -> 68.2 | AK26: {=[1]!dbsum(S26:U26)} -> 71.8 | AL26: {=[1]!dbsum(V26:X26)} -> 64.8 | AM26: {=[1]!dbsum(Y26:AA26)} -> 58.2 | AN26: {=[1]!dbsum(AB26:AD26)} -> 57.6 | AP26: =D26 -> 11 | AQ26: =F26 -> 1m from new ground level pump towards N of Divert | AR26: =G26+AR$11 -> 26.8 | AS26: =H26+AS$11 -> 30.8 | AT26: =I26+AT$11 -> 31.5 | AU26: =J26+AU$11 -> 37.9 | AV26: =K26+AV$11 -> 41.9 | AW26: =L26+AW$11 -> 44.6 | AX26: =M26+AX$11 -> 46.1 | AY26: =N26+AY$11 -> 54.4 | ... BO26: =AD26+BO$11 -> 54.5 | BP26: =[1]!dbsum(AR26:BO26) -> 73.9 | BR26: =$BR$10-BP26 -> 11.1
B27: 2020_Hep_WPF_12 | D27: 12 | E27: 9 | F27: To rear of DAF 2 | G27: 52 | H27: 51 | I27: 50 | J27: 51 | K27: 52 | L27: 53 | M27: 52 | N27: 52 | O27: 50 | P27: 52 | Q27: 51 | R27: 55 | S27: 53 | T27: 53 | U27: 50 | V27: 48 | W27: 45 | X27: 44 | Y27: 41 | Z27: 38 | AA27: 34 | AB27: 31 | AC27: 27 | AD27: 52 | AE27: - | AG27: {=[1]!dbsum(G27:I27)} -> 55.8 | AH27: {=[1]!dbsum(J27:L27)} -> 56.8 | AI27: {=[1]!dbsum(M27:O27)} -> 56.2 | AJ27: {=[1]!dbsum(P27:R27)} -> 57.8 | AK27: {=[1]!dbsum(S27:U27)} -> 57 | AL27: {=[1]!dbsum(V27:X27)} -> 50.8 | AM27: {=[1]!dbsum(Y27:AA27)} -> 43.3 | AN27: {=[1]!dbsum(AB27:AD27)} -> 52 | AP27: =D27 -> 12 | AQ27: =F27 -> To rear of DAF 2 | AR27: =G27+AR$11 -> 21.8 | AS27: =H27+AS$11 -> 24.8 | AT27: =I27+AT$11 -> 27.5 | AU27: =J27+AU$11 -> 31.9 | AV27: =K27+AV$11 -> 35.9 | AW27: =L27+AW$11 -> 39.6 | AX27: =M27+AX$11 -> 41.1 | AY27: =N27+AY$11 -> 43.4 | ... BO27: =AD27+BO$11 -> 49.5 | BP27: =[1]!dbsum(AR27:BO27) -> 60.6 | BR27: =$BR$10-BP27 -> 24.4
B28: 2020_Hep_WPF_13 | D28: 13 | E28: 10 | F28: At boundary to rear of DAF 2 | G28: 50 | H28: 51 | I28: 49 | J28: 49 | K28: 50 | L28: 48 | M28: 48 | N28: 49 | O28: 49 | P28: 51 | Q28: 47 | R28: 50 | S28: 49 | T28: 51 | U28: 48 | V28: 45 | W28: 43 | X28: 41 | Y28: 39 | Z28: 36 | AA28: 33 | AB28: 30 | AC28: 27 | AD28: 50 | AE28: - | AG28: {=[1]!dbsum(G28:I28)} -> 54.8 | AH28: {=[1]!dbsum(J28:L28)} -> 53.8 | AI28: {=[1]!dbsum(M28:O28)} -> 53.5 | AJ28: {=[1]!dbsum(P28:R28)} -> 54.4 | AK28: {=[1]!dbsum(S28:U28)} -> 54.3 | AL28: {=[1]!dbsum(V28:X28)} -> 48.1 | AM28: {=[1]!dbsum(Y28:AA28)} -> 41.4 | AN28: {=[1]!dbsum(AB28:AD28)} -> 50.1 | AP28: =D28 -> 13 | AQ28: =F28 -> At boundary to rear of DAF 2 | AR28: =G28+AR$11 -> 19.8 | AS28: =H28+AS$11 -> 24.8 | AT28: =I28+AT$11 -> 26.5 | AU28: =J28+AU$11 -> 29.9 | AV28: =K28+AV$11 -> 33.9 | AW28: =L28+AW$11 -> 34.6 | AX28: =M28+AX$11 -> 37.1 | AY28: =N28+AY$11 -> 40.4 | ... BO28: =AD28+BO$11 -> 47.5 | BP28: =[1]!dbsum(AR28:BO28) -> 57.8 | BR28: =$BR$10-BP28 -> 27.2
B29: 2020_Hep_WPF_14 | D29: 14 | E29: 14 | F29: 1m to foot of gantry at N of AT2 | G29: 47 | H29: 52 | I29: 53 | J29: 57 | K29: 60 | L29: 61 | M29: 62 | N29: 61 | O29: 53 | P29: 53 | Q29: 53 | R29: 58 | S29: 56 | T29: 56 | U29: 56 | V29: 52 | W29: 56 | X29: 56 | Y29: 54 | Z29: 55 | AA29: 53 | AB29: 54 | AC29: 53 | AD29: 47 | AE29: - | AG29: {=[1]!dbsum(G29:I29)} -> 56.1 | AH29: {=[1]!dbsum(J29:L29)} -> 64.4 | AI29: {=[1]!dbsum(M29:O29)} -> 64.8 | AJ29: {=[1]!dbsum(P29:R29)} -> 60.1 | AK29: {=[1]!dbsum(S29:U29)} -> 60.8 | AL29: {=[1]!dbsum(V29:X29)} -> 59.8 | AM29: {=[1]!dbsum(Y29:AA29)} -> 58.8 | AN29: {=[1]!dbsum(AB29:AD29)} -> 57 | AP29: =D29 -> 14 | AQ29: =F29 -> 1m to foot of gantry at N of AT2 | AR29: =G29+AR$11 -> 16.8 | AS29: =H29+AS$11 -> 25.8 | AT29: =I29+AT$11 -> 30.5 | AU29: =J29+AU$11 -> 37.9 | AV29: =K29+AV$11 -> 43.9 | AW29: =L29+AW$11 -> 47.6 | AX29: =M29+AX$11 -> 51.1 | AY29: =N29+AY$11 -> 52.4 | ... BO29: =AD29+BO$11 -> 44.5 | BP29: =[1]!dbsum(AR29:BO29) -> 66.9 | BR29: =$BR$10-BP29 -> 18.1
B30: 2020_Hep_WPF_15 | D30: 15 | F30: At boundary to N of AT2 | G30: 47 | H30: 49 | I30: 49 | J30: 47 | K30: 44 | L30: 55 | M30: 59 | N30: 56 | O30: 46 | P30: 45 | Q30: 47 | R30: 50 | S30: 50 | T30: 47 | U30: 48 | V30: 45 | W30: 49 | X30: 49 | Y30: 48 | Z30: 50 | AA30: 49 | AB30: 48 | AC30: 47 | AD30: 47 | AE30: - | AG30: {=[1]!dbsum(G30:I30)} -> 53.2 | AH30: {=[1]!dbsum(J30:L30)} -> 55.9 | AI30: {=[1]!dbsum(M30:O30)} -> 60.9 | AJ30: {=[1]!dbsum(P30:R30)} -> 52.6 | AK30: {=[1]!dbsum(S30:U30)} -> 53.3 | AL30: {=[1]!dbsum(V30:X30)} -> 52.8 | AM30: {=[1]!dbsum(Y30:AA30)} -> 53.8 | AN30: {=[1]!dbsum(AB30:AD30)} -> 52.1 | AP30: =D30 -> 15 | AQ30: =F30 -> At boundary to N of AT2 | AR30: =G30+AR$11 -> 16.8 | AS30: =H30+AS$11 -> 22.8 | AT30: =I30+AT$11 -> 26.5 | AU30: =J30+AU$11 -> 27.9 | AV30: =K30+AV$11 -> 27.9 | AW30: =L30+AW$11 -> 41.6 | AX30: =M30+AX$11 -> 48.1 | AY30: =N30+AY$11 -> 47.4 | ... BO30: =AD30+BO$11 -> 44.5 | BP30: =[1]!dbsum(AR30:BO30) -> 60.5 | BR30: =$BR$10-BP30 -> 24.5
B31: 2020_Hep_WPF_16 | D31: 16 | E31: 15 | F31: 1m to foot of gantry at SE of AT2 | G31: 52 | H31: 51 | I31: 52 | J31: 55 | K31: 54 | L31: 56 | M31: 61 | N31: 58 | O31: 52 | P31: 59 | Q31: 59 | R31: 62 | S31: 64 | T31: 66 | U31: 65 | V31: 67 | W31: 62 | X31: 63 | Y31: 60 | Z31: 58 | AA31: 56 | AB31: 54 | AC31: 48 | AD31: 52 | AE31: - | AG31: {=[1]!dbsum(G31:I31)} -> 56.5 | AH31: {=[1]!dbsum(J31:L31)} -> 59.8 | AI31: {=[1]!dbsum(M31:O31)} -> 63.1 | AJ31: {=[1]!dbsum(P31:R31)} -> 65 | AK31: {=[1]!dbsum(S31:U31)} -> 69.8 | AL31: {=[1]!dbsum(V31:X31)} -> 69.3 | AM31: {=[1]!dbsum(Y31:AA31)} -> 63.1 | AN31: {=[1]!dbsum(AB31:AD31)} -> 56.7 | AP31: =D31 -> 16 | AQ31: =F31 -> 1m to foot of gantry at SE of AT2 | AR31: =G31+AR$11 -> 21.8 | AS31: =H31+AS$11 -> 24.8 | AT31: =I31+AT$11 -> 29.5 | AU31: =J31+AU$11 -> 35.9 | AV31: =K31+AV$11 -> 37.9 | AW31: =L31+AW$11 -> 42.6 | AX31: =M31+AX$11 -> 50.1 | AY31: =N31+AY$11 -> 49.4 | ... BO31: =AD31+BO$11 -> 49.5 | BP31: =[1]!dbsum(AR31:BO31) -> 74.1 | BR31: =$BR$10-BP31 -> 10.9
B32: 2020_Hep_WPF_17 | D32: 17 | E32: 16 | F32: At gantry level - running water | G32: 55 | H32: 56 | I32: 54 | J32: 55 | K32: 57 | L32: 59 | M32: 58 | N32: 56 | O32: 57 | P32: 60 | Q32: 59 | R32: 60 | S32: 61 | T32: 58 | U32: 59 | V32: 60 | W32: 59 | X32: 58 | Y32: 57 | Z32: 56 | AA32: 55 | AB32: 54 | AC32: 53 | AD32: 55 | AE32: - | AG32: {=[1]!dbsum(G32:I32)} -> 59.8 | AH32: {=[1]!dbsum(J32:L32)} -> 62.1 | AI32: {=[1]!dbsum(M32:O32)} -> 61.8 | AJ32: {=[1]!dbsum(P32:R32)} -> 64.5 | AK32: {=[1]!dbsum(S32:U32)} -> 64.3 | AL32: {=[1]!dbsum(V32:X32)} -> 63.8 | AM32: {=[1]!dbsum(Y32:AA32)} -> 60.8 | AN32: {=[1]!dbsum(AB32:AD32)} -> 58.8 | AP32: =D32 -> 17 | AQ32: =F32 -> At gantry level - running water | AR32: =G32+AR$11 -> 24.8 | AS32: =H32+AS$11 -> 29.8 | AT32: =I32+AT$11 -> 31.5 | AU32: =J32+AU$11 -> 35.9 | AV32: =K32+AV$11 -> 40.9 | AW32: =L32+AW$11 -> 45.6 | AX32: =M32+AX$11 -> 47.1 | AY32: =N32+AY$11 -> 47.4 | ... BO32: =AD32+BO$11 -> 52.5 | BP32: =[1]!dbsum(AR32:BO32) -> 69.8 | BR32: =$BR$10-BP32 -> 15.2
B33: 2020_Hep_WPF_18 | D33: 18 | E33: 8 | F33: 5m from open shutter of DAF2 | G33: 49 | H33: 51 | I33: 47 | J33: 52 | K33: 54 | L33: 52 | M33: 52 | N33: 52 | O33: 55 | P33: 54 | Q33: 53 | R33: 55 | S33: 51 | T33: 52 | U33: 52 | V33: 51 | W33: 49 | X33: 47 | Y33: 45 | Z33: 42 | AA33: 40 | AB33: 37 | AC33: 34 | AD33: 49 | AE33: - | AG33: {=[1]!dbsum(G33:I33)} -> 54.1 | AH33: {=[1]!dbsum(J33:L33)} -> 57.5 | AI33: {=[1]!dbsum(M33:O33)} -> 58 | AJ33: {=[1]!dbsum(P33:R33)} -> 58.8 | AK33: {=[1]!dbsum(S33:U33)} -> 56.5 | AL33: {=[1]!dbsum(V33:X33)} -> 54.1 | AM33: {=[1]!dbsum(Y33:AA33)} -> 47.6 | AN33: {=[1]!dbsum(AB33:AD33)} -> 49.4 | AP33: =D33 -> 18 | AQ33: =F33 -> 5m from open shutter of DAF2 | AR33: =G33+AR$11 -> 18.8 | AS33: =H33+AS$11 -> 24.8 | AT33: =I33+AT$11 -> 24.5 | AU33: =J33+AU$11 -> 32.9 | AV33: =K33+AV$11 -> 37.9 | AW33: =L33+AW$11 -> 38.6 | AX33: =M33+AX$11 -> 41.1 | AY33: =N33+AY$11 -> 43.4 | ... BO33: =AD33+BO$11 -> 46.5 | BP33: =[1]!dbsum(AR33:BO33) -> 61.5 | BR33: =$BR$10-BP33 -> 23.5
B34: 2020_Hep_WPF_19 | D34: 19 | F34: 1m from nearest exhaust turret of DAF1 extension | G34: 64 | H34: 67 | I34: 61 | J34: 68 | K34: 70 | L34: 62 | M34: 71 | N34: 64 | O34: 67 | P34: 61 | Q34: 61 | R34: 63 | S34: 59 | T34: 60 | U34: 56 | V34: 56 | W34: 57 | X34: 55 | Y34: 51 | Z34: 50 | AA34: 48 | AB34: 45 | AC34: 46 | AD34: 64 | AE34: - | AG34: {=[1]!dbsum(G34:I34)} -> 69.4 | AH34: {=[1]!dbsum(J34:L34)} -> 72.5 | AI34: {=[1]!dbsum(M34:O34)} -> 73 | AJ34: {=[1]!dbsum(P34:R34)} -> 66.5 | AK34: {=[1]!dbsum(S34:U34)} -> 63.4 | AL34: {=[1]!dbsum(V34:X34)} -> 60.8 | AM34: {=[1]!dbsum(Y34:AA34)} -> 54.6 | AN34: {=[1]!dbsum(AB34:AD34)} -> 64.1 | AP34: =D34 -> 19 | AQ34: =F34 -> 1m from nearest exhaust turret of DAF1 extension | AR34: =G34+AR$11 -> 33.8 | AS34: =H34+AS$11 -> 40.8 | AT34: =I34+AT$11 -> 38.5 | AU34: =J34+AU$11 -> 48.9 | AV34: =K34+AV$11 -> 53.9 | AW34: =L34+AW$11 -> 48.6 | AX34: =M34+AX$11 -> 60.1 | AY34: =N34+AY$11 -> 55.4 | ... BO34: =AD34+BO$11 -> 61.5 | BP34: =[1]!dbsum(AR34:BO34) -> 70.3 | BR34: =$BR$10-BP34 -> 14.7
B35: 2020_Hep_WPF_20 | D35: 20 | F35: 1m to W right corner of DAF1 extension | G35: 64 | H35: 59 | I35: 56 | J35: 65 | K35: 66 | L35: 60 | M35: 58 | N35: 56 | O35: 61 | P35: 59 | Q35: 56 | R35: 61 | S35: 55 | T35: 53 | U35: 51 | V35: 50 | W35: 49 | X35: 47 | Y35: 44 | Z35: 44 | AA35: 42 | AB35: 37 | AC35: 37 | AD35: 64 | AE35: - | AG35: {=[1]!dbsum(G35:I35)} -> 65.7 | AH35: {=[1]!dbsum(J35:L35)} -> 69.1 | AI35: {=[1]!dbsum(M35:O35)} -> 63.6 | AJ35: {=[1]!dbsum(P35:R35)} -> 63.9 | AK35: {=[1]!dbsum(S35:U35)} -> 58.1 | AL35: {=[1]!dbsum(V35:X35)} -> 53.6 | AM35: {=[1]!dbsum(Y35:AA35)} -> 48.2 | AN35: {=[1]!dbsum(AB35:AD35)} -> 64 | AP35: =D35 -> 20 | AQ35: =F35 -> 1m to W right corner of DAF1 extension | AR35: =G35+AR$11 -> 33.8 | AS35: =H35+AS$11 -> 32.8 | AT35: =I35+AT$11 -> 33.5 | AU35: =J35+AU$11 -> 45.9 | AV35: =K35+AV$11 -> 49.9 | AW35: =L35+AW$11 -> 46.6 | AX35: =M35+AX$11 -> 47.1 | AY35: =N35+AY$11 -> 47.4 | ... BO35: =AD35+BO$11 -> 61.5 | BP35: =[1]!dbsum(AR35:BO35) -> 66.3 | BR35: =$BR$10-BP35 -> 18.7
B36: 2020_Hep_WPF_21 | D36: 21 | F36: 5m from front DAF1 extension | G36: 63 | H36: 63 | I36: 57 | J36: 63 | K36: 61 | L36: 61 | M36: 59 | N36: 60 | O36: 57 | P36: 59 | Q36: 58 | R36: 60 | S36: 55 | T36: 54 | U36: 54 | V36: 52 | W36: 52 | X36: 50 | Y36: 46 | Z36: 44 | AA36: 44 | AB36: 38 | AC36: 35 | AD36: 63 | AE36: - | AG36: {=[1]!dbsum(G36:I36)} -> 66.5 | AH36: {=[1]!dbsum(J36:L36)} -> 66.5 | AI36: {=[1]!dbsum(M36:O36)} -> 63.6 | AJ36: {=[1]!dbsum(P36:R36)} -> 63.8 | AK36: {=[1]!dbsum(S36:U36)} -> 59.1 | AL36: {=[1]!dbsum(V36:X36)} -> 56.2 | AM36: {=[1]!dbsum(Y36:AA36)} -> 49.5 | AN36: {=[1]!dbsum(AB36:AD36)} -> 63 | AP36: =D36 -> 21 | AQ36: =F36 -> 5m from front DAF1 extension | AR36: =G36+AR$11 -> 32.8 | AS36: =H36+AS$11 -> 36.8 | AT36: =I36+AT$11 -> 34.5 | AU36: =J36+AU$11 -> 43.9 | AV36: =K36+AV$11 -> 44.9 | AW36: =L36+AW$11 -> 47.6 | AX36: =M36+AX$11 -> 48.1 | AY36: =N36+AY$11 -> 51.4 | ... BO36: =AD36+BO$11 -> 60.5 | BP36: =[1]!dbsum(AR36:BO36) -> 66.3 | BR36: =$BR$10-BP36 -> 18.7
B37: 2020_Hep_WPF_22 | D37: 22 | E37: 17 | F37: 1m from shorter of new ground level pumps | G37: 58 | H37: 62 | I37: 58 | J37: 60 | K37: 58 | L37: 59 | M37: 59 | N37: 59 | O37: 60 | P37: 61 | Q37: 61 | R37: 62 | S37: 59 | T37: 60 | U37: 58 | V37: 57 | W37: 57 | X37: 56 | Y37: 51 | Z37: 52 | AA37: 62 | AB37: 54 | AC37: 53 | AD37: 58 | AE37: - | AG37: {=[1]!dbsum(G37:I37)} -> 64.5 | AH37: {=[1]!dbsum(J37:L37)} -> 63.8 | AI37: {=[1]!dbsum(M37:O37)} -> 64.1 | AJ37: {=[1]!dbsum(P37:R37)} -> 66.1 | AK37: {=[1]!dbsum(S37:U37)} -> 63.8 | AL37: {=[1]!dbsum(V37:X37)} -> 61.5 | AM37: {=[1]!dbsum(Y37:AA37)} -> 62.7 | AN37: {=[1]!dbsum(AB37:AD37)} -> 60.3 | AP37: =D37 -> 22 | AQ37: =F37 -> 1m from shorter of new ground level pumps | AR37: =G37+AR$11 -> 27.8 | AS37: =H37+AS$11 -> 35.8 | AT37: =I37+AT$11 -> 35.5 | AU37: =J37+AU$11 -> 40.9 | AV37: =K37+AV$11 -> 41.9 | AW37: =L37+AW$11 -> 45.6 | AX37: =M37+AX$11 -> 48.1 | AY37: =N37+AY$11 -> 50.4 | ... BO37: =AD37+BO$11 -> 55.5 | BP37: =[1]!dbsum(AR37:BO37) -> 69.9 | BR37: =$BR$10-BP37 -> 15.1
B38: 2020_Hep_WPF_23 | D38: 23 | E38: 17 | F38: 1m from longer of new ground level pumps | G38: 60 | H38: 61 | I38: 59 | J38: 61 | K38: 60 | L38: 61 | M38: 62 | N38: 60 | O38: 60 | P38: 64 | Q38: 66 | R38: 60 | S38: 60 | T38: 60 | U38: 61 | V38: 56 | W38: 52 | X38: 51 | Y38: 48 | Z38: 49 | AA38: 49 | AB38: 42 | AC38: 41 | AD38: 60 | AE38: - | AG38: {=[1]!dbsum(G38:I38)} -> 64.8 | AH38: {=[1]!dbsum(J38:L38)} -> 65.5 | AI38: {=[1]!dbsum(M38:O38)} -> 65.5 | AJ38: {=[1]!dbsum(P38:R38)} -> 68.7 | AK38: {=[1]!dbsum(S38:U38)} -> 65.1 | AL38: {=[1]!dbsum(V38:X38)} -> 58.3 | AM38: {=[1]!dbsum(Y38:AA38)} -> 53.5 | AN38: {=[1]!dbsum(AB38:AD38)} -> 60.1 | AP38: =D38 -> 23 | AQ38: =F38 -> 1m from longer of new ground level pumps | AR38: =G38+AR$11 -> 29.8 | AS38: =H38+AS$11 -> 34.8 | AT38: =I38+AT$11 -> 36.5 | AU38: =J38+AU$11 -> 41.9 | AV38: =K38+AV$11 -> 43.9 | AW38: =L38+AW$11 -> 47.6 | AX38: =M38+AX$11 -> 51.1 | AY38: =N38+AY$11 -> 51.4 | ... BO38: =AD38+BO$11 -> 57.5 | BP38: =[1]!dbsum(AR38:BO38) -> 69.6 | BR38: =$BR$10-BP38 -> 15.4
B39: 2020_Hep_WPF_24 | D39: 24 | F39: On metal steps over plinth wall | G39: 61 | H39: 65 | I39: 62 | J39: 64 | K39: 66 | L39: 66 | M39: 64 | N39: 67 | O39: 66 | P39: 65 | Q39: 62 | R39: 64 | S39: 67 | T39: 64 | U39: 62 | V39: 60 | W39: 58 | X39: 56 | Y39: 55 | Z39: 52 | AA39: 50 | AB39: 47 | AC39: 47 | AD39: 61 | AE39: - | AG39: {=[1]!dbsum(G39:I39)} -> 67.8 | AH39: {=[1]!dbsum(J39:L39)} -> 70.2 | AI39: {=[1]!dbsum(M39:O39)} -> 70.6 | AJ39: {=[1]!dbsum(P39:R39)} -> 68.6 | AK39: {=[1]!dbsum(S39:U39)} -> 69.6 | AL39: {=[1]!dbsum(V39:X39)} -> 63.1 | AM39: {=[1]!dbsum(Y39:AA39)} -> 57.6 | AN39: {=[1]!dbsum(AB39:AD39)} -> 61.3 | AP39: =D39 -> 24 | AQ39: =F39 -> On metal steps over plinth wall | AR39: =G39+AR$11 -> 30.8 | AS39: =H39+AS$11 -> 38.8 | AT39: =I39+AT$11 -> 39.5 | AU39: =J39+AU$11 -> 44.9 | AV39: =K39+AV$11 -> 49.9 | AW39: =L39+AW$11 -> 52.6 | AX39: =M39+AX$11 -> 53.1 | AY39: =N39+AY$11 -> 58.4 | ... BO39: =AD39+BO$11 -> 58.5 | BP39: =[1]!dbsum(AR39:BO39) -> 72.6 | BR39: =$BR$10-BP39 -> 12.4
B40: 2020_Hep_WPF_25 | D40: 25 | F40: 1m pump to south of BT1 | G40: 63 | H40: 61 | I40: 61 | J40: 64 | K40: 65 | L40: 66 | M40: 66 | N40: 67 | O40: 68 | P40: 70 | Q40: 66 | R40: 70 | S40: 70 | T40: 68 | U40: 66 | V40: 64 | W40: 63 | X40: 62 | Y40: 60 | Z40: 56 | AA40: 53 | AB40: 51 | AC40: 48 | AD40: 63 | AE40: - | AG40: {=[1]!dbsum(G40:I40)} -> 66.5 | AH40: {=[1]!dbsum(J40:L40)} -> 69.8 | AI40: {=[1]!dbsum(M40:O40)} -> 71.8 | AJ40: {=[1]!dbsum(P40:R40)} -> 73.8 | AK40: {=[1]!dbsum(S40:U40)} -> 73.1 | AL40: {=[1]!dbsum(V40:X40)} -> 67.8 | AM40: {=[1]!dbsum(Y40:AA40)} -> 62 | AN40: {=[1]!dbsum(AB40:AD40)} -> 63.4 | AP40: =D40 -> 25 | AQ40: =F40 -> 1m pump to south of BT1 | AR40: =G40+AR$11 -> 32.8 | AS40: =H40+AS$11 -> 34.8 | AT40: =I40+AT$11 -> 38.5 | AU40: =J40+AU$11 -> 44.9 | AV40: =K40+AV$11 -> 48.9 | AW40: =L40+AW$11 -> 52.6 | AX40: =M40+AX$11 -> 55.1 | AY40: =N40+AY$11 -> 58.4 | ... BO40: =AD40+BO$11 -> 60.5 | BP40: =[1]!dbsum(AR40:BO40) -> 76.6 | BR40: =$BR$10-BP40 -> 8.4
B41: 2020_Hep_WPF_26 | D41: 26 | F41: 1m from pump to N side of Siltbuster | G41: 62 | H41: 59 | I41: 60 | J41: 60 | K41: 65 | L41: 68 | M41: 65 | N41: 77 | O41: 72 | P41: 70 | Q41: 67 | R41: 66 | S41: 76 | T41: 77 | U41: 73 | V41: 70 | W41: 63 | X41: 60 | Y41: 56 | Z41: 54 | AA41: 52 | AB41: 49 | AC41: 46 | AD41: 62 | AE41: - | AG41: {=[1]!dbsum(G41:I41)} -> 65.3 | AH41: {=[1]!dbsum(J41:L41)} -> 70.2 | AI41: {=[1]!dbsum(M41:O41)} -> 78.4 | AJ41: {=[1]!dbsum(P41:R41)} -> 72.8 | AK41: {=[1]!dbsum(S41:U41)} -> 80.4 | AL41: {=[1]!dbsum(V41:X41)} -> 71.1 | AM41: {=[1]!dbsum(Y41:AA41)} -> 59.1 | AN41: {=[1]!dbsum(AB41:AD41)} -> 62.3 | AP41: =D41 -> 26 | AQ41: =F41 -> 1m from pump to N side of Siltbuster | AR41: =G41+AR$11 -> 31.8 | AS41: =H41+AS$11 -> 32.8 | AT41: =I41+AT$11 -> 37.5 | AU41: =J41+AU$11 -> 40.9 | AV41: =K41+AV$11 -> 48.9 | AW41: =L41+AW$11 -> 54.6 | AX41: =M41+AX$11 -> 54.1 | AY41: =N41+AY$11 -> 68.4 | ... BO41: =AD41+BO$11 -> 59.5 | BP41: =[1]!dbsum(AR41:BO41) -> 81.6 | BR41: =$BR$10-BP41 -> 3.4
B42: 2020_Hep_WPF_27 | D42: 27 | F42: 2m to E (rear) side of Siltbuster | G42: 60 | H42: 59 | I42: 62 | J42: 59 | K42: 61 | L42: 64 | M42: 64 | N42: 65 | O42: 62 | P42: 64 | Q42: 64 | R42: 63 | S42: 65 | T42: 64 | U42: 64 | V42: 64 | W42: 63 | X42: 63 | Y42: 60 | Z42: 58 | AA42: 56 | AB42: 55 | AC42: 53 | AD42: 60 | AE42: - | AG42: {=[1]!dbsum(G42:I42)} -> 65.3 | AH42: {=[1]!dbsum(J42:L42)} -> 66.6 | AI42: {=[1]!dbsum(M42:O42)} -> 68.6 | AJ42: {=[1]!dbsum(P42:R42)} -> 68.5 | AK42: {=[1]!dbsum(S42:U42)} -> 69.1 | AL42: {=[1]!dbsum(V42:X42)} -> 68.1 | AM42: {=[1]!dbsum(Y42:AA42)} -> 63.1 | AN42: {=[1]!dbsum(AB42:AD42)} -> 61.8 | AP42: =D42 -> 27 | AQ42: =F42 -> 2m to E (rear) side of Siltbuster | AR42: =G42+AR$11 -> 29.8 | AS42: =H42+AS$11 -> 32.8 | AT42: =I42+AT$11 -> 39.5 | AU42: =J42+AU$11 -> 39.9 | AV42: =K42+AV$11 -> 44.9 | AW42: =L42+AW$11 -> 50.6 | AX42: =M42+AX$11 -> 53.1 | AY42: =N42+AY$11 -> 56.4 | ... BO42: =AD42+BO$11 -> 57.5 | BP42: =[1]!dbsum(AR42:BO42) -> 73.9 | BR42: =$BR$10-BP42 -> 11.1
B43: 2020_Hep_WPF_28 | D43: 28 | E43: 7 | F43: 5m from open door to DAF1 | G43: 62 | H43: 61 | I43: 58 | J43: 57 | K43: 59 | L43: 61 | M43: 61 | N43: 61 | O43: 59 | P43: 60 | Q43: 61 | R43: 59 | S43: 58 | T43: 57 | U43: 57 | V43: 55 | W43: 55 | X43: 53 | Y43: 52 | Z43: 52 | AA43: 50 | AB43: 46 | AC43: 41 | AD43: 62 | AE43: - | AG43: {=[1]!dbsum(G43:I43)} -> 65.4 | AH43: {=[1]!dbsum(J43:L43)} -> 64.1 | AI43: {=[1]!dbsum(M43:O43)} -> 65.2 | AJ43: {=[1]!dbsum(P43:R43)} -> 64.8 | AK43: {=[1]!dbsum(S43:U43)} -> 62.1 | AL43: {=[1]!dbsum(V43:X43)} -> 59.2 | AM43: {=[1]!dbsum(Y43:AA43)} -> 56.2 | AN43: {=[1]!dbsum(AB43:AD43)} -> 62.1 | AP43: =D43 -> 28 | AQ43: =F43 -> 5m from open door to DAF1 | AR43: =G43+AR$11 -> 31.8 | AS43: =H43+AS$11 -> 34.8 | AT43: =I43+AT$11 -> 35.5 | AU43: =J43+AU$11 -> 37.9 | AV43: =K43+AV$11 -> 42.9 | AW43: =L43+AW$11 -> 47.6 | AX43: =M43+AX$11 -> 50.1 | AY43: =N43+AY$11 -> 52.4 | ... BO43: =AD43+BO$11 -> 59.5 | BP43: =[1]!dbsum(AR43:BO43) -> 67.9 | BR43: =$BR$10-BP43 -> 17.1
B44: 2020_Hep_WPF_29 | D44: 29 | E44: 19 | F44: Rear of DAF1 | G44: 59 | H44: 65 | I44: 64 | J44: 76 | K44: 63 | L44: 62 | M44: 68 | N44: 68 | O44: 64 | P44: 65 | Q44: 62 | R44: 68 | S44: 63 | T44: 62 | U44: 60 | V44: 61 | W44: 60 | X44: 60 | Y44: 57 | Z44: 56 | AA44: 54 | AB44: 51 | AC44: 47 | AD44: 59 | AE44: - | AG44: {=[1]!dbsum(G44:I44)} -> 68.1 | AH44: {=[1]!dbsum(J44:L44)} -> 76.4 | AI44: {=[1]!dbsum(M44:O44)} -> 71.8 | AJ44: {=[1]!dbsum(P44:R44)} -> 70.4 | AK44: {=[1]!dbsum(S44:U44)} -> 66.6 | AL44: {=[1]!dbsum(V44:X44)} -> 65.1 | AM44: {=[1]!dbsum(Y44:AA44)} -> 60.6 | AN44: {=[1]!dbsum(AB44:AD44)} -> 59.9 | AP44: =D44 -> 29 | AQ44: =F44 -> Rear of DAF1 | AR44: =G44+AR$11 -> 28.8 | AS44: =H44+AS$11 -> 38.8 | AT44: =I44+AT$11 -> 41.5 | AU44: =J44+AU$11 -> 56.9 | AV44: =K44+AV$11 -> 46.9 | AW44: =L44+AW$11 -> 48.6 | AX44: =M44+AX$11 -> 57.1 | AY44: =N44+AY$11 -> 59.4 | ... BO44: =AD44+BO$11 -> 56.5 | BP44: =[1]!dbsum(AR44:BO44) -> 72.9 | BR44: =$BR$10-BP44 -> 12.1
B45: 2020_Hep_WPF_30 | D45: 30 | F45: 2m from unit, 1m from fan outlet | G45: 64 | H45: 64 | I45: 65 | J45: 63 | K45: 65 | L45: 66 | M45: 64 | N45: 64 | O45: 68 | P45: 63 | Q45: 61 | R45: 63 | S45: 60 | T45: 60 | U45: 59 | V45: 58 | W45: 58 | X45: 57 | Y45: 56 | Z45: 54 | AA45: 52 | AB45: 50 | AC45: 49 | AD45: 64 | AE45: - | AG45: {=[1]!dbsum(G45:I45)} -> 69.1 | AH45: {=[1]!dbsum(J45:L45)} -> 69.6 | AI45: {=[1]!dbsum(M45:O45)} -> 70.5 | AJ45: {=[1]!dbsum(P45:R45)} -> 67.2 | AK45: {=[1]!dbsum(S45:U45)} -> 64.5 | AL45: {=[1]!dbsum(V45:X45)} -> 62.5 | AM45: {=[1]!dbsum(Y45:AA45)} -> 59.1 | AN45: {=[1]!dbsum(AB45:AD45)} -> 64.3 | AP45: =D45 -> 30 | AQ45: =F45 -> 2m from unit, 1m from fan outlet | AR45: =G45+AR$11 -> 33.8 | AS45: =H45+AS$11 -> 37.8 | AT45: =I45+AT$11 -> 42.5 | AU45: =J45+AU$11 -> 43.9 | AV45: =K45+AV$11 -> 48.9 | AW45: =L45+AW$11 -> 52.6 | AX45: =M45+AX$11 -> 53.1 | AY45: =N45+AY$11 -> 55.4 | ... BO45: =AD45+BO$11 -> 61.5 | BP45: =[1]!dbsum(AR45:BO45) -> 71 | BR45: =$BR$10-BP45 -> 14
B46: 2020_Hep_WPF_31 | D46: 31 | E46: 12 | F46: On gantry - 1m from AT1a aerator (blower not operation) | G46: 72 | H46: 80 | I46: 79 | J46: 67 | K46: 69 | L46: 69 | M46: 68 | N46: 68 | O46: 67 | P46: 64 | Q46: 67 | R46: 64 | S46: 64 | T46: 61 | U46: 59 | V46: 58 | W46: 57 | X46: 56 | Y46: 55 | Z46: 53 | AA46: 50 | AB46: 49 | AC46: 48 | AD46: 72 | AE46: - | AG46: {=[1]!dbsum(G46:I46)} -> 82.9 | AH46: {=[1]!dbsum(J46:L46)} -> 73.2 | AI46: {=[1]!dbsum(M46:O46)} -> 72.5 | AJ46: {=[1]!dbsum(P46:R46)} -> 70 | AK46: {=[1]!dbsum(S46:U46)} -> 66.6 | AL46: {=[1]!dbsum(V46:X46)} -> 61.8 | AM46: {=[1]!dbsum(Y46:AA46)} -> 57.9 | AN46: {=[1]!dbsum(AB46:AD46)} -> 72 | AP46: =D46 -> 31 | AQ46: =F46 -> On gantry - 1m from AT1a aerator (blower not operation) | AR46: =G46+AR$11 -> 41.8 | AS46: =H46+AS$11 -> 53.8 | AT46: =I46+AT$11 -> 56.5 | AU46: =J46+AU$11 -> 47.9 | AV46: =K46+AV$11 -> 52.9 | AW46: =L46+AW$11 -> 55.6 | AX46: =M46+AX$11 -> 57.1 | AY46: =N46+AY$11 -> 59.4 | ... BO46: =AD46+BO$11 -> 69.5 | BP46: =[1]!dbsum(AR46:BO46) -> 74 | BR46: =$BR$10-BP46 -> 11
B47: 2020_Hep_WPF_32 | D47: 32 | E47: 13 | F47: On gantry - 1m from AT1a aerator/blower | G47: 62 | H47: 63 | I47: 66 | J47: 70 | K47: 70 | L47: 74 | M47: 77 | N47: 73 | O47: 64 | P47: 64 | Q47: 65 | R47: 67 | S47: 66 | T47: 64 | U47: 65 | V47: 62 | W47: 63 | X47: 61 | Y47: 61 | Z47: 61 | AA47: 55 | AB47: 53 | AC47: 50 | AD47: 62 | AE47: - | AG47: {=[1]!dbsum(G47:I47)} -> 68.8 | AH47: {=[1]!dbsum(J47:L47)} -> 76.5 | AI47: {=[1]!dbsum(M47:O47)} -> 78.6 | AJ47: {=[1]!dbsum(P47:R47)} -> 70.3 | AK47: {=[1]!dbsum(S47:U47)} -> 69.8 | AL47: {=[1]!dbsum(V47:X47)} -> 66.8 | AM47: {=[1]!dbsum(Y47:AA47)} -> 64.5 | AN47: {=[1]!dbsum(AB47:AD47)} -> 62.8 | AP47: =D47 -> 32 | AQ47: =F47 -> On gantry - 1m from AT1a aerator/blower | AR47: =G47+AR$11 -> 31.8 | AS47: =H47+AS$11 -> 36.8 | AT47: =I47+AT$11 -> 43.5 | AU47: =J47+AU$11 -> 50.9 | AV47: =K47+AV$11 -> 53.9 | AW47: =L47+AW$11 -> 60.6 | AX47: =M47+AX$11 -> 66.1 | AY47: =N47+AY$11 -> 64.4 | ... BO47: =AD47+BO$11 -> 59.5 | BP47: =[1]!dbsum(AR47:BO47) -> 75.5 | BR47: =$BR$10-BP47 -> 9.5
B48: 2020_Hep_WPF_33 | D48: 33 | F48: 2m from pumps | G48: 63 | H48: 62 | I48: 66 | J48: 62 | K48: 61 | L48: 60 | M48: 61 | N48: 62 | O48: 61 | P48: 62 | Q48: 59 | R48: 63 | S48: 63 | T48: 56 | U48: 55 | V48: 52 | W48: 51 | X48: 49 | Y48: 46 | Z48: 45 | AA48: 42 | AB48: 39 | AC48: 37 | AD48: 63 | AE48: - | AG48: {=[1]!dbsum(G48:I48)} -> 68.8 | AH48: {=[1]!dbsum(J48:L48)} -> 65.8 | AI48: {=[1]!dbsum(M48:O48)} -> 66.1 | AJ48: {=[1]!dbsum(P48:R48)} -> 66.4 | AK48: {=[1]!dbsum(S48:U48)} -> 64.3 | AL48: {=[1]!dbsum(V48:X48)} -> 55.6 | AM48: {=[1]!dbsum(Y48:AA48)} -> 49.4 | AN48: {=[1]!dbsum(AB48:AD48)} -> 63 | AP48: =D48 -> 33 | AQ48: =F48 -> 2m from pumps | AR48: =G48+AR$11 -> 32.8 | AS48: =H48+AS$11 -> 35.8 | AT48: =I48+AT$11 -> 43.5 | AU48: =J48+AU$11 -> 42.9 | AV48: =K48+AV$11 -> 44.9 | AW48: =L48+AW$11 -> 46.6 | AX48: =M48+AX$11 -> 50.1 | AY48: =N48+AY$11 -> 53.4 | ... BO48: =AD48+BO$11 -> 60.5 | BP48: =[1]!dbsum(AR48:BO48) -> 68.5 | BR48: =$BR$10-BP48 -> 16.5
B49: 2020_Hep_WPF_34 | D49: 34 | E49: 20 | F49: At site boundary 2m from pumps | G49: 60 | H49: 60 | I49: 62 | J49: 59 | K49: 57 | L49: 60 | M49: 63 | N49: 67 | O49: 70 | P49: 62 | Q49: 59 | R49: 62 | S49: 57 | T49: 60 | U49: 62 | V49: 58 | W49: 59 | X49: 61 | Y49: 60 | Z49: 57 | AA49: 60 | AB49: 62 | AC49: 57 | AD49: 60 | AE49: - | AG49: {=[1]!dbsum(G49:I49)} -> 65.5 | AH49: {=[1]!dbsum(J49:L49)} -> 63.6 | AI49: {=[1]!dbsum(M49:O49)} -> 72.3 | AJ49: {=[1]!dbsum(P49:R49)} -> 66 | AK49: {=[1]!dbsum(S49:U49)} -> 64.9 | AL49: {=[1]!dbsum(V49:X49)} -> 64.3 | AM49: {=[1]!dbsum(Y49:AA49)} -> 64 | AN49: {=[1]!dbsum(AB49:AD49)} -> 64.9 | AP49: =D49 -> 34 | AQ49: =F49 -> At site boundary 2m from pumps | AR49: =G49+AR$11 -> 29.8 | AS49: =H49+AS$11 -> 33.8 | AT49: =I49+AT$11 -> 39.5 | AU49: =J49+AU$11 -> 39.9 | AV49: =K49+AV$11 -> 40.9 | AW49: =L49+AW$11 -> 46.6 | AX49: =M49+AX$11 -> 52.1 | AY49: =N49+AY$11 -> 58.4 | ... BO49: =AD49+BO$11 -> 57.5 | BP49: =[1]!dbsum(AR49:BO49) -> 72.4 | BR49: =$BR$10-BP49 -> 12.6

Sheet Hepworth 4 Source Data - WPF
D2: Water Processing Facility
D4: Source:
D5: HEPWORTH REPORT 4: 2021 WPF Noise Assessment
D6: Report Reference: P21-155-R01v1
D7: Date: May 2021
D8: Author: Graham Bowland | AQ8: A-weighting
D9: Report Checker: Paul Bassett | AS9: Third octave Band Centre Frequency (Hz)
AS10: 50 | AT10: 63 | AU10: 80 | AV10: 100 | AW10: 125 | AX10: 160 | AY10: 200 | AZ10: 250 | BA10: 315 | BB10: 400 | BC10: 500 | BD10: 630 | BE10: 800 | BF10: 1000 | BG10: 1250 | BH10: 1600 | BI10: 2000 | BJ10: 2500 | BK10: 3150 | BL10: 4000 | BM10: 5000 | BN10: 6300 | BO10: 8000 | BP10: 10000
AR11: A-Weighting Curve | AS11: -30.2 | AT11: -26.2 | AU11: -22.5 | AV11: -19.1 | AW11: -16.1 | AX11: -13.4 | AY11: -10.9 | AZ11: -8.6 | BA11: -6.6 | BB11: -4.2 | BC11: -3.2 | BD11: -1.9 | BE11: -0.8 | BF11: 0 | BG11: 0.6 | BH11: 1 | BI11: 1.2 | BJ11: 1.3 | BK11: 1.2 | BL11: 1 | BM11: 0.5 | BN11: -0.1 | BO11: -1.1 | BP11: -2.5
D12: Third Octave L90 On-site Noise Measurements - Reported | AH12: Octave L90 On-site Noise Levels - Calculated
B13: Assessment Data Ref. | D13: 2021 Location No. (Fig 2 Below) | E13: 2020 Location No. (See Hepworth 3 Source Data - WPF Tab) | F13: 2018 Location No. (See Hepworth 1 Source Data - WPF Tab) | G13: Description | H13: Noise Level L90, dB - LINEAR | AF13: LA90 | AH13: Noise Level L90 dB - LINEAR | AQ13: Location No. (Fig 2) | AR13: Description | AS13: Noise Level L90, dB - A-WEIGHTED | BQ13: LA90
B14: WSP Data Ref. | H14: Third octave Band Centre Frequency (Hz) | AH14: Octave Band Centre Frequency (Hz) | AS14: Third octave Band Centre Frequency (Hz)
H15: 50 | I15: 63 | J15: 80 | K15: 100 | L15: 125 | M15: 160 | N15: 200 | O15: 250 | P15: 315 | Q15: 400 | R15: 500 | S15: 630 | T15: 800 | U15: 1000 | V15: 1250 | W15: 1600 | X15: 2000 | Y15: 2500 | Z15: 3150 | AA15: 4000 | AB15: 5000 | AC15: 6300 | AD15: 8000 | AE15: 10000 | AH15: =I15 -> 63 | AI15: =L15 -> 125 | AJ15: =O15 -> 250 | AK15: =R15 -> 500 | AL15: =U15 -> 1000 | AM15: =X15 -> 2000 | AN15: =AA15 -> 4000 | AO15: =AD15 -> 8000 | AS15: 50 | AT15: 63 | AU15: 80 | AV15: 100 | AW15: 125 | AX15: 160 | AY15: 200 | AZ15: 250 | BA15: 315 | BB15: 400 | BC15: 500 | BD15: 630 | BE15: 800 | BF15: 1000 | BG15: 1250 | BH15: 1600 | BI15: 2000 | BJ15: 2500 | BK15: 3150 | BL15: 4000 | BM15: 5000 | BN15: 6300 | BO15: 8000 | BP15: 10000
B16: 2021_Hep_WPF_1 | D16: 1 | E16: 1 | G16: 5m in front of centrifuge, facing SW unit | H16: 57 | I16: 59 | J16: 56 | K16: 58 | L16: 62 | M16: 54 | N16: 51 | O16: 50 | P16: 48 | Q16: 47 | R16: 46 | S16: 44 | T16: 43 | U16: 44 | V16: 43 | W16: 40 | X16: 40 | Y16: 44 | Z16: 44 | AA16: 43 | AB16: 37 | AC16: 33 | AD16: 31 | AE16: 28 | AF16: - | AH16: {=[1]!dbsum(H16:J16)} -> 62.3 | AI16: {=[1]!dbsum(K16:M16)} -> 63.9 | AJ16: {=[1]!dbsum(N16:P16)} -> 54.6 | AK16: {=[1]!dbsum(Q16:S16)} -> 50.6 | AL16: {=[1]!dbsum(T16:V16)} -> 48.1 | AM16: {=[1]!dbsum(W16:Y16)} -> 46.5 | AN16: {=[1]!dbsum(Z16:AB16)} -> 47 | AO16: {=[1]!dbsum(AC16:AE16)} -> 35.9 | AQ16: =D16 -> 1 | AR16: =G16 -> 5m in front of centrifuge, facing SW unit | AS16: =H16+AS$11 -> 26.8 | AT16: =I16+AT$11 -> 32.8 | AU16: =J16+AU$11 -> 33.5 | AV16: =K16+AV$11 -> 38.9 | AW16: =L16+AW$11 -> 45.9 | AX16: =M16+AX$11 -> 40.6 | AY16: =N16+AY$11 -> 40.1 | AZ16: =O16+AZ$11 -> 41.4 | ... BP16: =AE16+BP$11 -> 25.5 | BQ16: =[1]!dbsum(AS16:BP16) -> 55.4
B17: 2021_Hep_WPF_1a | D17: 1a | G17: 5m to side of centrifuge, facing SW unit | H17: 59 | I17: 58 | J17: 60 | K17: 60 | L17: 62 | M17: 60 | N17: 59 | O17: 58 | P17: 53 | Q17: 55 | R17: 52 | S17: 50 | T17: 52 | U17: 51 | V17: 52 | W17: 50 | X17: 49 | Y17: 51 | Z17: 51 | AA17: 50 | AB17: 44 | AC17: 42 | AD17: 41 | AE17: 36 | AF17: - | AH17: {=[1]!dbsum(H17:J17)} -> 63.8 | AI17: {=[1]!dbsum(K17:M17)} -> 65.5 | AJ17: {=[1]!dbsum(N17:P17)} -> 62.1 | AK17: {=[1]!dbsum(Q17:S17)} -> 57.6 | AL17: {=[1]!dbsum(T17:V17)} -> 56.5 | AM17: {=[1]!dbsum(W17:Y17)} -> 54.8 | AN17: {=[1]!dbsum(Z17:AB17)} -> 54 | AO17: {=[1]!dbsum(AC17:AE17)} -> 45.1 | AQ17: =D17 -> 1a | AR17: =G17 -> 5m to side of centrifuge, facing SW unit | AS17: =H17+AS$11 -> 28.8 | AT17: =I17+AT$11 -> 31.8 | AU17: =J17+AU$11 -> 37.5 | AV17: =K17+AV$11 -> 40.9 | AW17: =L17+AW$11 -> 45.9 | AX17: =M17+AX$11 -> 46.6 | AY17: =N17+AY$11 -> 48.1 | AZ17: =O17+AZ$11 -> 49.4 | ... BP17: =AE17+BP$11 -> 33.5 | BQ17: =[1]!dbsum(AS17:BP17) -> 62.4
B18: 2021_Hep_WPF_1b | D18: 1b | G18: 1m from open door at gantry level | H18: 61 | I18: 63 | J18: 67 | K18: 69 | L18: 78 | M18: 72 | N18: 64 | O18: 64 | P18: 65 | Q18: 64 | R18: 62 | S18: 60 | T18: 60 | U18: 63 | V18: 64 | W18: 61 | X18: 61 | Y18: 64 | Z18: 64 | AA18: 63 | AB18: 56 | AC18: 55 | AD18: 51 | AE18: 47 | AF18: - | AH18: {=[1]!dbsum(H18:J18)} -> 69.2 | AI18: {=[1]!dbsum(K18:M18)} -> 79.4 | AJ18: {=[1]!dbsum(N18:P18)} -> 69.1 | AK18: {=[1]!dbsum(Q18:S18)} -> 67.1 | AL18: {=[1]!dbsum(T18:V18)} -> 67.4 | AM18: {=[1]!dbsum(W18:Y18)} -> 67 | AN18: {=[1]!dbsum(Z18:AB18)} -> 66.9 | AO18: {=[1]!dbsum(AC18:AE18)} -> 56.9 | AQ18: =D18 -> 1b | AR18: =G18 -> 1m from open door at gantry level | AS18: =H18+AS$11 -> 30.8 | AT18: =I18+AT$11 -> 36.8 | AU18: =J18+AU$11 -> 44.5 | AV18: =K18+AV$11 -> 49.9 | AW18: =L18+AW$11 -> 61.9 | AX18: =M18+AX$11 -> 58.6 | AY18: =N18+AY$11 -> 53.1 | AZ18: =O18+AZ$11 -> 55.4 | ... BP18: =AE18+BP$11 -> 44.5 | BQ18: =[1]!dbsum(AS18:BP18) -> 74
B19: 2021_Hep_WPF_1c | D19: 1c | G19: Inside first floor area of centrifuge | H19: 67 | I19: 68 | J19: 72 | K19: 71 | L19: 80 | M19: 76 | N19: 72 | O19: 73 | P19: 73 | Q19: 72 | R19: 71 | S19: 69 | T19: 70 | U19: 72 | V19: 73 | W19: 70 | X19: 70 | Y19: 74 | Z19: 74 | AA19: 73 | AB19: 66 | AC19: 66 | AD19: 63 | AE19: 60 | AF19: - | AH19: {=[1]!dbsum(H19:J19)} -> 74.3 | AI19: {=[1]!dbsum(K19:M19)} -> 81.8 | AJ19: {=[1]!dbsum(N19:P19)} -> 77.5 | AK19: {=[1]!dbsum(Q19:S19)} -> 75.6 | AL19: {=[1]!dbsum(T19:V19)} -> 76.6 | AM19: {=[1]!dbsum(W19:Y19)} -> 76.5 | AN19: {=[1]!dbsum(Z19:AB19)} -> 76.9 | AO19: {=[1]!dbsum(AC19:AE19)} -> 68.4 | AQ19: =D19 -> 1c | AR19: =G19 -> Inside first floor area of centrifuge | AS19: =H19+AS$11 -> 36.8 | AT19: =I19+AT$11 -> 41.8 | AU19: =J19+AU$11 -> 49.5 | AV19: =K19+AV$11 -> 51.9 | AW19: =L19+AW$11 -> 63.9 | AX19: =M19+AX$11 -> 62.6 | AY19: =N19+AY$11 -> 61.1 | AZ19: =O19+AZ$11 -> 64.4 | ... BP19: =AE19+BP$11 -> 57.5 | BQ19: =[1]!dbsum(AS19:BP19) -> 83.1
B20: 2021_Hep_WPF_2 | D20: 2 | E20: 2 | F20: 6 | G20: 5m in front of centrifuge, between units | H20: 59 | I20: 55 | J20: 56 | K20: 57 | L20: 60 | M20: 55 | N20: 52 | O20: 52 | P20: 47 | Q20: 46 | R20: 46 | S20: 44 | T20: 43 | U20: 42 | V20: 42 | W20: 41 | X20: 40 | Y20: 42 | Z20: 42 | AA20: 41 | AB20: 39 | AC20: 32 | AD20: 31 | AE20: 27 | AF20: - | AH20: {=[1]!dbsum(H20:J20)} -> 61.8 | AI20: {=[1]!dbsum(K20:M20)} -> 62.6 | AJ20: {=[1]!dbsum(N20:P20)} -> 55.6 | AK20: {=[1]!dbsum(Q20:S20)} -> 50.2 | AL20: {=[1]!dbsum(T20:V20)} -> 47.1 | AM20: {=[1]!dbsum(W20:Y20)} -> 45.8 | AN20: {=[1]!dbsum(Z20:AB20)} -> 45.6 | AO20: {=[1]!dbsum(AC20:AE20)} -> 35.2 | AQ20: =D20 -> 2 | AR20: =G20 -> 5m in front of centrifuge, between units | AS20: =H20+AS$11 -> 28.8 | AT20: =I20+AT$11 -> 28.8 | AU20: =J20+AU$11 -> 33.5 | AV20: =K20+AV$11 -> 37.9 | AW20: =L20+AW$11 -> 43.9 | AX20: =M20+AX$11 -> 41.6 | AY20: =N20+AY$11 -> 41.1 | AZ20: =O20+AZ$11 -> 43.4 | ... BP20: =AE20+BP$11 -> 24.5 | BQ20: =[1]!dbsum(AS20:BP20) -> 54.7
B21: 2021_Hep_WPF_3 | D21: 3 | E21: 3 | G21: 5m in front of centrifuge, facing NE unit | H21: 58 | I21: 57 | J21: 57 | K21: 58 | L21: 58 | M21: 54 | N21: 51 | O21: 50 | P21: 48 | Q21: 45 | R21: 43 | S21: 43 | T21: 44 | U21: 44 | V21: 43 | W21: 41 | X21: 40 | Y21: 42 | Z21: 41 | AA21: 38 | AB21: 32 | AC21: 30 | AD21: 28 | AE21: 23 | AF21: - | AH21: {=[1]!dbsum(H21:J21)} -> 62.1 | AI21: {=[1]!dbsum(K21:M21)} -> 61.8 | AJ21: {=[1]!dbsum(N21:P21)} -> 54.6 | AK21: {=[1]!dbsum(Q21:S21)} -> 48.5 | AL21: {=[1]!dbsum(T21:V21)} -> 48.5 | AM21: {=[1]!dbsum(W21:Y21)} -> 45.8 | AN21: {=[1]!dbsum(Z21:AB21)} -> 43.1 | AO21: {=[1]!dbsum(AC21:AE21)} -> 32.6 | AQ21: =D21 -> 3 | AR21: =G21 -> 5m in front of centrifuge, facing NE unit | AS21: =H21+AS$11 -> 27.8 | AT21: =I21+AT$11 -> 30.8 | AU21: =J21+AU$11 -> 34.5 | AV21: =K21+AV$11 -> 38.9 | AW21: =L21+AW$11 -> 41.9 | AX21: =M21+AX$11 -> 40.6 | AY21: =N21+AY$11 -> 40.1 | AZ21: =O21+AZ$11 -> 41.4 | ... BP21: =AE21+BP$11 -> 20.5 | BQ21: =[1]!dbsum(AS21:BP21) -> 54.1
B22: 2021_Hep_WPF_4 | D22: 4 | E22: 4 | G22: On path NW of tank, facing loose pipe hanging | H22: 61 | I22: 57 | J22: 55 | K22: 56 | L22: 54 | M22: 51 | N22: 52 | O22: 48 | P22: 46 | Q22: 47 | R22: 48 | S22: 45 | T22: 46 | U22: 45 | V22: 45 | W22: 43 | X22: 41 | Y22: 39 | Z22: 38 | AA22: 36 | AB22: 33 | AC22: 31 | AD22: 29 | AE22: 23 | AF22: - | AH22: {=[1]!dbsum(H22:J22)} -> 63.2 | AI22: {=[1]!dbsum(K22:M22)} -> 58.9 | AJ22: {=[1]!dbsum(N22:P22)} -> 54.2 | AK22: {=[1]!dbsum(Q22:S22)} -> 51.6 | AL22: {=[1]!dbsum(T22:V22)} -> 50.1 | AM22: {=[1]!dbsum(W22:Y22)} -> 46.1 | AN22: {=[1]!dbsum(Z22:AB22)} -> 40.9 | AO22: {=[1]!dbsum(AC22:AE22)} -> 33.5 | AQ22: =D22 -> 4 | AR22: =G22 -> On path NW of tank, facing loose pipe hanging | AS22: =H22+AS$11 -> 30.8 | AT22: =I22+AT$11 -> 30.8 | AU22: =J22+AU$11 -> 32.5 | AV22: =K22+AV$11 -> 36.9 | AW22: =L22+AW$11 -> 37.9 | AX22: =M22+AX$11 -> 37.6 | AY22: =N22+AY$11 -> 41.1 | AZ22: =O22+AZ$11 -> 39.4 | ... BP22: =AE22+BP$11 -> 20.5 | BQ22: =[1]!dbsum(AS22:BP22) -> 54.7
B23: 2021_Hep_WPF_5 | D23: 5 | E23: 5 | F23: 1 | G23: On gantry between BT1 and Divert | H23: 64 | I23: 65 | J23: 60 | K23: 61 | L23: 60 | M23: 61 | N23: 61 | O23: 59 | P23: 61 | Q23: 63 | R23: 62 | S23: 59 | T23: 61 | U23: 62 | V23: 60 | W23: 59 | X23: 57 | Y23: 54 | Z23: 53 | AA23: 53 | AB23: 51 | AC23: 47 | AD23: 48 | AE23: 42 | AF23: - | AH23: {=[1]!dbsum(H23:J23)} -> 68.2 | AI23: {=[1]!dbsum(K23:M23)} -> 65.5 | AJ23: {=[1]!dbsum(N23:P23)} -> 65.2 | AK23: {=[1]!dbsum(Q23:S23)} -> 66.4 | AL23: {=[1]!dbsum(T23:V23)} -> 65.8 | AM23: {=[1]!dbsum(W23:Y23)} -> 61.9 | AN23: {=[1]!dbsum(Z23:AB23)} -> 57.2 | AO23: {=[1]!dbsum(AC23:AE23)} -> 51.1 | AQ23: =D23 -> 5 | AR23: =G23 -> On gantry between BT1 and Divert | AS23: =H23+AS$11 -> 33.8 | AT23: =I23+AT$11 -> 38.8 | AU23: =J23+AU$11 -> 37.5 | AV23: =K23+AV$11 -> 41.9 | AW23: =L23+AW$11 -> 43.9 | AX23: =M23+AX$11 -> 47.6 | AY23: =N23+AY$11 -> 50.1 | AZ23: =O23+AZ$11 -> 50.4 | ... BP23: =AE23+BP$11 -> 39.5 | BQ23: =[1]!dbsum(AS23:BP23) -> 69.6
B24: 2021_Hep_WPF_5a | D24: 5a | G24: 1m above covering of BT1 | H24: 63 | I24: 60 | J24: 62 | K24: 61 | L24: 61 | M24: 62 | N24: 62 | O24: 61 | P24: 62 | Q24: 62 | R24: 60 | S24: 57 | T24: 55 | U24: 54 | V24: 53 | W24: 54 | X24: 54 | Y24: 48 | Z24: 47 | AA24: 44 | AB24: 42 | AC24: 39 | AD24: 36 | AE24: 31 | AF24: - | AH24: {=[1]!dbsum(H24:J24)} -> 66.6 | AI24: {=[1]!dbsum(K24:M24)} -> 66.1 | AJ24: {=[1]!dbsum(N24:P24)} -> 66.5 | AK24: {=[1]!dbsum(Q24:S24)} -> 64.9 | AL24: {=[1]!dbsum(T24:V24)} -> 58.8 | AM24: {=[1]!dbsum(W24:Y24)} -> 57.5 | AN24: {=[1]!dbsum(Z24:AB24)} -> 49.6 | AO24: {=[1]!dbsum(AC24:AE24)} -> 41.2 | AQ24: =D24 -> 5a | AR24: =G24 -> 1m above covering of BT1 | AS24: =H24+AS$11 -> 32.8 | AT24: =I24+AT$11 -> 33.8 | AU24: =J24+AU$11 -> 39.5 | AV24: =K24+AV$11 -> 41.9 | AW24: =L24+AW$11 -> 44.9 | AX24: =M24+AX$11 -> 48.6 | AY24: =N24+AY$11 -> 51.1 | AZ24: =O24+AZ$11 -> 52.4 | ... BP24: =AE24+BP$11 -> 28.5 | BQ24: =[1]!dbsum(AS24:BP24) -> 65.8
B25: 2021_Hep_WPF_5b | D25: 5b | G25: 1m above covering of Divert | H25: 63 | I25: 56 | J25: 58 | K25: 59 | L25: 57 | M25: 56 | N25: 57 | O25: 56 | P25: 57 | Q25: 56 | R25: 55 | S25: 52 | T25: 52 | U25: 51 | V25: 52 | W25: 52 | X25: 47 | Y25: 45 | Z25: 44 | AA25: 42 | AB25: 38 | AC25: 35 | AD25: 32 | AE25: 26 | AF25: - | AH25: {=[1]!dbsum(H25:J25)} -> 64.8 | AI25: {=[1]!dbsum(K25:M25)} -> 62.3 | AJ25: {=[1]!dbsum(N25:P25)} -> 61.5 | AK25: {=[1]!dbsum(Q25:S25)} -> 59.4 | AL25: {=[1]!dbsum(T25:V25)} -> 56.5 | AM25: {=[1]!dbsum(W25:Y25)} -> 53.8 | AN25: {=[1]!dbsum(Z25:AB25)} -> 46.7 | AO25: {=[1]!dbsum(AC25:AE25)} -> 37.1 | AQ25: =D25 -> 5b | AR25: =G25 -> 1m above covering of Divert | AS25: =H25+AS$11 -> 32.8 | AT25: =I25+AT$11 -> 29.8 | AU25: =J25+AU$11 -> 35.5 | AV25: =K25+AV$11 -> 39.9 | AW25: =L25+AW$11 -> 40.9 | AX25: =M25+AX$11 -> 42.6 | AY25: =N25+AY$11 -> 46.1 | AZ25: =O25+AZ$11 -> 47.4 | ... BP25: =AE25+BP$11 -> 23.5 | BQ25: =[1]!dbsum(AS25:BP25) -> 61.7
B26: 2021_Hep_WPF_6 | D26: 6 | E26: 6 | F26: 2 | G26: Ground level between BT1 and Diver | H26: 65 | I26: 65 | J26: 62 | K26: 62 | L26: 61 | M26: 60 | N26: 62 | O26: 60 | P26: 61 | Q26: 63 | R26: 63 | S26: 59 | T26: 62 | U26: 67 | V26: 63 | W26: 62 | X26: 60 | Y26: 58 | Z26: 57 | AA26: 59 | AB26: 56 | AC26: 53 | AD26: 54 | AE26: 47 | AF26: - | AH26: {=[1]!dbsum(H26:J26)} -> 69 | AI26: {=[1]!dbsum(K26:M26)} -> 65.8 | AJ26: {=[1]!dbsum(N26:P26)} -> 65.8 | AK26: {=[1]!dbsum(Q26:S26)} -> 66.8 | AL26: {=[1]!dbsum(T26:V26)} -> 69.3 | AM26: {=[1]!dbsum(W26:Y26)} -> 65.1 | AN26: {=[1]!dbsum(Z26:AB26)} -> 62.3 | AO26: {=[1]!dbsum(AC26:AE26)} -> 57 | AQ26: =D26 -> 6 | AR26: =G26 -> Ground level between BT1 and Diver | AS26: =H26+AS$11 -> 34.8 | AT26: =I26+AT$11 -> 38.8 | AU26: =J26+AU$11 -> 39.5 | AV26: =K26+AV$11 -> 42.9 | AW26: =L26+AW$11 -> 44.9 | AX26: =M26+AX$11 -> 46.6 | AY26: =N26+AY$11 -> 51.1 | AZ26: =O26+AZ$11 -> 51.4 | ... BP26: =AE26+BP$11 -> 44.5 | BQ26: =[1]!dbsum(AS26:BP26) -> 72.6
B27: 2021_Hep_WPF_6a | D27: 6a | G27: 1m from 2 pumps on ground to south of BT1 | H27: 67 | I27: 61 | J27: 62 | K27: 60 | L27: 69 | M27: 65 | N27: 65 | O27: 63 | P27: 64 | Q27: 71 | R27: 68 | S27: 61 | T27: 62 | U27: 69 | V27: 64 | W27: 61 | X27: 61 | Y27: 60 | Z27: 59 | AA27: 60 | AB27: 61 | AC27: 57 | AD27: 60 | AE27: 54 | AF27: - | AH27: {=[1]!dbsum(H27:J27)} -> 69 | AI27: {=[1]!dbsum(K27:M27)} -> 70.8 | AJ27: {=[1]!dbsum(N27:P27)} -> 68.8 | AK27: {=[1]!dbsum(Q27:S27)} -> 73 | AL27: {=[1]!dbsum(T27:V27)} -> 70.8 | AM27: {=[1]!dbsum(W27:Y27)} -> 65.5 | AN27: {=[1]!dbsum(Z27:AB27)} -> 64.8 | AO27: {=[1]!dbsum(AC27:AE27)} -> 62.4 | AQ27: =D27 -> 6a | AR27: =G27 -> 1m from 2 pumps on ground to south of BT1 | AS27: =H27+AS$11 -> 36.8 | AT27: =I27+AT$11 -> 34.8 | AU27: =J27+AU$11 -> 39.5 | AV27: =K27+AV$11 -> 40.9 | AW27: =L27+AW$11 -> 52.9 | AX27: =M27+AX$11 -> 51.6 | AY27: =N27+AY$11 -> 54.1 | AZ27: =O27+AZ$11 -> 54.4 | ... BP27: =AE27+BP$11 -> 51.5 | BQ27: =[1]!dbsum(AS27:BP27) -> 75
B28: 2021_Hep_WPF_7 | D28: 7 | E28: 7 | F28: 3 | G28: Midway between outside edges of BT1 and Divert | H28: 61 | I28: 54 | J28: 57 | K28: 54 | L28: 57 | M28: 57 | N28: 58 | O28: 56 | P28: 58 | Q28: 59 | R28: 59 | S28: 54 | T28: 59 | U28: 58 | V28: 59 | W28: 57 | X28: 55 | Y28: 54 | Z28: 52 | AA28: 51 | AB28: 46 | AC28: 44 | AD28: 44 | AE28: 38 | AF28: - | AH28: {=[1]!dbsum(H28:J28)} -> 63 | AI28: {=[1]!dbsum(K28:M28)} -> 61 | AJ28: {=[1]!dbsum(N28:P28)} -> 62.2 | AK28: {=[1]!dbsum(Q28:S28)} -> 62.6 | AL28: {=[1]!dbsum(T28:V28)} -> 63.5 | AM28: {=[1]!dbsum(W28:Y28)} -> 60.3 | AN28: {=[1]!dbsum(Z28:AB28)} -> 55.1 | AO28: {=[1]!dbsum(AC28:AE28)} -> 47.5 | AQ28: =D28 -> 7 | AR28: =G28 -> Midway between outside edges of BT1 and Divert | AS28: =H28+AS$11 -> 30.8 | AT28: =I28+AT$11 -> 27.8 | AU28: =J28+AU$11 -> 34.5 | AV28: =K28+AV$11 -> 34.9 | AW28: =L28+AW$11 -> 40.9 | AX28: =M28+AX$11 -> 43.6 | AY28: =N28+AY$11 -> 47.1 | AZ28: =O28+AZ$11 -> 47.4 | ... BP28: =AE28+BP$11 -> 35.5 | BQ28: =[1]!dbsum(AS28:BP28) -> 67.1
B29: 2021_Hep_WPF_8 | D29: 8 | E29: 8 | F29: 4 | G29: Above manhole set back from BT1 and Divert | H29: 50 | I29: 48 | J29: 50 | K29: 47 | L29: 47 | M29: 44 | N29: 43 | O29: 42 | P29: 44 | Q29: 48 | R29: 46 | S29: 41 | T29: 41 | U29: 42 | V29: 43 | W29: 43 | X29: 38 | Y29: 35 | Z29: 32 | AA29: 31 | AB29: 27 | AC29: 23 | AD29: 21 | AE29: 16 | AF29: - | AH29: {=[1]!dbsum(H29:J29)} -> 54.2 | AI29: {=[1]!dbsum(K29:M29)} -> 51 | AJ29: {=[1]!dbsum(N29:P29)} -> 47.8 | AK29: {=[1]!dbsum(Q29:S29)} -> 50.6 | AL29: {=[1]!dbsum(T29:V29)} -> 46.8 | AM29: {=[1]!dbsum(W29:Y29)} -> 44.7 | AN29: {=[1]!dbsum(Z29:AB29)} -> 35.2 | AO29: {=[1]!dbsum(AC29:AE29)} -> 25.6 | AQ29: =D29 -> 8 | AR29: =G29 -> Above manhole set back from BT1 and Divert | AS29: =H29+AS$11 -> 19.8 | AT29: =I29+AT$11 -> 21.8 | AU29: =J29+AU$11 -> 27.5 | AV29: =K29+AV$11 -> 27.9 | AW29: =L29+AW$11 -> 30.9 | AX29: =M29+AX$11 -> 30.6 | AY29: =N29+AY$11 -> 32.1 | AZ29: =O29+AZ$11 -> 33.4 | ... BP29: =AE29+BP$11 -> 13.5 | BQ29: =[1]!dbsum(AS29:BP29) -> 51.9
B30: 2021_Hep_WPF_9 | D30: 9 | E30: 9 | F30: 5 | G30: At site boundary set back from BT1 and Divert | H30: 54 | I30: 49 | J30: 49 | K30: 49 | L30: 46 | M30: 46 | N30: 47 | O30: 45 | P30: 43 | Q30: 42 | R30: 42 | S30: 42 | T30: 41 | U30: 40 | V30: 40 | W30: 39 | X30: 35 | Y30: 32 | Z30: 29 | AA30: 27 | AB30: 22 | AC30: 18 | AD30: 15 | AE30: 10 | AF30: - | AH30: {=[1]!dbsum(H30:J30)} -> 56.1 | AI30: {=[1]!dbsum(K30:M30)} -> 52 | AJ30: {=[1]!dbsum(N30:P30)} -> 50.1 | AK30: {=[1]!dbsum(Q30:S30)} -> 46.8 | AL30: {=[1]!dbsum(T30:V30)} -> 45.1 | AM30: {=[1]!dbsum(W30:Y30)} -> 41 | AN30: {=[1]!dbsum(Z30:AB30)} -> 31.6 | AO30: {=[1]!dbsum(AC30:AE30)} -> 20.2 | AQ30: =D30 -> 9 | AR30: =G30 -> At site boundary set back from BT1 and Divert | AS30: =H30+AS$11 -> 23.8 | AT30: =I30+AT$11 -> 22.8 | AU30: =J30+AU$11 -> 26.5 | AV30: =K30+AV$11 -> 29.9 | AW30: =L30+AW$11 -> 29.9 | AX30: =M30+AX$11 -> 32.6 | AY30: =N30+AY$11 -> 36.1 | AZ30: =O30+AZ$11 -> 36.4 | ... BP30: =AE30+BP$11 -> 7.5 | BQ30: =[1]!dbsum(AS30:BP30) -> 49.6
B31: 2021_Hep_WPF_10 | D31: 10 | E31: 10 | G31: 1m from ground level pump towards W of BT1 | H31: 61 | I31: 59 | J31: 60 | K31: 59 | L31: 60 | M31: 62 | N31: 62 | O31: 61 | P31: 60 | Q31: 63 | R31: 63 | S31: 63 | T31: 68 | U31: 68 | V31: 68 | W31: 67 | X31: 65 | Y31: 64 | Z31: 63 | AA31: 60 | AB31: 56 | AC31: 54 | AD31: 53 | AE31: 49 | AF31: - | AH31: {=[1]!dbsum(H31:J31)} -> 64.8 | AI31: {=[1]!dbsum(K31:M31)} -> 65.3 | AJ31: {=[1]!dbsum(N31:P31)} -> 65.8 | AK31: {=[1]!dbsum(Q31:S31)} -> 67.8 | AL31: {=[1]!dbsum(T31:V31)} -> 72.8 | AM31: {=[1]!dbsum(W31:Y31)} -> 70.3 | AN31: {=[1]!dbsum(Z31:AB31)} -> 65.3 | AO31: {=[1]!dbsum(AC31:AE31)} -> 57.2 | AQ31: =D31 -> 10 | AR31: =G31 -> 1m from ground level pump towards W of BT1 | AS31: =H31+AS$11 -> 30.8 | AT31: =I31+AT$11 -> 32.8 | AU31: =J31+AU$11 -> 37.5 | AV31: =K31+AV$11 -> 39.9 | AW31: =L31+AW$11 -> 43.9 | AX31: =M31+AX$11 -> 48.6 | AY31: =N31+AY$11 -> 51.1 | AZ31: =O31+AZ$11 -> 52.4 | ... BP31: =AE31+BP$11 -> 46.5 | BQ31: =[1]!dbsum(AS31:BP31) -> 76.1
B32: 2021_Hep_WPF_11 | D32: 11 | E32: 11 | G32: 1m from ground level pump towards N of BT1 | H32: 62 | I32: 59 | J32: 61 | K32: 57 | L32: 61 | M32: 59 | N32: 59 | O32: 60 | P32: 58 | Q32: 60 | R32: 63 | S32: 60 | T32: 65 | U32: 66 | V32: 69 | W32: 71 | X32: 62 | Y32: 59 | Z32: 65 | AA32: 64 | AB32: 51 | AC32: 48 | AD32: 46 | AE32: 41 | AF32: - | AH32: {=[1]!dbsum(H32:J32)} -> 65.6 | AI32: {=[1]!dbsum(K32:M32)} -> 64.1 | AJ32: {=[1]!dbsum(N32:P32)} -> 63.8 | AK32: {=[1]!dbsum(Q32:S32)} -> 66 | AL32: {=[1]!dbsum(T32:V32)} -> 71.8 | AM32: {=[1]!dbsum(W32:Y32)} -> 71.8 | AN32: {=[1]!dbsum(Z32:AB32)} -> 67.6 | AO32: {=[1]!dbsum(AC32:AE32)} -> 50.6 | AQ32: =D32 -> 11 | AR32: =G32 -> 1m from ground level pump towards N of BT1 | AS32: =H32+AS$11 -> 31.8 | AT32: =I32+AT$11 -> 32.8 | AU32: =J32+AU$11 -> 38.5 | AV32: =K32+AV$11 -> 37.9 | AW32: =L32+AW$11 -> 44.9 | AX32: =M32+AX$11 -> 45.6 | AY32: =N32+AY$11 -> 48.1 | AZ32: =O32+AZ$11 -> 51.4 | ... BP32: =AE32+BP$11 -> 38.5 | BQ32: =[1]!dbsum(AS32:BP32) -> 76.5
B33: 2021_Hep_WPF_12 | D33: 12 | E33: 12 | F33: 9 | G33: To rear of DAF 2 | H33: - | I33: - | J33: - | K33: - | L33: - | M33: - | N33: - | O33: - | P33: - | Q33: - | R33: - | S33: - | T33: - | U33: - | V33: - | W33: - | X33: - | Y33: - | Z33: - | AA33: - | AB33: - | AC33: - | AD33: - | AE33: - | AF33: - | AH33: - | AI33: - | AJ33: - | AK33: - | AL33: - | AM33: - | AN33: - | AO33: - | AQ33: =D33 -> 12 | AR33: =G33 -> To rear of DAF 2 | AS33: - | AT33: - | AU33: - | AV33: - | AW33: - | AX33: - | AY33: - | AZ33: - | BA33: - | BB33: - | BC33: - | BD33: - | BE33: - | BF33: - | BG33: - | BH33: - | BI33: - | BJ33: - | BK33: - | BL33: - | BM33: - | BN33: - | BO33: - | BP33: - | BQ33: -
B34: 2021_Hep_WPF_13 | D34: 13 | E34: 13 | F34: 10 | G34: At boundary to rear of DAF 2 | H34: - | I34: - | J34: - | K34: - | L34: - | M34: - | N34: - | O34: - | P34: - | Q34: - | R34: - | S34: - | T34: - | U34: - | V34: - | W34: - | X34: - | Y34: - | Z34: - | AA34: - | AB34: - | AC34: - | AD34: - | AE34: - | AF34: - | AH34: - | AI34: - | AJ34: - | AK34: - | AL34: - | AM34: - | AN34: - | AO34: - | AQ34: =D34 -> 13 | AR34: =G34 -> At boundary to rear of DAF 2 | AS34: - | AT34: - | AU34: - | AV34: - | AW34: - | AX34: - | AY34: - | AZ34: - | BA34: - | BB34: - | BC34: - | BD34: - | BE34: - | BF34: - | BG34: - | BH34: - | BI34: - | BJ34: - | BK34: - | BL34: - | BM34: - | BN34: - | BO34: - | BP34: - | BQ34: -
B35: 2021_Hep_WPF_14 | D35: 14 | E35: 14 | F35: 14 | G35: 1m to foot of gantry at N of AT2 | H35: 56 | I35: 64 | J35: 54 | K35: 54 | L35: 61 | M35: 63 | N35: 58 | O35: 62 | P35: 58 | Q35: 51 | R35: 53 | S35: 54 | T35: 57 | U35: 55 | V35: 53 | W35: 57 | X35: 51 | Y35: 56 | Z35: 52 | AA35: 50 | AB35: 48 | AC35: 47 | AD35: 48 | AE35: 36 | AF35: - | AH35: {=[1]!dbsum(H35:J35)} -> 65 | AI35: {=[1]!dbsum(K35:M35)} -> 65.4 | AJ35: {=[1]!dbsum(N35:P35)} -> 64.5 | AK35: {=[1]!dbsum(Q35:S35)} -> 57.6 | AL35: {=[1]!dbsum(T35:V35)} -> 60.1 | AM35: {=[1]!dbsum(W35:Y35)} -> 60.1 | AN35: {=[1]!dbsum(Z35:AB35)} -> 55.1 | AO35: {=[1]!dbsum(AC35:AE35)} -> 50.7 | AQ35: =D35 -> 14 | AR35: =G35 -> 1m to foot of gantry at N of AT2 | AS35: =H35+AS$11 -> 25.8 | AT35: =I35+AT$11 -> 37.8 | AU35: =J35+AU$11 -> 31.5 | AV35: =K35+AV$11 -> 34.9 | AW35: =L35+AW$11 -> 44.9 | AX35: =M35+AX$11 -> 49.6 | AY35: =N35+AY$11 -> 47.1 | AZ35: =O35+AZ$11 -> 53.4 | ... BP35: =AE35+BP$11 -> 33.5 | BQ35: =[1]!dbsum(AS35:BP35) -> 65.6
B36: 2021_Hep_WPF_15 | D36: 15 | E36: 15 | G36: At boundary to N of AT2 | H36: 46 | I36: 60 | J36: 48 | K36: 49 | L36: 55 | M36: 51 | N36: 60 | O36: 59 | P36: 51 | Q36: 48 | R36: 46 | S36: 48 | T36: 50 | U36: 47 | V36: 46 | W36: 48 | X36: 44 | Y36: 48 | Z36: 43 | AA36: 39 | AB36: 39 | AC36: 36 | AD36: 36 | AE36: 27 | AF36: - | AH36: {=[1]!dbsum(H36:J36)} -> 60.4 | AI36: {=[1]!dbsum(K36:M36)} -> 57.2 | AJ36: {=[1]!dbsum(N36:P36)} -> 62.8 | AK36: {=[1]!dbsum(Q36:S36)} -> 52.2 | AL36: {=[1]!dbsum(T36:V36)} -> 52.8 | AM36: {=[1]!dbsum(W36:Y36)} -> 51.8 | AN36: {=[1]!dbsum(Z36:AB36)} -> 45.5 | AO36: {=[1]!dbsum(AC36:AE36)} -> 39.3 | AQ36: =D36 -> 15 | AR36: =G36 -> At boundary to N of AT2 | AS36: =H36+AS$11 -> 15.8 | AT36: =I36+AT$11 -> 33.8 | AU36: =J36+AU$11 -> 25.5 | AV36: =K36+AV$11 -> 29.9 | AW36: =L36+AW$11 -> 38.9 | AX36: =M36+AX$11 -> 37.6 | AY36: =N36+AY$11 -> 49.1 | AZ36: =O36+AZ$11 -> 50.4 | ... BP36: =AE36+BP$11 -> 24.5 | BQ36: =[1]!dbsum(AS36:BP36) -> 58.7
B37: 2021_Hep_WPF_16 | D37: 16 | E37: 16 | F37: 15 | G37: 1m to foot of gantry at SE of AT2 | H37: 48 | I37: 44 | J37: 49 | K37: 49 | L37: 51 | M37: 51 | N37: 52 | O37: 50 | P37: 48 | Q37: 43 | R37: 44 | S37: 44 | T37: 45 | U37: 44 | V37: 42 | W37: 43 | X37: 47 | Y37: 38 | Z37: 37 | AA37: 35 | AB37: 31 | AC37: 29 | AD37: 28 | AE37: 25 | AF37: - | AH37: {=[1]!dbsum(H37:J37)} -> 52.2 | AI37: {=[1]!dbsum(K37:M37)} -> 55.2 | AJ37: {=[1]!dbsum(N37:P37)} -> 55.1 | AK37: {=[1]!dbsum(Q37:S37)} -> 48.5 | AL37: {=[1]!dbsum(T37:V37)} -> 48.6 | AM37: {=[1]!dbsum(W37:Y37)} -> 48.8 | AN37: {=[1]!dbsum(Z37:AB37)} -> 39.7 | AO37: {=[1]!dbsum(AC37:AE37)} -> 32.4 | AQ37: =D37 -> 16 | AR37: =G37 -> 1m to foot of gantry at SE of AT2 | AS37: =H37+AS$11 -> 17.8 | AT37: =I37+AT$11 -> 17.8 | AU37: =J37+AU$11 -> 26.5 | AV37: =K37+AV$11 -> 29.9 | AW37: =L37+AW$11 -> 34.9 | AX37: =M37+AX$11 -> 37.6 | AY37: =N37+AY$11 -> 41.1 | AZ37: =O37+AZ$11 -> 41.4 | ... BP37: =AE37+BP$11 -> 22.5 | BQ37: =[1]!dbsum(AS37:BP37) -> 54.3
B38: 2021_Hep_WPF_16a | D38: 16a | G38: 1m to foot of gantry at S of AT2 | H38: 56 | I38: 49 | J38: 53 | K38: 55 | L38: 59 | M38: 61 | N38: 60 | O38: 66 | P38: 58 | Q38: 55 | R38: 53 | S38: 55 | T38: 60 | U38: 56 | V38: 56 | W38: 59 | X38: 61 | Y38: 52 | Z38: 54 | AA38: 52 | AB38: 49 | AC38: 47 | AD38: 47 | AE38: 47 | AF38: - | AH38: {=[1]!dbsum(H38:J38)} -> 58.3 | AI38: {=[1]!dbsum(K38:M38)} -> 63.7 | AJ38: {=[1]!dbsum(N38:P38)} -> 67.5 | AK38: {=[1]!dbsum(Q38:S38)} -> 59.2 | AL38: {=[1]!dbsum(T38:V38)} -> 62.5 | AM38: {=[1]!dbsum(W38:Y38)} -> 63.4 | AN38: {=[1]!dbsum(Z38:AB38)} -> 56.9 | AO38: {=[1]!dbsum(AC38:AE38)} -> 51.8 | AQ38: =D38 -> 16a | AR38: =G38 -> 1m to foot of gantry at S of AT2 | AS38: =H38+AS$11 -> 25.8 | AT38: =I38+AT$11 -> 22.8 | AU38: =J38+AU$11 -> 30.5 | AV38: =K38+AV$11 -> 35.9 | AW38: =L38+AW$11 -> 42.9 | AX38: =M38+AX$11 -> 47.6 | AY38: =N38+AY$11 -> 49.1 | AZ38: =O38+AZ$11 -> 57.4 | ... BP38: =AE38+BP$11 -> 44.5 | BQ38: =[1]!dbsum(AS38:BP38) -> 68.2
B39: 2021_Hep_WPF_16b | D39: 16b | G39: At site boundary to S of AT2 | H39: 50 | I39: 46 | J39: 48 | K39: 53 | L39: 58 | M39: 57 | N39: 52 | O39: 57 | P39: 56 | Q39: 50 | R39: 49 | S39: 51 | T39: 54 | U39: 51 | V39: 49 | W39: 50 | X39: 52 | Y39: 48 | Z39: 49 | AA39: 48 | AB39: 46 | AC39: 45 | AD39: 45 | AE39: 46 | AF39: - | AH39: {=[1]!dbsum(H39:J39)} -> 53.1 | AI39: {=[1]!dbsum(K39:M39)} -> 61.2 | AJ39: {=[1]!dbsum(N39:P39)} -> 60.2 | AK39: {=[1]!dbsum(Q39:S39)} -> 54.8 | AL39: {=[1]!dbsum(T39:V39)} -> 56.6 | AM39: {=[1]!dbsum(W39:Y39)} -> 55.1 | AN39: {=[1]!dbsum(Z39:AB39)} -> 52.6 | AO39: {=[1]!dbsum(AC39:AE39)} -> 50.1 | AQ39: =D39 -> 16b | AR39: =G39 -> At site boundary to S of AT2 | AS39: =H39+AS$11 -> 19.8 | AT39: =I39+AT$11 -> 19.8 | AU39: =J39+AU$11 -> 25.5 | AV39: =K39+AV$11 -> 33.9 | AW39: =L39+AW$11 -> 41.9 | AX39: =M39+AX$11 -> 43.6 | AY39: =N39+AY$11 -> 41.1 | AZ39: =O39+AZ$11 -> 48.4 | ... BP39: =AE39+BP$11 -> 43.5 | BQ39: =[1]!dbsum(AS39:BP39) -> 61.8
B40: 2021_Hep_WPF_17 | D40: 17 | E40: 17 | F40: 16 | G40: At gantry level - running water | H40: 55 | I40: 55 | J40: 54 | K40: 55 | L40: 58 | M40: 58 | N40: 60 | O40: 59 | P40: 59 | Q40: 60 | R40: 62 | S40: 63 | T40: 63 | U40: 62 | V40: 62 | W40: 61 | X40: 60 | Y40: 59 | Z40: 59 | AA40: 58 | AB40: 57 | AC40: 56 | AD40: 54 | AE40: 52 | AF40: - | AH40: {=[1]!dbsum(H40:J40)} -> 59.5 | AI40: {=[1]!dbsum(K40:M40)} -> 62 | AJ40: {=[1]!dbsum(N40:P40)} -> 64.1 | AK40: {=[1]!dbsum(Q40:S40)} -> 66.6 | AL40: {=[1]!dbsum(T40:V40)} -> 67.1 | AM40: {=[1]!dbsum(W40:Y40)} -> 64.8 | AN40: {=[1]!dbsum(Z40:AB40)} -> 62.8 | AO40: {=[1]!dbsum(AC40:AE40)} -> 59.1 | AQ40: =D40 -> 17 | AR40: =G40 -> At gantry level - running water | AS40: =H40+AS$11 -> 24.8 | AT40: =I40+AT$11 -> 28.8 | AU40: =J40+AU$11 -> 31.5 | AV40: =K40+AV$11 -> 35.9 | AW40: =L40+AW$11 -> 41.9 | AX40: =M40+AX$11 -> 44.6 | AY40: =N40+AY$11 -> 49.1 | AZ40: =O40+AZ$11 -> 50.4 | ... BP40: =AE40+BP$11 -> 49.5 | BQ40: =[1]!dbsum(AS40:BP40) -> 71.7
B41: 2021_Hep_WPF_18 | D41: 18 | E41: 18 | F41: 8 | G41: 5m from open shutter of DAF2 | H41: 59 | I41: 52 | J41: 57 | K41: 56 | L41: 57 | M41: 55 | N41: 57 | O41: 56 | P41: 57 | Q41: 57 | R41: 58 | S41: 56 | T41: 57 | U41: 56 | V41: 57 | W41: 57 | X41: 55 | Y41: 53 | Z41: 51 | AA41: 51 | AB41: 50 | AC41: 46 | AD41: 45 | AE41: 40 | AF41: - | AH41: {=[1]!dbsum(H41:J41)} -> 61.6 | AI41: {=[1]!dbsum(K41:M41)} -> 60.8 | AJ41: {=[1]!dbsum(N41:P41)} -> 61.5 | AK41: {=[1]!dbsum(Q41:S41)} -> 61.8 | AL41: {=[1]!dbsum(T41:V41)} -> 61.5 | AM41: {=[1]!dbsum(W41:Y41)} -> 60.1 | AN41: {=[1]!dbsum(Z41:AB41)} -> 55.5 | AO41: {=[1]!dbsum(AC41:AE41)} -> 49.1 | AQ41: =D41 -> 18 | AR41: =G41 -> 5m from open shutter of DAF2 | AS41: =H41+AS$11 -> 28.8 | AT41: =I41+AT$11 -> 25.8 | AU41: =J41+AU$11 -> 34.5 | AV41: =K41+AV$11 -> 36.9 | AW41: =L41+AW$11 -> 40.9 | AX41: =M41+AX$11 -> 41.6 | AY41: =N41+AY$11 -> 46.1 | AZ41: =O41+AZ$11 -> 47.4 | ... BP41: =AE41+BP$11 -> 37.5 | BQ41: =[1]!dbsum(AS41:BP41) -> 66.2
B42: 2021_Hep_WPF_19 | D42: 19 | E42: 19 | G42: 1m from turret to N of DAF1 extension | H42: 68 | I42: 62 | J42: 63 | K42: 75 | L42: 64 | M42: 63 | N42: 69 | O42: 65 | P42: 61 | Q42: 66 | R42: 63 | S42: 59 | T42: 59 | U42: 55 | V42: 57 | W42: 54 | X42: 53 | Y42: 54 | Z42: 51 | AA42: 50 | AB42: 48 | AC42: 46 | AD42: 42 | AE42: 41 | AF42: - | AH42: {=[1]!dbsum(H42:J42)} -> 70 | AI42: {=[1]!dbsum(K42:M42)} -> 75.6 | AJ42: {=[1]!dbsum(N42:P42)} -> 70.9 | AK42: {=[1]!dbsum(Q42:S42)} -> 68.3 | AL42: {=[1]!dbsum(T42:V42)} -> 62.1 | AM42: {=[1]!dbsum(W42:Y42)} -> 58.5 | AN42: {=[1]!dbsum(Z42:AB42)} -> 54.6 | AO42: {=[1]!dbsum(AC42:AE42)} -> 48.3 | AQ42: =D42 -> 19 | AR42: =G42 -> 1m from turret to N of DAF1 extension | AS42: =H42+AS$11 -> 37.8 | AT42: =I42+AT$11 -> 35.8 | AU42: =J42+AU$11 -> 40.5 | AV42: =K42+AV$11 -> 55.9 | AW42: =L42+AW$11 -> 47.9 | AX42: =M42+AX$11 -> 49.6 | AY42: =N42+AY$11 -> 58.1 | AZ42: =O42+AZ$11 -> 56.4 | ... BP42: =AE42+BP$11 -> 38.5 | BQ42: =[1]!dbsum(AS42:BP42) -> 68.9
B43: 2021_Hep_WPF_19a | D43: 19a | G43: 1m from turret to centre of DAF1 extension | H43: 80 | I43: 69 | J43: 69 | K43: 81 | L43: 68 | M43: 64 | N43: 73 | O43: 67 | P43: 62 | Q43: 64 | R43: 61 | S43: 60 | T43: 59 | U43: 56 | V43: 57 | W43: 56 | X43: 55 | Y43: 56 | Z43: 54 | AA43: 56 | AB43: 61 | AC43: 58 | AD43: 57 | AE43: 58 | AF43: - | AH43: {=[1]!dbsum(H43:J43)} -> 80.6 | AI43: {=[1]!dbsum(K43:M43)} -> 81.3 | AJ43: {=[1]!dbsum(N43:P43)} -> 74.2 | AK43: {=[1]!dbsum(Q43:S43)} -> 66.8 | AL43: {=[1]!dbsum(T43:V43)} -> 62.3 | AM43: {=[1]!dbsum(W43:Y43)} -> 60.5 | AN43: {=[1]!dbsum(Z43:AB43)} -> 62.8 | AO43: {=[1]!dbsum(AC43:AE43)} -> 62.5 | AQ43: =D43 -> 19a | AR43: =G43 -> 1m from turret to centre of DAF1 extension | AS43: =H43+AS$11 -> 49.8 | AT43: =I43+AT$11 -> 42.8 | AU43: =J43+AU$11 -> 46.5 | AV43: =K43+AV$11 -> 61.9 | AW43: =L43+AW$11 -> 51.9 | AX43: =M43+AX$11 -> 50.6 | AY43: =N43+AY$11 -> 62.1 | AZ43: =O43+AZ$11 -> 58.4 | ... BP43: =AE43+BP$11 -> 55.5 | BQ43: =[1]!dbsum(AS43:BP43) -> 71.3
B44: 2021_Hep_WPF_19b | D44: 19b | G44: 1m from turret to S of DAF1 extension | H44: 78 | I44: 72 | J44: 78 | K44: 91 | L44: 69 | M44: 63 | N44: 68 | O44: 68 | P44: 65 | Q44: 64 | R44: 62 | S44: 61 | T44: 60 | U44: 56 | V44: 59 | W44: 56 | X44: 55 | Y44: 55 | Z44: 54 | AA44: 54 | AB44: 55 | AC44: 54 | AD44: 50 | AE44: 49 | AF44: - | AH44: {=[1]!dbsum(H44:J44)} -> 81.5 | AI44: {=[1]!dbsum(K44:M44)} -> 91 | AJ44: {=[1]!dbsum(N44:P44)} -> 72 | AK44: {=[1]!dbsum(Q44:S44)} -> 67.3 | AL44: {=[1]!dbsum(T44:V44)} -> 63.4 | AM44: {=[1]!dbsum(W44:Y44)} -> 60.1 | AN44: {=[1]!dbsum(Z44:AB44)} -> 59.1 | AO44: {=[1]!dbsum(AC44:AE44)} -> 56.3 | AQ44: =D44 -> 19b | AR44: =G44 -> 1m from turret to S of DAF1 extension | AS44: =H44+AS$11 -> 47.8 | AT44: =I44+AT$11 -> 45.8 | AU44: =J44+AU$11 -> 55.5 | AV44: =K44+AV$11 -> 71.9 | AW44: =L44+AW$11 -> 52.9 | AX44: =M44+AX$11 -> 49.6 | AY44: =N44+AY$11 -> 57.1 | AZ44: =O44+AZ$11 -> 59.4 | ... BP44: =AE44+BP$11 -> 46.5 | BQ44: =[1]!dbsum(AS44:BP44) -> 74.1
B45: 2021_Hep_WPF_19c | D45: 19c | G45: 1m from tonal noise emitting pipework to S of DAF1 | H45: 77 | I45: 61 | J45: 61 | K45: 65 | L45: 70 | M45: 69 | N45: 80 | O45: 71 | P45: 65 | Q45: 67 | R45: 62 | S45: 59 | T45: 63 | U45: 60 | V45: 60 | W45: 60 | X45: 59 | Y45: 57 | Z45: 55 | AA45: 53 | AB45: 52 | AC45: 49 | AD45: 47 | AE45: 44 | AF45: - | AH45: {=[1]!dbsum(H45:J45)} -> 77.2 | AI45: {=[1]!dbsum(K45:M45)} -> 73.2 | AJ45: {=[1]!dbsum(N45:P45)} -> 80.6 | AK45: {=[1]!dbsum(Q45:S45)} -> 68.7 | AL45: {=[1]!dbsum(T45:V45)} -> 66 | AM45: {=[1]!dbsum(W45:Y45)} -> 63.6 | AN45: {=[1]!dbsum(Z45:AB45)} -> 58.3 | AO45: {=[1]!dbsum(AC45:AE45)} -> 51.9 | AQ45: =D45 -> 19c | AR45: =G45 -> 1m from tonal noise emitting pipework to S of DAF1 | AS45: =H45+AS$11 -> 46.8 | AT45: =I45+AT$11 -> 34.8 | AU45: =J45+AU$11 -> 38.5 | AV45: =K45+AV$11 -> 45.9 | AW45: =L45+AW$11 -> 53.9 | AX45: =M45+AX$11 -> 55.6 | AY45: =N45+AY$11 -> 69.1 | AZ45: =O45+AZ$11 -> 62.4 | ... BP45: =AE45+BP$11 -> 41.5 | BQ45: =[1]!dbsum(AS45:BP45) -> 73.5
B46: 2021_Hep_WPF_20 | D46: 20 | E46: 20 | G46: 1m to W right corner of DAF1 extension / MBR Building | H46: 67 | I46: 57 | J46: 65 | K46: 78 | L46: 61 | M46: 58 | N46: 60 | O46: 57 | P46: 56 | Q46: 57 | R46: 56 | S46: 55 | T46: 57 | U46: 53 | V46: 53 | W46: 50 | X46: 50 | Y46: 48 | Z46: 46 | AA46: 44 | AB46: 43 | AC46: 42 | AD46: 38 | AE46: 35 | AF46: - | AH46: {=[1]!dbsum(H46:J46)} -> 69.4 | AI46: {=[1]!dbsum(K46:M46)} -> 78.1 | AJ46: {=[1]!dbsum(N46:P46)} -> 62.8 | AK46: {=[1]!dbsum(Q46:S46)} -> 60.8 | AL46: {=[1]!dbsum(T46:V46)} -> 59.5 | AM46: {=[1]!dbsum(W46:Y46)} -> 54.2 | AN46: {=[1]!dbsum(Z46:AB46)} -> 49.3 | AO46: {=[1]!dbsum(AC46:AE46)} -> 44 | AQ46: =D46 -> 20 | AR46: =G46 -> 1m to W right corner of DAF1 extension / MBR Building | AS46: =H46+AS$11 -> 36.8 | AT46: =I46+AT$11 -> 30.8 | AU46: =J46+AU$11 -> 42.5 | AV46: =K46+AV$11 -> 58.9 | AW46: =L46+AW$11 -> 44.9 | AX46: =M46+AX$11 -> 44.6 | AY46: =N46+AY$11 -> 49.1 | AZ46: =O46+AZ$11 -> 48.4 | ... BP46: =AE46+BP$11 -> 32.5 | BQ46: =[1]!dbsum(AS46:BP46) -> 64.8
B47: 2021_Hep_WPF_21 | D47: 21 | E47: 21 | G47: 5m from front DAF1 extension / MBR Building | H47: 79 | I47: 63 | J47: 61 | K47: 71 | L47: 60 | M47: 59 | N47: 61 | O47: 60 | P47: 58 | Q47: 57 | R47: 58 | S47: 57 | T47: 57 | U47: 55 | V47: 55 | W47: 54 | X47: 52 | Y47: 52 | Z47: 50 | AA47: 47 | AB47: 45 | AC47: 44 | AD47: 40 | AE47: 37 | AF47: - | AH47: {=[1]!dbsum(H47:J47)} -> 79.2 | AI47: {=[1]!dbsum(K47:M47)} -> 71.6 | AJ47: {=[1]!dbsum(N47:P47)} -> 64.6 | AK47: {=[1]!dbsum(Q47:S47)} -> 62.1 | AL47: {=[1]!dbsum(T47:V47)} -> 60.5 | AM47: {=[1]!dbsum(W47:Y47)} -> 57.5 | AN47: {=[1]!dbsum(Z47:AB47)} -> 52.6 | AO47: {=[1]!dbsum(AC47:AE47)} -> 46 | AQ47: =D47 -> 21 | AR47: =G47 -> 5m from front DAF1 extension / MBR Building | AS47: =H47+AS$11 -> 48.8 | AT47: =I47+AT$11 -> 36.8 | AU47: =J47+AU$11 -> 38.5 | AV47: =K47+AV$11 -> 51.9 | AW47: =L47+AW$11 -> 43.9 | AX47: =M47+AX$11 -> 45.6 | AY47: =N47+AY$11 -> 50.1 | AZ47: =O47+AZ$11 -> 51.4 | ... BP47: =AE47+BP$11 -> 34.5 | BQ47: =[1]!dbsum(AS47:BP47) -> 65.6
B48: 2021_Hep_WPF_21a | D48: 21a | G48: 1m from front DAF1 extension | H48: 75 | I48: 64 | J48: 57 | K48: 66 | L48: 61 | M48: 60 | N48: 67 | O48: 59 | P48: 57 | Q48: 58 | R48: 58 | S48: 59 | T48: 62 | U48: 58 | V48: 58 | W48: 58 | X48: 58 | Y48: 59 | Z48: 57 | AA48: 53 | AB48: 51 | AC48: 49 | AD48: 45 | AE48: 42 | AF48: - | AH48: {=[1]!dbsum(H48:J48)} -> 75.4 | AI48: {=[1]!dbsum(K48:M48)} -> 68 | AJ48: {=[1]!dbsum(N48:P48)} -> 68 | AK48: {=[1]!dbsum(Q48:S48)} -> 63.1 | AL48: {=[1]!dbsum(T48:V48)} -> 64.5 | AM48: {=[1]!dbsum(W48:Y48)} -> 63.1 | AN48: {=[1]!dbsum(Z48:AB48)} -> 59.2 | AO48: {=[1]!dbsum(AC48:AE48)} -> 51 | AQ48: =D48 -> 21a | AR48: =G48 -> 1m from front DAF1 extension | AS48: =H48+AS$11 -> 44.8 | AT48: =I48+AT$11 -> 37.8 | AU48: =J48+AU$11 -> 34.5 | AV48: =K48+AV$11 -> 46.9 | AW48: =L48+AW$11 -> 44.9 | AX48: =M48+AX$11 -> 46.6 | AY48: =N48+AY$11 -> 56.1 | AZ48: =O48+AZ$11 -> 50.4 | ... BP48: =AE48+BP$11 -> 39.5 | BQ48: =[1]!dbsum(AS48:BP48) -> 69.2
B49: 2021_Hep_WPF_22 | D49: 22 | E49: 22 | F49: 17 | G49: 1m from shorter of ground level pumps | H49: 64 | I49: 58 | J49: 60 | K49: 67 | L49: 64 | M49: 61 | N49: 61 | O49: 59 | P49: 60 | Q49: 59 | R49: 59 | S49: 58 | T49: 58 | U49: 60 | V49: 60 | W49: 59 | X49: 58 | Y49: 58 | Z49: 59 | AA49: 58 | AB49: 58 | AC49: 62 | AD49: 58 | AE49: 57 | AF49: - | AH49: {=[1]!dbsum(H49:J49)} -> 66.2 | AI49: {=[1]!dbsum(K49:M49)} -> 69.4 | AJ49: {=[1]!dbsum(N49:P49)} -> 64.8 | AK49: {=[1]!dbsum(Q49:S49)} -> 63.5 | AL49: {=[1]!dbsum(T49:V49)} -> 64.2 | AM49: {=[1]!dbsum(W49:Y49)} -> 63.1 | AN49: {=[1]!dbsum(Z49:AB49)} -> 63.1 | AO49: {=[1]!dbsum(AC49:AE49)} -> 64.3 | AQ49: =D49 -> 22 | AR49: =G49 -> 1m from shorter of ground level pumps | AS49: =H49+AS$11 -> 33.8 | AT49: =I49+AT$11 -> 31.8 | AU49: =J49+AU$11 -> 37.5 | AV49: =K49+AV$11 -> 47.9 | AW49: =L49+AW$11 -> 47.9 | AX49: =M49+AX$11 -> 47.6 | AY49: =N49+AY$11 -> 50.1 | AZ49: =O49+AZ$11 -> 50.4 | ... BP49: =AE49+BP$11 -> 54.5 | BQ49: =[1]!dbsum(AS49:BP49) -> 70.8
B50: 2021_Hep_WPF_23 | D50: 23 | E50: 23 | F50: 17 | G50: 1m from longer of ground level pumps | H50: 64 | I50: 61 | J50: 61 | K50: 67 | L50: 62 | M50: 60 | N50: 61 | O50: 60 | P50: 60 | Q50: 61 | R50: 59 | S50: 58 | T50: 57 | U50: 57 | V50: 58 | W50: 56 | X50: 55 | Y50: 54 | Z50: 53 | AA50: 52 | AB50: 52 | AC50: 56 | AD50: 48 | AE50: 47 | AF50: - | AH50: {=[1]!dbsum(H50:J50)} -> 67 | AI50: {=[1]!dbsum(K50:M50)} -> 68.8 | AJ50: {=[1]!dbsum(N50:P50)} -> 65.1 | AK50: {=[1]!dbsum(Q50:S50)} -> 64.3 | AL50: {=[1]!dbsum(T50:V50)} -> 62.1 | AM50: {=[1]!dbsum(W50:Y50)} -> 59.8 | AN50: {=[1]!dbsum(Z50:AB50)} -> 57.1 | AO50: {=[1]!dbsum(AC50:AE50)} -> 57.1 | AQ50: =D50 -> 23 | AR50: =G50 -> 1m from longer of ground level pumps | AS50: =H50+AS$11 -> 33.8 | AT50: =I50+AT$11 -> 34.8 | AU50: =J50+AU$11 -> 38.5 | AV50: =K50+AV$11 -> 47.9 | AW50: =L50+AW$11 -> 45.9 | AX50: =M50+AX$11 -> 46.6 | AY50: =N50+AY$11 -> 50.1 | AZ50: =O50+AZ$11 -> 51.4 | ... BP50: =AE50+BP$11 -> 44.5 | BQ50: =[1]!dbsum(AS50:BP50) -> 67.7
B51: 2021_Hep_WPF_24 | D51: 24 | E51: 24 | G51: On metal steps over plinth wall | H51: 68 | I51: 61 | J51: 64 | K51: 65 | L51: 64 | M51: 67 | N51: 65 | O51: 63 | P51: 65 | Q51: 63 | R51: 66 | S51: 63 | T51: 64 | U51: 66 | V51: 66 | W51: 63 | X51: 62 | Y51: 58 | Z51: 56 | AA51: 54 | AB51: 52 | AC51: 50 | AD51: 47 | AE51: 44 | AF51: - | AH51: {=[1]!dbsum(H51:J51)} -> 70 | AI51: {=[1]!dbsum(K51:M51)} -> 70.3 | AJ51: {=[1]!dbsum(N51:P51)} -> 69.2 | AK51: {=[1]!dbsum(Q51:S51)} -> 69 | AL51: {=[1]!dbsum(T51:V51)} -> 70.2 | AM51: {=[1]!dbsum(W51:Y51)} -> 66.2 | AN51: {=[1]!dbsum(Z51:AB51)} -> 59.1 | AO51: {=[1]!dbsum(AC51:AE51)} -> 52.4 | AQ51: =D51 -> 24 | AR51: =G51 -> On metal steps over plinth wall | AS51: =H51+AS$11 -> 37.8 | AT51: =I51+AT$11 -> 34.8 | AU51: =J51+AU$11 -> 41.5 | AV51: =K51+AV$11 -> 45.9 | AW51: =L51+AW$11 -> 47.9 | AX51: =M51+AX$11 -> 53.6 | AY51: =N51+AY$11 -> 54.1 | AZ51: =O51+AZ$11 -> 54.4 | ... BP51: =AE51+BP$11 -> 41.5 | BQ51: =[1]!dbsum(AS51:BP51) -> 73.6
B52: 2021_Hep_WPF_25 | D52: 25 | E52: 25 | G52: 1m pump to south of BT1 | H52: 67 | I52: 63 | J52: 64 | K52: 63 | L52: 65 | M52: 67 | N52: 65 | O52: 62 | P52: 65 | Q52: 66 | R52: 68 | S52: 66 | T52: 68 | U52: 70 | V52: 71 | W52: 67 | X52: 67 | Y52: 62 | Z52: 60 | AA52: 58 | AB52: 54 | AC52: 51 | AD52: 49 | AE52: 46 | AF52: - | AH52: {=[1]!dbsum(H52:J52)} -> 69.8 | AI52: {=[1]!dbsum(K52:M52)} -> 70.1 | AJ52: {=[1]!dbsum(N52:P52)} -> 69 | AK52: {=[1]!dbsum(Q52:S52)} -> 71.5 | AL52: {=[1]!dbsum(T52:V52)} -> 74.6 | AM52: {=[1]!dbsum(W52:Y52)} -> 70.6 | AN52: {=[1]!dbsum(Z52:AB52)} -> 62.7 | AO52: {=[1]!dbsum(AC52:AE52)} -> 53.9 | AQ52: =D52 -> 25 | AR52: =G52 -> 1m pump to south of BT1 | AS52: =H52+AS$11 -> 36.8 | AT52: =I52+AT$11 -> 36.8 | AU52: =J52+AU$11 -> 41.5 | AV52: =K52+AV$11 -> 43.9 | AW52: =L52+AW$11 -> 48.9 | AX52: =M52+AX$11 -> 53.6 | AY52: =N52+AY$11 -> 54.1 | AZ52: =O52+AZ$11 -> 53.4 | ... BP52: =AE52+BP$11 -> 43.5 | BQ52: =[1]!dbsum(AS52:BP52) -> 77.5
B53: 2021_Hep_WPF_25a | D53: 25a | G53: 1m from ground level pump towards E of BT1 | H53: 60 | I53: 61 | J53: 63 | K53: 62 | L53: 63 | M53: 64 | N53: 63 | O53: 62 | P53: 64 | Q53: 64 | R53: 67 | S53: 65 | T53: 70 | U53: 71 | V53: 72 | W53: 70 | X53: 67 | Y53: 65 | Z53: 63 | AA53: 61 | AB53: 58 | AC53: 55 | AD53: 53 | AE53: 49 | AF53: - | AH53: {=[1]!dbsum(H53:J53)} -> 66.3 | AI53: {=[1]!dbsum(K53:M53)} -> 67.8 | AJ53: {=[1]!dbsum(N53:P53)} -> 67.8 | AK53: {=[1]!dbsum(Q53:S53)} -> 70.3 | AL53: {=[1]!dbsum(T53:V53)} -> 75.8 | AM53: {=[1]!dbsum(W53:Y53)} -> 72.6 | AN53: {=[1]!dbsum(Z53:AB53)} -> 65.9 | AO53: {=[1]!dbsum(AC53:AE53)} -> 57.7 | AQ53: =D53 -> 25a | AR53: =G53 -> 1m from ground level pump towards E of BT1 | AS53: =H53+AS$11 -> 29.8 | AT53: =I53+AT$11 -> 34.8 | AU53: =J53+AU$11 -> 40.5 | AV53: =K53+AV$11 -> 42.9 | AW53: =L53+AW$11 -> 46.9 | AX53: =M53+AX$11 -> 50.6 | AY53: =N53+AY$11 -> 52.1 | AZ53: =O53+AZ$11 -> 53.4 | ... BP53: =AE53+BP$11 -> 46.5 | BQ53: =[1]!dbsum(AS53:BP53) -> 78.7
B54: 2021_Hep_WPF_26 | D54: 26 | E54: 26 | G54: 1m from pump to N side of Siltbuster / DAF 3 | H54: 72 | I54: 63 | J54: 62 | K54: 64 | L54: 63 | M54: 66 | N54: 65 | O54: 63 | P54: 68 | Q54: 65 | R54: 69 | S54: 65 | T54: 66 | U54: 67 | V54: 72 | W54: 68 | X54: 70 | Y54: 63 | Z54: 59 | AA54: 55 | AB54: 53 | AC54: 50 | AD54: 49 | AE54: 46 | AF54: - | AH54: {=[1]!dbsum(H54:J54)} -> 72.9 | AI54: {=[1]!dbsum(K54:M54)} -> 69.3 | AJ54: {=[1]!dbsum(N54:P54)} -> 70.6 | AK54: {=[1]!dbsum(Q54:S54)} -> 71.5 | AL54: {=[1]!dbsum(T54:V54)} -> 74 | AM54: {=[1]!dbsum(W54:Y54)} -> 72.6 | AN54: {=[1]!dbsum(Z54:AB54)} -> 61.2 | AO54: {=[1]!dbsum(AC54:AE54)} -> 53.4 | AQ54: =D54 -> 26 | AR54: =G54 -> 1m from pump to N side of Siltbuster / DAF 3 | AS54: =H54+AS$11 -> 41.8 | AT54: =I54+AT$11 -> 36.8 | AU54: =J54+AU$11 -> 39.5 | AV54: =K54+AV$11 -> 44.9 | AW54: =L54+AW$11 -> 46.9 | AX54: =M54+AX$11 -> 52.6 | AY54: =N54+AY$11 -> 54.1 | AZ54: =O54+AZ$11 -> 54.4 | ... BP54: =AE54+BP$11 -> 43.5 | BQ54: =[1]!dbsum(AS54:BP54) -> 77.9
B55: 2021_Hep_WPF_27 | D55: 27 | E55: 27 | G55: 2m to E (rear) side of Siltbuster / DAF 3 | H55: 65 | I55: 59 | J55: 59 | K55: 61 | L55: 61 | M55: 60 | N55: 63 | O55: 62 | P55: 64 | Q55: 61 | R55: 62 | S55: 61 | T55: 61 | U55: 62 | V55: 62 | W55: 61 | X55: 61 | Y55: 60 | Z55: 57 | AA55: 56 | AB55: 54 | AC55: 51 | AD55: 50 | AE55: 46 | AF55: - | AH55: {=[1]!dbsum(H55:J55)} -> 66.8 | AI55: {=[1]!dbsum(K55:M55)} -> 65.5 | AJ55: {=[1]!dbsum(N55:P55)} -> 67.8 | AK55: {=[1]!dbsum(Q55:S55)} -> 66.1 | AL55: {=[1]!dbsum(T55:V55)} -> 66.5 | AM55: {=[1]!dbsum(W55:Y55)} -> 65.5 | AN55: {=[1]!dbsum(Z55:AB55)} -> 60.6 | AO55: {=[1]!dbsum(AC55:AE55)} -> 54.2 | AQ55: =D55 -> 27 | AR55: =G55 -> 2m to E (rear) side of Siltbuster / DAF 3 | AS55: =H55+AS$11 -> 34.8 | AT55: =I55+AT$11 -> 32.8 | AU55: =J55+AU$11 -> 36.5 | AV55: =K55+AV$11 -> 41.9 | AW55: =L55+AW$11 -> 44.9 | AX55: =M55+AX$11 -> 46.6 | AY55: =N55+AY$11 -> 52.1 | AZ55: =O55+AZ$11 -> 53.4 | ... BP55: =AE55+BP$11 -> 43.5 | BQ55: =[1]!dbsum(AS55:BP55) -> 71.4
B56: 2021_Hep_WPF_28 | D56: 28 | E56: 28 | F56: 7 | G56: 5m from open door to DAF1 / MBR Building | H56: 70 | I56: 61 | J56: 62 | K56: 68 | L56: 61 | M56: 63 | N56: 66 | O56: 65 | P56: 65 | Q56: 65 | R56: 63 | S56: 63 | T56: 65 | U56: 63 | V56: 63 | W56: 63 | X56: 62 | Y56: 61 | Z56: 61 | AA56: 60 | AB56: 59 | AC56: 57 | AD56: 54 | AE56: 50 | AF56: - | AH56: {=[1]!dbsum(H56:J56)} -> 71.1 | AI56: {=[1]!dbsum(K56:M56)} -> 69.8 | AJ56: {=[1]!dbsum(N56:P56)} -> 70.1 | AK56: {=[1]!dbsum(Q56:S56)} -> 68.5 | AL56: {=[1]!dbsum(T56:V56)} -> 68.5 | AM56: {=[1]!dbsum(W56:Y56)} -> 66.8 | AN56: {=[1]!dbsum(Z56:AB56)} -> 64.8 | AO56: {=[1]!dbsum(AC56:AE56)} -> 59.3 | AQ56: =D56 -> 28 | AR56: =G56 -> 5m from open door to DAF1 / MBR Building | AS56: =H56+AS$11 -> 39.8 | AT56: =I56+AT$11 -> 34.8 | AU56: =J56+AU$11 -> 39.5 | AV56: =K56+AV$11 -> 48.9 | AW56: =L56+AW$11 -> 44.9 | AX56: =M56+AX$11 -> 49.6 | AY56: =N56+AY$11 -> 55.1 | AZ56: =O56+AZ$11 -> 56.4 | ... BP56: =AE56+BP$11 -> 47.5 | BQ56: =[1]!dbsum(AS56:BP56) -> 73.6
B57: 2021_Hep_WPF_28a | D57: 28a | G57: 10m from open door to DAF1 / MBR Building | H57: 70 | I57: 59 | J57: 60 | K57: 67 | L57: 62 | M57: 62 | N57: 65 | O57: 64 | P57: 63 | Q57: 64 | R57: 62 | S57: 62 | T57: 64 | U57: 62 | V57: 64 | W57: 62 | X57: 61 | Y57: 61 | Z57: 60 | AA57: 59 | AB57: 58 | AC57: 57 | AD57: 54 | AE57: 49 | AF57: - | AH57: {=[1]!dbsum(H57:J57)} -> 70.7 | AI57: {=[1]!dbsum(K57:M57)} -> 69.1 | AJ57: {=[1]!dbsum(N57:P57)} -> 68.8 | AK57: {=[1]!dbsum(Q57:S57)} -> 67.5 | AL57: {=[1]!dbsum(T57:V57)} -> 68.2 | AM57: {=[1]!dbsum(W57:Y57)} -> 66.1 | AN57: {=[1]!dbsum(Z57:AB57)} -> 63.8 | AO57: {=[1]!dbsum(AC57:AE57)} -> 59.2 | AQ57: =D57 -> 28a | AR57: =G57 -> 10m from open door to DAF1 / MBR Building | AS57: =H57+AS$11 -> 39.8 | AT57: =I57+AT$11 -> 32.8 | AU57: =J57+AU$11 -> 37.5 | AV57: =K57+AV$11 -> 47.9 | AW57: =L57+AW$11 -> 45.9 | AX57: =M57+AX$11 -> 48.6 | AY57: =N57+AY$11 -> 54.1 | AZ57: =O57+AZ$11 -> 55.4 | ... BP57: =AE57+BP$11 -> 46.5 | BQ57: =[1]!dbsum(AS57:BP57) -> 72.9
B58: 2021_Hep_WPF_29 | D58: 29 | E58: 29 | F58: 19 | G58: Rear of DAF1 | H58: 67 | I58: 60 | J58: 63 | K58: 65 | L58: 61 | M58: 59 | N58: 59 | O58: 61 | P58: 62 | Q58: 60 | R58: 59 | S58: 59 | T58: 60 | U58: 58 | V58: 59 | W58: 58 | X58: 57 | Y58: 56 | Z58: 55 | AA58: 54 | AB58: 53 | AC58: 51 | AD58: 48 | AE58: 43 | AF58: - | AH58: {=[1]!dbsum(H58:J58)} -> 69 | AI58: {=[1]!dbsum(K58:M58)} -> 67.2 | AJ58: {=[1]!dbsum(N58:P58)} -> 65.6 | AK58: {=[1]!dbsum(Q58:S58)} -> 64.1 | AL58: {=[1]!dbsum(T58:V58)} -> 63.8 | AM58: {=[1]!dbsum(W58:Y58)} -> 61.8 | AN58: {=[1]!dbsum(Z58:AB58)} -> 58.8 | AO58: {=[1]!dbsum(AC58:AE58)} -> 53.2 | AQ58: =D58 -> 29 | AR58: =G58 -> Rear of DAF1 | AS58: =H58+AS$11 -> 36.8 | AT58: =I58+AT$11 -> 33.8 | AU58: =J58+AU$11 -> 40.5 | AV58: =K58+AV$11 -> 45.9 | AW58: =L58+AW$11 -> 44.9 | AX58: =M58+AX$11 -> 45.6 | AY58: =N58+AY$11 -> 48.1 | AZ58: =O58+AZ$11 -> 52.4 | ... BP58: =AE58+BP$11 -> 40.5 | BQ58: =[1]!dbsum(AS58:BP58) -> 68.7
B59: 2021_Hep_WPF_29a | D59: 29a | G59: 2m from main louvre to rear of DAF2 | H59: 66 | I59: 61 | J59: 60 | K59: 66 | L59: 67 | M59: 63 | N59: 67 | O59: 63 | P59: 65 | Q59: 64 | R59: 63 | S59: 64 | T59: 66 | U59: 64 | V59: 63 | W59: 62 | X59: 63 | Y59: 60 | Z59: 60 | AA59: 57 | AB59: 56 | AC59: 54 | AD59: 52 | AE59: 49 | AF59: - | AH59: {=[1]!dbsum(H59:J59)} -> 68 | AI59: {=[1]!dbsum(K59:M59)} -> 70.4 | AJ59: {=[1]!dbsum(N59:P59)} -> 70.1 | AK59: {=[1]!dbsum(Q59:S59)} -> 68.5 | AL59: {=[1]!dbsum(T59:V59)} -> 69.3 | AM59: {=[1]!dbsum(W59:Y59)} -> 66.6 | AN59: {=[1]!dbsum(Z59:AB59)} -> 62.8 | AO59: {=[1]!dbsum(AC59:AE59)} -> 56.9 | AQ59: =D59 -> 29a | AR59: =G59 -> 2m from main louvre to rear of DAF2 | AS59: =H59+AS$11 -> 35.8 | AT59: =I59+AT$11 -> 34.8 | AU59: =J59+AU$11 -> 37.5 | AV59: =K59+AV$11 -> 46.9 | AW59: =L59+AW$11 -> 50.9 | AX59: =M59+AX$11 -> 49.6 | AY59: =N59+AY$11 -> 56.1 | AZ59: =O59+AZ$11 -> 54.4 | ... BP59: =AE59+BP$11 -> 46.5 | BQ59: =[1]!dbsum(AS59:BP59) -> 73.4
B60: 2021_Hep_WPF_29b | D60: 29b | G60: 2m above centre of general external plant area | H60: 80 | I60: 67 | J60: 64 | K60: 67 | L60: 70 | M60: 68 | N60: 72 | O60: 70 | P60: 71 | Q60: 74 | R60: 72 | S60: 71 | T60: 73 | U60: 71 | V60: 72 | W60: 69 | X60: 69 | Y60: 68 | Z60: 67 | AA60: 66 | AB60: 65 | AC60: 63 | AD60: 60 | AE60: 57 | AF60: - | AH60: {=[1]!dbsum(H60:J60)} -> 80.3 | AI60: {=[1]!dbsum(K60:M60)} -> 73.3 | AJ60: {=[1]!dbsum(N60:P60)} -> 75.8 | AK60: {=[1]!dbsum(Q60:S60)} -> 77.3 | AL60: {=[1]!dbsum(T60:V60)} -> 76.8 | AM60: {=[1]!dbsum(W60:Y60)} -> 73.5 | AN60: {=[1]!dbsum(Z60:AB60)} -> 70.8 | AO60: {=[1]!dbsum(AC60:AE60)} -> 65.4 | AQ60: =D60 -> 29b | AR60: =G60 -> 2m above centre of general external plant area | AS60: =H60+AS$11 -> 49.8 | AT60: =I60+AT$11 -> 40.8 | AU60: =J60+AU$11 -> 41.5 | AV60: =K60+AV$11 -> 47.9 | AW60: =L60+AW$11 -> 53.9 | AX60: =M60+AX$11 -> 54.6 | AY60: =N60+AY$11 -> 61.1 | AZ60: =O60+AZ$11 -> 61.4 | ... BP60: =AE60+BP$11 -> 54.5 | BQ60: =[1]!dbsum(AS60:BP60) -> 81
B61: 2021_Hep_WPF_30 | D61: 30 | E61: 30 | G61: 2m from unit, 1m from fan outlet | H61: 74 | I61: 68 | J61: 65 | K61: 77 | L61: 74 | M61: 65 | N61: 70 | O61: 66 | P61: 68 | Q61: 69 | R61: 66 | S61: 67 | T61: 69 | U61: 68 | V61: 69 | W61: 71 | X61: 70 | Y61: 67 | Z61: 67 | AA61: 66 | AB61: 65 | AC61: 64 | AD61: 63 | AE61: 63 | AF61: - | AH61: {=[1]!dbsum(H61:J61)} -> 75.4 | AI61: {=[1]!dbsum(K61:M61)} -> 78.9 | AJ61: {=[1]!dbsum(N61:P61)} -> 73.1 | AK61: {=[1]!dbsum(Q61:S61)} -> 72.3 | AL61: {=[1]!dbsum(T61:V61)} -> 73.5 | AM61: {=[1]!dbsum(W61:Y61)} -> 74.4 | AN61: {=[1]!dbsum(Z61:AB61)} -> 70.8 | AO61: {=[1]!dbsum(AC61:AE61)} -> 68.1 | AQ61: =D61 -> 30 | AR61: =G61 -> 2m from unit, 1m from fan outlet | AS61: =H61+AS$11 -> 43.8 | AT61: =I61+AT$11 -> 41.8 | AU61: =J61+AU$11 -> 42.5 | AV61: =K61+AV$11 -> 57.9 | AW61: =L61+AW$11 -> 57.9 | AX61: =M61+AX$11 -> 51.6 | AY61: =N61+AY$11 -> 59.1 | AZ61: =O61+AZ$11 -> 57.4 | ... BP61: =AE61+BP$11 -> 60.5 | BQ61: =[1]!dbsum(AS61:BP61) -> 79.6
B62: 2021_Hep_WPF_31 | D62: 31 | E62: 31 | F62: 12 | G62: On gantry - 1m from AT1a aerator to N | H62: 71 | I62: 75 | J62: 80 | K62: 79 | L62: 71 | M62: 66 | N62: 68 | O62: 66 | P62: 66 | Q62: 67 | R62: 63 | S62: 62 | T62: 65 | U62: 62 | V62: 60 | W62: 58 | X62: 55 | Y62: 54 | Z62: 52 | AA62: 49 | AB62: 47 | AC62: 45 | AD62: 43 | AE62: 41 | AF62: - | AH62: {=[1]!dbsum(H62:J62)} -> 81.6 | AI62: {=[1]!dbsum(K62:M62)} -> 79.8 | AJ62: {=[1]!dbsum(N62:P62)} -> 71.5 | AK62: {=[1]!dbsum(Q62:S62)} -> 69.3 | AL62: {=[1]!dbsum(T62:V62)} -> 67.6 | AM62: {=[1]!dbsum(W62:Y62)} -> 60.8 | AN62: {=[1]!dbsum(Z62:AB62)} -> 54.6 | AO62: {=[1]!dbsum(AC62:AE62)} -> 48.1 | AQ62: =D62 -> 31 | AR62: =G62 -> On gantry - 1m from AT1a aerator to N | AS62: =H62+AS$11 -> 40.8 | AT62: =I62+AT$11 -> 48.8 | AU62: =J62+AU$11 -> 57.5 | AV62: =K62+AV$11 -> 59.9 | AW62: =L62+AW$11 -> 54.9 | AX62: =M62+AX$11 -> 52.6 | AY62: =N62+AY$11 -> 57.1 | AZ62: =O62+AZ$11 -> 57.4 | ... BP62: =AE62+BP$11 -> 38.5 | BQ62: =[1]!dbsum(AS62:BP62) -> 71.8
B63: 2021_Hep_WPF_32 | D63: 32 | E63: 32 | F63: 13 | G63: On gantry - 1m from AT1b aerator/blower to N | H63: - | I63: - | J63: - | K63: - | L63: - | M63: - | N63: - | O63: - | P63: - | Q63: - | R63: - | S63: - | T63: - | U63: - | V63: - | W63: - | X63: - | Y63: - | Z63: - | AA63: - | AB63: - | AC63: - | AD63: - | AE63: - | AF63: - | AH63: - | AI63: - | AJ63: - | AK63: - | AL63: - | AM63: - | AN63: - | AO63: - | AQ63: =D63 -> 32 | AR63: =G63 -> On gantry - 1m from AT1b aerator/blower to N | AS63: - | AT63: - | AU63: - | AV63: - | AW63: - | AX63: - | AY63: - | AZ63: - | BA63: - | BB63: - | BC63: - | BD63: - | BE63: - | BF63: - | BG63: - | BH63: - | BI63: - | BJ63: - | BK63: - | BL63: - | BM63: - | BN63: - | BO63: - | BP63: - | BQ63: -
B64: 2021_Hep_WPF_32a | D64: 32a | G64: Elevated microphone - 1m from AT1a aerator/blower to E | H64: 61 | I64: 62 | J64: 63 | K64: 65 | L64: 68 | M64: 71 | N64: 72 | O64: 75 | P64: 73 | Q64: 61 | R64: 65 | S64: 67 | T64: 68 | U64: 66 | V64: 64 | W64: 65 | X64: 64 | Y64: 67 | Z64: 62 | AA64: 62 | AB64: 66 | AC64: 59 | AD64: 59 | AE64: 55 | AF64: - | AH64: {=[1]!dbsum(H64:J64)} -> 66.8 | AI64: {=[1]!dbsum(K64:M64)} -> 73.4 | AJ64: {=[1]!dbsum(N64:P64)} -> 78.3 | AK64: {=[1]!dbsum(Q64:S64)} -> 69.7 | AL64: {=[1]!dbsum(T64:V64)} -> 71.1 | AM64: {=[1]!dbsum(W64:Y64)} -> 70.3 | AN64: {=[1]!dbsum(Z64:AB64)} -> 68.5 | AO64: {=[1]!dbsum(AC64:AE64)} -> 62.8 | AQ64: =D64 -> 32a | AR64: =G64 -> Elevated microphone - 1m from AT1a aerator/blower to E | AS64: =H64+AS$11 -> 30.8 | AT64: =I64+AT$11 -> 35.8 | AU64: =J64+AU$11 -> 40.5 | AV64: =K64+AV$11 -> 45.9 | AW64: =L64+AW$11 -> 51.9 | AX64: =M64+AX$11 -> 57.6 | AY64: =N64+AY$11 -> 61.1 | AZ64: =O64+AZ$11 -> 66.4 | ... BP64: =AE64+BP$11 -> 52.5 | BQ64: =[1]!dbsum(AS64:BP64) -> 77.2
B65: 2021_Hep_WPF_32b | D65: 32b | G65: Elevated microphone - 1m from AT1b aerator/blower to E | H65: 62 | I65: 62 | J65: 67 | K65: 68 | L65: 67 | M65: 65 | N65: 67 | O65: 71 | P65: 67 | Q65: 61 | R65: 62 | S65: 65 | T65: 65 | U65: 63 | V65: 62 | W65: 66 | X65: 60 | Y65: 64 | Z65: 61 | AA65: 59 | AB65: 57 | AC65: 51 | AD65: 50 | AE65: 45 | AF65: - | AH65: {=[1]!dbsum(H65:J65)} -> 69.1 | AI65: {=[1]!dbsum(K65:M65)} -> 71.6 | AJ65: {=[1]!dbsum(N65:P65)} -> 73.5 | AK65: {=[1]!dbsum(Q65:S65)} -> 67.8 | AL65: {=[1]!dbsum(T65:V65)} -> 68.3 | AM65: {=[1]!dbsum(W65:Y65)} -> 68.7 | AN65: {=[1]!dbsum(Z65:AB65)} -> 64.1 | AO65: {=[1]!dbsum(AC65:AE65)} -> 54.1 | AQ65: =D65 -> 32b | AR65: =G65 -> Elevated microphone - 1m from AT1b aerator/blower to E | AS65: =H65+AS$11 -> 31.8 | AT65: =I65+AT$11 -> 35.8 | AU65: =J65+AU$11 -> 44.5 | AV65: =K65+AV$11 -> 48.9 | AW65: =L65+AW$11 -> 50.9 | AX65: =M65+AX$11 -> 51.6 | AY65: =N65+AY$11 -> 56.1 | AZ65: =O65+AZ$11 -> 62.4 | ... BP65: =AE65+BP$11 -> 42.5 | BQ65: =[1]!dbsum(AS65:BP65) -> 74.2
B66: 2021_Hep_WPF_33 | D66: 33 | E66: 33 | G66: 2m from pumps to front of UF / RO feed / storage tanks | H66: 67 | I66: 64 | J66: 66 | K66: 67 | L66: 65 | M66: 67 | N66: 69 | O66: 68 | P66: 66 | Q66: 65 | R66: 66 | S66: 66 | T66: 65 | U66: 66 | V66: 65 | W66: 65 | X66: 62 | Y66: 64 | Z66: 62 | AA66: 60 | AB66: 59 | AC66: 54 | AD66: 57 | AE66: 51 | AF66: - | AH66: {=[1]!dbsum(H66:J66)} -> 70.6 | AI66: {=[1]!dbsum(K66:M66)} -> 71.2 | AJ66: {=[1]!dbsum(N66:P66)} -> 72.6 | AK66: {=[1]!dbsum(Q66:S66)} -> 70.5 | AL66: {=[1]!dbsum(T66:V66)} -> 70.1 | AM66: {=[1]!dbsum(W66:Y66)} -> 68.6 | AN66: {=[1]!dbsum(Z66:AB66)} -> 65.3 | AO66: {=[1]!dbsum(AC66:AE66)} -> 59.4 | AQ66: =D66 -> 33 | AR66: =G66 -> 2m from pumps to front of UF / RO feed / storage tanks | AS66: =H66+AS$11 -> 36.8 | AT66: =I66+AT$11 -> 37.8 | AU66: =J66+AU$11 -> 43.5 | AV66: =K66+AV$11 -> 47.9 | AW66: =L66+AW$11 -> 48.9 | AX66: =M66+AX$11 -> 53.6 | AY66: =N66+AY$11 -> 58.1 | AZ66: =O66+AZ$11 -> 59.4 | ... BP66: =AE66+BP$11 -> 48.5 | BQ66: =[1]!dbsum(AS66:BP66) -> 75.2
B67: 2021_Hep_WPF_34 | D67: 34 | E67: 34 | F67: 20 | G67: At site boundary 2m from pumps | H67: 63 | I67: 58 | J67: 57 | K67: 58 | L67: 56 | M67: 56 | N67: 60 | O67: 67 | P67: 56 | Q67: 55 | R67: 55 | S67: 55 | T67: 56 | U67: 54 | V67: 63 | W67: 59 | X67: 60 | Y67: 59 | Z67: 61 | AA67: 57 | AB67: 58 | AC67: 61 | AD67: 62 | AE67: 53 | AF67: - | AH67: {=[1]!dbsum(H67:J67)} -> 65 | AI67: {=[1]!dbsum(K67:M67)} -> 61.5 | AJ67: {=[1]!dbsum(N67:P67)} -> 68.1 | AK67: {=[1]!dbsum(Q67:S67)} -> 59.8 | AL67: {=[1]!dbsum(T67:V67)} -> 64.2 | AM67: {=[1]!dbsum(W67:Y67)} -> 64.1 | AN67: {=[1]!dbsum(Z67:AB67)} -> 63.8 | AO67: {=[1]!dbsum(AC67:AE67)} -> 64.8 | AQ67: =D67 -> 34 | AR67: =G67 -> At site boundary 2m from pumps | AS67: =H67+AS$11 -> 32.8 | AT67: =I67+AT$11 -> 31.8 | AU67: =J67+AU$11 -> 34.5 | AV67: =K67+AV$11 -> 38.9 | AW67: =L67+AW$11 -> 39.9 | AX67: =M67+AX$11 -> 42.6 | AY67: =N67+AY$11 -> 49.1 | AZ67: =O67+AZ$11 -> 58.4 | ... BP67: =AE67+BP$11 -> 50.5 | BQ67: =[1]!dbsum(AS67:BP67) -> 71.2
B68: 2021_Hep_WPF_35 | D68: 35 | G68: 1m from ARP | H68: 61 | I68: 53 | J68: 51 | K68: 51 | L68: 51 | M68: 52 | N68: 52 | O68: 49 | P68: 50 | Q68: 54 | R68: 53 | S68: 49 | T68: 53 | U68: 50 | V68: 51 | W68: 52 | X68: 48 | Y68: 48 | Z68: 46 | AA68: 48 | AB68: 42 | AC68: 46 | AD68: 64 | AE68: 51 | AF68: - | AH68: {=[1]!dbsum(H68:J68)} -> 62 | AI68: {=[1]!dbsum(K68:M68)} -> 56.1 | AJ68: {=[1]!dbsum(N68:P68)} -> 55.3 | AK68: {=[1]!dbsum(Q68:S68)} -> 57.2 | AL68: {=[1]!dbsum(T68:V68)} -> 56.3 | AM68: {=[1]!dbsum(W68:Y68)} -> 54.5 | AN68: {=[1]!dbsum(Z68:AB68)} -> 50.7 | AO68: {=[1]!dbsum(AC68:AE68)} -> 64.3 | AQ68: =D68 -> 35 | AR68: =G68 -> 1m from ARP | AS68: =H68+AS$11 -> 30.8 | AT68: =I68+AT$11 -> 26.8 | AU68: =J68+AU$11 -> 28.5 | AV68: =K68+AV$11 -> 31.9 | AW68: =L68+AW$11 -> 34.9 | AX68: =M68+AX$11 -> 38.6 | AY68: =N68+AY$11 -> 41.1 | AZ68: =O68+AZ$11 -> 40.4 | ... BP68: =AE68+BP$11 -> 48.5 | BQ68: =[1]!dbsum(AS68:BP68) -> 65.2
B69: 2021_Hep_WPF_36 | D69: 36 | G69: 1m to rear of Reverse Osmosis (RO) containers | H69: 65 | I69: 56 | J69: 56 | K69: 54 | L69: 52 | M69: 54 | N69: 55 | O69: 57 | P69: 53 | Q69: 53 | R69: 58 | S69: 52 | T69: 50 | U69: 49 | V69: 48 | W69: 48 | X69: 47 | Y69: 44 | Z69: 41 | AA69: 42 | AB69: 38 | AC69: 37 | AD69: 51 | AE69: 38 | AF69: - | AH69: {=[1]!dbsum(H69:J69)} -> 66 | AI69: {=[1]!dbsum(K69:M69)} -> 58.2 | AJ69: {=[1]!dbsum(N69:P69)} -> 60.1 | AK69: {=[1]!dbsum(Q69:S69)} -> 60 | AL69: {=[1]!dbsum(T69:V69)} -> 53.8 | AM69: {=[1]!dbsum(W69:Y69)} -> 51.4 | AN69: {=[1]!dbsum(Z69:AB69)} -> 45.4 | AO69: {=[1]!dbsum(AC69:AE69)} -> 51.4 | AQ69: =D69 -> 36 | AR69: =G69 -> 1m to rear of Reverse Osmosis (RO) containers | AS69: =H69+AS$11 -> 34.8 | AT69: =I69+AT$11 -> 29.8 | AU69: =J69+AU$11 -> 33.5 | AV69: =K69+AV$11 -> 34.9 | AW69: =L69+AW$11 -> 35.9 | AX69: =M69+AX$11 -> 40.6 | AY69: =N69+AY$11 -> 44.1 | AZ69: =O69+AZ$11 -> 48.4 | ... BP69: =AE69+BP$11 -> 35.5 | BQ69: =[1]!dbsum(AS69:BP69) -> 60.8
B70: 2021_Hep_WPF_37 | D70: 37 | G70: 1m to front at side of Reverse Osmosis (RO) containers | H70: 60 | I70: 56 | J70: 65 | K70: 54 | L70: 54 | M70: 53 | N70: 54 | O70: 51 | P70: 50 | Q70: 53 | R70: 52 | S70: 51 | T70: 53 | U70: 51 | V70: 53 | W70: 52 | X70: 48 | Y70: 46 | Z70: 44 | AA70: 42 | AB70: 38 | AC70: 33 | AD70: 31 | AE70: 26 | AF70: - | AH70: {=[1]!dbsum(H70:J70)} -> 66.6 | AI70: {=[1]!dbsum(K70:M70)} -> 58.5 | AJ70: {=[1]!dbsum(N70:P70)} -> 56.8 | AK70: {=[1]!dbsum(Q70:S70)} -> 56.8 | AL70: {=[1]!dbsum(T70:V70)} -> 57.2 | AM70: {=[1]!dbsum(W70:Y70)} -> 54.2 | AN70: {=[1]!dbsum(Z70:AB70)} -> 46.7 | AO70: {=[1]!dbsum(AC70:AE70)} -> 35.6 | AQ70: =D70 -> 37 | AR70: =G70 -> 1m to front at side of Reverse Osmosis (RO) containers | AS70: =H70+AS$11 -> 29.8 | AT70: =I70+AT$11 -> 29.8 | AU70: =J70+AU$11 -> 42.5 | AV70: =K70+AV$11 -> 34.9 | AW70: =L70+AW$11 -> 37.9 | AX70: =M70+AX$11 -> 39.6 | AY70: =N70+AY$11 -> 43.1 | AZ70: =O70+AZ$11 -> 42.4 | ... BP70: =AE70+BP$11 -> 23.5 | BQ70: =[1]!dbsum(AS70:BP70) -> 61
B71: 2021_Hep_WPF_38 | D71: 38 | G71: 1m to front at centre of Reverse Osmosis (RO)containers | H71: 60 | I71: 50 | J71: 55 | K71: 56 | L71: 55 | M71: 56 | N71: 54 | O71: 53 | P71: 57 | Q71: 49 | R71: 47 | S71: 45 | T71: 43 | U71: 43 | V71: 45 | W71: 41 | X71: 40 | Y71: 41 | Z71: 40 | AA71: 41 | AB71: 38 | AC71: 35 | AD71: 37 | AE71: 32 | AF71: - | AH71: {=[1]!dbsum(H71:J71)} -> 61.5 | AI71: {=[1]!dbsum(K71:M71)} -> 60.5 | AJ71: {=[1]!dbsum(N71:P71)} -> 59.8 | AK71: {=[1]!dbsum(Q71:S71)} -> 52.1 | AL71: {=[1]!dbsum(T71:V71)} -> 48.5 | AM71: {=[1]!dbsum(W71:Y71)} -> 45.5 | AN71: {=[1]!dbsum(Z71:AB71)} -> 44.6 | AO71: {=[1]!dbsum(AC71:AE71)} -> 39.9 | AQ71: =D71 -> 38 | AR71: =G71 -> 1m to front at centre of Reverse Osmosis (RO)containers | AS71: =H71+AS$11 -> 29.8 | AT71: =I71+AT$11 -> 23.8 | AU71: =J71+AU$11 -> 32.5 | AV71: =K71+AV$11 -> 36.9 | AW71: =L71+AW$11 -> 38.9 | AX71: =M71+AX$11 -> 42.6 | AY71: =N71+AY$11 -> 43.1 | AZ71: =O71+AZ$11 -> 44.4 | ... BP71: =AE71+BP$11 -> 29.5 | BQ71: =[1]!dbsum(AS71:BP71) -> 56.3

Sheet Hepworth 2020 - WPF Meas
D2: Water Processing Facility
D4: Measurements Hepworth Acoustics during 2020 Survey Visits.
B6: Assessment Data Ref. | K6: Noise Level L90, dB - LINEAR
B7: WSP Data Ref. | K7: Third octave Band Centre Frequency (Hz)
D8: Plan Location | E8: Mic Location | F8: Measurement Notes | G8: LAeq | H8: LAFmax | I8: LA10 | J8: LA90 | K8: 25 | L8: 31.5 | M8: 40 | N8: 50 | O8: 63 | P8: 80 | Q8: 100 | R8: 125 | S8: 160 | T8: 200 | U8: 250 | V8: 315 | W8: 400 | X8: 500 | Y8: 630 | Z8: 800 | AA8: 1000 | AB8: 1250 | AC8: 1600 | AD8: 2000 | AE8: 2500 | AF8: 3150 | AG8: 4000 | AH8: 5000 | AI8: 6300 | AJ8: 8000 | AK8: 10000 | AL8: 12500 | AM8: 16000 | AN8: 20000
B9: 2020_Hep_WPF_39 | D9: 16 | E9: ~1m above tank edge | F9: Divert | G9: 68 | H9: 69.8 | I9: 68.5 | J9: 67.4 | K9: 64.6 | L9: 60.9 | M9: 62.2 | N9: 62.1 | O9: 59.9 | P9: 59.8 | Q9: 56.4 | R9: 58.6 | S9: 58 | T9: 57.4 | U9: 57.6 | V9: 58.4 | W9: 58.2 | X9: 58.1 | Y9: 58.1 | Z9: 59.2 | AA9: 59 | AB9: 58 | AC9: 56.5 | AD9: 53.4 | AE9: 50.8 | AF9: 49 | AG9: 48.7 | AH9: 45.6 | AI9: 42.4 | AJ9: 40.7 | AK9: 35.5 | AL9: 30.9 | AM9: 24.2 | AN9: 16.6
B10: 2020_Hep_WPF_40 | D10: 17 | E10: ~1m above tank edges | F10: Between tanks | G10: 70.6 | H10: 71.8 | I10: 70.9 | J10: 70.3 | K10: 64.5 | L10: 63.5 | M10: 62.2 | N10: 61.4 | O10: 59.2 | P10: 58.8 | Q10: 57.9 | R10: 58.6 | S10: 58.7 | T10: 59.6 | U10: 59.2 | V10: 59.1 | W10: 59.8 | X10: 60.9 | Y10: 60 | Z10: 61.4 | AA10: 61.7 | AB10: 61.7 | AC10: 60 | AD10: 57 | AE10: 55.4 | AF10: 53 | AG10: 52.3 | AH10: 49 | AI10: 45.9 | AJ10: 44.7 | AK10: 39.2 | AL10: 34.6 | AM10: 28.1 | AN10: 20.8
B11: 2020_Hep_WPF_41 | D11: 18 | E11: ~1m above tank edge | F11: BT1 | G11: 68.7 | H11: 70.9 | I11: 69.1 | J11: 68.3 | K11: 63.4 | L11: 62.4 | M11: 62.1 | N11: 59.9 | O11: 59.9 | P11: 60.1 | Q11: 58.5 | R11: 59.6 | S11: 58.5 | T11: 59.3 | U11: 59.8 | V11: 59.7 | W11: 59 | X11: 58.6 | Y11: 58.4 | Z11: 59.5 | AA11: 59.4 | AB11: 58.7 | AC11: 57.1 | AD11: 54.9 | AE11: 53.1 | AF11: 51.4 | AG11: 51.2 | AH11: 48.7 | AI11: 45.9 | AJ11: 44.3 | AK11: 39.7 | AL11: 35.4 | AM11: 30.2 | AN11: 23.4
B12: 2020_Hep_WPF_42 | D12: 19 | E12: ~1m above tank cover, ~5 in from edge | F12: Divert | G12: 63 | H12: 63.8 | I12: 63.3 | J12: 62.6 | K12: 68.9 | L12: 62.5 | M12: 61.8 | N12: 61.3 | O12: 57.6 | P12: 56.6 | Q12: 55.6 | R12: 56.2 | S12: 55.3 | T12: 55.6 | U12: 56.1 | V12: 55.1 | W12: 54.9 | X12: 54.5 | Y12: 52.7 | Z12: 53 | AA12: 51.8 | AB12: 53.3 | AC12: 52.3 | AD12: 50 | AE12: 46.6 | AF12: 44.9 | AG12: 43 | AH12: 40.6 | AI12: 37.6 | AJ12: 33.9 | AK12: 29.1 | AL12: 25.1 | AM12: 17.9 | AN12: 10.5
B13: 2020_Hep_WPF_43 | D13: 20 | E13: ~1m above tank cover, ~5 in from edge | F13: BT1 | G13: 66 | H13: 67 | I13: 66.4 | J13: 65.6 | K13: 62.4 | L13: 62.5 | M13: 60.4 | N13: 59.6 | O13: 57.7 | P13: 56.3 | Q13: 57.4 | R13: 60 | S13: 60.5 | T13: 60.7 | U13: 60.7 | V13: 60.5 | W13: 59.1 | X13: 58.6 | Y13: 56.6 | Z13: 55.1 | AA13: 53.8 | AB13: 54.7 | AC13: 52.6 | AD13: 52.4 | AE13: 48.4 | AF13: 47 | AG13: 44.9 | AH13: 42.2 | AI13: 39.2 | AJ13: 36 | AK13: 33.3 | AL13: 30.5 | AM13: 25.2 | AN13: 17.6
D15: Measurement Locations
D17: Covered BT1 and Divert Tank Measurements
D18: Locations 16 to 20

Sheet Hepworth 2021 - WPF Meas
D2: Water Processing Facility
D4: Measurements Hepworth Acoustics during 2021 Survey Visits.
B6: Assessment Data Ref. | K6: Noise Level L90, dB - LINEAR
B7: WSP Data Ref. | K7: Third octave Band Centre Frequency (Hz)
D8: Plan Location | E8: Mic Location | F8: Measurement Notes | G8: LAeq | H8: LAFmax | I8: LA10 | J8: LA90 | K8: 25 | L8: 31.5 | M8: 40 | N8: 50 | O8: 63 | P8: 80 | Q8: 100 | R8: 125 | S8: 160 | T8: 200 | U8: 250 | V8: 315 | W8: 400 | X8: 500 | Y8: 630 | Z8: 800 | AA8: 1000 | AB8: 1250 | AC8: 1600 | AD8: 2000 | AE8: 2500 | AF8: 3150 | AG8: 4000 | AH8: 5000 | AI8: 6300 | AJ8: 8000 | AK8: 10000 | AL8: 12500 | AM8: 16000 | AN8: 20000
B9: 2021_Hep_WPF_42 | D9: 19 | E9: 1m above Divert Tank, ~5m in from edge | F9: Repeat of 2020 measurement | G9: 62.6 | H9: 63.3 | I9: 63.1 | J9: 62.2 | K9: 61 | L9: 58.4 | M9: 61.2 | N9: 63.3 | O9: 56.4 | P9: 58.1 | Q9: 58.9 | R9: 57.3 | S9: 56.4 | T9: 57.3 | U9: 55.6 | V9: 57 | W9: 56.1 | X9: 54.9 | Y9: 52.3 | Z9: 51.6 | AA9: 51.2 | AB9: 51.8 | AC9: 51.8 | AD9: 47.4 | AE9: 44.9 | AF9: 43.7 | AG9: 42.4 | AH9: 38.1 | AI9: 34.9 | AJ9: 32.2 | AK9: 25.5 | AL9: 20.5 | AM9: 14.9 | AN9: 9.8
B10: 2021_Hep_WPF_43 | D10: 20 | E10: 1m above BT1, ~5m in from edge | F10: Repeat of 2020 measurement | G10: 66.8 | H10: 67.8 | I10: 67.2 | J10: 66.5 | K10: 62.7 | L10: 63.1 | M10: 67.7 | N10: 62.7 | O10: 60 | P10: 61.5 | Q10: 61.1 | R10: 61 | S10: 61.9 | T10: 62 | U10: 60.5 | V10: 62.2 | W10: 62 | X10: 59.8 | Y10: 57.2 | Z10: 55.4 | AA10: 54 | AB10: 53.3 | AC10: 54.1 | AD10: 53.6 | AE10: 48 | AF10: 46.6 | AG10: 44.4 | AH10: 42 | AI10: 38.6 | AJ10: 35.6 | AK10: 31.1 | AL10: 27.9 | AM10: 22.6 | AN10: 14.3
B11: 2021_Hep_WPF_44 | D11: 21 | E11: In-between Fan Stack and Dry Scrubber 2 | F11: Isolated measurements of induvial items not practicable | G11: 75.5 | H11: 76.1 | I11: 75.8 | J11: 75.1 | K11: 57 | L11: 61.1 | M11: 63.6 | N11: 71 | O11: 63.6 | P11: 62.3 | Q11: 66.8 | R11: 67.6 | S11: 65.7 | T11: 63 | U11: 62.3 | V11: 65 | W11: 62.4 | X11: 64 | Y11: 63.5 | Z11: 65.3 | AA11: 67.9 | AB11: 66.5 | AC11: 63.9 | AD11: 63.6 | AE11: 58.3 | AF11: 57.9 | AG11: 57.6 | AH11: 59.8 | AI11: 56.9 | AJ11: 53.1 | AK11: 53 | AL11: 53.9 | AM11: 49.5 | AN11: 46.1
B12: 2021_Hep_WPF_45 | D12: 22 | E12: In-between Dry2 and Dry Scrubber 1 | G12: 69.3 | H12: 70.6 | I12: 69.7 | J12: 68.9 | K12: 60.7 | L12: 61.7 | M12: 62.9 | N12: 64.4 | O12: 61.3 | P12: 59.5 | Q12: 61.6 | R12: 61.4 | S12: 59.4 | T12: 60.8 | U12: 60.4 | V12: 59.7 | W12: 61.2 | X12: 59.6 | Y12: 57.7 | Z12: 58 | AA12: 59.4 | AB12: 58.3 | AC12: 58 | AD12: 55.4 | AE12: 53.9 | AF12: 55.4 | AG12: 54.1 | AH12: 51.5 | AI12: 48.3 | AJ12: 46.1 | AK12: 42.9 | AL12: 40.1 | AM12: 35.5 | AN12: 28.1
B13: 2021_Hep_WPF_46 | D13: 23 | E13: In-between Dry Scrubber 1 and Wet Scrubber | G13: 69.6 | H13: 71.7 | I13: 69.9 | J13: 69.2 | K13: 63.4 | L13: 61.8 | M13: 63.5 | N13: 63.8 | O13: 58.4 | P13: 59.8 | Q13: 61 | R13: 60.2 | S13: 60.6 | T13: 60.7 | U13: 57.4 | V13: 58.3 | W13: 59.5 | X13: 59.9 | Y13: 58.3 | Z13: 57.7 | AA13: 58.2 | AB13: 59 | AC13: 57.8 | AD13: 57 | AE13: 56.5 | AF13: 55.1 | AG13: 54 | AH13: 52.5 | AI13: 50.1 | AJ13: 47.8 | AK13: 44.1 | AL13: 42.4 | AM13: 37.6 | AN13: 32
B14: 2021_Hep_WPF_47 | D14: 38 | E14: 1m from BT 1 Aeration Landia Pump | F14: Pump on North side of BT1 | G14: 77.4 | H14: 78.9 | I14: 78 | J14: 76.8 | K14: 63.1 | L14: 56.5 | M14: 59.1 | N14: 61.8 | O14: 59.4 | P14: 60.7 | Q14: 57.2 | R14: 61.2 | S14: 58.8 | T14: 58.5 | U14: 59.5 | V14: 58.3 | W14: 59.5 | X14: 62.7 | Y14: 59.6 | Z14: 65.1 | AA14: 66.3 | AB14: 69.4 | AC14: 70.5 | AD14: 62.1 | AE14: 59.1 | AF14: 65.2 | AG14: 64 | AH14: 50.6 | AI14: 48.4 | AJ14: 45.9 | AK14: 41.2 | AL14: 38.2 | AM14: 33.9 | AN14: 29.1
B15: 2021_Hep_WPF_48 | D15: 39 | E15: 1m from BT 1 Aeration Landia Pump | F15: Pump on West side of BT1 | G15: 76.9 | H15: 77.7 | I15: 77.2 | J15: 76.5 | K15: 60.5 | L15: 59.3 | M15: 60.6 | N15: 60.9 | O15: 58.5 | P15: 60.3 | Q15: 59 | R15: 59.9 | S15: 62.3 | T15: 62.2 | U15: 61.1 | V15: 60.2 | W15: 62.5 | X15: 62.8 | Y15: 62.9 | Z15: 67.8 | AA15: 67.6 | AB15: 68.3 | AC15: 67.2 | AD15: 64.5 | AE15: 63.6 | AF15: 63.1 | AG15: 60.3 | AH15: 56 | AI15: 53.8 | AJ15: 53 | AK15: 48.8 | AL15: 45.4 | AM15: 40.8 | AN15: 36.6
B16: 2021_Hep_WPF_49 | D16: 40 | E16: 1m from BT 1 Aeration Landia Pump | F16: Pump on South side of BT1 | G16: 78.9 | H16: 80.1 | I16: 79.4 | J16: 78.2 | K16: 62.5 | L16: 60 | M16: 60.1 | N16: 66.8 | O16: 62.5 | P16: 63.9 | Q16: 63.2 | R16: 64.5 | S16: 66.5 | T16: 65.3 | U16: 62.1 | V16: 65.4 | W16: 66.1 | X16: 68.4 | Y16: 65.6 | Z16: 68 | AA16: 69.8 | AB16: 70.6 | AC16: 67.4 | AD16: 66.8 | AE16: 62 | AF16: 59.9 | AG16: 57.5 | AH16: 54.3 | AI16: 51.4 | AJ16: 49.2 | AK16: 46 | AL16: 41.8 | AM16: 36.1 | AN16: 29.1
B17: 2021_Hep_WPF_50 | D17: 41 | E17: 1m from BT 1 Aeration Landia Pump | F17: Pump on East side of BT1 | G17: 79.6 | H17: 80.4 | I17: 79.9 | J17: 79.1 | K17: 64.6 | L17: 59.6 | M17: 58.5 | N17: 60.2 | O17: 61.3 | P17: 63 | Q17: 62 | R17: 62.5 | S17: 63.6 | T17: 62.6 | U17: 61.6 | V17: 63.8 | W17: 63.6 | X17: 67.1 | Y17: 65.4 | Z17: 69.8 | AA17: 71.4 | AB17: 71.8 | AC17: 70 | AD17: 66.5 | AE17: 64.7 | AF17: 63.1 | AG17: 61.1 | AH17: 57.7 | AI17: 54.7 | AJ17: 53.2 | AK17: 48.8 | AL17: 44 | AM17: 39.7 | AN17: 34.3
B18: 2021_Hep_WPF_51 | D18: - | E18: - | F18: AFM Filtration Tanks - Quiet Item, no measurements undertaken | G18: - | H18: - | I18: - | J18: - | K18: - | L18: - | M18: - | N18: - | O18: - | P18: - | Q18: - | R18: - | S18: - | T18: - | U18: - | V18: - | W18: - | X18: - | Y18: - | Z18: - | AA18: - | AB18: - | AC18: - | AD18: - | AE18: - | AF18: - | AG18: - | AH18: - | AI18: - | AJ18: - | AK18: - | AL18: - | AM18: - | AN18: -
D20: Measurement Locations:
D22: Covered BT1 and Divert Tank Measurements | I22: OCU Measurements | W22: BT 1 Landia Pumps | AH22: AFM Filtration Tanks
D23: Locations 19 and 20 | I23: Locations 21 to 23 | W23: Locations 38 to 41 | AH23: Quite - No meas. possible
X45: Example Pump

Sheet WSP 2022 Surey - Tertiary Filts
D2: Water Processing Facility
C4: WSP 2022 Tertiary Filters Noise Survey
B6: Assessment Data Ref. | J6: Noise Level L90, dB - LINEAR
B7: WSP Data Ref. | J7: Third octave Band Centre Frequency (Hz)
D8: Mic Location | E8: Measurement Notes | F8: LAeq | G8: LAFmax | H8: LA10 | I8: LA90 | J8: 50 | K8: 63 | L8: 80 | M8: 100 | N8: 125 | O8: 160 | P8: 200 | Q8: 250 | R8: 315 | S8: 400 | T8: 500 | U8: 630 | V8: 800 | W8: 1000 | X8: 1250 | Y8: 1600 | Z8: 2000 | AA8: 2500 | AB8: 3150 | AC8: 4000 | AD8: 5000 | AE8: 6300 | AF8: 8000 | AG8: 10000
B9: 2022_WSP_WPF_1 | D9: Filtrate tank | E9: 1m from right-hand side inlet pipe (1 min. meas.) | F9: 75.4 | G9: 78.1 | H9: 76.5 | I9: 73.4 | J9: 60.3 | K9: 56.2 | L9: 59.3 | M9: 65.5 | N9: 59.2 | O9: 60.3 | P9: 59.3 | Q9: 58.4 | R9: 62 | S9: 62.8 | T9: 62.9 | U9: 65.4 | V9: 64.6 | W9: 64.3 | X9: 63.5 | Y9: 62.1 | Z9: 61.3 | AA9: 60.3 | AB9: 59.8 | AC9: 58.8 | AD9: 57.1 | AE9: 55 | AF9: 53.1 | AG9: 51.7
B10: 2022_WSP_WPF_2 | D10: Transfer pumps: Left of filtrate tank | E10: 1m from transfer pumps (1 min. meas.) | F10: 69.3 | G10: 70.3 | H10: 69.7 | I10: 68.8 | J10: 59.6 | K10: 56.6 | L10: 59.1 | M10: 59.2 | N10: 55.5 | O10: 55.6 | P10: 54.4 | Q10: 54.7 | R10: 58.2 | S10: 56.7 | T10: 57 | U10: 56.6 | V10: 55.7 | W10: 57.5 | X10: 59.4 | Y10: 55.7 | Z10: 53.7 | AA10: 53 | AB10: 53.8 | AC10: 62.4 | AD10: 50.6 | AE10: 47 | AF10: 50.9 | AG10: 43.8
B11: 2022_WSP_WPF_3 | D11: Transfer pumps: Right of filtrate tank | E11: 1m from transfer pumps (1 min. meas.) | F11: 71.8 | G11: 74.1 | H11: 73.2 | I11: 68.5 | J11: 58 | K11: 53.7 | L11: 57.6 | M11: 57.9 | N11: 54.3 | O11: 54 | P11: 55.2 | Q11: 54.8 | R11: 56.6 | S11: 54.7 | T11: 56.5 | U11: 58.1 | V11: 60.6 | W11: 56.7 | X11: 57.2 | Y11: 56.9 | Z11: 54.6 | AA11: 53.8 | AB11: 56.4 | AC11: 57.4 | AD11: 57.1 | AE11: 54.2 | AF11: 54.3 | AG11: 50.8
B12: 2022_WSP_WPF_4 | D12: Tertiary filters | E12: 1m from right-hand side tertiary filter (1 min. meas.) | F12: 77.6 | G12: 80.8 | H12: 79.9 | I12: 74.8 | J12: 60.1 | K12: 58.1 | L12: 66.1 | M12: 66.7 | N12: 62.6 | O12: 58.9 | P12: 60.4 | Q12: 59.7 | R12: 63.1 | S12: 60.8 | T12: 60.9 | U12: 62.5 | V12: 62.7 | W12: 64.3 | X12: 63.2 | Y12: 64 | Z12: 63.3 | AA12: 63.5 | AB12: 63.2 | AC12: 62.8 | AD12: 62.5 | AE12: 60.9 | AF12: 59.8 | AG12: 58.9
C14: Measurement Locations:
M15: Filtrate tank measurement | T15: Transfer pumps: Left of filtrate tank | AA15: Transfer pumps: Right of filtrate tank | AH15: Tertiary filter
C16: Covered BT1 and Divert Tank Measurements
C17: Locations 19 and 20
D52: water recovery plant
D53: water discharge location (W2)

Sheet Agitator and Top Mixer
B2: MANUFACTURER DATA
K4: Assessment Data Ref.
M6: LAeq, dB | N6: Distance (m) | O6: Notes
B7: Telephone conversation with SPX Technical (0161 2491170), 19 June 2019: JP requested Nosie emission data for the agitator and top mixer options. Advised that expected noise levels for the agitators and mixers are significantly lower than those stated in product literature (see blow), and more typically 70dB(A) @ 1m. i.e. that the 85dB(A) referenced in the product literature is indeed a 'maximum' as stated, covering a host of different agitator options. In particular, much lower levels can be expected for the agitators proposed for use in this case. | K7: Manufacturer_1 | M7: 70 | N7: 1 | O7: Actual - See results of consultation to the left
K8: Manufacturer_2 | M8: <85 | N8: 1 | O8: Maximum - See product docs below
A10: Source Doc 1 - S-Series Model
A24: Source Doc 2 - XDQ MODEL

Sheet Creamery #2
C2: Relevant Source Data
K4: Noise Level L90, dB - LINEAR
G5: Source Data | K5: Third octave Band Centre Frequency (Hz)
C6: Data Source Tab | D6: Assessment Data Ref | E6: Data Type | F6: Plant | G6: ='Agitator and Top Mixer'!M6 -> LAeq, dB | H6: ='Agitator and Top Mixer'!N6 -> Distance (m) | I6: Notes | K6: 25 | L6: 31.5 | M6: 40 | N6: 50 | O6: 63 | P6: 80 | Q6: 100 | R6: 125 | S6: 160 | T6: 200 | U6: 250 | V6: 315 | W6: 400 | X6: 500 | Y6: 630 | Z6: 800 | AA6: 1000 | AB6: 1250 | AC6: 1600 | AD6: 2000 | AE6: 2500 | AF6: 3150 | AG6: 4000 | AH6: 5000 | AI6: 6300 | AJ6: 8000 | AK6: 10000 | AL6: 12500 | AM6: 16000 | AN6: 20000
C7: Agitator and Top Mixer | D7: Manufacturer_1 | E7: Manufacturer Data | F7: Agitators and Top Mixers | G7: ='Agitator and Top Mixer'!M7 -> 70 | H7: ='Agitator and Top Mixer'!N7 -> 1 | I7: Realistic manufacturer advised expected level | K7: - | L7: - | M7: - | N7: - | O7: - | P7: - | Q7: - | R7: - | S7: - | T7: - | U7: - | V7: - | W7: - | X7: - | Y7: - | Z7: - | AA7: - | AB7: - | AC7: - | AD7: - | AE7: - | AF7: - | AG7: - | AH7: - | AI7: - | AJ7: - | AK7: - | AL7: - | AM7: - | AN7: -
D8: Manufacturer_2 | G8: ='Agitator and Top Mixer'!M8 -> <85 | H8: ='Agitator and Top Mixer'!N8 -> 1 | I8: Stated ‘maximum’ level is simply a statement that emissions do not exceed noise exposure legislative thresholds rather than accurate noise emission data - Substantially lower levels expected | K8: - | L8: - | M8: - | N8: - | O8: - | P8: - | Q8: - | R8: - | S8: - | T8: - | U8: - | V8: - | W8: - | X8: - | Y8: - | Z8: - | AA8: - | AB8: - | AC8: - | AD8: - | AE8: - | AF8: - | AG8: - | AH8: - | AI8: - | AJ8: - | AK8: - | AL8: - | AM8: - | AN8: -
D9: 2018_Hep__CRM_31 | G9: ='Hepworth 2 Source Data-Creamery'!F17 -> <85 | H9: ='Hepworth 2 Source Data-Creamery'!G17 -> 1 | K9: - | L9: - | M9: - | N9: - | O9: - | P9: - | Q9: - | R9: - | S9: - | T9: - | U9: - | V9: - | W9: - | X9: - | Y9: - | Z9: - | AA9: - | AB9: - | AC9: - | AD9: - | AE9: - | AF9: - | AG9: - | AH9: - | AI9: - | AJ9: - | AK9: - | AL9: - | AM9: - | AN9: -
C10: Hepworth 2020 - Creamery Meas | D10: ='Hepworth 2020 - Creamery Meas'!B11 -> 2020_Hep__CRM_2a | E10: Measurement Data | F10: Agitators and Top Mixers | G10: ='Hepworth 2020 - Creamery Meas'!G11 -> 71.8 | H10: between 2 and 4 m | I10: ='Hepworth 2020 - Creamery Meas'!F11 -> difficult to be sure what's going on, but measurements typically believed to be mostly due to nearest agitator…. where >72 more stuff going on, where <70 less residual noise/less plant..... All agitators on/off on fairly short cycles | K10: ='Hepworth 2020 - Creamery Meas'!K11 -> 50.9 | L10: ='Hepworth 2020 - Creamery Meas'!L11 -> 56.6 | M10: ='Hepworth 2020 - Creamery Meas'!M11 -> 57.4 | N10: ='Hepworth 2020 - Creamery Meas'!N11 -> 58.1 | O10: ='Hepworth 2020 - Creamery Meas'!O11 -> 60 | P10: ='Hepworth 2020 - Creamery Meas'!P11 -> 63.3 | Q10: ='Hepworth 2020 - Creamery Meas'!Q11 -> 58.8 | R10: ='Hepworth 2020 - Creamery Meas'!R11 -> 50.7 | ... AN10: ='Hepworth 2020 - Creamery Meas'!AN11 -> 9.8
D11: ='Hepworth 2020 - Creamery Meas'!B12 -> 2020_Hep__CRM_2b | E11: Measurement Data | F11: Agitators and Top Mixers | G11: ='Hepworth 2020 - Creamery Meas'!G12 -> 72 | H11: between 2 and 4 m | K11: ='Hepworth 2020 - Creamery Meas'!K12 -> 52.8 | L11: ='Hepworth 2020 - Creamery Meas'!L12 -> 56.6 | M11: ='Hepworth 2020 - Creamery Meas'!M12 -> 57.3 | N11: ='Hepworth 2020 - Creamery Meas'!N12 -> 58.7 | O11: ='Hepworth 2020 - Creamery Meas'!O12 -> 60.2 | P11: ='Hepworth 2020 - Creamery Meas'!P12 -> 62.7 | Q11: ='Hepworth 2020 - Creamery Meas'!Q12 -> 57.8 | R11: ='Hepworth 2020 - Creamery Meas'!R12 -> 51.2 | ... AN11: ='Hepworth 2020 - Creamery Meas'!AN12 -> 9.8
D12: ='Hepworth 2020 - Creamery Meas'!B13 -> 2020_Hep__CRM_2c | E12: Measurement Data | F12: Agitators and Top Mixers | G12: ='Hepworth 2020 - Creamery Meas'!G13 -> 72.5 | H12: between 2 and 4 m | K12: ='Hepworth 2020 - Creamery Meas'!K13 -> 52.4 | L12: ='Hepworth 2020 - Creamery Meas'!L13 -> 58.2 | M12: ='Hepworth 2020 - Creamery Meas'!M13 -> 57.5 | N12: ='Hepworth 2020 - Creamery Meas'!N13 -> 59.4 | O12: ='Hepworth 2020 - Creamery Meas'!O13 -> 62 | P12: ='Hepworth 2020 - Creamery Meas'!P13 -> 63.2 | Q12: ='Hepworth 2020 - Creamery Meas'!Q13 -> 58.7 | R12: ='Hepworth 2020 - Creamery Meas'!R13 -> 50.7 | ... AN12: ='Hepworth 2020 - Creamery Meas'!AN13 -> 9.8
D13: ='Hepworth 2020 - Creamery Meas'!B14 -> 2020_Hep__CRM_3a | E13: Measurement Data | F13: Agitators and Top Mixers | G13: ='Hepworth 2020 - Creamery Meas'!G14 -> 73.2 | H13: between 2 and 4 m | K13: ='Hepworth 2020 - Creamery Meas'!K14 -> 52.9 | L13: ='Hepworth 2020 - Creamery Meas'!L14 -> 57.6 | M13: ='Hepworth 2020 - Creamery Meas'!M14 -> 58.3 | N13: ='Hepworth 2020 - Creamery Meas'!N14 -> 60.3 | O13: ='Hepworth 2020 - Creamery Meas'!O14 -> 62.8 | P13: ='Hepworth 2020 - Creamery Meas'!P14 -> 64 | Q13: ='Hepworth 2020 - Creamery Meas'!Q14 -> 60.8 | R13: ='Hepworth 2020 - Creamery Meas'!R14 -> 52.7 | ... AN13: ='Hepworth 2020 - Creamery Meas'!AN14 -> 9.9
D14: ='Hepworth 2020 - Creamery Meas'!B15 -> 2020_Hep__CRM_3b | E14: Measurement Data | F14: Agitators and Top Mixers | G14: ='Hepworth 2020 - Creamery Meas'!G15 -> 78.9 | H14: between 2 and 4 m | K14: ='Hepworth 2020 - Creamery Meas'!K15 -> 53.2 | L14: ='Hepworth 2020 - Creamery Meas'!L15 -> 55 | M14: ='Hepworth 2020 - Creamery Meas'!M15 -> 53.7 | N14: ='Hepworth 2020 - Creamery Meas'!N15 -> 55.2 | O14: ='Hepworth 2020 - Creamery Meas'!O15 -> 59.6 | P14: ='Hepworth 2020 - Creamery Meas'!P15 -> 65.6 | Q14: ='Hepworth 2020 - Creamery Meas'!Q15 -> 59.2 | R14: ='Hepworth 2020 - Creamery Meas'!R15 -> 55.6 | ... AN14: ='Hepworth 2020 - Creamery Meas'!AN15 -> 36.6
D15: ='Hepworth 2020 - Creamery Meas'!B16 -> 2020_Hep__CRM_3c | E15: Measurement Data | F15: Agitators and Top Mixers | G15: ='Hepworth 2020 - Creamery Meas'!G16 -> 75.3 | H15: between 2 and 4 m | K15: ='Hepworth 2020 - Creamery Meas'!K16 -> 54.3 | L15: ='Hepworth 2020 - Creamery Meas'!L16 -> 57.4 | M15: ='Hepworth 2020 - Creamery Meas'!M16 -> 54 | N15: ='Hepworth 2020 - Creamery Meas'!N16 -> 55.2 | O15: ='Hepworth 2020 - Creamery Meas'!O16 -> 59.7 | P15: ='Hepworth 2020 - Creamery Meas'!P16 -> 66.9 | Q15: ='Hepworth 2020 - Creamery Meas'!Q16 -> 60.9 | R15: ='Hepworth 2020 - Creamery Meas'!R16 -> 55.3 | ... AN15: ='Hepworth 2020 - Creamery Meas'!AN16 -> 32.5
D16: ='Hepworth 2020 - Creamery Meas'!B17 -> 2020_Hep__CRM_4a | E16: Measurement Data | F16: Agitators and Top Mixers | G16: ='Hepworth 2020 - Creamery Meas'!G17 -> 70.2 | H16: between 2 and 4 m | K16: ='Hepworth 2020 - Creamery Meas'!K17 -> 56.7 | L16: ='Hepworth 2020 - Creamery Meas'!L17 -> 59 | M16: ='Hepworth 2020 - Creamery Meas'!M17 -> 55.8 | N16: ='Hepworth 2020 - Creamery Meas'!N17 -> 58.5 | O16: ='Hepworth 2020 - Creamery Meas'!O17 -> 62.6 | P16: ='Hepworth 2020 - Creamery Meas'!P17 -> 57.1 | Q16: ='Hepworth 2020 - Creamery Meas'!Q17 -> 57.6 | R16: ='Hepworth 2020 - Creamery Meas'!R17 -> 53.1 | ... AN16: ='Hepworth 2020 - Creamery Meas'!AN17 -> 26.4
D17: ='Hepworth 2020 - Creamery Meas'!B18 -> 2020_Hep__CRM_4b | E17: Measurement Data | F17: Agitators and Top Mixers | G17: ='Hepworth 2020 - Creamery Meas'!G18 -> 69.8 | H17: between 2 and 4 m | K17: ='Hepworth 2020 - Creamery Meas'!K18 -> 54.6 | L17: ='Hepworth 2020 - Creamery Meas'!L18 -> 56.1 | M17: ='Hepworth 2020 - Creamery Meas'!M18 -> 54.8 | N17: ='Hepworth 2020 - Creamery Meas'!N18 -> 58.4 | O17: ='Hepworth 2020 - Creamery Meas'!O18 -> 62.3 | P17: ='Hepworth 2020 - Creamery Meas'!P18 -> 58.2 | Q17: ='Hepworth 2020 - Creamery Meas'!Q18 -> 54.2 | R17: ='Hepworth 2020 - Creamery Meas'!R18 -> 51.4 | ... AN17: ='Hepworth 2020 - Creamery Meas'!AN18 -> 23.8
D18: ='Hepworth 2020 - Creamery Meas'!B19 -> 2020_Hep__CRM_4c | E18: Measurement Data | F18: Agitators and Top Mixers | G18: ='Hepworth 2020 - Creamery Meas'!G19 -> 65.7 | H18: between 2 and 4 m | K18: ='Hepworth 2020 - Creamery Meas'!K19 -> 56.1 | L18: ='Hepworth 2020 - Creamery Meas'!L19 -> 56.3 | M18: ='Hepworth 2020 - Creamery Meas'!M19 -> 55.1 | N18: ='Hepworth 2020 - Creamery Meas'!N19 -> 53.8 | O18: ='Hepworth 2020 - Creamery Meas'!O19 -> 51.4 | P18: ='Hepworth 2020 - Creamery Meas'!P19 -> 48.6 | Q18: ='Hepworth 2020 - Creamery Meas'!Q19 -> 51.7 | R18: ='Hepworth 2020 - Creamery Meas'!R19 -> 53.8 | ... AN18: ='Hepworth 2020 - Creamery Meas'!AN19 -> 19.5
C19: Hepworth 2021 - Creamery Meas | D19: ='Hepworth 2021 - Creamery Meas'!B9 -> 2021_Hep__CRM_2_3_4 | E19: Measurement Data | F19: Agitators and Top Mixers | G19: ='Hepworth 2021 - Creamery Meas'!G9 -> 70 | H19: 1 | I19: ='Hepworth 2021 - Creamery Meas'!F9 -> definitive' agitator level - Mic elevated above silo | K19: ='Hepworth 2021 - Creamery Meas'!K9 -> 52.3 | L19: ='Hepworth 2021 - Creamery Meas'!L9 -> 59 | M19: ='Hepworth 2021 - Creamery Meas'!M9 -> 56 | N19: ='Hepworth 2021 - Creamery Meas'!N9 -> 57.9 | O19: ='Hepworth 2021 - Creamery Meas'!O9 -> 62 | P19: ='Hepworth 2021 - Creamery Meas'!P9 -> 61.2 | Q19: ='Hepworth 2021 - Creamery Meas'!Q9 -> 74.1 | R19: ='Hepworth 2021 - Creamery Meas'!R9 -> 57.3 | ... AN19: ='Hepworth 2021 - Creamery Meas'!AN9 -> 17.1
D20: ='Hepworth 2021 - Creamery Meas'!B10 -> 2021_Hep__CRM_16 | E20: Measurement Data | F20: Agitators and Top Mixers | G20: ='Hepworth 2021 - Creamery Meas'!G10 -> 68.5 | H20: 1 | I20: ='Hepworth 2021 - Creamery Meas'!F10 -> Mic Elevated above cream silo | K20: ='Hepworth 2021 - Creamery Meas'!K10 -> 52.9 | L20: ='Hepworth 2021 - Creamery Meas'!L10 -> 53.1 | M20: ='Hepworth 2021 - Creamery Meas'!M10 -> 51.9 | N20: ='Hepworth 2021 - Creamery Meas'!N10 -> 52.9 | O20: ='Hepworth 2021 - Creamery Meas'!O10 -> 53.9 | P20: ='Hepworth 2021 - Creamery Meas'!P10 -> 54.1 | Q20: ='Hepworth 2021 - Creamery Meas'!Q10 -> 56.6 | R20: ='Hepworth 2021 - Creamery Meas'!R10 -> 58.6 | ... AN20: ='Hepworth 2021 - Creamery Meas'!AN10 -> 9.9
C21: Hepworth 2020 - Creamery Meas | D21: ='Hepworth 2020 - Creamery Meas'!B9 -> 2020_Hep__CRM_1a | E21: Measurement Data | F21: Silo | G21: ='Hepworth 2020 - Creamery Meas'!G9 -> 61.3 | H21: 1 | I21: To quiet side of silos | K21: ='Hepworth 2020 - Creamery Meas'!K9 -> 50.5 | L21: ='Hepworth 2020 - Creamery Meas'!L9 -> 57.3 | M21: ='Hepworth 2020 - Creamery Meas'!M9 -> 58 | N21: ='Hepworth 2020 - Creamery Meas'!N9 -> 59.2 | O21: ='Hepworth 2020 - Creamery Meas'!O9 -> 54.7 | P21: ='Hepworth 2020 - Creamery Meas'!P9 -> 48.7 | Q21: ='Hepworth 2020 - Creamery Meas'!Q9 -> 47.6 | R21: ='Hepworth 2020 - Creamery Meas'!R9 -> 48.8 | ... AN21: ='Hepworth 2020 - Creamery Meas'!AN9 -> 9.8
D22: ='Hepworth 2020 - Creamery Meas'!B10 -> 2020_Hep__CRM_1b | E22: Measurement Data | F22: Silo | G22: ='Hepworth 2020 - Creamery Meas'!G10 -> 58.3 | H22: 1 | I22: To quiet side of silos | K22: ='Hepworth 2020 - Creamery Meas'!K10 -> 54.7 | L22: ='Hepworth 2020 - Creamery Meas'!L10 -> 57.3 | M22: ='Hepworth 2020 - Creamery Meas'!M10 -> 63.5 | N22: ='Hepworth 2020 - Creamery Meas'!N10 -> 53.4 | O22: ='Hepworth 2020 - Creamery Meas'!O10 -> 58.6 | P22: ='Hepworth 2020 - Creamery Meas'!P10 -> 54.8 | Q22: ='Hepworth 2020 - Creamery Meas'!Q10 -> 50.8 | R22: ='Hepworth 2020 - Creamery Meas'!R10 -> 48.5 | ... AN22: ='Hepworth 2020 - Creamery Meas'!AN10 -> 9.9
D23: ='Hepworth 2020 - Creamery Meas'!B33 -> 2020_Hep__CRM_12b | E23: Measurement Data | F23: Silo | G23: ='Hepworth 2020 - Creamery Meas'!G33 -> 61.4 | H23: 1 | I23: silo ground level | K23: ='Hepworth 2020 - Creamery Meas'!K33 -> 64.8 | L23: ='Hepworth 2020 - Creamery Meas'!L33 -> 63.6 | M23: ='Hepworth 2020 - Creamery Meas'!M33 -> 61.2 | N23: ='Hepworth 2020 - Creamery Meas'!N33 -> 66.3 | O23: ='Hepworth 2020 - Creamery Meas'!O33 -> 62.1 | P23: ='Hepworth 2020 - Creamery Meas'!P33 -> 61.2 | Q23: ='Hepworth 2020 - Creamery Meas'!Q33 -> 61.8 | R23: ='Hepworth 2020 - Creamery Meas'!R33 -> 53.6 | ... AN23: ='Hepworth 2020 - Creamery Meas'!AN33 -> 12.2
D24: ='Hepworth 2020 - Creamery Meas'!B34 -> 2020_Hep__CRM_13b | E24: Measurement Data | F24: Silo | G24: ='Hepworth 2020 - Creamery Meas'!G34 -> 60.4 | H24: 1 | I24: silo ground level | K24: ='Hepworth 2020 - Creamery Meas'!K34 -> 68.1 | L24: ='Hepworth 2020 - Creamery Meas'!L34 -> 65.6 | M24: ='Hepworth 2020 - Creamery Meas'!M34 -> 64.7 | N24: ='Hepworth 2020 - Creamery Meas'!N34 -> 66.7 | O24: ='Hepworth 2020 - Creamery Meas'!O34 -> 63.4 | P24: ='Hepworth 2020 - Creamery Meas'!P34 -> 62.8 | Q24: ='Hepworth 2020 - Creamery Meas'!Q34 -> 59.1 | R24: ='Hepworth 2020 - Creamery Meas'!R34 -> 54.3 | ... AN24: ='Hepworth 2020 - Creamery Meas'!AN34 -> 11.1
D25: ='Hepworth 2020 - Creamery Meas'!B35 -> 2020_Hep__CRM_14b | E25: Measurement Data | F25: Silo | G25: ='Hepworth 2020 - Creamery Meas'!G35 -> 60.8 | H25: 1 | I25: silo ground level | K25: ='Hepworth 2020 - Creamery Meas'!K35 -> 67.1 | L25: ='Hepworth 2020 - Creamery Meas'!L35 -> 69.6 | M25: ='Hepworth 2020 - Creamery Meas'!M35 -> 66.3 | N25: ='Hepworth 2020 - Creamery Meas'!N35 -> 69 | O25: ='Hepworth 2020 - Creamery Meas'!O35 -> 63.9 | P25: ='Hepworth 2020 - Creamery Meas'!P35 -> 59 | Q25: ='Hepworth 2020 - Creamery Meas'!Q35 -> 57.9 | R25: ='Hepworth 2020 - Creamery Meas'!R35 -> 56.3 | ... AN25: ='Hepworth 2020 - Creamery Meas'!AN35 -> 13.6
C30: Conclusions Drawn on Relevant Data
C31: * All Agitator and top mixer measurement data confirms a noise emission level substantially below the 'maximum 85dB(A)@ 1m' stated in the product data sheets (taken as corresponding to the upper exposure action value in the Noise at Work Regulations), consistent with information provided during consultation with the manufacturer.
C32: * Adopt '2021_Hep_CRM_2_3_4', 'definitive agitator level' - for proposed silo agitators / mixers - This is most recent measurement data, includes 1/3 spectra and tallies exactly with the manufacturer's advised 70dB(A) at 1m
C33: * All Silo measurements fall within the range 58 to 61 dB(A) - Generate 'Average' Silo data from the 5 measurements data sets for use in the noise model.
C35: Final Data Selected for Adoption in Noise Model
B37: AGITATOR AND TOP MIXER | K37: Noise Level L90, dB - LINEAR
G38: Source Data | K38: Third octave Band Centre Frequency (Hz)
C39: Data Source Tab | D39: Assessment Data Ref | E39: Data Type | F39: Source | G39: LAeq, dB | H39: Distance (m) | I39: Notes | K39: 25 | L39: 31.5 | M39: 40 | N39: 50 | O39: 63 | P39: 80 | Q39: 100 | R39: 125 | S39: 160 | T39: 200 | U39: 250 | V39: 315 | W39: 400 | X39: 500 | Y39: 630 | Z39: 800 | AA39: 1000 | AB39: 1250 | AC39: 1600 | AD39: 2000 | AE39: 2500 | AF39: 3150 | AG39: 4000 | AH39: 5000 | AI39: 6300 | AJ39: 8000 | AK39: 10000 | AL39: 12500 | AM39: 16000 | AN39: 20000
C40: Agitator / Top Mixer | D40: =D19 -> 2021_Hep__CRM_2_3_4 | E40: =E19 -> Measurement Data | F40: =F19 -> Agitators and Top Mixers | G40: =G19 -> 70 | H40: =H19 -> 1 | I40: =I19 -> definitive' agitator level - Mic elevated above silo | K40: =K19 -> 52.3 | L40: =L19 -> 59 | M40: =M19 -> 56 | N40: =N19 -> 57.9 | O40: =O19 -> 62 | P40: =P19 -> 61.2 | Q40: =Q19 -> 74.1 | R40: =R19 -> 57.3 | ... AN40: =AN19 -> 17.1
C42: Conversion to Sound Power Level | G42: LWA | K42: Sound Power Level, LW, dB - LINEAR
C43: Agitator and Top Mixer | D43: =D40 -> 2021_Hep__CRM_2_3_4 | E43: =E40 -> Measurement Data | F43: =F40 -> Agitators and Top Mixers | G43: =G40+20*LOG(1)+11 -> 81 | H43: - | I43: - | K43: =K40+20*LOG(1)+11 -> 63.3 | L43: =L40+20*LOG(1)+11 -> 70 | M43: =M40+20*LOG(1)+11 -> 67 | N43: =N40+20*LOG(1)+11 -> 68.9 | O43: =O40+20*LOG(1)+11 -> 73 | P43: =P40+20*LOG(1)+11 -> 72.2 | Q43: =Q40+20*LOG(1)+11 -> 85.1 | R43: =R40+20*LOG(1)+11 -> 68.3 | ... AN43: =AN40+20*LOG(1)+11 -> 28.1
C44: Apply this data as a sound power level to each agitator / top mixer
B45: SILOs | K45: Noise Level L90, dB - LINEAR
D46: AVERAGE_SILO | E46: Measurement Data | F46: Average Silo | G46: {=[1]!dbaverage(G21:G25)} -> 60.6 | H46: =AVERAGE(H21:H25) -> 1 | I46: Silo at ground level | K46: {=[1]!dbaverage(K21:K25)} -> 64.8 | L46: {=[1]!dbaverage(L21:L25)} -> 65.1 | M46: {=[1]!dbaverage(M21:M25)} -> 63.6 | N46: {=[1]!dbaverage(N21:N25)} -> 65.5 | O46: {=[1]!dbaverage(O21:O25)} -> 61.6 | P46: {=[1]!dbaverage(P21:P25)} -> 59.4 | Q46: {=[1]!dbaverage(Q21:Q25)} -> 58 | R46: {=[1]!dbaverage(R21:R25)} -> 53.3 | ... AN46: {=[1]!dbaverage(AN21:AN25)} -> 11.6
C47: Silos calibrated in the noise model to give the above result at 1m, 1.5m above ground

Sheet Creamery #3
B2: Relevant Source Data
B4: Agitators / Mixers | C4: Data as per Creamer # 2 Tab
B6: Silos | C6: Data as per Creamery # 2 Tab
B8: Freezer Room | C8: Client Confirmed: | D8: To contain self contained chest freezers so NO EXTENAL REFRIDGERATION PLANT
D9: Noise levels above 60 dBA outside the building
D10: Room dimensions and locations confirmed by client as follows:
D12: Length: | E12: 12m
D13: Width: | E13: 6m
D14: Height: | E14: 5m | F14: (assumed)
B49: Final Data Selected for Adoption in Noise Model
B51: Agitators / Mixers | C51: Data as per Creamery # 2 Tab
B53: Silos | C53: Data as per Creamery # 2 Tab
B55: Freezer Room | C55: Client Confirmed:
F58: Source Data
B59: Data Source Tab | C59: Assessment Data Ref | D59: Data Type | E59: Source | F59: LAeq, dB | G59: Distance (m) | H59: Notes
B60: Creamery #3 | C60: Client_1 | D60: Advised | E60: Freezer Room | F60: 60 | G60: 1 | H60: Maximum
B62: Each of the new freezer room facades and it's roof have been set in the noise model to give this result at 1m, above ground.

Sheet Creamery #5
B2: Relevant Source Data
B4: Loading Bay | C4: Client Confirmed: | D4: Maximum 80dB(A) internal Reverberant Level - Hearing Protection Free Area
B6: Containerised CIP
J7: Noise Level L90, dB - LINEAR
F8: Source Data | J8: Third octave Band Centre Frequency (Hz)
B9: Data Source Tab | C9: Assessment Data Ref | D9: Data Type | E9: Plant | F9: LA90,T | G9: Distance | H9: Notes | J9: 25 | K9: 31.5 | L9: 40 | M9: 50 | N9: 63 | O9: 80 | P9: 100 | Q9: 125 | R9: 160 | S9: 200 | T9: 250 | U9: 315 | V9: 400 | W9: 500 | X9: 630 | Y9: 800 | Z9: 1000 | AA9: 1250 | AB9: 1600 | AC9: 2000 | AD9: 2500 | AE9: 3150 | AF9: 4000 | AG9: 5000 | AH9: 6300 | AI9: 8000 | AJ9: 10000 | AK9: 12500 | AL9: 16000 | AM9: 20000
B10: Hepworth 2021 - Creamery Meas | C10: ='Hepworth 2021 - Creamery Meas'!B11 -> 2021_Hep__CRM_17 | D10: Measurement Data | E10: ='Hepworth 2021 - Creamery Meas'!E11 -> Outside GOS Bulk Loading CIP Container | F10: ='Agitator and Top Mixer'!L15 -> 0 | G10: ='Agitator and Top Mixer'!M15 -> 0 | H10: ='Hepworth 2021 - Creamery Meas'!F11 -> No noise audible | J10: - | K10: - | L10: - | M10: - | N10: - | O10: - | P10: - | Q10: - | R10: - | S10: - | T10: - | U10: - | V10: - | W10: - | X10: - | Y10: - | Z10: - | AA10: - | AB10: - | AC10: - | AD10: - | AE10: - | AF10: - | AG10: - | AH10: - | AI10: - | AJ10: - | AK10: - | AL10: - | AM10: -
C11: ='Hepworth 2021 - Creamery Meas'!B12 -> 2021_Hep__CRM_18 | D11: Measurement Data | E11: ='Hepworth 2021 - Creamery Meas'!E12 -> Inside GOS Bulk Loading CIP Container | F11: ='Hepworth 2021 - Creamery Meas'!J12 -> 56.8 | G11: Reverberant | H11: ='Hepworth 2021 - Creamery Meas'!F12 -> Internal Reverberant level | J11: ='Hepworth 2021 - Creamery Meas'!K12 -> 60.5 | K11: ='Hepworth 2021 - Creamery Meas'!L12 -> 57.9 | L11: ='Hepworth 2021 - Creamery Meas'!M12 -> 52.9 | M11: ='Hepworth 2021 - Creamery Meas'!N12 -> 60.3 | N11: ='Hepworth 2021 - Creamery Meas'!O12 -> 50.6 | O11: ='Hepworth 2021 - Creamery Meas'!P12 -> 57.7 | P11: ='Hepworth 2021 - Creamery Meas'!Q12 -> 55.4 | Q11: ='Hepworth 2021 - Creamery Meas'!R12 -> 51.9 | ... AM11: ='Hepworth 2021 - Creamery Meas'!AN12 -> 13.3
B13: Conclusions Drawn on Relevant Data
B14: * Undertake noise breakout for Loading bay based on internal reverberant level of 80dB(A), fabrication, and applying octave band spectra obtained inside containerised CIP, which has high Low Frequency content (so worst case).
B15: * No Noise Outside Containerised CIP, so not a significant source, but include noise breakout of louvres based on internal reverberant level, assuming non-acoustic louvres (no insertion loss).
B17: Final Data Selected for Adoption in Noise Model
B19: Loading Bay
F20: Source Data | J20: Noise Level L90, dB - LINEAR
B21: Data Source Tab | C21: Assessment Data Ref | D21: Data Type | E21: Source | F21: LAeq, dB | G21: Distance (m) | H21: Notes | J21: Third octave Band Centre Frequency (Hz)
B22: Creamery #5 | C22: Client 2 | D22: Advised | E22: Inside Loading Bay | F22: 80 | G22: Reverberant | H22: Maximum | J22: 25 | K22: 31.5 | L22: 40 | M22: 50 | N22: 63 | O22: 80 | P22: 100 | Q22: 125 | R22: 160 | S22: 200 | T22: 250 | U22: 315 | V22: 400 | W22: 500 | X22: 630 | Y22: 800 | Z22: 1000 | AA22: 1250 | AB22: 1600 | AC22: 2000 | AD22: 2500 | AE22: 3150 | AF22: 4000 | AG22: 5000 | AH22: 6300 | AI22: 8000 | AJ22: 10000 | AK22: 12500 | AL22: 16000 | AM22: 20000
B23: Hepworth 2021 - Creamery Meas | C23: =C11 -> 2021_Hep__CRM_18 | D23: =D11 -> Measurement Data | E23: =E11 -> Inside GOS Bulk Loading CIP Container | F23: =F11 -> 56.8 | G23: Reverberant | H23: Spectra | J23: =J11 -> 60.5 | K23: =K11 -> 57.9 | L23: =L11 -> 52.9 | M23: =M11 -> 60.3 | N23: =N11 -> 50.6 | O23: =O11 -> 57.7 | P23: =P11 -> 55.4 | Q23: =Q11 -> 51.9 | ... AM23: =AM11 -> 13.3
J25: A-weighting Curve | W25: A-weighting Curve
J26: -44.7 | K26: -39.4 | L26: -34.6 | M26: -30.2 | N26: -26.2 | O26: -22.5 | P26: -19.1 | Q26: -16.1 | R26: -13.4 | S26: -10.9 | T26: -8.6 | U26: -6.6 | V26: -4.2 | W26: -3.2 | X26: -1.9 | Y26: -0.8 | Z26: 0 | AA26: 0.6 | AB26: 1 | AC26: 1.2 | AD26: 1.3 | AE26: 1.2 | AF26: 1 | AG26: 0.5 | AH26: -0.1 | AI26: -1.1 | AJ26: -2.5 | AK26: -4.3 | AL26: -6.6 | AM26: -9.3
J28: Noise Level L90, dB - A-weighted | AO28: Total | AQ28: Target Level | AS28: Difference
J29: =J23+J26 -> 15.8 | K29: =K23+K26 -> 18.5 | L29: =L23+L26 -> 18.3 | M29: =M23+M26 -> 30.1 | N29: =N23+N26 -> 24.4 | O29: =O23+O26 -> 35.2 | P29: =P23+P26 -> 36.3 | Q29: =Q23+Q26 -> 35.8 | ... AM29: =AM23+AM26 -> 4 | AO29: {=[1]!dbsum(J29:AM29)} -> 56.3 | AQ29: 80 | AS29: =AQ29-AO29 -> 23.7
J31: Noise Level Adjusted to 80.0 dB(A) - A-WEIGHTED - LpARev | AO31: Total
J32: =J29+$AS$29 -> 39.5 | K32: =K29+$AS$29 -> 42.2 | L32: =L29+$AS$29 -> 42 | M32: =M29+$AS$29 -> 53.8 | N32: =N29+$AS$29 -> 48.1 | O32: =O29+$AS$29 -> 58.9 | P32: =P29+$AS$29 -> 60 | Q32: =Q29+$AS$29 -> 59.5 | ... AM32: =AM29+$AS$29 -> 27.7 | AO32: {=[1]!dbsum(J32:AM32)} -> 80
J34: Noise Level Adjusted to 80.0 dB(A) - LINEAR - LpRev
J35: =J32-J26 -> 84.2 | K35: =K32-K26 -> 81.6 | L35: =L32-L26 -> 76.6 | M35: =M32-M26 -> 84 | N35: =N32-N26 -> 74.3 | O35: =O32-O26 -> 81.4 | P35: =P32-P26 -> 79.1 | Q35: =Q32-Q26 -> 75.6 | ... AM35: =AM32-AM26 -> 37
J37: Noise Level Adjusted to 80.0 dB(A) - LINEAR - AS Octaves - LpRev
J38: 31.5 | K38: 63 | L38: 125 | M38: 250 | N38: 500 | O38: 1k | P38: 2k | Q38: 45h | R38: 8k | S38: 16k
J39: {=[1]!dbsum(J35:L35)} -> 86.6 | K39: {=[1]!dbsum(M35:O35)} -> 86.2 | L39: {=[1]!dbsum(P35:R35)} -> 80.9 | M39: {=[1]!dbsum(S35:U35)} -> 72 | N39: {=[1]!dbsum(V35:X35)} -> 75.5 | O39: {=[1]!dbsum(Y35:AA35)} -> 76.4 | P39: {=[1]!dbsum(AB35:AD35)} -> 72.3 | Q39: {=[1]!dbsum(AE35:AG35)} -> 68.9 | R39: {=[1]!dbsum(AH35:AJ35)} -> 56.9 | S39: {=[1]!dbsum(AK35:AM35)} -> 46.3
I43: Sound Reduction Index Data | J43: Octave Band Centre Frequency (Hz)
J44: 31.5 | K44: 63 | L44: 125 | M44: 250 | N44: 500 | O44: 1k | P44: 2k | Q44: 4k | R44: 8k | S44: 16k | T44: Rw
I45: Louvres
I46: Non Acoustic Open | J46: 0 | K46: 0 | L46: 0 | M46: 0 | N46: 0 | O46: 0 | P46: 0 | Q46: 0 | R46: 0 | S46: 0 | T46: -
I47: Roller Shutter Doors
I48: Test data from Ascot for Plain 3" 22g steel lath ('typical' door) | J48: 4 | K48: 10.2 | L48: 10.3 | M48: 12.5 | N48: 15.1 | O48: 16.3 | P48: 18.3 | Q48: 15.8 | R48: 16 | S48: 16 | T48: 17
I49: Wall Cladding
I50: Euroclad 32/1000mm 0.5mm Single skin steel profile liner (0.7mm - 2dB) | J50: 4 | K50: 6.6 | L50: 11.2 | M50: 14.1 | N50: 20.1 | O50: 20.4 | P50: 23.3 | Q50: 30.1 | R50: 30 | S50: 30 | T50: 22
I51: Roof Cladding
I52: Euroclad 32/1000mm 0.7mm Single skin steel profile liner | J52: 6 | K52: 8.6 | L52: 13.2 | M52: 16.1 | N52: 22.1 | O52: 22.4 | P52: 25.3 | Q52: 32.1 | R52: 32 | S52: 32 | T52: 24
I55: Element Areas | J55: Dim 1 (m) | K55: Dim 2 (m) | L55: Area (m^2)
I56: West / East Façade All | J56: 5 | K56: 6.5 | L56: =K56*J56 -> 32.5
I57: West / East Façade Roller Shutter | J57: 4 | K57: 5 | L57: =K57*J57 -> 20
I58: West / East Façade Cladding | J58: - | K58: - | L58: =L56-L57 -> 12.5
I59: South Façade | J59: 21.5 | K59: 6.5 | L59: =K59*J59 -> 139.75
I60: Roof | J60: 5 | K60: 21.5 | L60: =K60*J60 -> 107.5
J62: Sound Power Level - dB - LINEAR
J63: Octave Band Centre Frequencies (Hz)
H64: Element Ref | I64: Element | J64: 31.5 | K64: 63 | L64: 125 | M64: 250 | N64: 500 | O64: 1k | P64: 2k | Q64: 4k | R64: 8k | S64: 16k | T64: LW
H65: GOS_BULK1 | I65: West / East Façade Roller Shutter | J65: =J39+(10*LOG($L$57))-J48-6 -> 89.6103 | K65: =K39+(10*LOG($L$57))-K48-6 -> 83.0103 | L65: =L39+(10*LOG($L$57))-L48-6 -> 77.6103 | M65: =M39+(10*LOG($L$57))-M48-6 -> 66.5103 | N65: =N39+(10*LOG($L$57))-N48-6 -> 67.4103 | O65: =O39+(10*LOG($L$57))-O48-6 -> 67.1103 | P65: =P39+(10*LOG($L$57))-P48-6 -> 61.0103 | Q65: =Q39+(10*LOG($L$57))-Q48-6 -> 60.1103 | ... S65: =S39+(10*LOG($L$57))-S48-6 -> 37.3103 | T65: {=[1]!dbsum(J65:S65)} -> 90.8
H66: GOS_BULK2 | I66: West / East Façade Cladding | J66: =J39+(10*LOG($L$58))-J50-6 -> 87.5691 | K66: =K39+(10*LOG($L$58))-K50-6 -> 84.5691 | L66: =L39+(10*LOG($L$58))-L50-6 -> 74.6691 | M66: =M39+(10*LOG($L$58))-M50-6 -> 62.8691 | N66: =N39+(10*LOG($L$58))-N50-6 -> 60.3691 | O66: =O39+(10*LOG($L$58))-O50-6 -> 60.9691 | P66: =P39+(10*LOG($L$58))-P50-6 -> 53.9691 | Q66: =Q39+(10*LOG($L$58))-Q50-6 -> 43.7691 | ... S66: =S39+(10*LOG($L$58))-S50-6 -> 21.2691 | T66: {=[1]!dbsum(J66:S66)} -> 89.5
H67: GOS_BULK3 | I67: South Façade | J67: =J39+(10*LOG($L$59))-J50-6 -> 98.053518 | K67: =K39+(10*LOG($L$59))-K50-6 -> 95.053518 | L67: =L39+(10*LOG($L$59))-L50-6 -> 85.153518 | M67: =M39+(10*LOG($L$59))-M50-6 -> 73.353518 | N67: =N39+(10*LOG($L$59))-N50-6 -> 70.853518 | O67: =O39+(10*LOG($L$59))-O50-6 -> 71.453518 | P67: =P39+(10*LOG($L$59))-P50-6 -> 64.453518 | Q67: =Q39+(10*LOG($L$59))-Q50-6 -> 54.253518 | ... S67: =S39+(10*LOG($L$59))-S50-6 -> 31.753518 | T67: {=[1]!dbsum(J67:S67)} -> 100
H68: GOS_BULK4 | I68: Roof | J68: =J39+(10*LOG($L$60))-J52-6 -> 94.914085 | K68: =K39+(10*LOG($L$60))-K52-6 -> 91.914085 | L68: =L39+(10*LOG($L$60))-L52-6 -> 82.014085 | M68: =M39+(10*LOG($L$60))-M52-6 -> 70.214085 | N68: =N39+(10*LOG($L$60))-N52-6 -> 67.714085 | O68: =O39+(10*LOG($L$60))-O52-6 -> 68.314085 | P68: =P39+(10*LOG($L$60))-P52-6 -> 61.314085 | Q68: =Q39+(10*LOG($L$60))-Q52-6 -> 51.114085 | ... S68: =S39+(10*LOG($L$60))-S52-6 -> 28.614085 | T68: {=[1]!dbsum(J68:S68)} -> 96.8
B70: Containerised CIP
J72: Noise Level L90, dB - LINEAR
F73: Source Data | J73: Third octave Band Centre Frequency (Hz)
B74: Data Source Tab | C74: Assessment Data Ref | D74: Data Type | E74: Source | F74: LAeq, dB | G74: Distance (m) | H74: Notes | J74: 25 | K74: 31.5 | L74: 40 | M74: 50 | N74: 63 | O74: 80 | P74: 100 | Q74: 125 | R74: 160 | S74: 200 | T74: 250 | U74: 315 | V74: 400 | W74: 500 | X74: 630 | Y74: 800 | Z74: 1000 | AA74: 1250 | AB74: 1600 | AC74: 2000 | AD74: 2500 | AE74: 3150 | AF74: 4000 | AG74: 5000 | AH74: 6300 | AI74: 8000 | AJ74: 10000 | AK74: 12500 | AL74: 16000 | AM74: 20000
B75: Hepworth 2021 - Creamery Meas | C75: ='Hepworth 2021 - Creamery Meas'!B12 -> 2021_Hep__CRM_18 | D75: Measurement Data | E75: =E11 -> Inside GOS Bulk Loading CIP Container | F75: =F23 -> 56.8 | G75: Reverberant | H75: Spectra | J75: =J11 -> 60.5 | K75: =K11 -> 57.9 | L75: =L11 -> 52.9 | M75: =M11 -> 60.3 | N75: =N11 -> 50.6 | O75: =O11 -> 57.7 | P75: =P11 -> 55.4 | Q75: =Q11 -> 51.9 | ... AM75: =AM11 -> 13.3
J77: Noise Level L90, dB - LINEAR - LpRev
J78: 31.5 | K78: 63 | L78: 125 | M78: 250 | N78: 500 | O78: 1k | P78: 2k | Q78: 45h | R78: 8k | S78: 16k
J79: {=[1]!dbsum(J75:L75)} -> 62.9 | K79: {=[1]!dbsum(M75:O75)} -> 62.5 | L79: {=[1]!dbsum(P75:R75)} -> 57.2 | M79: {=[1]!dbsum(S75:U75)} -> 48.3 | N79: {=[1]!dbsum(V75:X75)} -> 51.8 | O79: {=[1]!dbsum(Y75:AA75)} -> 52.7 | P79: {=[1]!dbsum(AB75:AD75)} -> 48.6 | Q79: {=[1]!dbsum(AE75:AG75)} -> 45.2 | R79: {=[1]!dbsum(AH75:AJ75)} -> 33.2 | S79: {=[1]!dbsum(AK75:AM75)} -> 22.6
I81: Sound Reduction Index Data | J81: Octave Band Centre Frequency (Hz)
J82: 31.5 | K82: 63 | L82: 125 | M82: 250 | N82: 500 | O82: 1k | P82: 2k | Q82: 4k | R82: 8k | S82: 16k | T82: Rw
I83: Louvres
I84: Non Acoustic Open | J84: 0 | K84: 0 | L84: 0 | M84: 0 | N84: 0 | O84: 0 | P84: 0 | Q84: 0 | R84: 0 | S84: 0 | T84: -
I87: Element Areas | J87: Dim 1 (m) | K87: Dim 2 (m) | L87: Area (m^2)
I88: West / East Façade All | J88: 0.5 | K88: 1.5 | L88: =K88*J88 -> 0.75
J90: Sound Power Level - dB - LINEAR
J91: Octave Band Centre Frequencies (Hz)
H92: Element Ref | I92: Element | J92: 31.5 | K92: 63 | L92: 125 | M92: 250 | N92: 500 | O92: 1k | P92: 2k | Q92: 4k | R92: 8k | S92: 16k | T92: LW
H93: GOS_CIP_LOUVRE | I93: Non Acoustic Louvre of GOS CIP | J93: =J79+(10*LOG($L$88))-J84-6 -> 55.650613 | K93: =K79+(10*LOG($L$88))-K84-6 -> 55.250613 | L93: =L79+(10*LOG($L$88))-L84-6 -> 49.950613 | M93: =M79+(10*LOG($L$88))-M84-6 -> 41.050613 | N93: =N79+(10*LOG($L$88))-N84-6 -> 44.550613 | O93: =O79+(10*LOG($L$88))-O84-6 -> 45.450613 | P93: =P79+(10*LOG($L$88))-P84-6 -> 41.350613 | Q93: =Q79+(10*LOG($L$88))-Q84-6 -> 37.950613 | ... S93: =S79+(10*LOG($L$88))-S84-6 -> 15.350613 | T93: {=[1]!dbsum(J93:S93)} -> 59.5

Sheet Lagoon OCU
B2: Relevant Source Data
B4: Lagoon OCU (Motor)
J5: Noise Level L90, dB - LINEAR
F6: Source Data | J6: Third octave Band Centre Frequency (Hz)
B7: Data Source Tab | C7: Assessment Data Ref | D7: Data Type | E7: Plant | F7: LA90,T | G7: Distance | H7: Notes | J7: 25 | K7: 31.5 | L7: 40 | M7: 50 | N7: 63 | O7: 80 | P7: 100 | Q7: 125 | R7: 160 | S7: 200 | T7: 250 | U7: 315 | V7: 400 | W7: 500 | X7: 630 | Y7: 800 | Z7: 1000 | AA7: 1250 | AB7: 1600 | AC7: 2000 | AD7: 2500 | AE7: 3150 | AF7: 4000 | AG7: 5000 | AH7: 6300 | AI7: 8000 | AJ7: 10000 | AK7: 12500 | AL7: 16000 | AM7: 20000
B8: Hepworth 2021 - Creamery Meas | C8: ='Hepworth 2021 - Creamery Meas'!B14 -> 2021_Hep__CRM_20 | D8: Measurement Data | E8: ='Hepworth 2021 - Creamery Meas'!E14 -> 1m in front Lagoon OCU motor | F8: ='Hepworth 2021 - Creamery Meas'!J14 -> 72.7 | G8: 1 | H8: No appreciable noise from actual tank, just the motor | J8: ='Hepworth 2021 - Creamery Meas'!K14 -> 61.6 | K8: ='Hepworth 2021 - Creamery Meas'!L14 -> 63.2 | L8: ='Hepworth 2021 - Creamery Meas'!M14 -> 60.9 | M8: ='Hepworth 2021 - Creamery Meas'!N14 -> 67 | N8: ='Hepworth 2021 - Creamery Meas'!O14 -> 63.3 | O8: ='Hepworth 2021 - Creamery Meas'!P14 -> 62.6 | P8: ='Hepworth 2021 - Creamery Meas'!Q14 -> 61.1 | Q8: ='Hepworth 2021 - Creamery Meas'!R14 -> 56.1 | ... AM8: ='Hepworth 2021 - Creamery Meas'!AN14 -> 26.6
C9: ='Hepworth 2021 - Creamery Meas'!B15 -> 2021_Hep__CRM_21 | D9: Measurement Data | E9: ='Hepworth 2021 - Creamery Meas'!E15 -> 1m to side of Lagoon OCU motor | F9: ='Hepworth 2021 - Creamery Meas'!J15 -> 71.4 | G9: 1 | J9: ='Hepworth 2021 - Creamery Meas'!K15 -> 61.5 | K9: ='Hepworth 2021 - Creamery Meas'!L15 -> 61.9 | L9: ='Hepworth 2021 - Creamery Meas'!M15 -> 59.1 | M9: ='Hepworth 2021 - Creamery Meas'!N15 -> 66.6 | N9: ='Hepworth 2021 - Creamery Meas'!O15 -> 62.2 | O9: ='Hepworth 2021 - Creamery Meas'!P15 -> 61.2 | P9: ='Hepworth 2021 - Creamery Meas'!Q15 -> 60.4 | Q9: ='Hepworth 2021 - Creamery Meas'!R15 -> 56.7 | ... AM9: ='Hepworth 2021 - Creamery Meas'!AN15 -> 26.5
B11: Conclusions Drawn on Relevant Data
B12: * No Appreciable noise form the OCU itself, only the associated motor
B13: * Adopt 2021_Hep_CRM_20 as worst case for OCU motor - Higher overall level from the two measurement
B15: Final Data Selected for Adoption in Noise Model
B17: Lagoon OCU (Motor) | J17: Noise Level L90, dB - LINEAR
F18: Source Data | J18: Third octave Band Centre Frequency (Hz)
B19: Data Source Tab | C19: Assessment Data Ref | D19: Data Type | E19: Plant | F19: LA90,T | G19: Distance | H19: Notes | J19: 25 | K19: 31.5 | L19: 40 | M19: 50 | N19: 63 | O19: 80 | P19: 100 | Q19: 125 | R19: 160 | S19: 200 | T19: 250 | U19: 315 | V19: 400 | W19: 500 | X19: 630 | Y19: 800 | Z19: 1000 | AA19: 1250 | AB19: 1600 | AC19: 2000 | AD19: 2500 | AE19: 3150 | AF19: 4000 | AG19: 5000 | AH19: 6300 | AI19: 8000 | AJ19: 10000 | AK19: 12500 | AL19: 16000 | AM19: 20000
B20: Hepworth 2021 - Creamery Meas | C20: =C8 -> 2021_Hep__CRM_20 | D20: =D8 -> Measurement Data | E20: =E8 -> 1m in front Lagoon OCU motor | F20: =F8 -> 72.7 | G20: =G8 -> 1 | H20: =H8 -> No appreciable noise from actual tank, just the motor | J20: =J8 -> 61.6 | K20: =K8 -> 63.2 | L20: =L8 -> 60.9 | M20: =M8 -> 67 | N20: =N8 -> 63.3 | O20: =O8 -> 62.6 | P20: =P8 -> 61.1 | Q20: =Q8 -> 56.1 | ... AM20: =AM8 -> 26.6
B23: Conversion to Sound Power Level | F23: LWA | J23: Sound Power Level, LW, dB - LINEAR
B24: OCU Motor | C24: =C20 -> 2021_Hep__CRM_20 | D24: =D20 -> Measurement Data | E24: OCU Motor | F24: =F20+20*LOG(1)+11 -> 83.7 | G24: - | H24: - | J24: =J20+20*LOG(1)+11 -> 72.6 | K24: =L20+20*LOG(1)+11 -> 71.9 | L24: =M20+20*LOG(1)+11 -> 78 | M24: =N20+20*LOG(1)+11 -> 74.3 | N24: =O20+20*LOG(1)+11 -> 73.6 | O24: =P20+20*LOG(1)+11 -> 72.1 | P24: =Q20+20*LOG(1)+11 -> 67.1 | Q24: =R20+20*LOG(1)+11 -> 74.1 | R24: =S20+20*LOG(1)+11 -> 68.9 | ... AL24: =AM20+20*LOG(1)+11 -> 37.6 | AM24: =AM20+20*LOG(1)+11 -> 37.6
B25: Apply this data to Lagoon OCU Motor

Sheet BT1 and Divert Tank OCU
B2: Relevant Source Data
B4: BT1 and Divert Tank OCU
J5: Noise Level L90, dB - LINEAR
F6: Source Data | J6: Third octave Band Centre Frequency (Hz)
B7: Data Source Tab | C7: Assessment Data Ref | D7: Data Type | E7: Plant | F7: LA90,T | G7: Distance | H7: Notes | J7: 25 | K7: 31.5 | L7: 40 | M7: 50 | N7: 63 | O7: 80 | P7: 100 | Q7: 125 | R7: 160 | S7: 200 | T7: 250 | U7: 315 | V7: 400 | W7: 500 | X7: 630 | Y7: 800 | Z7: 1000 | AA7: 1250 | AB7: 1600 | AC7: 2000 | AD7: 2500 | AE7: 3150 | AF7: 4000 | AG7: 5000 | AH7: 6300 | AI7: 8000 | AJ7: 10000 | AK7: 12500 | AL7: 16000 | AM7: 20000
B8: Hepworth 2021 - WPF Meas | C8: ='Hepworth 2021 - WPF Meas'!B11 -> 2021_Hep_WPF_44 | D8: Measurement Data | E8: ='Hepworth 2021 - WPF Meas'!E11 -> In-between Fan Stack and Dry Scrubber 2 | F8: ='Hepworth 2021 - WPF Meas'!J11 -> 75.1 | G8: 1 | H8: Isolated measurements of induvial items not practicable | J8: ='Hepworth 2021 - WPF Meas'!K11 -> 57 | K8: ='Hepworth 2021 - WPF Meas'!L11 -> 61.1 | L8: ='Hepworth 2021 - WPF Meas'!M11 -> 63.6 | M8: ='Hepworth 2021 - WPF Meas'!N11 -> 71 | N8: ='Hepworth 2021 - WPF Meas'!O11 -> 63.6 | O8: ='Hepworth 2021 - WPF Meas'!P11 -> 62.3 | P8: ='Hepworth 2021 - WPF Meas'!Q11 -> 66.8 | Q8: ='Hepworth 2021 - WPF Meas'!R11 -> 67.6 | ... AM8: ='Hepworth 2021 - WPF Meas'!AN11 -> 46.1
C9: ='Hepworth 2021 - WPF Meas'!B12 -> 2021_Hep_WPF_45 | D9: Measurement Data | E9: ='Hepworth 2021 - WPF Meas'!E12 -> In-between Dry2 and Dry Scrubber 1 | F9: ='Hepworth 2021 - WPF Meas'!J12 -> 68.9 | G9: 1 | J9: ='Hepworth 2021 - WPF Meas'!K12 -> 60.7 | K9: ='Hepworth 2021 - WPF Meas'!L12 -> 61.7 | L9: ='Hepworth 2021 - WPF Meas'!M12 -> 62.9 | M9: ='Hepworth 2021 - WPF Meas'!N12 -> 64.4 | N9: ='Hepworth 2021 - WPF Meas'!O12 -> 61.3 | O9: ='Hepworth 2021 - WPF Meas'!P12 -> 59.5 | P9: ='Hepworth 2021 - WPF Meas'!Q12 -> 61.6 | Q9: ='Hepworth 2021 - WPF Meas'!R12 -> 61.4 | ... AM9: ='Hepworth 2021 - WPF Meas'!AN12 -> 28.1
C10: ='Hepworth 2021 - WPF Meas'!B13 -> 2021_Hep_WPF_46 | D10: Measurement Data | E10: ='Hepworth 2021 - WPF Meas'!E13 -> In-between Dry Scrubber 1 and Wet Scrubber | F10: ='Hepworth 2021 - WPF Meas'!J13 -> 69.2 | G10: 1 | J10: ='Hepworth 2021 - WPF Meas'!K13 -> 63.4 | K10: ='Hepworth 2021 - WPF Meas'!L13 -> 61.8 | L10: ='Hepworth 2021 - WPF Meas'!M13 -> 63.5 | M10: ='Hepworth 2021 - WPF Meas'!N13 -> 63.8 | N10: ='Hepworth 2021 - WPF Meas'!O13 -> 58.4 | O10: ='Hepworth 2021 - WPF Meas'!P13 -> 59.8 | P10: ='Hepworth 2021 - WPF Meas'!Q13 -> 61 | Q10: ='Hepworth 2021 - WPF Meas'!R13 -> 60.2 | ... AM10: ='Hepworth 2021 - WPF Meas'!AN13 -> 32
B12: Conclusions Drawn on Relevant Data
B13: * Isolated measurements of individual items was not practicable, so proposed to model measurement results as 3 separate point sources.
B15: Final Data Selected for Adoption in Noise Model
B17: BT1 and Divert Tank OCU | J17: Noise Level L90, dB - LINEAR
F18: Source Data | J18: Third octave Band Centre Frequency (Hz)
B19: Data Source Tab | C19: Assessment Data Ref | D19: Data Type | E19: Plant | F19: LA90,T | G19: Distance | H19: Notes | J19: 25 | K19: 31.5 | L19: 40 | M19: 50 | N19: 63 | O19: 80 | P19: 100 | Q19: 125 | R19: 160 | S19: 200 | T19: 250 | U19: 315 | V19: 400 | W19: 500 | X19: 630 | Y19: 800 | Z19: 1000 | AA19: 1250 | AB19: 1600 | AC19: 2000 | AD19: 2500 | AE19: 3150 | AF19: 4000 | AG19: 5000 | AH19: 6300 | AI19: 8000 | AJ19: 10000 | AK19: 12500 | AL19: 16000 | AM19: 20000
B20: Hepworth 2021 - WPF Meas | C20: =C8 -> 2021_Hep_WPF_44 | D20: =D8 -> Measurement Data | E20: =E8 -> In-between Fan Stack and Dry Scrubber 2 | F20: =F8 -> 75.1 | G20: =G8 -> 1 | H20: Isolated measurements of individual items not practicable | J20: =J8 -> 57 | K20: =K8 -> 61.1 | L20: =L8 -> 63.6 | M20: =M8 -> 71 | N20: =N8 -> 63.6 | O20: =O8 -> 62.3 | P20: =P8 -> 66.8 | Q20: =Q8 -> 67.6 | ... AM20: =AM8 -> 46.1
C21: =C9 -> 2021_Hep_WPF_45 | D21: =D9 -> Measurement Data | E21: =E9 -> In-between Dry2 and Dry Scrubber 1 | F21: =F9 -> 68.9 | G21: =G9 -> 1 | J21: =J9 -> 60.7 | K21: =K9 -> 61.7 | L21: =L9 -> 62.9 | M21: =M9 -> 64.4 | N21: =N9 -> 61.3 | O21: =O9 -> 59.5 | P21: =P9 -> 61.6 | Q21: =Q9 -> 61.4 | ... AM21: =AM9 -> 28.1
C22: =C10 -> 2021_Hep_WPF_46 | D22: =D10 -> Measurement Data | E22: =E10 -> In-between Dry Scrubber 1 and Wet Scrubber | F22: =F10 -> 69.2 | G22: =G10 -> 1 | J22: =J10 -> 63.4 | K22: =K10 -> 61.8 | L22: =L10 -> 63.5 | M22: =M10 -> 63.8 | N22: =N10 -> 58.4 | O22: =O10 -> 59.8 | P22: =P10 -> 61 | Q22: =Q10 -> 60.2 | ... AM22: =AM10 -> 32
B25: Conversion to Sound Power Level | F25: LWA | J25: Sound Power Level, LW, dB - LINEAR
B26: BT1 and Divert Tank OCU Source 1 | C26: =C20 -> 2021_Hep_WPF_44 | D26: =D20 -> Measurement Data | E26: BT1 and Divert Tank OCU Source 1 | F26: =F20+(10*LOG(G20))+11 -> 86.1 | G26: - | H26: - | J26: =J20+20*LOG(1)+11 -> 68 | K26: =K20+20*LOG(1)+11 -> 72.1 | L26: =L20+20*LOG(1)+11 -> 74.6 | M26: =M20+20*LOG(1)+11 -> 82 | N26: =N20+20*LOG(1)+11 -> 74.6 | O26: =O20+20*LOG(1)+11 -> 73.3 | P26: =P20+20*LOG(1)+11 -> 77.8 | Q26: =Q20+20*LOG(1)+11 -> 78.6 | ... AM26: =AM20+20*LOG(1)+11 -> 57.1
B27: BT1 and Divert Tank OCU Source 2 | C27: =C21 -> 2021_Hep_WPF_45 | D27: =D21 -> Measurement Data | E27: BT1 and Divert Tank OCU Source 2 | F27: =F21+(10*LOG(G21))+11 -> 79.9 | G27: - | H27: - | J27: =J21+20*LOG(1)+11 -> 71.7 | K27: =K21+20*LOG(1)+11 -> 72.7 | L27: =L21+20*LOG(1)+11 -> 73.9 | M27: =M21+20*LOG(1)+11 -> 75.4 | N27: =N21+20*LOG(1)+11 -> 72.3 | O27: =O21+20*LOG(1)+11 -> 70.5 | P27: =P21+20*LOG(1)+11 -> 72.6 | Q27: =Q21+20*LOG(1)+11 -> 72.4 | ... AM27: =AM21+20*LOG(1)+11 -> 39.1
B28: BT1 and Divert Tank OCU Source 3 | C28: =C22 -> 2021_Hep_WPF_46 | D28: =D22 -> Measurement Data | E28: BT1 and Divert Tank OCU Source 3 | F28: =F22+(10*LOG(G22))+11 -> 80.2 | G28: - | H28: - | J28: =J22+20*LOG(1)+11 -> 74.4 | K28: =K22+20*LOG(1)+11 -> 72.8 | L28: =L22+20*LOG(1)+11 -> 74.5 | M28: =M22+20*LOG(1)+11 -> 74.8 | N28: =N22+20*LOG(1)+11 -> 69.4 | O28: =O22+20*LOG(1)+11 -> 70.8 | P28: =P22+20*LOG(1)+11 -> 72 | Q28: =Q22+20*LOG(1)+11 -> 71.2 | ... AM28: =AM22+20*LOG(1)+11 -> 43
B29: Apply this data as 3 point sources in model

Sheet Downstream Tertiary Filters
B2: Relevant Source Data
B4: Downstream Tertiary Filters
J5: Noise Level L90, dB - LINEAR
F6: Source Data | J6: Third octave Band Centre Frequency (Hz)
B7: Data Source Tab | C7: Assessment Data Ref | D7: Data Type | E7: Plant | F7: LA90,T | G7: Distance | H7: Notes | J7: 25 | K7: 31.5 | L7: 40 | M7: 50 | N7: 63 | O7: 80 | P7: 100 | Q7: 125 | R7: 160 | S7: 200 | T7: 250 | U7: 315 | V7: 400 | W7: 500 | X7: 630 | Y7: 800 | Z7: 1000 | AA7: 1250 | AB7: 1600 | AC7: 2000 | AD7: 2500 | AE7: 3150 | AF7: 4000 | AG7: 5000 | AH7: 6300 | AI7: 8000 | AJ7: 10000 | AK7: 12500 | AL7: 16000 | AM7: 20000
