Workbook

Sheet TAB KEY
C2: Tab Title | D2: Content
C3: Sources Scoped IN or OUT | D3: Lists the site projects covered by the Permit variation and which elements have been scoped-in and scoped-out of the noise assessment.
B4: Source Data | C4: Hepworth 2020 - Creamery Meas | D4: Lists source noise measurement results obtained by Hepworth Acoustics at the creamery in 2020 that are not reported in Hepworth Reports 1 to 4.
C5: Hepworth 2021 - Creamery Meas | D5: Lists source noise measurement results obtained by Hepworth Acoustics at the creamery in 2021 that are not reported in Hepworth Reports 1 to 4.
C6: Hepworth 2 Source Data - Creamery | D6: Lists key source noise data for the creamery taken from Hepworth Report 2.
C7: Hepworth 1 Source Data - WPF | D7: Lists key the full tabulated source noise data for the WPF taken from Hepworth Report 1.
C8: Hepworth 3 Source Data - WPF | D8: Lists key the full tabulated source noise data for the WPF taken from Hepworth Report 3.
C9: Hepworth 4 Source Data - WPF | D9: Lists key the full tabulated source noise data for the WPF taken from Hepworth Report 4.
C10: Hepworth 2020 - WPF Meas | D10: Lists source noise measurement results obtained by Hepworth Acoustics at the WPF in 2020 that are not reported in Hepworth Reports 1 to 4.
C11: Hepworth 2021 - WPF Meas | D11: Lists source noise measurement results obtained by Hepworth Acoustics at the WPF in 2021 that are not reported in Hepworth Reports 1 to 4.
C12: WSP 2022 Survey - Tertiary Filts | D12: Lists course noise measurement results obtained by WSP in 2022, of the Downstream Tertiary Filters.
C13: Agitator and Top Mixer | D13: Present Manufacturers noise emission data for the silo agitators and top mixers.
B14: Calcs | C14: Creamery #2 | D14: Present the source data used, analysis / calculations and resulting noise model inputs applied in the modelling and assessment of the creamery projects / elements that have been scoped-in to the noise assessment.
C15: Creamery #3
C16: Creamery #5
C17: Lagoon OCU | D17: Present the source data used, analysis / calculations and resulting noise model inputs applied in the modelling and assessment of the WPF projects / elements that have been scoped-in to the noise assessment.
C18: DAFS
C19: BT1 and Divert Tank OCU
C20: Downstream Tertiary Filters
C21: BT1 Landia Pumps
C22: Surface Directivities | D22: Details the surface directivities calculated to apply to area sources, as applied within the noise model
B23: Background Data | C23: Hepworth Tabled Baseline Data | D23: Tabulated and graphed measurement data form Hepworth Reports 1, 2, 3 and 4 inc graphed Meteorological data.
C24: WSP 2024 Survey Key Notes | D24: Key Notes (measurement locations, equipment and durations) for the 2024 WSP Background sound level survey.
C25: WSP 2024 Fusion 1 (C3) | D25: WSP 2024 Background sound level survey - Measurement data for Location C3.
C26: WSP 2024 Duo 1 (D1) | D26: WSP 2024 Background sound level survey - Measurement data for Location D1.
C27: WSP 2024 Cube 3 (E2) | D27: WSP 2024 Background sound level survey - Measurement data for Location E2.
C28: WSP 2024 Cube 2 (E6) | D28: WSP 2024 Background sound level survey - Measurement data for Location E6.
C29: WSP 2024 Weather Data 15 mins | D29: WSP 2024 Background sound level survey - Meteorological measurement data.
C30: WSP 2024 Weather Chart | D30: WSP 2024 Background sound level survey - Graphed meteorological measurement data.

Sheet Sources Scoped IN or OUT
B3: Creamery
B5: Project Number | C5: Project Description | D5: Status | E5: Element | F5: Notes | G5: Scoped IN or OUT
B6: 1 | C6: CiP 4hr turnaround | D6: Installed and operational | E6: All Internal | F6: Internal only Small compared to existing Op Removed from Receptors Unlikely to cause significant change in operational noise levels | G6: OUT
B7: 2 | C7: Milk Protein Standardisation | D7: Proposed | E7: Internal | F7: Internal only Small compared to existing Op Removed from Receptors Unlikely to cause significant change in operational noise levels | G7: OUT
E8: Potential Future External Silos (No. 2) each with associated agitators | F8: If required, to be installed adjacent to existing raw milk silos. If required, silos would have low level agitators akin to existing Silos. Agitator option: Lightnin / SPX S-Series Agitator | G8: IN
B9: 3 | C9: Milk Fat Standardisation | D9: Proposed | E9: Internal | F9: Internal only Small compared to existing Op Removed from Receptors Unlikely to cause significant change in operational noise levels | G9: OUT
E10: Possible Future 60,000 litre Cream Silos (no.2) each with associated top entry Mixers | F10: If required, to be installed to replace the existing 30,000 litre silos. If required, silos would have top entry mixers akin to existing Silos (SPX Lightnin XDQ-117) with Lightnin A310/A510 Low Solidity Hydrofoil Impeller (spxflow.com) | G10: IN
E11: Potential Future Freezer Building | F11: Western side of existing facility removed from receptors. To contain chest freezers - No external refrigeration plant | G11: IN
B12: 4 | C12: Whey Protein Concentrate | D12: Installed and operational | E12: Internal | F12: Internal only Removed from Receptors Unlikely to cause significant change in operational noise levels No external walls | G12: OUT
B13: 5 | C13: GOS Bulk Loading | D13: Installed and operational | E13: Internal (Tank) | F13: Internal only Removed from Receptors Unlikely to cause significant change in operational noise levels No external walls | G13: OUT
E14: Internal (Loading) | F14: New internal loading bay with roller shutter doors to both ends. Southside of Existing installation building | G14: IN
E15: External containerised CIP Unit | F15: adjacent to southern façade for new loading bay | G15: IN
B16: 6 | C16: Cheese Growth Capacity | D16: Proposed | E16: Internal | F16: Internal only Removed from Receptors Unlikely to cause significant change in operational noise levels No external walls | G16: OUT
B18: Water Processing Facility
B20: Project Number | C20: Project Description | D20: Status | E20: Element | F20: Notes | G20: Scoped IN or OUT
B21: - | C21: Contingency lagoon & Odour Control Unit (OCU) | D21: Installed and operational | E21: Lagoon | F21: Not noise generative | G21: OUT
E22: Odour Control Unit (OCU) | F22: Potential to be noise generative | G22: IN
B23: - | C23: Two new Dissolved Air Floatation units (DAFs) | D23: Installed and operational | E23: 2 x DAFS | F23: Potential to be noise generative | G23: IN
B24: - | C24: Covering / extraction from Balancing Tank 1 (BT1) and divert tanks & OCU | D24: Installed and operational | E24: Covering Balancing Tank (BT) 1 and Divert Tanks | F24: Not noise generative | G24: OUT
E25: Odour Control Unit (OCU) | F25: Potential to be noise generative | G25: IN
B26: - | C26: Upgraded Activated Filter Membrane (AFM) filtration tanks | D26: Installed and operational | E26: Upgraded AFM Filtration Tanks | F26: Not noise generative | G26: OUT
B27: - | C27: 3rd Reverse Osmosis (RO) plant | D27: Proposed | E27: 3rd Reverse Osmosis (RO) Plant | F27: Not noise generative | G27: OUT
B28: - | C28: UF / RO overflow attenuation tank | D28: Proposed | E28: UF / RO overflow attenuation tank | F28: Not noise generative | G28: OUT
B29: - | C29: Downstream tertiary filters | D29: Installed and operational | E29: Downstream Tertiary Filters | F29: Potential to be noise generative | G29: IN
B30: - | C30: 4th Membrane Bioreactor (MBR) loop | D30: Proposed | E30: 4th Membrane Bioreactor (MBR) loop | F30: Not noise generative | G30: OUT
B31: - | C31: New raw material store | D31: Installed and operational | E31: New raw material store | F31: Not noise generative | G31: OUT
B32: - | C32: Upgraded outfall pipework from WPF | D32: Installed and operational | E32: Outfall pipework | F32: Not noise generative | G32: OUT
B33: - | C33: New aeration pumps for BT1 | D33: Installed and operational | E33: 4 x Landia Pumps | F33: Noise generative | G33: IN
B34: - | C34: Installation of acoustic fencing | D34: Installed | E34: Acoustic Fence | F34: Not noise generative | G34: OUT (but included in model)
B35: - | C35: Noise monitoring equipment | D35: Installed and operational | E35: Noise monitoring equipment | F35: Not noise generative | G35: OUT
B36: - | C36: Floating discs on BT1 and anoxic pits 2 and 3 | D36: Installed and operational | E36: Floating discs on BT1 and anoxic pits 2 and 3 | F36: Not noise generative | G36: OUT
B37: - | C37: Perimeter Containment Wall | D37: Installed | E37: Perimeter Containment Wall | F37: Not noise generative | G37: OUT (but included in model)
... B40: - | C40: Installation of an automated forward / divert solution for both cheese/whey and Demin/GOS | D40: Proposed | E40: Forward / divert solution for both cheese/whey and Demin/GOS | F40: Not noise generative | G40: OUT

Sheet Hepworth 2020 - Creamery Meas
D2: Creamery
D4: Measurements Hepworth Acoustics during 2020 Survey Visits.
B6: Assessment Data Ref. | K6: Noise Level L90, dB - LINEAR | AP6: Noise Level Leq, dB - LINEAR
K7: Third octave Band Centre Frequency (Hz) | AP7: Third octave Band Centre Frequency (Hz)
D8: Plan Location | E8: Mic Location | F8: Measurement Notes | G8: LAeq | H8: LAFmax | I8: LA10 | J8: LA90 | K8: 25 | L8: 31.5 | M8: 40 | N8: 50 | O8: 63 | P8: 80 | Q8: 100 | R8: 125 | S8: 160 | T8: 200 | U8: 250 | V8: 315 | W8: 400 | X8: 500 | Y8: 630 | Z8: 800 | AA8: 1000 | AB8: 1250 | AC8: 1600 | AD8: 2000 | AE8: 2500 | AF8: 3150 | AG8: 4000 | AH8: 5000 | AI8: 6300 | AJ8: 8000 | AK8: 10000 | AL8: 12500 | AM8: 16000 | AN8: 20000 | AP8: 25 | AQ8: 31.5 | AR8: 40 | AS8: 50 | AT8: 63 | AU8: 80 | AV8: 100 | AW8: 125 | AX8: 160 | AY8: 200 | AZ8: 250 | BA8: 315 | BB8: 400 | BC8: 500 | BD8: 630 | BE8: 800 | BF8: 1000 | BG8: 1250 | BH8: 1600 | BI8: 2000 | BJ8: 2500 | BK8: 3150 | BL8: 4000 | BM8: 5000 | BN8: 6300 | BO8: 8000 | BP8: 10000 | BQ8: 12500 | BR8: 16000 | BS8: 20000
B9: 2020_Hep__CRM_1a | D9: 1 | E9: ground level | F9: to 'quiet' side of silos | G9: 61.3 | H9: 72.5 | I9: 60.8 | J9: 59.9 | K9: 50.5 | L9: 57.3 | M9: 58 | N9: 59.2 | O9: 54.7 | P9: 48.7 | Q9: 47.6 | R9: 48.8 | S9: 51.7 | T9: 53.2 | U9: 56.7 | V9: 51.7 | W9: 50.8 | X9: 51 | Y9: 51.2 | Z9: 53.7 | AA9: 51.5 | AB9: 48.2 | AC9: 44.1 | AD9: 41.4 | AE9: 37.8 | AF9: 36.5 | AG9: 35.9 | AH9: 28.9 | AI9: 24.3 | AJ9: 23 | AK9: 13.9 | AL9: 10.5 | AM9: 9.8 | AN9: 9.8 | AP9: 54.6 | AQ9: 60.8 | AR9: 61 | AS9: 64.8 | AT9: 59.3 | AU9: 63.7 | AV9: 58.1 | AW9: 51.9 | AX9: 54.2 | AY9: 55 | AZ9: 60 | BA9: 53.2 | BB9: 52.4 | BC9: 54.3 | BD9: 53 | BE9: 55.3 | BF9: 52.8 | BG9: 50.9 | BH9: 48.5 | BI9: 45.5 | BJ9: 41.2 | BK9: 39.1 | BL9: 38.4 | BM9: 31.9 | BN9: 27.5 | BO9: 25.4 | BP9: 18.8 | BQ9: 15.1 | BR9: 11 | BS9: 7.9
B10: 2020_Hep__CRM_1b | E10: ~8m up | G10: 58.3 | H10: 60.2 | I10: 58.8 | J10: 57.6 | K10: 54.7 | L10: 57.3 | M10: 63.5 | N10: 53.4 | O10: 58.6 | P10: 54.8 | Q10: 50.8 | R10: 48.5 | S10: 47.7 | T10: 48.5 | U10: 49 | V10: 50.9 | W10: 47.9 | X10: 50 | Y10: 50 | Z10: 50 | AA10: 49.8 | AB10: 46.7 | AC10: 43.8 | AD10: 43.6 | AE10: 41.2 | AF10: 37.5 | AG10: 35.6 | AH10: 31.7 | AI10: 25.4 | AJ10: 20.1 | AK10: 14.9 | AL10: 10.9 | AM10: 9.9 | AN10: 9.9 | AP10: 70.5 | AQ10: 66.8 | AR10: 69.1 | AS10: 64.3 | AT10: 63.4 | AU10: 58.9 | AV10: 54.3 | AW10: 51.2 | AX10: 49.2 | AY10: 50.8 | AZ10: 50.4 | BA10: 52.3 | BB10: 49.2 | BC10: 51.2 | BD10: 51.1 | BE10: 51.1 | BF10: 50.6 | BG10: 48 | BH10: 44.7 | BI10: 44.6 | BJ10: 42 | BK10: 38.2 | BL10: 36.4 | BM10: 32.6 | BN10: 26.7 | BO10: 23.1 | BP10: 21.5 | BQ10: 21.7 | BR10: 23.2 | BS10: 27.2
B11: 2020_Hep__CRM_2a | D11: 2 | E11: ~8m up, maybe 2-4m from agitator | F11: difficult to be sure what's going on, but measurements typically believed to be mostly due to nearest agitator…. where >72 more stuff going on, where <70 less residual noise/less plant..... All agitators on/off on fairly short cycles | G11: 71.8 | H11: 73.2 | I11: 72.4 | J11: 71.2 | K11: 50.9 | L11: 56.6 | M11: 57.4 | N11: 58.1 | O11: 60 | P11: 63.3 | Q11: 58.8 | R11: 50.7 | S11: 51.9 | T11: 54.5 | U11: 61.7 | V11: 58.6 | W11: 57.8 | X11: 62.6 | Y11: 62 | Z11: 65.6 | AA11: 61.8 | AB11: 63.2 | AC11: 60.5 | AD11: 55.8 | AE11: 51 | AF11: 46.2 | AG11: 44.5 | AH11: 39 | AI11: 33.5 | AJ11: 30.3 | AK11: 25.9 | AL11: 22.1 | AM11: 13.5 | AN11: 9.8 | AP11: 56 | AQ11: 61.2 | AR11: 61.2 | AS11: 61 | AT11: 63.3 | AU11: 65.9 | AV11: 60.8 | AW11: 53.1 | AX11: 55 | AY11: 56.5 | AZ11: 63.8 | BA11: 59.8 | BB11: 58.8 | BC11: 64.2 | BD11: 63.2 | BE11: 66.6 | BF11: 62.5 | BG11: 64.6 | BH11: 61.3 | BI11: 56.4 | BJ11: 51.6 | BK11: 47 | BL11: 45 | BM11: 39.6 | BN11: 34.1 | BO11: 31 | BP11: 27 | BQ11: 23.2 | BR11: 14.6 | BS11: 8.7
B12: 2020_Hep__CRM_2b | E12: ~8m up, maybe 2-4m from agitator | G12: 72 | H12: 73.8 | I12: 73.1 | J12: 71 | K12: 52.8 | L12: 56.6 | M12: 57.3 | N12: 58.7 | O12: 60.2 | P12: 62.7 | Q12: 57.8 | R12: 51.2 | S12: 53.1 | T12: 55 | U12: 60.8 | V12: 57.6 | W12: 57.1 | X12: 62.8 | Y12: 62.3 | Z12: 65 | AA12: 61.3 | AB12: 63.2 | AC12: 59.7 | AD12: 55.9 | AE12: 50.9 | AF12: 46.3 | AG12: 44.7 | AH12: 39.2 | AI12: 33.7 | AJ12: 30.7 | AK12: 26.6 | AL12: 22.6 | AM12: 14 | AN12: 9.8 | AP12: 60 | AQ12: 61.7 | AR12: 61.1 | AS12: 61.7 | AT12: 63.6 | AU12: 66 | AV12: 60.2 | AW12: 54.1 | AX12: 55.7 | AY12: 56.5 | AZ12: 62.9 | BA12: 59 | BB12: 58.2 | BC12: 64 | BD12: 64.4 | BE12: 66.7 | BF12: 62.6 | BG12: 64.4 | BH12: 62.3 | BI12: 56.7 | BJ12: 51.6 | BK12: 47.1 | BL12: 45.3 | BM12: 39.8 | BN12: 34.3 | BO12: 31.3 | BP12: 27.3 | BQ12: 23.6 | BR12: 15.6 | BS12: 12.4
B13: 2020_Hep__CRM_2c | E13: ~8m up, maybe 2-4m from agitator | G13: 72.5 | H13: 74.1 | I13: 73.2 | J13: 71.7 | K13: 52.4 | L13: 58.2 | M13: 57.5 | N13: 59.4 | O13: 62 | P13: 63.2 | Q13: 58.7 | R13: 50.7 | S13: 52.6 | T13: 54.3 | U13: 60.4 | V13: 57.1 | W13: 57.9 | X13: 62.6 | Y13: 64.4 | Z13: 66.3 | AA13: 61.2 | AB13: 62.1 | AC13: 61.2 | AD13: 56.9 | AE13: 51.6 | AF13: 46.6 | AG13: 45 | AH13: 39.5 | AI13: 34.6 | AJ13: 31.1 | AK13: 27.3 | AL13: 23.4 | AM13: 15 | AN13: 9.8 | AP13: 56 | AQ13: 61.5 | AR13: 61.4 | AS13: 63 | AT13: 65 | AU13: 66.2 | AV13: 60.9 | AW13: 53.4 | AX13: 54.7 | AY13: 56.2 | AZ13: 62.2 | BA13: 58.6 | BB13: 58.9 | BC13: 63.9 | BD13: 67.3 | BE13: 67.8 | BF13: 62.5 | BG13: 63.2 | BH13: 62.5 | BI13: 57.6 | BJ13: 52.5 | BK13: 47.2 | BL13: 45.6 | BM13: 40.4 | BN13: 35.4 | BO13: 32.2 | BP13: 28.3 | BQ13: 24.5 | BR13: 16.3 | BS13: 10
B14: 2020_Hep__CRM_3a | D14: 3 | E14: ~8m up, maybe 2-4m from agitator | G14: 73.2 | H14: 76.8 | I14: 74.6 | J14: 72 | K14: 52.9 | L14: 57.6 | M14: 58.3 | N14: 60.3 | O14: 62.8 | P14: 64 | Q14: 60.8 | R14: 52.7 | S14: 52.4 | T14: 54.4 | U14: 60.4 | V14: 56.8 | W14: 58.7 | X14: 62.4 | Y14: 63.3 | Z14: 67.8 | AA14: 62.3 | AB14: 62.3 | AC14: 60.8 | AD14: 57 | AE14: 51.8 | AF14: 47 | AG14: 45.6 | AH14: 40.1 | AI14: 35.5 | AJ14: 31.6 | AK14: 27.5 | AL14: 23.5 | AM14: 15.3 | AN14: 9.9 | AP14: 56.4 | AQ14: 61.7 | AR14: 62.3 | AS14: 64.5 | AT14: 65.9 | AU14: 67.4 | AV14: 63.2 | AW14: 56 | AX14: 56.3 | AY14: 56.3 | AZ14: 62.6 | BA14: 58.6 | BB14: 60.2 | BC14: 64.5 | BD14: 65.6 | BE14: 69.2 | BF14: 64.4 | BG14: 64.5 | BH14: 62.5 | BI14: 57.9 | BJ14: 52.9 | BK14: 47.9 | BL14: 46.4 | BM14: 41.4 | BN14: 37.1 | BO14: 33 | BP14: 29.2 | BQ14: 25.4 | BR14: 19.6 | BS14: 17
B15: 2020_Hep__CRM_3b | E15: ~8m up, maybe 2-4m from agitator | G15: 78.9 | H15: 81.2 | I15: 80.1 | J15: 77.3 | K15: 53.2 | L15: 55 | M15: 53.7 | N15: 55.2 | O15: 59.6 | P15: 65.6 | Q15: 59.2 | R15: 55.6 | S15: 54.3 | T15: 55.8 | U15: 58 | V15: 57.4 | W15: 61.2 | X15: 63.3 | Y15: 62.9 | Z15: 75.9 | AA15: 70.5 | AB15: 59 | AC15: 58.2 | AD15: 57 | AE15: 53.5 | AF15: 52.2 | AG15: 49.9 | AH15: 45.8 | AI15: 44.5 | AJ15: 43.8 | AK15: 41.8 | AL15: 38.3 | AM15: 38 | AN15: 36.6 | AP15: 57 | AQ15: 60.4 | AR15: 57.2 | AS15: 58.2 | AT15: 62.2 | AU15: 67.9 | AV15: 61.7 | AW15: 58.5 | AX15: 56.4 | AY15: 57.5 | AZ15: 59.7 | BA15: 58.8 | BB15: 62.9 | BC15: 64.8 | BD15: 63.9 | BE15: 77.6 | BF15: 72.5 | BG15: 59.9 | BH15: 59 | BI15: 58 | BJ15: 55.2 | BK15: 53.3 | BL15: 50.8 | BM15: 47 | BN15: 45.5 | BO15: 45.2 | BP15: 43.3 | BQ15: 39.8 | BR15: 39.7 | BS15: 38.4
B16: 2020_Hep__CRM_3c | E16: ~8m up, maybe 2-4m from agitator | G16: 75.3 | H16: 80.7 | I16: 78.2 | J16: 72.3 | K16: 54.3 | L16: 57.4 | M16: 54 | N16: 55.2 | O16: 59.7 | P16: 66.9 | Q16: 60.9 | R16: 55.3 | S16: 52.9 | T16: 55 | U16: 58.6 | V16: 59.5 | W16: 62.1 | X16: 64.7 | Y16: 63.2 | Z16: 68.1 | AA16: 64.2 | AB16: 58.5 | AC16: 58.2 | AD16: 56.5 | AE16: 52.6 | AF16: 51.5 | AG16: 48.9 | AH16: 44.9 | AI16: 42.7 | AJ16: 41.7 | AK16: 39.1 | AL16: 35.2 | AM16: 34.2 | AN16: 32.5 | AP16: 62.2 | AQ16: 62.9 | AR16: 58.2 | AS16: 59.1 | AT16: 62.1 | AU16: 69.5 | AV16: 63.5 | AW16: 59.1 | AX16: 56.7 | AY16: 56.8 | AZ16: 60.3 | BA16: 61.6 | BB16: 63.5 | BC16: 66 | BD16: 64.3 | BE16: 73.1 | BF16: 68.3 | BG16: 59.7 | BH16: 59.1 | BI16: 58 | BJ16: 53.5 | BK16: 52.6 | BL16: 49.8 | BM16: 46 | BN16: 44 | BO16: 43.1 | BP16: 41 | BQ16: 37.2 | BR16: 36.7 | BS16: 35.4
B17: 2020_Hep__CRM_4a | D17: 4 | E17: ~8m up, maybe 2-4m from agitator | G17: 70.2 | H17: 71.8 | I17: 70.8 | J17: 69.3 | K17: 56.7 | L17: 59 | M17: 55.8 | N17: 58.5 | O17: 62.6 | P17: 57.1 | Q17: 57.6 | R17: 53.1 | S17: 54.2 | T17: 55.3 | U17: 57.9 | V17: 60.1 | W17: 57.7 | X17: 59.5 | Y17: 61.8 | Z17: 64.4 | AA17: 61.4 | AB17: 56.8 | AC17: 55.5 | AD17: 53.2 | AE17: 49.8 | AF17: 48.8 | AG17: 46.5 | AH17: 42.4 | AI17: 39.8 | AJ17: 38.8 | AK17: 35.4 | AL17: 31.1 | AM17: 29.6 | AN17: 26.4 | AP17: 73.9 | AQ17: 71.5 | AR17: 68.2 | AS17: 66.2 | AT17: 66.2 | AU17: 62.2 | AV17: 59.8 | AW17: 55.5 | AX17: 56.6 | AY17: 57.4 | AZ17: 59 | BA17: 61.9 | BB17: 59 | BC17: 60.7 | BD17: 63.8 | BE17: 66.3 | BF17: 62.6 | BG17: 57.5 | BH17: 56.3 | BI17: 53.9 | BJ17: 50.4 | BK17: 49.5 | BL17: 47 | BM17: 42.9 | BN17: 40.4 | BO17: 39.2 | BP17: 36 | BQ17: 32.1 | BR17: 31.1 | BS17: 31
B18: 2020_Hep__CRM_4b | E18: ~8m up, maybe 2-4m from agitator | G18: 69.8 | H18: 71.7 | I18: 70.8 | J18: 68.2 | K18: 54.6 | L18: 56.1 | M18: 54.8 | N18: 58.4 | O18: 62.3 | P18: 58.2 | Q18: 54.2 | R18: 51.4 | S18: 54.4 | T18: 54.6 | U18: 57.5 | V18: 59.6 | W18: 57.7 | X18: 58.3 | Y18: 59 | Z18: 63.7 | AA18: 61.7 | AB18: 56.5 | AC18: 54.4 | AD18: 52.1 | AE18: 47.9 | AF18: 47.1 | AG18: 44.1 | AH18: 39.6 | AI18: 36 | AJ18: 34.9 | AK18: 31.9 | AL18: 27.8 | AM18: 26.4 | AN18: 23.8 | AP18: 72.3 | AQ18: 66.6 | AR18: 65.8 | AS18: 62.7 | AT18: 65.4 | AU18: 61.6 | AV18: 58.5 | AW18: 54.4 | AX18: 56.8 | AY18: 57.1 | AZ18: 58.9 | BA18: 61.5 | BB18: 59.1 | BC18: 59.5 | BD18: 61.4 | BE18: 66.2 | BF18: 62.9 | BG18: 57.4 | BH18: 55.3 | BI18: 53.2 | BJ18: 49.3 | BK18: 48.6 | BL18: 45.7 | BM18: 41.3 | BN18: 38.3 | BO18: 37 | BP18: 34.1 | BQ18: 29.9 | BR18: 28.7 | BS18: 27.2
B19: 2020_Hep__CRM_4c | E19: ~8m up, maybe 2-4m from agitator | G19: 65.7 | H19: 69.7 | I19: 67.2 | J19: 64.1 | K19: 56.1 | L19: 56.3 | M19: 55.1 | N19: 53.8 | O19: 51.4 | P19: 48.6 | Q19: 51.7 | R19: 53.8 | S19: 50.8 | T19: 53.1 | U19: 56.8 | V19: 55.3 | W19: 53.6 | X19: 55.6 | Y19: 53.9 | Z19: 57.4 | AA19: 55.5 | AB19: 52.9 | AC19: 50.6 | AD19: 48.4 | AE19: 45.3 | AF19: 44.3 | AG19: 41.6 | AH19: 36.8 | AI19: 33.5 | AJ19: 32.5 | AK19: 29.4 | AL19: 24.5 | AM19: 23 | AN19: 19.5 | AP19: 64 | AQ19: 63.7 | AR19: 61.2 | AS19: 57.9 | AT19: 55.2 | AU19: 51.7 | AV19: 54.3 | AW19: 57.1 | AX19: 53.6 | AY19: 56.5 | AZ19: 60.5 | BA19: 58.2 | BB19: 55.2 | BC19: 57.4 | BD19: 55.3 | BE19: 62 | BF19: 58.1 | BG19: 54 | BH19: 51.5 | BI19: 49.4 | BJ19: 46 | BK19: 45.3 | BL19: 42.4 | BM19: 37.7 | BN19: 34.5 | BO19: 33.6 | BP19: 30.7 | BQ19: 26.2 | BR19: 25.1 | BS19: 22.7
B20: 2020_Hep__CRM_5 | D20: 5 | E20: ~6m up, ~3m laterally from silo | F20: water tanks…. no agitation, no noise | G20: 64 | H20: 64.7 | I20: 64.4 | J20: 63.6 | K20: 58 | L20: 59.9 | M20: 60.8 | N20: 62.2 | O20: 64.6 | P20: 65.6 | Q20: 59.2 | R20: 59.2 | S20: 60.1 | T20: 55.3 | U20: 57.6 | V20: 58.4 | W20: 57.6 | X20: 55 | Y20: 54.5 | Z20: 53.8 | AA20: 53.3 | AB20: 51.6 | AC20: 50.3 | AD20: 49 | AE20: 48.4 | AF20: 47.1 | AG20: 44.2 | AH20: 39 | AI20: 34.1 | AJ20: 29 | AK20: 23.1 | AL20: 18.2 | AM20: 9.8 | AN20: 9.8 | AP20: 70.4 | AQ20: 67.3 | AR20: 64.8 | AS20: 65.2 | AT20: 67.1 | AU20: 69.9 | AV20: 61.6 | AW20: 60.8 | AX20: 62.4 | AY20: 57.4 | AZ20: 60.3 | BA20: 59.9 | BB20: 59 | BC20: 56.4 | BD20: 55.4 | BE20: 54.7 | BF20: 54 | BG20: 52.5 | BH20: 51.1 | BI20: 50 | BJ20: 49.2 | BK20: 48.1 | BL20: 45.9 | BM20: 40 | BN20: 35 | BO20: 29.9 | BP20: 24.7 | BQ20: 20.5 | BR20: 16.7 | BS20: 20
B21: 2020_Hep__CRM_6 | D21: 6 | E21: ~6m up, ~3m laterally from silo | G21: 66.3 | H21: 67.5 | I21: 66.8 | J21: 65.9 | K21: 57.1 | L21: 57.7 | M21: 60.3 | N21: 63.8 | O21: 65.7 | P21: 68.7 | Q21: 60.7 | R21: 61.5 | S21: 63.5 | T21: 58.4 | U21: 58.2 | V21: 58.9 | W21: 58 | X21: 57.8 | Y21: 56.7 | Z21: 55.8 | AA21: 55.1 | AB21: 53.8 | AC21: 52.7 | AD21: 52.2 | AE21: 53.2 | AF21: 51.3 | AG21: 46.9 | AH21: 41.3 | AI21: 37 | AJ21: 32.1 | AK21: 26 | AL21: 21.7 | AM21: 11.5 | AN21: 9.8 | AP21: 65.8 | AQ21: 64.2 | AR21: 63.9 | AS21: 67.3 | AT21: 67.6 | AU21: 70.2 | AV21: 62.9 | AW21: 63.3 | AX21: 65.7 | AY21: 60.9 | AZ21: 60.6 | BA21: 60.6 | BB21: 59.2 | BC21: 58.9 | BD21: 57.9 | BE21: 56.6 | BF21: 56.1 | BG21: 54.5 | BH21: 53.8 | BI21: 53.3 | BJ21: 54.1 | BK21: 52.4 | BL21: 48.9 | BM21: 42.8 | BN21: 38.4 | BO21: 33.4 | BP21: 28 | BQ21: 23.6 | BR21: 13.5 | BS21: 8.2
B22: 2020_Hep__CRM_7 | D22: 7 | E22: ~6m up, opposite side of site route | G22: 66.1 | H22: 67 | I22: 66.6 | J22: 65.5 | K22: 61 | L22: 64.7 | M22: 59.7 | N22: 60.8 | O22: 63.7 | P22: 64.6 | Q22: 60.4 | R22: 60.9 | S22: 61.9 | T22: 58.2 | U22: 58.9 | V22: 59.4 | W22: 57.5 | X22: 57.1 | Y22: 57.1 | Z22: 55.7 | AA22: 55.5 | AB22: 53.3 | AC22: 52.6 | AD22: 51.5 | AE22: 52.5 | AF22: 50.8 | AG22: 47.3 | AH22: 42.3 | AI22: 37.9 | AJ22: 32.6 | AK22: 26.7 | AL22: 21.7 | AM22: 11.8 | AN22: 9.8 | AP22: 68.9 | AQ22: 70.5 | AR22: 65.1 | AS22: 66.7 | AT22: 66.8 | AU22: 67.5 | AV22: 63 | AW22: 63.1 | AX22: 64.2 | AY22: 60.6 | AZ22: 60.5 | BA22: 60.9 | BB22: 59.2 | BC22: 58.3 | BD22: 58.1 | BE22: 56.8 | BF22: 56.1 | BG22: 54.2 | BH22: 53.5 | BI22: 52.3 | BJ22: 54.3 | BK22: 51.9 | BL22: 48.8 | BM22: 43.3 | BN22: 38.9 | BO22: 34.1 | BP22: 28.7 | BQ22: 24.5 | BR22: 20.7 | BS22: 24.1
B23: 2020_Hep__CRM_8 | D23: 8 | E23: ~6m up, bit south, looking towards noisier area | G23: 70.9 | H23: 72.1 | I23: 71.5 | J23: 70.2 | K23: 66.8 | L23: 63.8 | M23: 63.1 | N23: 67 | O23: 73.2 | P23: 76.7 | Q23: 63 | R23: 62.4 | S23: 64.6 | T23: 59.8 | U23: 65.5 | V23: 64.1 | W23: 61.1 | X23: 61.6 | Y23: 60.6 | Z23: 60.5 | AA23: 60.1 | AB23: 57.6 | AC23: 55.4 | AD23: 57 | AE23: 58.2 | AF23: 55.7 | AG23: 51 | AH23: 45.7 | AI23: 42 | AJ23: 37.1 | AK23: 32.6 | AL23: 29.8 | AM23: 24.7 | AN23: 21.8 | AP23: 72 | AQ23: 70.5 | AR23: 69 | AS23: 70 | AT23: 75 | AU23: 79.1 | AV23: 64.9 | AW23: 64.1 | AX23: 66.7 | AY23: 61.8 | AZ23: 70.1 | BA23: 65.5 | BB23: 62.8 | BC23: 62.8 | BD23: 61.5 | BE23: 61.8 | BF23: 61 | BG23: 58.6 | BH23: 56.2 | BI23: 58.2 | BJ23: 59.5 | BK23: 56.8 | BL23: 52.6 | BM23: 47.1 | BN23: 43.3 | BO23: 38.1 | BP23: 33.8 | BQ23: 30.8 | BR23: 28.2 | BS23: 30.7
B24: 2020_Hep__CRM_9a | D24: 9 | E24: ~6m up | F24: probably during CIP (cleaning) - more noise…........... All agitators inside buildings | G24: 67.5 | H24: 69.9 | I24: 69.1 | J24: 66.2 | K24: 63.3 | L24: 58.2 | M24: 61.2 | N24: 65.6 | O24: 62.9 | P24: 60.8 | Q24: 63.2 | R24: 63.2 | S24: 62.4 | T24: 61.4 | U24: 62.2 | V24: 61 | W24: 64 | X24: 57.5 | Y24: 56.5 | Z24: 56 | AA24: 52.8 | AB24: 52.4 | AC24: 50.6 | AD24: 49.6 | AE24: 47.2 | AF24: 46.1 | AG24: 43.6 | AH24: 39.5 | AI24: 37 | AJ24: 34.5 | AK24: 32.3 | AL24: 25.3 | AM24: 19 | AN24: 13.4 | AP24: 73.7 | AQ24: 70.2 | AR24: 68 | AS24: 70.3 | AT24: 67.4 | AU24: 63.8 | AV24: 65.5 | AW24: 65.8 | AX24: 64.2 | AY24: 63.1 | AZ24: 64.2 | BA24: 62.3 | BB24: 68.1 | BC24: 59 | BD24: 58 | BE24: 57.7 | BF24: 53.6 | BG24: 53.5 | BH24: 52.2 | BI24: 51.8 | BJ24: 49.3 | BK24: 48.5 | BL24: 44.8 | BM24: 40.5 | BN24: 38.1 | BO24: 36.3 | BP24: 34 | BQ24: 28.4 | BR24: 27.2 | BS24: 30.2
B25: 2020_Hep__CRM_10a | D25: 10 | E25: ~6m up | G25: 62.5 | H25: 69.5 | I25: 63 | J25: 61.5 | K25: 68.5 | L25: 65.2 | M25: 64 | N25: 65.2 | O25: 63.2 | P25: 59.5 | Q25: 60.5 | R25: 59.2 | S25: 57.8 | T25: 56.6 | U25: 60.8 | V25: 57.6 | W25: 56.2 | X25: 51.9 | Y25: 50.9 | Z25: 49.9 | AA25: 48.4 | AB25: 49.3 | AC25: 46.9 | AD25: 45.8 | AE25: 43.5 | AF25: 42.3 | AG25: 40.6 | AH25: 38.2 | AI25: 35.5 | AJ25: 32.8 | AK25: 30.3 | AL25: 26.6 | AM25: 26.6 | AN25: 28.3 | AP25: 80.9 | AQ25: 77.4 | AR25: 74.4 | AS25: 71.9 | AT25: 68.4 | AU25: 65.2 | AV25: 63.4 | AW25: 62.5 | AX25: 60.3 | AY25: 58.2 | AZ25: 62.7 | BA25: 58.9 | BB25: 58.1 | BC25: 53.1 | BD25: 51.8 | BE25: 51.1 | BF25: 49.5 | BG25: 50.5 | BH25: 49 | BI25: 49.1 | BJ25: 46.6 | BK25: 45.4 | BL25: 43.8 | BM25: 43.6 | BN25: 38.7 | BO25: 34.9 | BP25: 31.5 | BQ25: 28.6 | BR25: 29.4 | BS25: 32.9
B26: 2020_Hep__CRM_11a | D26: 11 | E26: ~6m up | G26: 68.5 | H26: 71.4 | I26: 69 | J26: 67.8 | K26: 59.2 | L26: 56.9 | M26: 61.5 | N26: 63.6 | O26: 62.3 | P26: 63.8 | Q26: 65.2 | R26: 67 | S26: 65.2 | T26: 64.5 | U26: 66.5 | V26: 65.5 | W26: 65 | X26: 58.3 | Y26: 56.2 | Z26: 54.4 | AA26: 53.1 | AB26: 52.6 | AC26: 51.7 | AD26: 49.1 | AE26: 47.1 | AF26: 49.9 | AG26: 48.8 | AH26: 46.4 | AI26: 42.2 | AJ26: 37.3 | AK26: 33.2 | AL26: 28.3 | AM26: 22.9 | AN26: 16.5 | AP26: 65.3 | AQ26: 63.3 | AR26: 65.9 | AS26: 67.2 | AT26: 65.2 | AU26: 67.3 | AV26: 67.7 | AW26: 69.1 | AX26: 67.9 | AY26: 66.1 | AZ26: 68.5 | BA26: 67.1 | BB26: 66.7 | BC26: 59.8 | BD26: 57.4 | BE26: 55.4 | BF26: 54.2 | BG26: 53.9 | BH26: 52.7 | BI26: 50.3 | BJ26: 48.2 | BK26: 51.1 | BL26: 50.4 | BM26: 47.1 | BN26: 42.9 | BO26: 38.3 | BP26: 34 | BQ26: 29 | BR26: 24.1 | BS26: 21
B27: 2020_Hep__CRM_12a | D27: 12 | E27: ~6m up | G27: 72.6 | H27: 74 | I27: 73.2 | J27: 72 | K27: 65.7 | L27: 64.4 | M27: 62.8 | N27: 65.1 | O27: 64.5 | P27: 65.9 | Q27: 68 | R27: 67.2 | S27: 66.3 | T27: 67.7 | U27: 69.7 | V27: 70.5 | W27: 70.8 | X27: 61.8 | Y27: 59.7 | Z27: 57.9 | AA27: 57 | AB27: 56.5 | AC27: 54.5 | AD27: 53.1 | AE27: 51.7 | AF27: 54.5 | AG27: 52.8 | AH27: 49.5 | AI27: 44.7 | AJ27: 41.2 | AK27: 36.8 | AL27: 31.8 | AM27: 25.9 | AN27: 19.7 | AP27: 71.5 | AQ27: 70.7 | AR27: 69.6 | AS27: 68.8 | AT27: 68.4 | AU27: 69.5 | AV27: 70.7 | AW27: 69.9 | AX27: 68.7 | AY27: 69.8 | AZ27: 71.4 | BA27: 71.8 | BB27: 72.6 | BC27: 63 | BD27: 60.9 | BE27: 59 | BF27: 57.9 | BG27: 57.4 | BH27: 55.5 | BI27: 54 | BJ27: 52.3 | BK27: 55.2 | BL27: 53.6 | BM27: 50 | BN27: 45.4 | BO27: 42.1 | BP27: 37.9 | BQ27: 32.9 | BR27: 28.5 | BS27: 28.1
B28: 2020_Hep__CRM_13a | D28: 13 | E28: ~6m up | G28: 69 | H28: 72.7 | I28: 70.7 | J28: 66.9 | K28: 62 | L28: 60.6 | M28: 58.9 | N28: 58.5 | O28: 56.6 | P28: 56.7 | Q28: 57.3 | R28: 55.7 | S28: 57.3 | T28: 55.5 | U28: 58 | V28: 55.3 | W28: 60.8 | X28: 54.9 | Y28: 53.4 | Z28: 56.7 | AA28: 54.3 | AB28: 56.5 | AC28: 54.7 | AD28: 56 | AE28: 53.6 | AF28: 48 | AG28: 44.6 | AH28: 41 | AI28: 36.7 | AJ28: 31 | AK28: 25.4 | AL28: 20.7 | AM28: 14.8 | AN28: 9.9 | AP28: 71.4 | AQ28: 71.6 | AR28: 71.4 | AS28: 68.1 | AT28: 64.9 | AU28: 61 | AV28: 61.3 | AW28: 58.5 | AX28: 59.4 | AY28: 57.9 | AZ28: 60.7 | BA28: 57.6 | BB28: 66.5 | BC28: 56.8 | BD28: 55.4 | BE28: 60.1 | BF28: 56.9 | BG28: 59.6 | BH28: 57.4 | BI28: 59.3 | BJ28: 57.8 | BK28: 54.5 | BL28: 51.5 | BM28: 49.6 | BN28: 45.5 | BO28: 41.2 | BP28: 34.9 | BQ28: 28.4 | BR28: 24.2 | BS28: 26.3
B29: 2020_Hep__CRM_14a | D29: 14 | E29: ~6m up | G29: 67.8 | H29: 69 | I29: 68.4 | J29: 67 | K29: 60.3 | L29: 59.6 | M29: 58.3 | N29: 63.4 | O29: 63 | P29: 59.3 | Q29: 59.3 | R29: 55 | S29: 55.8 | T29: 55 | U29: 57.9 | V29: 56.6 | W29: 58.9 | X29: 58.9 | Y29: 56 | Z29: 54.8 | AA29: 54.6 | AB29: 54.2 | AC29: 54.7 | AD29: 57.1 | AE29: 56.6 | AF29: 54.9 | AG29: 53.2 | AH29: 52.2 | AI29: 49.5 | AJ29: 46.5 | AK29: 41.8 | AL29: 36.4 | AM29: 29.1 | AN29: 19.2 | AP29: 65 | AQ29: 63.2 | AR29: 62.7 | AS29: 66.5 | AT29: 65.9 | AU29: 61.9 | AV29: 63.7 | AW29: 57.7 | AX29: 57.7 | AY29: 57.2 | AZ29: 59.1 | BA29: 57.8 | BB29: 60.2 | BC29: 59.8 | BD29: 57.3 | BE29: 55.7 | BF29: 55.7 | BG29: 55.3 | BH29: 55.8 | BI29: 58.2 | BJ29: 57.5 | BK29: 56.1 | BL29: 54.3 | BM29: 53.3 | BN29: 50.9 | BO29: 47.9 | BP29: 43.3 | BQ29: 37.8 | BR29: 30.4 | BS29: 20.8
B30: 2020_Hep__CRM_9b | D30: 9 | E30: ground level | F30: no CIP, more representative - no apparent high level source…................. All agitators inside buildings | G30: 62.2 | H30: 73 | I30: 63.4 | J30: 58.6 | K30: 57.9 | L30: 60.5 | M30: 57.4 | N30: 61.5 | O30: 59.9 | P30: 59.4 | Q30: 56.7 | R30: 55.9 | S30: 59.2 | T30: 56.9 | U30: 53 | V30: 51.2 | W30: 51.2 | X30: 50.8 | Y30: 48.3 | Z30: 48.5 | AA30: 48.5 | AB30: 47.7 | AC30: 46 | AD30: 45.2 | AE30: 43.9 | AF30: 41.9 | AG30: 38.6 | AH30: 34 | AI30: 32.4 | AJ30: 30.1 | AK30: 26.3 | AL30: 22.9 | AM30: 18.2 | AN30: 12.8 | AP30: 69.3 | AQ30: 67.6 | AR30: 65.8 | AS30: 65.8 | AT30: 63 | AU30: 62.1 | AV30: 59.6 | AW30: 58.1 | AX30: 61.3 | AY30: 59.6 | AZ30: 56.1 | BA30: 53.5 | BB30: 53.5 | BC30: 53.5 | BD30: 52 | BE30: 52.7 | BF30: 52.2 | BG30: 51.3 | BH30: 51 | BI30: 51.1 | BJ30: 49.7 | BK30: 46.5 | BL30: 46.3 | BM30: 43.7 | BN30: 40.6 | BO30: 40 | BP30: 38.4 | BQ30: 35 | BR30: 30.7 | BS30: 25.8
B31: 2020_Hep__CRM_10b | D31: 10 | E31: ground level | G31: 55.5 | H31: 60.6 | I31: 56.6 | J31: 54.6 | K31: 64.6 | L31: 63.8 | M31: 60.6 | N31: 63.5 | O31: 58.8 | P31: 56 | Q31: 54.7 | R31: 50.5 | S31: 53.3 | T31: 52 | U31: 51.6 | V31: 47.1 | W31: 45.1 | X31: 45.3 | Y31: 44 | Z31: 43.6 | AA31: 43.2 | AB31: 43.7 | AC31: 41.9 | AD31: 41.7 | AE31: 39.1 | AF31: 36.7 | AG31: 33.4 | AH31: 29 | AI31: 26.4 | AJ31: 22.7 | AK31: 18.9 | AL31: 14.8 | AM31: 12.1 | AN31: 9.9 | AP31: 73 | AQ31: 71.2 | AR31: 68.3 | AS31: 67.8 | AT31: 64.4 | AU31: 60.2 | AV31: 57.3 | AW31: 53.9 | AX31: 55.3 | AY31: 53.7 | AZ31: 53.6 | BA31: 48.8 | BB31: 46.9 | BC31: 46.8 | BD31: 45.2 | BE31: 44.7 | BF31: 44.4 | BG31: 44.9 | BH31: 43.6 | BI31: 43.3 | BJ31: 40.5 | BK31: 38.2 | BL31: 35.9 | BM31: 31.6 | BN31: 29.1 | BO31: 27 | BP31: 24.3 | BQ31: 22.8 | BR31: 23 | BS31: 26.2
B32: 2020_Hep__CRM_11b | D32: 11 | E32: ground level | G32: 58.1 | H32: 63.1 | I32: 59.6 | J32: 56.7 | K32: 54.9 | L32: 55.1 | M32: 54.8 | N32: 56.2 | O32: 54.1 | P32: 55.9 | Q32: 53.8 | R32: 52.4 | S32: 53.9 | T32: 50.9 | U32: 50.2 | V32: 47.4 | W32: 48.1 | X32: 48.3 | Y32: 47.5 | Z32: 46.9 | AA32: 46.5 | AB32: 46.2 | AC32: 45.6 | AD32: 43.4 | AE32: 40.7 | AF32: 39 | AG32: 37.5 | AH32: 34.5 | AI32: 30.3 | AJ32: 28.1 | AK32: 22.1 | AL32: 17.3 | AM32: 11.3 | AN32: 9.8 | AP32: 62.6 | AQ32: 60.9 | AR32: 58.6 | AS32: 60.1 | AT32: 57.3 | AU32: 58.9 | AV32: 58.2 | AW32: 55.3 | AX32: 56.5 | AY32: 52.6 | AZ32: 54.1 | BA32: 49.4 | BB32: 50.1 | BC32: 50.7 | BD32: 49.3 | BE32: 48.7 | BF32: 48.3 | BG32: 47.7 | BH32: 47.6 | BI32: 45 | BJ32: 42.5 | BK32: 40.9 | BL32: 40.1 | BM32: 39.1 | BN32: 38.4 | BO32: 37.7 | BP32: 34.9 | BQ32: 30.4 | BR32: 24.6 | BS32: 20.6
B33: 2020_Hep__CRM_12b | D33: 12 | E33: ground level | G33: 61.4 | H33: 68.6 | I33: 64.2 | J33: 58.2 | K33: 64.8 | L33: 63.6 | M33: 61.2 | N33: 66.3 | O33: 62.1 | P33: 61.2 | Q33: 61.8 | R33: 53.6 | S33: 55.9 | T33: 53.9 | U33: 53.8 | V33: 50.3 | W33: 49.7 | X33: 51 | Y33: 48.2 | Z33: 46.6 | AA33: 47.1 | AB33: 46.4 | AC33: 46.1 | AD33: 44.2 | AE33: 42.6 | AF33: 40.3 | AG33: 38.6 | AH33: 35.4 | AI33: 31.9 | AJ33: 29.2 | AK33: 23.7 | AL33: 20 | AM33: 15.2 | AN33: 12.2 | AP33: 84.4 | AQ33: 83.9 | AR33: 79.8 | AS33: 78.2 | AT33: 74.9 | AU33: 73.3 | AV33: 70 | AW33: 65.3 | AX33: 62.3 | AY33: 59.3 | AZ33: 57.3 | BA33: 53 | BB33: 51.9 | BC33: 52.6 | BD33: 49.9 | BE33: 48.2 | BF33: 48.4 | BG33: 47.9 | BH33: 47.7 | BI33: 46 | BJ33: 44.1 | BK33: 42 | BL33: 40.8 | BM33: 37.9 | BN33: 34.5 | BO33: 32.7 | BP33: 29.6 | BQ33: 27.7 | BR33: 28.1 | BS33: 31.5
B34: 2020_Hep__CRM_13b | D34: 13 | E34: ground level | G34: 60.4 | H34: 66.6 | I34: 62.4 | J34: 58.5 | K34: 68.1 | L34: 65.6 | M34: 64.7 | N34: 66.7 | O34: 63.4 | P34: 62.8 | Q34: 59.1 | R34: 54.3 | S34: 54.9 | T34: 54.3 | U34: 54.9 | V34: 51.3 | W34: 51.9 | X34: 51.8 | Y34: 48 | Z34: 46.8 | AA34: 46.6 | AB34: 46.6 | AC34: 45.6 | AD34: 44.3 | AE34: 43.5 | AF34: 40.6 | AG34: 38.8 | AH34: 36.1 | AI34: 32.3 | AJ34: 29.8 | AK34: 24.6 | AL34: 20.7 | AM34: 15.5 | AN34: 11.1 | AP34: 79.3 | AQ34: 78 | AR34: 74.8 | AS34: 73.7 | AT34: 71.6 | AU34: 68.9 | AV34: 65.7 | AW34: 61.4 | AX34: 58.6 | AY34: 56.7 | AZ34: 56.2 | BA34: 52.7 | BB34: 53.3 | BC34: 53.3 | BD34: 49.6 | BE34: 48.3 | BF34: 48.6 | BG34: 48.4 | BH34: 48.5 | BI34: 47.3 | BJ34: 45.8 | BK34: 43.9 | BL34: 43.3 | BM34: 39.7 | BN34: 36.5 | BO34: 36.3 | BP34: 32.3 | BQ34: 28.6 | BR34: 27.2 | BS34: 29.9
B35: 2020_Hep__CRM_14b | D35: 14 | E35: ground level | G35: 60.8 | H35: 64.2 | I35: 61.4 | J35: 60.2 | K35: 67.1 | L35: 69.6 | M35: 66.3 | N35: 69 | O35: 63.9 | P35: 59 | Q35: 57.9 | R35: 56.3 | S35: 56.7 | T35: 56.2 | U35: 56.5 | V35: 52.1 | W35: 52.7 | X35: 53.5 | Y35: 49.9 | Z35: 48.8 | AA35: 47.5 | AB35: 47.5 | AC35: 47 | AD35: 46.7 | AE35: 45.9 | AF35: 43.2 | AG35: 41.1 | AH35: 38 | AI35: 35.4 | AJ35: 31.9 | AK35: 27.8 | AL35: 24.4 | AM35: 19.3 | AN35: 13.6 | AP35: 75.4 | AQ35: 74.6 | AR35: 73.1 | AS35: 73.2 | AT35: 68.3 | AU35: 64.1 | AV35: 61.3 | AW35: 59 | AX35: 58.7 | AY35: 58.5 | AZ35: 58.8 | BA35: 53.9 | BB35: 54 | BC35: 55 | BD35: 51.1 | BE35: 50.2 | BF35: 48.4 | BG35: 48.5 | BH35: 48.2 | BI35: 48.1 | BJ35: 46.9 | BK35: 44.1 | BL35: 42.2 | BM35: 39.5 | BN35: 37.1 | BO35: 33.7 | BP35: 30.8 | BQ35: 29.9 | BR35: 27.9 | BS35: 30.3
B36: 2020_Hep__CRM_15 | D36: 15 | E36: inside | F36: reverberant level in whey silo house | G36: 82.3 | H36: 84 | I36: 83.4 | J36: 81.5 | K36: 55.6 | L36: 59 | M36: 58.4 | N36: 64 | O36: 61.3 | P36: 68.6 | Q36: 72.5 | R36: 67.6 | S36: 72.3 | T36: 76.6 | U36: 72.9 | V36: 71.6 | W36: 72.4 | X36: 71.3 | Y36: 70.8 | Z36: 71.7 | AA36: 71.2 | AB36: 69.9 | AC36: 70.6 | AD36: 69 | AE36: 69.8 | AF36: 68.8 | AG36: 67.8 | AH36: 63.9 | AI36: 62.2 | AJ36: 60.4 | AK36: 54.9 | AL36: 53.9 | AM36: 48.1 | AN36: 41.9 | AP36: 61.2 | AQ36: 63 | AR36: 62.2 | AS36: 68.7 | AT36: 65 | AU36: 73 | AV36: 76.1 | AW36: 72.4 | AX36: 75.5 | AY36: 79.5 | AZ36: 75.6 | BA36: 73.4 | BB36: 73.9 | BC36: 72.7 | BD36: 72.5 | BE36: 72.8 | BF36: 72.7 | BG36: 71.2 | BH36: 71.5 | BI36: 69.8 | BJ36: 70.7 | BK36: 69.5 | BL36: 69.1 | BM36: 64.7 | BN36: 63.1 | BO36: 61.5 | BP36: 56.7 | BQ36: 56.7 | BR36: 51.9 | BS36: 46.8
D38: Measurement Locations:
D41: Milk Silos and Agitators NW corner of site | G41: Water Tanks West Side of Site | R41: Silos etc SE side of site
D42: Locations 1 to 4 | G42: Locations 5 to 8 | R42: Locations 10 to 15

Sheet Hepworth 2021 - Creamery Meas
D2: Creamery
D4: Measurements Hepworth Acoustics during 2021 Survey Visits.
B6: Assessment Data Ref. | K6: Noise Level L90, dB - LINEAR | AP6: Noise Level Leq, dB - LINEAR
K7: Third octave Band Centre Frequency (Hz) | AP7: Third octave Band Centre Frequency (Hz)
D8: Plan Location | E8: Mic Location | F8: Measurement Notes | G8: LAeq | H8: LAFmax | I8: LA10 | J8: LA90 | K8: 25 | L8: 31.5 | M8: 40 | N8: 50 | O8: 63 | P8: 80 | Q8: 100 | R8: 125 | S8: 160 | T8: 200 | U8: 250 | V8: 315 | W8: 400 | X8: 500 | Y8: 630 | Z8: 800 | AA8: 1000 | AB8: 1250 | AC8: 1600 | AD8: 2000 | AE8: 2500 | AF8: 3150 | AG8: 4000 | AH8: 5000 | AI8: 6300 | AJ8: 8000 | AK8: 10000 | AL8: 12500 | AM8: 16000 | AN8: 20000 | AP8: 25 | AQ8: 31.5 | AR8: 40 | AS8: 50 | AT8: 63 | AU8: 80 | AV8: 100 | AW8: 125 | AX8: 160 | AY8: 200 | AZ8: 250 | BA8: 315 | BB8: 400 | BC8: 500 | BD8: 630 | BE8: 800 | BF8: 1000 | BG8: 1250 | BH8: 1600 | BI8: 2000 | BJ8: 2500 | BK8: 3150 | BL8: 4000 | BM8: 5000 | BN8: 6300 | BO8: 8000 | BP8: 10000 | BQ8: 12500 | BR8: 16000 | BS8: 20000
B9: 2021_Hep__CRM_2_3_4 | D9: Equivalent to 2, 3 and 4 of 2020 survey | E9: 1m from Milk Permate Silo Agitator | F9: definitive' agitator level - Mic elevated above silo | G9: 70 | H9: 71 | I9: 70.5 | J9: 69.6 | K9: 52.3 | L9: 59 | M9: 56 | N9: 57.9 | O9: 62 | P9: 61.2 | Q9: 74.1 | R9: 57.3 | S9: 54.9 | T9: 58.6 | U9: 60.9 | V9: 57.4 | W9: 55.5 | X9: 58.3 | Y9: 63 | Z9: 62.7 | AA9: 61.1 | AB9: 57.6 | AC9: 59.2 | AD9: 56.8 | AE9: 52.4 | AF9: 51.5 | AG9: 49.6 | AH9: 43.2 | AI9: 41.4 | AJ9: 38.4 | AK9: 34.8 | AL9: 29.1 | AM9: 23.7 | AN9: 17.1 | AP9: 58.2 | AQ9: 64.7 | AR9: 60.4 | AS9: 61.2 | AT9: 64.8 | AU9: 63.2 | AV9: 74.6 | AW9: 58.5 | AX9: 57.5 | AY9: 61.1 | AZ9: 63 | BA9: 58.6 | BB9: 56.6 | BC9: 59.2 | BD9: 64 | BE9: 63.6 | BF9: 61.9 | BG9: 58.4 | BH9: 60.1 | BI9: 57.4 | BJ9: 52.9 | BK9: 52 | BL9: 50.1 | BM9: 43.6 | BN9: 41.9 | BO9: 38.9 | BP9: 35.2 | BQ9: 29.6 | BR9: 24.3 | BS9: 18.6
B10: 2021_Hep__CRM_16 | D10: 24 | E10: 1m from Cream Silo agitator / mixer | F10: Mic Elevated above cream silo | G10: 68.5 | H10: 69.5 | I10: 69 | J10: 68 | K10: 52.9 | L10: 53.1 | M10: 51.9 | N10: 52.9 | O10: 53.9 | P10: 54.1 | Q10: 56.6 | R10: 58.6 | S10: 59.5 | T10: 61.4 | U10: 61.5 | V10: 60.5 | W10: 56.1 | X10: 56.6 | Y10: 66.6 | Z10: 57.3 | AA10: 55.5 | AB10: 55 | AC10: 54.2 | AD10: 46.9 | AE10: 48.8 | AF10: 48.3 | AG10: 43.4 | AH10: 36.8 | AI10: 28.4 | AJ10: 27.4 | AK10: 22.2 | AL10: 15.6 | AM10: 14.4 | AN10: 9.9 | AP10: 57.8 | AQ10: 56.8 | AR10: 55.7 | AS10: 56 | AT10: 56.5 | AU10: 57.1 | AV10: 58.6 | AW10: 62.8 | AX10: 61.1 | AY10: 62.7 | AZ10: 63.6 | BA10: 62 | BB10: 57.4 | BC10: 57.7 | BD10: 67.5 | BE10: 58.1 | BF10: 56.6 | BG10: 55.8 | BH10: 55.1 | BI10: 47.7 | BJ10: 49.7 | BK10: 49.4 | BL10: 43.9 | BM10: 37.5 | BN10: 29.2 | BO10: 28.1 | BP10: 22.7 | BQ10: 16 | BR10: 15 | BS10: 10.5
B11: 2021_Hep__CRM_17 | D11: 25 | E11: Outside GOS Bulk Loading CIP Container | F11: No noise audible | G11: - | H11: - | I11: - | J11: - | K11: - | L11: - | M11: - | N11: - | O11: - | P11: - | Q11: - | R11: - | S11: - | T11: - | U11: - | V11: - | W11: - | X11: - | Y11: - | Z11: - | AA11: - | AB11: - | AC11: - | AD11: - | AE11: - | AF11: - | AG11: - | AH11: - | AI11: - | AJ11: - | AK11: - | AL11: - | AM11: - | AN11: - | AP11: - | AQ11: - | AR11: - | AS11: - | AT11: - | AU11: - | AV11: - | AW11: - | AX11: - | AY11: - | AZ11: - | BA11: - | BB11: - | BC11: - | BD11: - | BE11: - | BF11: - | BG11: - | BH11: - | BI11: - | BJ11: - | BK11: - | BL11: - | BM11: - | BN11: - | BO11: - | BP11: - | BQ11: - | BR11: - | BS11: -
B12: 2021_Hep__CRM_18 | D12: 26 | E12: Inside GOS Bulk Loading CIP Container | F12: Internal Reverberant level | G12: 57.5 | H12: 58.9 | I12: 58.3 | J12: 56.8 | K12: 60.5 | L12: 57.9 | M12: 52.9 | N12: 60.3 | O12: 50.6 | P12: 57.7 | Q12: 55.4 | R12: 51.9 | S12: 43.5 | T12: 41.8 | U12: 43 | V12: 45.2 | W12: 43.1 | X12: 48.4 | Y12: 47.8 | Z12: 47.9 | AA12: 48.9 | AB12: 46.9 | AC12: 45.1 | AD12: 42.6 | AE12: 43.5 | AF12: 41 | AG12: 40.4 | AH12: 39.7 | AI12: 31.8 | AJ12: 26.3 | AK12: 21.2 | AL12: 18.6 | AM12: 19.5 | AN12: 13.3 | AP12: 64.2 | AQ12: 61.5 | AR12: 55.3 | AS12: 62.7 | AT12: 52.2 | AU12: 59.4 | AV12: 58.2 | AW12: 54.4 | AX12: 45.8 | AY12: 43.5 | AZ12: 44.7 | BA12: 46.3 | BB12: 44.3 | BC12: 49.6 | BD12: 48.8 | BE12: 48.7 | BF12: 51 | BG12: 48 | BH12: 45.7 | BI12: 43.3 | BJ12: 44.3 | BK12: 41.7 | BL12: 41 | BM12: 40.8 | BN12: 32.3 | BO12: 27.3 | BP12: 22.3 | BQ12: 20.2 | BR12: 22.2 | BS12: 15.4
B13: 2021_Hep__CRM_19 | D13: 27 | E13: Inside Lagoon Hut | F13: Lagoon is covered; no noise. Some noise from hut, but low against residual, hence measurement inside hut - Octave Bands not 1/3rds | G13: 57.8 | H13: 60.7 | I13: 58.4 | J13: 57 | K13: 63.5 | N13: 62.9 | Q13: 62.1 | T13: 53.2 | W13: 55.3 | Z13: 50.7 | AC13: 46.3 | AF13: 40.8 | AI13: 34.2 | AL13: 20.2 | AP13: 66.9 | AS13: 66.6 | AV13: 63.7 | AY13: 54.3 | BB13: 57 | BE13: 51.8 | BH13: 47.4 | BK13: 41.7 | BN13: 35.1 | BQ13: 22.1
B14: 2021_Hep__CRM_20 | D14: 28 | E14: 1m in front Lagoon OCU motor | F14: No appreciable noise from actual tank, just the motor | G14: 73.2 | H14: 74.1 | I14: 73.6 | J14: 72.7 | K14: 61.6 | L14: 63.2 | M14: 60.9 | N14: 67 | O14: 63.3 | P14: 62.6 | Q14: 61.1 | R14: 56.1 | S14: 63.1 | T14: 57.9 | U14: 60.5 | V14: 64.2 | W14: 61.3 | X14: 62 | Y14: 62.8 | Z14: 64.1 | AA14: 64.1 | AB14: 63.7 | AC14: 63.2 | AD14: 60.5 | AE14: 56.2 | AF14: 51.6 | AG14: 49.4 | AH14: 45.7 | AI14: 42.9 | AJ14: 40.6 | AK14: 38 | AL14: 34.2 | AM14: 37.2 | AN14: 26.6 | AP14: 65.3 | AQ14: 65.5 | AR14: 63.1 | AS14: 71.3 | AT14: 66.1 | AU14: 65.3 | AV14: 63.5 | AW14: 58 | AX14: 65.3 | AY14: 59.5 | AZ14: 62.5 | BA14: 66.1 | BB14: 62.5 | BC14: 63.9 | BD14: 64.7 | BE14: 65.6 | BF14: 64.8 | BG14: 64.6 | BH14: 64 | BI14: 61.1 | BJ14: 57 | BK14: 52.1 | BL14: 50.1 | BM14: 46.3 | BN14: 44.4 | BO14: 42.8 | BP14: 38.9 | BQ14: 35 | BR14: 38.2 | BS14: 27.4
B15: 2021_Hep__CRM_21 | D15: 29 | E15: 1m to side of Lagoon OCU motor | G15: 72.2 | H15: 73.8 | I15: 73.1 | J15: 71.4 | K15: 61.5 | L15: 61.9 | M15: 59.1 | N15: 66.6 | O15: 62.2 | P15: 61.2 | Q15: 60.4 | R15: 56.7 | S15: 64 | T15: 58.2 | U15: 60.2 | V15: 63.7 | W15: 58.7 | X15: 63.1 | Y15: 63.5 | Z15: 63.3 | AA15: 61 | AB15: 61 | AC15: 60.2 | AD15: 59.7 | AE15: 55.1 | AF15: 50.5 | AG15: 48.1 | AH15: 43.8 | AI15: 40.4 | AJ15: 38.4 | AK15: 35.3 | AL15: 33.6 | AM15: 32.8 | AN15: 26.5 | AP15: 65.2 | AQ15: 64.9 | AR15: 63.1 | AS15: 70.7 | AT15: 65.5 | AU15: 64.3 | AV15: 63.2 | AW15: 60.3 | AX15: 66.5 | AY15: 60.1 | AZ15: 61.8 | BA15: 65.8 | BB15: 61 | BC15: 65.5 | BD15: 65.3 | BE15: 64.5 | BF15: 62.7 | BG15: 62.5 | BH15: 61.5 | BI15: 60.9 | BJ15: 56.4 | BK15: 51.8 | BL15: 49.9 | BM15: 48.2 | BN15: 47.6 | BO15: 47.1 | BP15: 44.8 | BQ15: 41.5 | BR15: 37.6 | BS15: 31.2
B16: 2021_Hep__CRM_22 | D16: 30 | E16: 10m from HGV pass - On creamery haul route | F16: Source | G16: 70.6 | H16: 76.2 | I16: 74.3 | J16: 61.2 | K16: 65.1 | L16: 64.3 | M16: 63.1 | N16: 68 | O16: 64.4 | P16: 64.5 | Q16: 65.9 | R16: 62.7 | S16: 58.6 | T16: 57.5 | U16: 54.5 | V16: 54.1 | W16: 52.9 | X16: 51.7 | Y16: 50.1 | Z16: 52.8 | AA16: 51.5 | AB16: 51.4 | AC16: 47.9 | AD16: 48.1 | AE16: 45.8 | AF16: 45.2 | AG16: 44 | AH16: 43.3 | AI16: 39.9 | AJ16: 36.1 | AK16: 32 | AL16: 27.5 | AM16: 21.3 | AN16: 13.3 | AP16: 78.2 | AQ16: 74.1 | AR16: 72.1 | AS16: 73.2 | AT16: 75.8 | AU16: 68.6 | AV16: 69 | AW16: 67.7 | AX16: 65 | AY16: 64.3 | AZ16: 60.6 | BA16: 58.9 | BB16: 59.9 | BC16: 61.6 | BD16: 61 | BE16: 60.5 | BF16: 63.5 | BG16: 62.9 | BH16: 57.8 | BI16: 58.8 | BJ16: 56.4 | BK16: 54.6 | BL16: 53.5 | BM16: 51.5 | BN16: 47.6 | BO16: 43.6 | BP16: 41.2 | BQ16: 40.1 | BR16: 36.3 | BS16: 31.9
B17: 2021_Hep__CRM_23 | D17: 31 | E17: Background for above | F17: Residual | G17: 59.8 | H17: 63.6 | I17: 60.3 | J17: 58.9 | K17: 61.3 | L17: 59.1 | M17: 56.2 | N17: 61.7 | O17: 60.8 | P17: 62.4 | Q17: 64.7 | R17: 55.3 | S17: 53.5 | T17: 53.3 | U17: 52.4 | V17: 49.7 | W17: 49.4 | X17: 48.4 | Y17: 47 | Z17: 48.3 | AA17: 48.2 | AB17: 49 | AC17: 45.6 | AD17: 45.2 | AE17: 43.6 | AF17: 42.3 | AG17: 41.1 | AH17: 40 | AI17: 36.7 | AJ17: 33.1 | AK17: 27.8 | AL17: 22.6 | AM17: 16.6 | AN17: 9.9 | AP17: 64.8 | AQ17: 63.1 | AR17: 60.2 | AS17: 65.8 | AT17: 63.3 | AU17: 65 | AV17: 67.2 | AW17: 58.1 | AX17: 56.6 | AY17: 54.9 | AZ17: 54 | BA17: 52.8 | BB17: 51.6 | BC17: 50 | BD17: 48.5 | BE17: 50.1 | BF17: 50.9 | BG17: 50.5 | BH17: 46.9 | BI17: 46.7 | BJ17: 44.6 | BK17: 43.3 | BL17: 42.8 | BM17: 43 | BN17: 39.1 | BO17: 35.5 | BP17: 30.6 | BQ17: 25.7 | BR17: 19.5 | BS17: 11.6
B18: 2021_Hep__CRM_24 | D18: 32 | E18: 10m from HGV pass - On creamery haul route | F18: Source | G18: 69.7 | H18: 73.3 | I18: 72.3 | J18: 60.8 | K18: 54.5 | L18: 53.4 | M18: 55.2 | N18: 56.6 | O18: 55.3 | P18: 53.5 | Q18: 57.8 | R18: 52.5 | S18: 51.4 | T18: 56.6 | U18: 54.5 | V18: 51 | W18: 50.2 | X18: 52.2 | Y18: 52.6 | Z18: 53.2 | AA18: 51 | AB18: 50.4 | AC18: 51.1 | AD18: 46.9 | AE18: 44.9 | AF18: 41.8 | AG18: 41 | AH18: 37.4 | AI18: 35.8 | AJ18: 34.2 | AK18: 32.6 | AL18: 28.4 | AM18: 24.8 | AN18: 19.6 | AP18: 62 | AQ18: 66 | AR18: 70.7 | AS18: 70.3 | AT18: 60.9 | AU18: 60.5 | AV18: 63.9 | AW18: 62.3 | AX18: 58.4 | AY18: 61.1 | AZ18: 59.5 | BA18: 59.2 | BB18: 60.6 | BC18: 59.3 | BD18: 60.7 | BE18: 61.6 | BF18: 61.2 | BG18: 60.3 | BH18: 61.4 | BI18: 57.9 | BJ18: 55.8 | BK18: 51.2 | BL18: 51.4 | BM18: 49.3 | BN18: 46.1 | BO18: 42.8 | BP18: 41.7 | BQ18: 40.4 | BR18: 38.2 | BS18: 35.1
B19: 2021_Hep__CRM_25 | D19: 33 | E19: Background for above | F19: Residual | G19: 55.7 | H19: 58.5 | I19: 56.4 | J19: 54.7 | K19: 51.8 | L19: 50.9 | M19: 51 | N19: 53.5 | O19: 51.2 | P19: 49.3 | Q19: 63.7 | R19: 47.6 | S19: 46 | T19: 46.9 | U19: 46.4 | V19: 39.7 | W19: 40.7 | X19: 45 | Y19: 47.3 | Z19: 46.6 | AA19: 44.3 | AB19: 40.7 | AC19: 38.2 | AD19: 35.8 | AE19: 33.8 | AF19: 33.2 | AG19: 33.9 | AH19: 30.9 | AI19: 33 | AJ19: 33.2 | AK19: 32.2 | AL19: 29.6 | AM19: 26.4 | AN19: 23.8 | AP19: 56.8 | AQ19: 54.8 | AR19: 56.1 | AS19: 56.7 | AT19: 54.2 | AU19: 51.1 | AV19: 65 | AW19: 48.9 | AX19: 48 | AY19: 50.3 | AZ19: 50.2 | BA19: 41.5 | BB19: 42.1 | BC19: 46.4 | BD19: 49.4 | BE19: 49.8 | BF19: 46.9 | BG19: 42.8 | BH19: 40.8 | BI19: 40.7 | BJ19: 39.7 | BK19: 37.2 | BL19: 35.3 | BM19: 33.1 | BN19: 34.4 | BO19: 34.4 | BP19: 33.5 | BQ19: 31 | BR19: 28.6 | BS19: 26.4
B20: 2021_Hep__CRM_26 | D20: 34 | E20: Inside pumphouse | F20: Pumphouse measures ~ 7m x 1.8m x 2.5m | G20: 81.3 | H20: 82.1 | I20: 81.6 | J20: 81 | K20: 52 | L20: 52 | M20: 51.7 | N20: 56.6 | O20: 52.4 | P20: 48.4 | Q20: 55.1 | R20: 64 | S20: 67.8 | T20: 66.3 | U20: 68.5 | V20: 67 | W20: 68.3 | X20: 70.4 | Y20: 70.1 | Z20: 70.9 | AA20: 71.2 | AB20: 70 | AC20: 69.4 | AD20: 67.3 | AE20: 68.1 | AF20: 67.3 | AG20: 69 | AH20: 64.6 | AI20: 61.5 | AJ20: 61.5 | AK20: 56.3 | AL20: 54.6 | AM20: 55.5 | AN20: 45.7 | AP20: 57.9 | AQ20: 56.7 | AR20: 54.6 | AS20: 59.4 | AT20: 55.7 | AU20: 51 | AV20: 57.5 | AW20: 66 | AX20: 70.1 | AY20: 68.5 | AZ20: 70.7 | BA20: 68.8 | BB20: 69.5 | BC20: 71.5 | BD20: 71 | BE20: 71.9 | BF20: 72.1 | BG20: 71.8 | BH20: 70.9 | BI20: 68.1 | BJ20: 68.8 | BK20: 67.8 | BL20: 71.4 | BM20: 65.6 | BN20: 62.5 | BO20: 62.3 | BP20: 56.9 | BQ20: 55.3 | BR20: 56.2 | BS20: 46.5
B21: 2021_Hep__CRM_27 | D21: 35 | E21: 1m outside of pumphouse | G21: 61.1 | H21: 62.3 | I21: 61.6 | J21: 60.4 | K21: 60.8 | L21: 51.4 | M21: 53.2 | N21: 63.5 | O21: 54.8 | P21: 47.6 | Q21: 49.4 | R21: 51.3 | S21: 49.3 | T21: 56.1 | U21: 64.8 | V21: 50.3 | W21: 49.7 | X21: 50.6 | Y21: 48.2 | Z21: 48.4 | AA21: 48.6 | AB21: 48.3 | AC21: 46.5 | AD21: 46.3 | AE21: 46.4 | AF21: 43.4 | AG21: 43.2 | AH21: 40.5 | AI21: 36.1 | AJ21: 33 | AK21: 26.8 | AL21: 22.8 | AM21: 19.5 | AN21: 10.5 | AP21: 63.2 | AQ21: 55.6 | AR21: 56.4 | AS21: 65.7 | AT21: 57.3 | AU21: 50.7 | AV21: 51.7 | AW21: 53.4 | AX21: 51.3 | AY21: 58 | AZ21: 66 | BA21: 51.9 | BB21: 51.1 | BC21: 51.9 | BD21: 49.4 | BE21: 49.1 | BF21: 49.3 | BG21: 49.2 | BH21: 47.2 | BI21: 47 | BJ21: 46.9 | BK21: 44 | BL21: 43.9 | BM21: 41.2 | BN21: 37.1 | BO21: 34.4 | BP21: 28.5 | BQ21: 24.3 | BR21: 20.7 | BS21: 11
B22: 2021_Hep__CRM_28 | D22: 36 | E22: 5m to side truck while pumping | F22: Trucks tend to (maybe need to) idle when pumping; this is therefore idling noise | G22: 68.4 | H22: 69.4 | I22: 68.8 | J22: 68.1 | K22: 65.2 | L22: 54.5 | M22: 62.1 | N22: 77.3 | O22: 59.3 | P22: 51.9 | Q22: 55 | R22: 56.9 | S22: 51.7 | T22: 56.3 | U22: 56.7 | V22: 53 | W22: 55.6 | X22: 61.3 | Y22: 58.3 | Z22: 59.2 | AA22: 58.7 | AB22: 58.1 | AC22: 56.6 | AD22: 56.9 | AE22: 55.3 | AF22: 52.1 | AG22: 50.1 | AH22: 47.5 | AI22: 42.2 | AJ22: 39.5 | AK22: 36.5 | AL22: 33.6 | AM22: 29.5 | AN22: 24.3 | AP22: 66.8 | AQ22: 57.4 | AR22: 63.6 | AS22: 77.8 | AT22: 60.3 | AU22: 54.5 | AV22: 56.3 | AW22: 58.3 | AX22: 53.4 | AY22: 61.7 | AZ22: 58.8 | BA22: 54.4 | BB22: 56.5 | BC22: 62.1 | BD22: 59.2 | BE22: 60.1 | BF22: 59.5 | BG22: 58.9 | BH22: 57.3 | BI22: 57.4 | BJ22: 55.9 | BK22: 52.7 | BL22: 50.9 | BM22: 48.2 | BN22: 42.9 | BO22: 40.2 | BP22: 37 | BQ22: 34.1 | BR22: 30 | BS22: 24.9
B23: 2021_Hep__CRM_29 | D23: 37 | E23: 5m to front of truck while pumping | G23: 68.4 | H23: 69.5 | I23: 68.8 | J23: 67.7 | K23: 56.4 | L23: 54.9 | M23: 55.8 | N23: 68 | O23: 58.8 | P23: 54.3 | Q23: 55.3 | R23: 57.5 | S23: 51.4 | T23: 53.3 | U23: 54.4 | V23: 51.2 | W23: 54.1 | X23: 61.2 | Y23: 59.2 | Z23: 62.2 | AA23: 59.1 | AB23: 56.8 | AC23: 56.3 | AD23: 54.8 | AE23: 53.5 | AF23: 49.3 | AG23: 48.2 | AH23: 44.9 | AI23: 39.3 | AJ23: 37.2 | AK23: 33.2 | AL23: 30.5 | AM23: 26.2 | AN23: 20.7 | AP23: 60.4 | AQ23: 60.8 | AR23: 59.6 | AS23: 69.8 | AT23: 63.1 | AU23: 56.7 | AV23: 58.2 | AW23: 59 | AX23: 53.3 | AY23: 55.1 | AZ23: 57.2 | BA23: 52.5 | BB23: 55.1 | BC23: 62.2 | BD23: 60.1 | BE23: 63.2 | BF23: 60.3 | BG23: 57.4 | BH23: 57 | BI23: 55.4 | BJ23: 54.2 | BK23: 49.8 | BL23: 48.8 | BM23: 45.5 | BN23: 39.9 | BO23: 37.9 | BP23: 34.2 | BQ23: 31.2 | BR23: 27.1 | BS23: 21.6
D27: Milk Permate Silo Agitator | G27: Cream Silo Agitator / Mixer | R27: GOS Bulk Loading Containerised CIP: | X27: Lagoon Hut | AE27: Lagoon OCU | AK27: Milk Pump Room
D28: 2021_Hep__CRM_2_3_4
D29: Equivalent to Locations 2,3,4 form 202 survey: | G29: Location 2: | R29: Outside
R45: Inside

Sheet Hepworth 2 Source Data-Creamery
B2: Creamery
B4: HEPWORTH REPORT 2: 2018 Creamery and WPF Report
B5: Report Reference: P18-389-R01v2
B6: Date: November 2018
B7: Author: Graham Bowland
B8: Report Checker: Donald Quinn
D9: Assessment Data Ref.
B10: SILOS
F11: LAeq, dB | G11: Distance (m)
B12: "2.19 The new silos include two new silos immediately to the south of three existing silos of the same type, that are stepped away from the main Creamery building. All noise generating equipment (pumps) associated with these silos are located within a small enclosed building that abuts the silo sides at low level. A noise measurement was undertaken at a distance of 1m from two of the existing three existing silos. The relevant noise source was not dominant even at this distance, and hence a residual noise measurement was also undertaken at greater distance but where noise from other sources was perceived comparable. The measured noise levels were 57dB LAeq at 1m from two silos and 56dB LAeq at greater distance. It is therefore be calculated that the reference specific noise level per unit is no more than 50dB LAeq at 1m." | D12: 2018_Hep__CRM_30 | F12: 50 | G12: 1
D14: Assessment Data Ref.
B15: AGITATOR AND TOP MIXER
F16: LAeq, dB | G16: Distance (m) | H16: Notes
B17: "2.5 Each raw milk silo (existing and proposed) includes two agitators, one of which is at low level and fully housed and another which is approximately mid-way up the silo. The higher elevated agitators are positioned with motors located externally to the tank, with each oriented inwards to the centre line between the two rows of silos. The specific model of raw milk silo agitator is an SPX Waukesha Cherry-Burrell S-Series. 2.7 For the smaller cream silos, the agitators are located on top. The specific model of cream silo agitator is a SPX Lightnin XDQ-117. 2.8 For both above mentioned agitators, it has not been able to definitively confirm reference noise emissions levels. The manufacturer’s stated ‘maximum’ level is 85dBA at 1m, however the same data sheet that provides this info, the same for both agitators, also states: “This equipment does not produce high noise or vibration. However, the operator may experience high noise or vibration in the location of this equipment due to another source.” 2.9 A noise level of 85dBA in fact corresponds to the ‘upper exposure action values’ as set out in the Health and Safety Executive document The Control of Noise at Work Regulations, 2005 so would certainly be regarded as ‘high’. As such there is an apparent conflict in the manufacturers’ information. 2.10 Indeed, based on experience of similar cases, we are reasonably confident that the manufacturer’s stated ‘maximum’ level is simply a statement that emissions do not exceed noise exposure legislative thresholds, rather than being a precise measure of the noise emission from the specific item. 2.11 This view is reinforced by our inspection of similar existing agitators on the existing silos at the site. For these, no noise was discernible as being clearly attributable to the agitators over and above the general noise in the vicinity, albeit that this is based on an inspection carried out from a ground level position due to physical access constraints. 2.12 Despite exhaustive efforts, we have been unable to confirm the precise noise level with the manufacturers, and it is likely that actual test data may not exist, however actual noise emission levels are anticipated to be substantially below 85dB at 1m." | D17: 2018_Hep__CRM_31 | F17: <85 | G17: 1 | H17: Maximum

Sheet Hepworth 1 Source Data - WPF
D2: Water Processing Facility
D4: Source:
D5: HEPWORTH REPORT 1: 2018 Baseline Noise Assessment Report
D6: Report Reference: P18-098-R01v2
D7: Date: October 2018
D8: Author: Graham Bowland | AO8: A-weighting
D9: Report Checker: Paul Bassett | AQ9: Third octave Band Centre Frequency (Hz)
D10: + associated measurement files and notes as provided by the Author | AQ10: 50 | AR10: 63 | AS10: 80 | AT10: 100 | AU10: 125 | AV10: 160 | AW10: 200 | AX10: 250 | AY10: 315 | AZ10: 400 | BA10: 500 | BB10: 630 | BC10: 800 | BD10: 1000 | BE10: 1250 | BF10: 1600 | BG10: 2000 | BH10: 2500 | BI10: 3150 | BJ10: 4000 | BK10: 5000 | BL10: 6300 | BM10: 8000 | BN10: 10000
AP11: A-Weighting Curve | AQ11: -30.2 | AR11: -26.2 | AS11: -22.5 | AT11: -19.1 | AU11: -16.1 | AV11: -13.4 | AW11: -10.9 | AX11: -8.6 | AY11: -6.6 | AZ11: -4.2 | BA11: -3.2 | BB11: -1.9 | BC11: -0.8 | BD11: 0 | BE11: 0.6 | BF11: 1 | BG11: 1.2 | BH11: 1.3 | BI11: 1.2 | BJ11: 1 | BK11: 0.5 | BL11: -0.1 | BM11: -1.1 | BN11: -2.5
D12: Third Octave L90 On-site Noise Measurements - Reported | AF12: Octave L90 On-site Noise Levels - Calculated
B13: Assessment Data Ref. | D13: Location No. (Fig 2 Below) | E13: Description | F13: Noise Level L90, dB - LINEAR | AD13: LA90 | AF13: Noise Level L90 dB - LINEAR | AO13: Location No. (Fig 2) | AP13: Description | AQ13: Noise Level L90, dB - A-WEIGHTED | BO13: LA90 | BQ13: Noise Level Leq, dB - LINEAR
B14: WSP Data Ref. | F14: Third octave Band Centre Frequency (Hz) | AF14: Octave Band Centre Frequency (Hz) | AQ14: Third octave Band Centre Frequency (Hz) | BQ14: Third octave Band Centre Frequency (Hz)
F15: 50 | G15: 63 | H15: 80 | I15: 100 | J15: 125 | K15: 160 | L15: 200 | M15: 250 | N15: 315 | O15: 400 | P15: 500 | Q15: 630 | R15: 800 | S15: 1000 | T15: 1250 | U15: 1600 | V15: 2000 | W15: 2500 | X15: 3150 | Y15: 4000 | Z15: 5000 | AA15: 6300 | AB15: 8000 | AC15: 10000 | AF15: =G15 -> 63 | AG15: =J15 -> 125 | AH15: =M15 -> 250 | AI15: =P15 -> 500 | AJ15: =S15 -> 1000 | AK15: =V15 -> 2000 | AL15: =Y15 -> 4000 | AM15: =AB15 -> 8000 | AQ15: 50 | AR15: 63 | AS15: 80 | AT15: 100 | AU15: 125 | AV15: 160 | AW15: 200 | AX15: 250 | AY15: 315 | AZ15: 400 | BA15: 500 | BB15: 630 | BC15: 800 | BD15: 1000 | BE15: 1250 | BF15: 1600 | BG15: 2000 | BH15: 2500 | BI15: 3150 | BJ15: 4000 | BK15: 5000 | BL15: 6300 | BM15: 8000 | BN15: 10000 | BQ15: 50 | BR15: 63 | BS15: 80 | BT15: 100 | BU15: 125 | BV15: 160 | BW15: 200 | BX15: 250 | BY15: 315 | BZ15: 400 | CA15: 500 | CB15: 630 | CC15: 800 | CD15: 1000 | CE15: 1250 | CF15: 1600 | CG15: 2000 | CH15: 2500 | CI15: 3150 | CJ15: 4000 | CK15: 5000 | CL15: 6300 | CM15: 8000 | CN15: 10000
B16: 2018_Hep__WPF_1 | D16: 1 | E16: 1m from noisy pipe on gantry between BT1 and Divert | F16: 62 | G16: 58 | H16: 61 | I16: 62 | J16: 64 | K16: 67 | L16: 62 | M16: 66 | N16: 61 | O16: 56 | P16: 59 | Q16: 57 | R16: 59 | S16: 63 | T16: 61 | U16: 67 | V16: 66 | W16: 70 | X16: 69 | Y16: 66 | Z16: 69 | AA16: 61 | AB16: 54 | AC16: 55 | AD16: 78 | AF16: {=[1]!dbsum(F16:H16)} -> 65.4 | AG16: {=[1]!dbsum(I16:K16)} -> 69.6 | AH16: {=[1]!dbsum(L16:N16)} -> 68.3 | AI16: {=[1]!dbsum(O16:Q16)} -> 62.3 | AJ16: {=[1]!dbsum(R16:T16)} -> 66.1 | AK16: {=[1]!dbsum(U16:W16)} -> 72.8 | AL16: {=[1]!dbsum(X16:Z16)} -> 73 | AM16: {=[1]!dbsum(AA16:AC16)} -> 62.6 | AO16: =D16 -> 1 | AP16: =E16 -> 1m from noisy pipe on gantry between BT1 and Divert | AQ16: =F16+AQ$11 -> 31.8 | AR16: =G16+AR$11 -> 31.8 | AS16: =H16+AS$11 -> 38.5 | AT16: =I16+AT$11 -> 42.9 | AU16: =J16+AU$11 -> 47.9 | AV16: =K16+AV$11 -> 53.6 | AW16: =L16+AW$11 -> 51.1 | AX16: =M16+AX$11 -> 57.4 | ... BN16: =AC16+BN$11 -> 52.5 | BO16: =[1]!dbsum(AQ16:BN16) -> 77.6 | BQ16: Data not available, but these data sets are not used to inform the completed assessment work
B17: 2018_Hep_WPF_2 | D17: 2 | E17: 1m from two pumps between BT1 and Divert | F17: 77 | G17: 66 | H17: 57 | I17: 60 | J17: 65 | K17: 67 | L17: 66 | M17: 63 | N17: 65 | O17: 67 | P17: 68 | Q17: 67 | R17: 66 | S17: 79 | T17: 68 | U17: 67 | V17: 66 | W17: 66 | X17: 63 | Y17: 65 | Z17: 61 | AA17: 60 | AB17: 62 | AC17: 54 | AD17: 81.8 | AF17: {=[1]!dbsum(F17:H17)} -> 77.4 | AG17: {=[1]!dbsum(I17:K17)} -> 69.6 | AH17: {=[1]!dbsum(L17:N17)} -> 69.6 | AI17: {=[1]!dbsum(O17:Q17)} -> 72.1 | AJ17: {=[1]!dbsum(R17:T17)} -> 79.5 | AK17: {=[1]!dbsum(U17:W17)} -> 71.1 | AL17: {=[1]!dbsum(X17:Z17)} -> 68.1 | AM17: {=[1]!dbsum(AA17:AC17)} -> 64.5 | AO17: =D17 -> 2 | AP17: =E17 -> 1m from two pumps between BT1 and Divert | AQ17: =F17+AQ$11 -> 46.8 | AR17: =G17+AR$11 -> 39.8 | AS17: =H17+AS$11 -> 34.5 | AT17: =I17+AT$11 -> 40.9 | AU17: =J17+AU$11 -> 48.9 | AV17: =K17+AV$11 -> 53.6 | AW17: =L17+AW$11 -> 55.1 | AX17: =M17+AX$11 -> 54.4 | ... BN17: =AC17+BN$11 -> 51.5 | BO17: =[1]!dbsum(AQ17:BN17) -> 81
B18: 2018_Hep_WPF_3 | D18: 3 | E18: Close to BT1 and Divert | F18: 67 | G18: 55 | H18: 51 | I18: 55 | J18: 61 | K18: 65 | L18: 64 | M18: 57 | N18: 53 | O18: 58 | P18: 52 | Q18: 51 | R18: 50 | S18: 55 | T18: 49 | U18: 51 | V18: 51 | W18: 53 | X18: 52 | Y18: 51 | Z18: 49 | AA18: 43 | AB18: 41 | AC18: 40 | AD18: 65.2 | AF18: {=[1]!dbsum(F18:H18)} -> 67.4 | AG18: {=[1]!dbsum(I18:K18)} -> 66.8 | AH18: {=[1]!dbsum(L18:N18)} -> 65.1 | AI18: {=[1]!dbsum(O18:Q18)} -> 59.6 | AJ18: {=[1]!dbsum(R18:T18)} -> 57 | AK18: {=[1]!dbsum(U18:W18)} -> 56.5 | AL18: {=[1]!dbsum(X18:Z18)} -> 55.6 | AM18: {=[1]!dbsum(AA18:AC18)} -> 46.3 | AO18: =D18 -> 3 | AP18: =E18 -> Close to BT1 and Divert | AQ18: =F18+AQ$11 -> 36.8 | AR18: =G18+AR$11 -> 28.8 | AS18: =H18+AS$11 -> 28.5 | AT18: =I18+AT$11 -> 35.9 | AU18: =J18+AU$11 -> 44.9 | AV18: =K18+AV$11 -> 51.6 | AW18: =L18+AW$11 -> 53.1 | AX18: =M18+AX$11 -> 48.4 | ... BN18: =AC18+BN$11 -> 37.5 | BO18: =[1]!dbsum(AQ18:BN18) -> 63.9
B19: 2018_Hep_WPF_4 | D19: 4 | E19: Close to BT1 and Divert | F19: 55 | G19: 51 | H19: 49 | I19: 49 | J19: 47 | K19: 58 | L19: 57 | M19: 44 | N19: 45 | O19: 46 | P19: 44 | Q19: 44 | R19: 47 | S19: 53 | T19: 44 | U19: 46 | V19: 44 | W19: 47 | X19: 47 | Y19: 46 | Z19: 44 | AA19: 40 | AB19: 37 | AC19: 34 | AD19: 59.6 | AF19: {=[1]!dbsum(F19:H19)} -> 57.2 | AG19: {=[1]!dbsum(I19:K19)} -> 58.8 | AH19: {=[1]!dbsum(L19:N19)} -> 57.5 | AI19: {=[1]!dbsum(O19:Q19)} -> 49.5 | AJ19: {=[1]!dbsum(R19:T19)} -> 54.4 | AK19: {=[1]!dbsum(U19:W19)} -> 50.6 | AL19: {=[1]!dbsum(X19:Z19)} -> 50.6 | AM19: {=[1]!dbsum(AA19:AC19)} -> 42.4 | AO19: =D19 -> 4 | AP19: =E19 -> Close to BT1 and Divert | AQ19: =F19+AQ$11 -> 24.8 | AR19: =G19+AR$11 -> 24.8 | AS19: =H19+AS$11 -> 26.5 | AT19: =I19+AT$11 -> 29.9 | AU19: =J19+AU$11 -> 30.9 | AV19: =K19+AV$11 -> 44.6 | AW19: =L19+AW$11 -> 46.1 | AX19: =M19+AX$11 -> 35.4 | ... BN19: =AC19+BN$11 -> 31.5 | BO19: =[1]!dbsum(AQ19:BN19) -> 58.5
