{"text_format":"1","workbook":"xlsx","n_sheets":33,"sheets":["Cover","GHG Reporting Process","GHG Questionnaire","GHG SoA","GHG 2021 Reporting Form","GHG Summary Report","1.1","1.2","1.3","1.4","2.1","2.2","3.1","3.2","3.3","3.4","3.5","3.8","3.7","3.9","3.10","3.11","3.12","3.13","3.14","3.15","GHG Analysis","List - SoA","3.6","Analysis List - US","Conversions - US","Analysis List - UK","Conversions - UK"],"not_rendered":{"charts":2,"images":9,"macros":1,"external_links":0,"defined_names":522,"comments":12,"pivot_tables":0},"unopened":[],"bounds":{"document_bytes":16777216,"sheet_cells":100000,"rows_first":2000,"rows_last":500,"rows_between":2000,"halvings":0,"cell_chars":16384,"cell_head_chars":4096},"cells_cut":0,"cells_raw":0,"read":"whole","date_system":"1900"}

{"sheet":"Cover","index":0,"n_rows":1,"n_cols":1,"rows_kept":1,"cut":false,"hidden":false,"merged":[[0,0,48,9]]}
["Camira Group\nGreenhouse Gas Emissions - \nReporting Process and Workbook\n\n\n\n\n"]

{"sheet":"GHG Reporting Process","index":1,"n_rows":43,"n_cols":11,"rows_kept":43,"cut":false,"hidden":false,"merged":[[41,2,41,7],[42,2,48,7],[5,1,48,1],[5,5,5,6],[6,2,40,2],[6,3,40,3],[6,4,40,4],[6,5,40,6],[6,7,40,7],[4,1,4,2],[4,3,4,5],[1,0,1,2],[2,1,2,2],[2,3,2,5],[3,1,3,2],[3,3,3,5]]}
[null,null,"Greenhouse Gas Emission Reporting Process"]
[]
[null,"Process Name:",null,"Greenhouse Gas Emission Reporting",null,null,"Process Number:","CG99.4.XX"]
[null,"Process Purpose:",null,"Address stakeholder reporting requirements",null,null,"Process Level:","Level 4  "]
[null,"Process Owner:",null,"Group Risk & Compliance Manager",null,null,"Date:","2022-01-31"]
[null,"Phase","Stakeholder","Risk & Compliance","Camira Entity","Notes",null,"Level 4 Documents"]
[]
[]
[]
[]
[null,null,null,null,null,null,null,null,null,null," "]
[]
[]
[]
[]
[]
[]
[]
[]
[]
[]
[]
[]
[]
[]
[]
[]
[]
[]
[]
[]
[]
[]
[]
[]
[]
[]
[]
[]
[]
[]
[null,null,"Additional Information and Comments"]
[null,null,"Scope 1 emissions are direct greenhouse (GHG) emissions that occur from sources that are controlled or owned by an organisation (e.g., emissions associated with fuel combustion in boilers, furnaces, vehicles).\nScope 2 emissions include those from electricity and other sources of energy purchased from your local utility that is not combusted on-site. Examples include electricity, steam, and chilled or hot water. To generate this energy, utilities combust coal, natural gas, and other fossil fuels, emitting carbon dioxide, methane, and nitrous oxide in the process. \nScope 3 emissions are the result of activities from assets not owned or controlled by the reporting organization, but that the organization indirectly impacts in its value chain, both upstream and downstream. Scope 3 emissions often represent the majority of an organization’s total GHG emissions."]

{"sheet":"GHG Questionnaire","index":2,"n_rows":28,"n_cols":10,"rows_kept":28,"cut":false,"hidden":false,"merged":[[26,2,26,4],[26,5,26,7],[26,8,26,10],[27,2,27,4],[27,5,27,7],[27,8,27,10],[21,0,27,0],[21,2,21,4],[21,5,21,7],[21,8,21,10],[22,2,22,4],[22,5,22,7],[22,8,22,10],[23,2,23,4],[23,5,23,7],[23,8,23,10],[24,2,24,4],[24,5,24,7],[24,8,24,10],[25,2,25,4],[25,5,25,7],[25,8,25,10],[18,2,18,4],[18,5,18,7],[18,8,18,10],[19,0,20,0],[19,2,19,4],[19,5,19,7],[19,8,19,10],[20,2,20,4],[20,5,20,7],[20,8,20,10],[13,0,18,0],[13,2,13,4],[13,5,13,7],[13,8,13,10],[14,2,14,4],[14,5,14,7],[16,2,16,4],[16,5,16,7],[16,8,16,10],[17,2,17,4],[17,5,17,7],[17,8,17,10],[14,8,14,10],[15,2,15,4],[15,5,15,7],[15,8,15,10],[11,2,11,4],[11,5,11,7],[11,8,11,10],[12,2,12,4],[12,5,12,7],[12,8,12,10],[6,8,6,10],[8,2,8,4],[8,5,8,7],[8,8,8,10],[9,0,12,0],[9,2,9,4],[9,5,9,7],[9,8,9,10],[10,2,10,4],[10,5,10,7],[10,8,10,10],[2,0,6,0],[3,1,3,2],[3,3,3,5],[3,6,3,7],[3,9,3,10],[4,9,4,10],[5,1,5,2],[5,3,5,5],[5,6,5,7],[5,9,5,10],[6,1,6,2],[6,3,6,5],[6,6,6,7],[4,1,4,2],[4,3,4,5],[4,6,4,7]]}
[null,"Greenhouse Gas Emission Questionnaire"]
[]
[null,"General information",null,null,null,null,"Intensity ratio metrics",null,"Unit","Total"]
[null,"Reporting year",null,null,null,null,"Turnover"]
[null,"Entity",null,null,null,null,"Production / sales"]
[null,"Location",null,null,null,null,"Headcount",null,"N/A"]
[null,"Contact",null,null,null,null,"Date reported"]
[]
[null,"Scope","Question",null,null,"Answer",null,null,"Comments"]
["Camira Emissions",1.1000000000000001,"Did the Camira entity use any gases, oils, coal etc in the reporting year?"]
[null,1.2,"Did employees of the Camira entity use Camira owned/leased vehicles in the reporting year?"]
[null,1.3,"Did the Camira entity use any air conditioning or fire suppression systems in the reporting year?"]
[null,2,"Did the Camira entity purchase energy such as electricity or steam in the reporting year?"]
["Supplier Emissions",3.1,"Did the Camira entity purchase goods or services in the reporting year?"]
[null,3.2,"Did the Camira entity undertake any capital expenditure in the reporting year?","Did the Camira entity undertake any capital expenditure?","Did the Camira entity undertake any capital expenditure?"]
[null,3.3,"Did any supplier sell energy to the Camira entity in the reporting year?","Did any supplier sell energy to the Camira entity?","Did any supplier sell energy to the Camira entity?"]
[null,3.4,"Did any supplier use their own transport in the reporting year?","Did any supplier use their own transport?","Did any supplier use their own transport?"]
[null,3.5,"Did any supplier treat waste on behalf of the reporting company in the reporting year?","Did any supplier treat waste on behalf of the reporting company?","Did any supplier treat waste on behalf of the reporting company?"]
[null,3.6,"Did the reporting company lease any assets from a supplier in the reporting year?","Did the reporting company lease any assets from a supplier?","Did the reporting company lease any assets from a supplier?"]
["Employee Emissions",3.7,"Did any employees of the Camira entity conduct busines travel in a vehicle not owned or leased by Camira in the reporting year?","Did any employees of the reporting company conduct busines travel in a vehicle not owned or leased by the reporting company?","Did any employees of the reporting company conduct busines travel in a vehicle not owned or leased by the reporting company?"]
[null,3.8,"Did employees of the Camira entity commute (at their own expense) to a workplace of the Camira in the reporting year?","Did employees of the reporting company commute (at their own expense) to a workplace of the reporting company?","Did employees of the reporting company commute (at their own expense) to a workplace of the reporting company?"]
["Customer Emissions",3.9,"Did the customer use transportation to move goods supplied by Camira to their premises or onwards to the next actor in their supply chain in the reporting year?","Did the customer use transportation to move goods supplied by Camira to their premises or onwards to the next actor in their supply chain?","Did the customer use transportation to move goods supplied by Camira to their premises or onwards to the next actor in their supply chain?"]
[null,3.1,"Did the customer use energy in their processes in the reporting year?","Did the customer use energy in their processes?","Did the customer use energy in their processes?"]
[null,3.11,"Does the use of the sold product create emissions while the customer is using it during its product lifecycle?","Does the use of the sold product create emissions while the customer is using it?","Does the use of the sold product create emissions while the customer is using it?"]
[null,3.12,"Does the product require waste treament at the end of its life?","Does the product require waste treament at the end of its life?","Does the product require waste treament at the end of its life?"]
[null,3.13,"Did the Camira entity lease any assets to a customer in the reporting year?","Does the Camira entity lease any assets to a customer?","Does the Camira entity lease any assets to a customer?"]
[null,3.14,"Did the Camira entity operate any franchise in the reporting year?","Does the Camira entity operate any franchise?","Does the Camira entity operate any franchise?"]
[null,3.15,"Did the Camira entity make any equity investments, debt investments, project finance, managed investments and client services, in the reporting year?","Has the Camira entity made any equity investments, debt investments, project finance, managed investments and client services?","Has the Camira entity made any equity investments, debt investments, project finance, managed investments and client services?"]

{"sheet":"GHG SoA","index":3,"n_rows":24,"n_cols":41,"rows_kept":24,"cut":false,"hidden":false,"merged":[[3,1,5,5],[4,7,5,9],[4,20,4,22],[4,23,4,25],[3,23,3,25],[3,16,3,22],[4,16,4,17],[4,18,4,19],[4,10,5,10],[4,11,5,12],[4,13,5,14],[3,7,3,14],[4,15,5,15],[2,16,2,40],[3,26,3,40],[5,16,5,17],[5,18,5,19],[5,20,5,22],[5,23,5,25],[4,26,4,31],[4,32,4,33],[4,34,4,40]]}
[]
[null,"Greenhouse Gas Emission Statement of Applicability"]
[null,null,null,null,null,null,null,null,null,null,null,null,null,null,null,null,"Statement of Applicability"]
[null,"General Information",null,null,null,null,null,"Reporting",null,null,null,null,null,null,null,null,"Scope 1",null,null,null,null,null,null,"Scope 2",null,null,"Scope 3"]
[null,null,null,null,null,null,null,"Scope of reporting",null,null,"Intensity ratio 1","Intensity ratio 2",null,"Intensity Ratio 3",null,"Intensity Ratio 4","Stationary combustion",null,"Mobile combustion",null,"Fugitive emissions",null,null,"Purchased energy",null,null,"Supplier energy",null,null,null,null,null,"Employee energy",null,"Customer energy"]
[null,null,null,null,null,null,null,null,null,null,null,null,null,null,null,null,"Scope 1.1",null,"Scope 1.2",null,"Scope 1.3",null,null,"Scope 2.1",null,null,"Scope 3.1","Scope 3.2","Scope 3.3","Scope 3.4","Scope 3.5","Scope 3.6","Scope 3.7","Scope 3.8","Scope 3.9","Scope 3.10","Scope 3.11","Scope 3.12","Scope 3.13","Scope 3.14","Scope 3.15"]
[null,"Reporting \nyear","Entity","Location","Authority","Contact","Calculation 1","Reporting - Customer requirements (Steelcase)","Reporting - Legal requirements (SECR)","Reporting - Business requirements (Sustainability snapshot)","Headcount","Currency","Turnover","Unit","Production Volume","Sqm","Site has facilities that burns fuel on site","Stationary combustion \ncomments","Site owns or leases vehicles (road and non-road) ","Mobile combustion comments","Site has air conditioning facilities","Site has fire surpression facilities","Fugitive emission\ncomments","Site purchases electricity","Site purchases steam ","Purchased energy \ncomments","Did the Camira entity purchase goods or services?","Did the Camira entity undertake any capital expenditure?","Did any supplier sell energy to the Camira entity?","Did any supplier use their own transport?","Did any supplier treat waste on behalf of the reporting company?","Did the reporting company lease any assets from a supplier?","Did any employees of the reporting company conduct busines travel in a vehicle not owned or leased by the reporting company?","Did employees of the reporting company commute (at their own expense) to a workplace of the reporting company?","Did the customer use transportation to move goods supplied by Camira to their premises or onwards to the next actor in their supply chain?","Did the customer use energy in their processes?","Does the use of the sold product create emissions while the customer is using it?","Does the product require waste treament at the end of its life?","Does the Camira entity lease any assets to a customer?","Does the Camira entity operate any franchise?","Has the Camira entity made any equity investments, debt investments, project finance, managed investments and client services?"]
[null,2021,"Camira Fabrics Limited","Mirfield","DBEIS/DEFRA","N Walker",{"$f":"IF(AND(Table25[[#This Row],[Reporting - Customer requirements (Steelcase)]]=\"No\",Table25[[#This Row],[Reporting - Legal requirements (SECR)]]=\"No\",Table25[[#This Row],[Reporting - Business requirements (Sustainability snapshot)]]=\"No\"),\"No\",\"Yes\")","v":"Yes"},"Yes","Yes","Yes",77,"GBP",57444000,"m",0,1323,"Not relevant, justification provided","No gas supply to site","Relevant, calculated",null,"Not relevant, justification provided","Relevant, not yet calculated","No AC, FS in ICT comms room","Relevant, calculated","Not relevant, justification provided","No steam purchased","Relevant, not calculated, justification provided","Relevant, not calculated, justification provided","Relevant, not calculated, justification provided","Relevant, not calculated, justification provided","Relevant, not calculated, justification provided","Not relevant, justification provided","Relevant, not yet calculated","Relevant, not calculated, justification provided","Not relevant, justification provided","Not relevant, justification provided","Not relevant, justification provided","Not relevant, justification provided","Not relevant, justification provided","Not relevant, justification provided","Not relevant, justification provided"]
[null,2021,"Camira Fabrics Limited","Meltham","DBEIS/DEFRA","N Walker",{"$f":"IF(AND(Table25[[#This Row],[Reporting - Customer requirements (Steelcase)]]=\"No\",Table25[[#This Row],[Reporting - Legal requirements (SECR)]]=\"No\",Table25[[#This Row],[Reporting - Business requirements (Sustainability snapshot)]]=\"No\"),\"No\",\"Yes\")","v":"Yes"},"Yes","Yes","Yes",185,"GBP",0,"m",8413651,31776,"Relevant, calculated","Gas","Relevant, not yet calculated",null,"Relevant, not yet calculated","Relevant, not yet calculated","AC and FS in ICT comms room","Relevant, calculated","Not relevant, justification provided","No steam purchased","Relevant, not calculated, justification provided","Relevant, not calculated, justification provided","Relevant, not calculated, justification provided","Relevant, not calculated, justification provided","Relevant, not calculated, justification provided","Relevant, not calculated, justification provided","Relevant, not yet calculated","Relevant, not calculated, justification provided","Relevant, not calculated, justification provided","Relevant, not calculated, justification provided","Not relevant, justification provided","Relevant, not calculated, justification provided","Not relevant, justification provided","Not relevant, justification provided","Not relevant, justification provided"]
[null,2021,"Camira Fabrics Limited","Nottingham","DBEIS/DEFRA","D Hill",{"$f":"IF(AND(Table25[[#This Row],[Reporting - Customer requirements (Steelcase)]]=\"No\",Table25[[#This Row],[Reporting - Legal requirements (SECR)]]=\"No\",Table25[[#This Row],[Reporting - Business requirements (Sustainability snapshot)]]=\"No\"),\"No\",\"Yes\")","v":"Yes"},"Yes","Yes","Yes",15,"GBP",0,"unit",242055,1200,"Relevant, not yet calculated","Gas","Relevant, calculated","Company car Darren and Camira delivery van","Not relevant, justification provided","Not relevant, justification provided","No AC or FS","Relevant, not yet calculated","Not relevant, justification provided","No steam purchased","Relevant, not calculated, justification provided","Relevant, not calculated, justification provided","Relevant, not calculated, justification provided","Relevant, not calculated, justification provided","Relevant, not calculated, justification provided","Not relevant, justification provided","Relevant, not yet calculated","Relevant, not calculated, justification provided","Relevant, not calculated, justification provided","Relevant, not calculated, justification provided","Not relevant, justification provided","Relevant, not calculated, justification provided","Not relevant, justification provided","Not relevant, justification provided","Not relevant, justification provided"]
[null,2021,"Camira Fabrics Limited","London","DBEIS/DEFRA","N Walker",{"$f":"IF(AND(Table25[[#This Row],[Reporting - Customer requirements (Steelcase)]]=\"No\",Table25[[#This Row],[Reporting - Legal requirements (SECR)]]=\"No\",Table25[[#This Row],[Reporting - Business requirements (Sustainability snapshot)]]=\"No\"),\"No\",\"Yes\")","v":"No"},"No","No","No"," ","GBP"]
[null,2021,"Camira Fabrics Limited","Denmark",null,"L Cross",{"$f":"IF(AND(Table25[[#This Row],[Reporting - Customer requirements (Steelcase)]]=\"No\",Table25[[#This Row],[Reporting - Legal requirements (SECR)]]=\"No\",Table25[[#This Row],[Reporting - Business requirements (Sustainability snapshot)]]=\"No\"),\"No\",\"Yes\")","v":"No"},"No","No","No"," ","EUR"]
[null,2021,"Camira Transport Fabrics Limited","Mirfield","DBEIS/DEFRA","N Walker",{"$f":"IF(AND(Table25[[#This Row],[Reporting - Customer requirements (Steelcase)]]=\"No\",Table25[[#This Row],[Reporting - Legal requirements (SECR)]]=\"No\",Table25[[#This Row],[Reporting - Business requirements (Sustainability snapshot)]]=\"No\"),\"No\",\"Yes\")","v":"No"},"No","No","No"," ","GBP"]
[null,2021,"Camira Transport Fabrics Limited","Meltham","DBEIS/DEFRA","N Walker",{"$f":"IF(AND(Table25[[#This Row],[Reporting - Customer requirements (Steelcase)]]=\"No\",Table25[[#This Row],[Reporting - Legal requirements (SECR)]]=\"No\",Table25[[#This Row],[Reporting - Business requirements (Sustainability snapshot)]]=\"No\"),\"No\",\"Yes\")","v":"No"},"No","No","No"," ","GBP"]
[null,2021,"Camira Yarns Limited","Birkby","DBEIS/DEFRA","R Hutchinson",{"$f":"IF(AND(Table25[[#This Row],[Reporting - Customer requirements (Steelcase)]]=\"No\",Table25[[#This Row],[Reporting - Legal requirements (SECR)]]=\"No\",Table25[[#This Row],[Reporting - Business requirements (Sustainability snapshot)]]=\"No\"),\"No\",\"Yes\")","v":"Yes"},"Yes","No","Yes",98,"GBP",5999291,"kg",723698,12050,"Relevant, calculated","Gas","Not relevant, justification provided",null,"Not relevant, justification provided","Not relevant, justification provided","No FS","Relevant, calculated","Not relevant, justification provided","No steam purchased","Relevant, not calculated, justification provided","Relevant, not calculated, justification provided","Relevant, not calculated, justification provided","Relevant, not calculated, justification provided","Relevant, not calculated, justification provided","Relevant, not calculated, justification provided","Relevant, not yet calculated","Relevant, not calculated, justification provided","Relevant, not calculated, justification provided","Relevant, not calculated, justification provided","Not relevant, justification provided","Relevant, not calculated, justification provided","Not relevant, justification provided","Not relevant, justification provided","Not relevant, justification provided"]
[null,2021,"Holmfirth Dyers Limited","Holmfirth","DBEIS/DEFRA","D Ducker",{"$f":"IF(AND(Table25[[#This Row],[Reporting - Customer requirements (Steelcase)]]=\"No\",Table25[[#This Row],[Reporting - Legal requirements (SECR)]]=\"No\",Table25[[#This Row],[Reporting - Business requirements (Sustainability snapshot)]]=\"No\"),\"No\",\"Yes\")","v":"Yes"},"Yes","No","Yes",58,"GBP",7226000,"m",5563730,3346,"Relevant, calculated","Gas","Relevant, not yet calculated",null,"Relevant, not yet calculated","Not relevant, justification provided",null,"Relevant, calculated","Not relevant, justification provided","No steam purchased","Relevant, not calculated, justification provided","Relevant, not calculated, justification provided","Relevant, not calculated, justification provided","Relevant, not calculated, justification provided","Relevant, not calculated, justification provided","Relevant, not calculated, justification provided","Relevant, not yet calculated","Relevant, not calculated, justification provided","Relevant, not calculated, justification provided","Relevant, not calculated, justification provided","Not relevant, justification provided","Relevant, not calculated, justification provided","Not relevant, justification provided","Not relevant, justification provided","Not relevant, justification provided"]
[null,2021,"UAB Camira Fabrics","Lithuania",null,"M Rucinskas",{"$f":"IF(AND(Table25[[#This Row],[Reporting - Customer requirements (Steelcase)]]=\"No\",Table25[[#This Row],[Reporting - Legal requirements (SECR)]]=\"No\",Table25[[#This Row],[Reporting - Business requirements (Sustainability snapshot)]]=\"No\"),\"No\",\"Yes\")","v":"Yes"},"No","No","Yes",193,"GBP",11792000,"m",678719,8050,"Relevant, not yet calculated","Oil","Relevant, not yet calculated","1 leased car","Relevant, not yet calculated","Not relevant, justification provided",null,"Relevant, calculated","Not relevant, justification provided","No steam purchased","Relevant, not calculated, justification provided","Relevant, not calculated, justification provided","Relevant, not calculated, justification provided","Relevant, not calculated, justification provided","Relevant, not calculated, justification provided","Relevant, not calculated, justification provided","Relevant, not yet calculated","Relevant, not calculated, justification provided","Relevant, not calculated, justification provided","Relevant, not calculated, justification provided","Not relevant, justification provided","Relevant, not calculated, justification provided","Not relevant, justification provided","Not relevant, justification provided","Not relevant, justification provided"]
[null,2021,"Camira Fabrics GmbH","Germany",null,"R Rupp",{"$f":"IF(AND(Table25[[#This Row],[Reporting - Customer requirements (Steelcase)]]=\"No\",Table25[[#This Row],[Reporting - Legal requirements (SECR)]]=\"No\",Table25[[#This Row],[Reporting - Business requirements (Sustainability snapshot)]]=\"No\"),\"No\",\"Yes\")","v":"No"},"No","No","No",null,"EUR"]
[null,2021,"Camira Fabrics Turkey\nTekstil Limited Sirketi","Turkey",null,"U Usta",{"$f":"IF(AND(Table25[[#This Row],[Reporting - Customer requirements (Steelcase)]]=\"No\",Table25[[#This Row],[Reporting - Legal requirements (SECR)]]=\"No\",Table25[[#This Row],[Reporting - Business requirements (Sustainability snapshot)]]=\"No\"),\"No\",\"Yes\")","v":"No"},"No","No","No",null,"EUR"]
[null,2021,"Camira Group, Inc","Grand Rapids","EPA","R Akselberg",{"$f":"IF(AND(Table25[[#This Row],[Reporting - Customer requirements (Steelcase)]]=\"No\",Table25[[#This Row],[Reporting - Legal requirements (SECR)]]=\"No\",Table25[[#This Row],[Reporting - Business requirements (Sustainability snapshot)]]=\"No\"),\"No\",\"Yes\")","v":"Yes"},"Yes","No","Yes",22,"GBP",10547000,"m",0,1811,"Relevant, calculated","Gas","Relevant, calculated","2 cars.  ","Relevant, not yet calculated","Not relevant, justification provided","AC in office, no FS","Relevant, calculated","Not relevant, justification provided","No steam purchased","Relevant, not calculated, justification provided","Relevant, not calculated, justification provided","Relevant, not calculated, justification provided","Relevant, not calculated, justification provided","Relevant, not calculated, justification provided","Not relevant, justification provided","Relevant, not yet calculated","Relevant, not calculated, justification provided","Relevant, not calculated, justification provided","Relevant, not calculated, justification provided","Not relevant, justification provided","Relevant, not calculated, justification provided","Not relevant, justification provided","Not relevant, justification provided","Not relevant, justification provided"]
[null,2021,"Camira Group, Inc","Chicago","EPA","R Akselberg",{"$f":"IF(AND(Table25[[#This Row],[Reporting - Customer requirements (Steelcase)]]=\"No\",Table25[[#This Row],[Reporting - Legal requirements (SECR)]]=\"No\",Table25[[#This Row],[Reporting - Business requirements (Sustainability snapshot)]]=\"No\"),\"No\",\"Yes\")","v":"No"},"No","No","No",null,"USD"]
[null,2021,"Luna Textiles, Inc","San Francisco","EPA","R Akselberg",{"$f":"IF(AND(Table25[[#This Row],[Reporting - Customer requirements (Steelcase)]]=\"No\",Table25[[#This Row],[Reporting - Legal requirements (SECR)]]=\"No\",Table25[[#This Row],[Reporting - Business requirements (Sustainability snapshot)]]=\"No\"),\"No\",\"Yes\")","v":"No"},"No","No","No",null,"USD"]
[null,2021,"Camira Fabrics (Shanghai) Limited","Shanghai",null,"A Gauthon",{"$f":"IF(AND(Table25[[#This Row],[Reporting - Customer requirements (Steelcase)]]=\"No\",Table25[[#This Row],[Reporting - Legal requirements (SECR)]]=\"No\",Table25[[#This Row],[Reporting - Business requirements (Sustainability snapshot)]]=\"No\"),\"No\",\"Yes\")","v":"No"},"No","No","No",null,"CNY"]
[null,2021,"Camira Group Pty Limited","Australia",null,"R Peterson",{"$f":"IF(AND(Table25[[#This Row],[Reporting - Customer requirements (Steelcase)]]=\"No\",Table25[[#This Row],[Reporting - Legal requirements (SECR)]]=\"No\",Table25[[#This Row],[Reporting - Business requirements (Sustainability snapshot)]]=\"No\"),\"No\",\"Yes\")","v":"No"},"No","No","No",null,"AUD"]

{"sheet":"GHG 2021 Reporting Form","index":4,"n_rows":66,"n_cols":11,"rows_kept":66,"cut":false,"hidden":true,"merged":[[3,2,3,5],[4,2,4,5],[5,2,5,5],[6,2,6,5],[2,0,2,5],[3,0,3,1],[4,0,4,1],[5,0,5,1],[6,0,6,1],[48,0,48,5],[57,0,58,3],[57,4,58,5],[59,0,61,3],[18,1,18,6],[25,1,25,6],[40,0,41,3],[40,4,41,5],[42,0,44,3],[42,4,44,5],[32,1,32,6],[45,1,47,1],[45,2,47,2],[45,3,47,3],[45,4,47,4],[45,5,47,5],[65,0,65,5],[2,7,2,12],[8,0,8,1],[9,0,9,1],[7,0,7,1],[8,3,8,5],[9,3,9,5],[10,3,10,5],[59,4,61,5],[62,0,64,0],[62,1,64,1],[62,2,64,2],[62,3,64,3],[62,4,64,4],[62,5,64,5],[45,0,47,0],[3,7,4,8],[3,9,4,12],[5,7,6,8],[5,9,6,12],[7,7,8,8],[7,9,8,12],[12,10,13,12],[14,10,14,12],[14,0,14,9],[15,0,17,0],[10,0,10,1],[9,7,10,8],[9,9,10,12],[15,6,17,6],[15,1,17,1],[15,2,17,2],[15,3,17,3],[15,4,17,4],[15,5,17,5]]}
["Camira Internal Emissions Reporting Form"]
[]
["General information",null,null,null,null,null,null,"Dashboard - tco2e"]
["Reference year",null,null,null,null,null,null,"Total Emissions",null,{"$f":"SUM(K15+E43+E60)","v":{"$error":"#REF!"}}]
["Date reported"]
["Facility",null,null,null,null,null,null,"Turnover intensity ratio",null,{"$f":"IFERROR(J4/D9,0)","v":0}]
["Contact person"]
["Intensity ratio metrics",null,"Unit","Total",null,null,null,"Production intensity ratio",null,{"$f":"IFERROR(J4/D10,0)","v":0}]
["Turnover"]
["Production / sales",null,null,null,null,null,null,"Headcount intensity ratio",null,{"$f":"IFERROR(J4/D11,0)","v":0}]
["Headcount",null,"N/A"]
[]
["Scope 1 - direct GHG emissions",null,null,null,null,null,null,null,null,null,"Total Scope Emissions Calculation (tCO2e)"]
[]
["Combustion of fuel and operation of facilities including: gas, fuel in leased/owned vehicles, and fugitive emissions from air conditioning.",null,null,null,null,null,null,null,null,null,{"$f":"SUM(#REF!+#REF!+#REF!)","v":{"$error":"#REF!"}}]
["Emission type","Source","Data","Conversion factor (kWh)","Consumption (kWh)","Conversion factor (co2e)","Emission calculation (tco2e)"]
[]
[]
[null,"Stationary combustion i.e. purchased natural gas"]
[null,null,10,"N/A",{"$f":"C20","v":10}]
[null,null,null,"N/A",0]
[null,null,null,"N/A",0]
[null,null,null,"N/A",0]
[null,null,null,"N/A",0]
[null,null,null,"N/A",0]
[null,"Mobile combustion i.e. petrol and diesel used in vehicles owned/leased by Camira"]
[null,null,null,null,null,null,1]
[]
[]
[]
[]
[]
[null,"Fugitive emissions i.e. refrigerant losses"]
[]
[]
[]
[]
[]
[]
[]
["Scope 2 – energy indirect emissions",null,null,null,"Total Scope Emissions Calculation (tCO2e)"]
[]
["Electricity or steam purchased for our own use. ",null,null,null,{"$f":"SUM(F50:F55)","v":0}]
[]
[]
["Source","Data","Conversion factor (kWh)","Consumption (kWh)","Conversion factor (co2e)","Emission calculation (tco2e)"]
[]
[]
["Location Based method i.e. electricity purchased from energy provider"]
[]
[]
[]
[]
[]
[]
[]
[]
["Scope 3 – other indirect emissions",null,null,null,"Total Scope Emissions Calculation (tCO2e)"]
[]
["Company-financed business travel in rental or employee-owned vehicles.",null,null,null,{"$f":"SUM(F67:F71)","v":0}]
[]
[]
["Source","Data","Conversion factor (kWh)","Consumption (kWh)","Conversion factor (co2e)","Emission calculation (tco2e)"]
[]
[]
["Mobile combustion i.e. petrol or diesel used in vehicles not owned or leased by Camira"]

{"sheet":"GHG Summary Report","index":5,"n_rows":208,"n_cols":21,"rows_kept":208,"cut":false,"hidden":false,"merged":[[175,5,175,8],[182,1,183,2],[184,1,198,2],[177,1,181,2],[204,1,204,4],[37,5,37,10],[37,11,37,12],[42,5,42,10],[43,5,43,10],[44,5,44,10],[201,1,201,4],[201,5,201,6],[201,7,201,8],[202,1,202,4],[202,5,202,6],[202,7,202,8],[195,3,195,4],[195,5,195,6],[195,7,195,8],[196,3,196,4],[196,5,196,6],[196,7,196,8],[197,3,197,4],[197,5,197,6],[207,1,215,20],[198,3,198,4],[198,5,198,6],[198,7,198,8],[199,1,199,4],[199,5,199,6],[199,7,199,8],[200,1,200,4],[200,5,200,6],[200,7,200,8],[197,7,197,8],[192,3,192,4],[192,5,192,6],[192,7,192,8],[193,3,193,4],[193,5,193,6],[193,7,193,8],[194,3,194,4],[194,5,194,6],[194,7,194,8],[190,3,190,4],[190,5,190,6],[190,7,190,8],[191,3,191,4],[191,5,191,6],[191,7,191,8],[184,3,184,4],[184,5,184,6],[184,7,184,8],[185,3,185,4],[185,5,185,6],[185,7,185,8],[186,3,186,4],[186,5,186,6],[186,7,186,8],[187,3,187,4],[187,5,187,6],[187,7,187,8],[188,3,188,4],[188,5,188,6],[188,7,188,8],[189,3,189,4],[189,5,189,6],[189,7,189,8],[181,5,181,6],[181,7,181,8],[182,3,182,4],[182,5,182,6],[182,7,182,8],[183,3,183,4],[183,5,183,6],[183,7,183,8],[162,1,172,20],[176,5,176,6],[176,7,176,8],[177,3,177,4],[177,5,177,6],[177,7,177,8],[178,3,178,4],[178,5,178,6],[178,7,178,8],[179,3,179,4],[179,5,179,6],[179,7,179,8],[180,3,180,4],[180,5,180,6],[180,7,180,8],[181,3,181,4],[30,19,30,20],[31,19,31,20],[32,19,32,20],[33,19,33,20],[7,19,7,20],[33,1,33,4],[102,1,103,20],[8,19,8,20],[9,19,9,20],[10,19,10,20],[11,19,11,20],[12,19,12,20],[13,19,13,20],[14,19,14,20],[15,19,15,20],[16,19,16,20],[17,19,17,20],[18,19,18,20],[19,19,19,20],[8,1,12,1],[13,1,14,1],[15,1,29,1],[16,3,16,4],[15,3,15,4],[28,19,28,20],[29,19,29,20],[20,19,20,20],[21,19,21,20],[22,19,22,20],[23,19,23,20],[24,19,24,20],[14,15,14,16],[14,17,14,18],[15,15,15,16],[15,17,15,18],[16,15,16,16],[16,17,16,18],[22,15,22,16],[22,17,22,18],[5,17,5,18],[6,17,6,18],[5,15,5,16],[6,15,6,16],[12,17,12,18],[14,3,14,4],[25,19,25,20],[26,19,26,20],[27,19,27,20],[15,5,15,6],[15,7,15,8],[15,9,15,10],[15,11,15,12],[15,13,15,14],[14,5,14,6],[14,7,14,8],[14,9,14,10],[14,11,14,12],[13,3,13,4],[12,3,12,4],[11,3,11,4],[10,3,10,4],[9,3,9,4],[8,3,8,4],[8,17,8,18],[9,15,9,16],[9,17,9,18],[10,15,10,16],[10,17,10,18],[11,15,11,16],[11,17,11,18],[12,15,12,16],[8,15,8,16],[42,3,44,3],[45,3,47,3],[48,3,50,3],[39,1,41,2],[42,1,44,2],[45,1,47,2],[48,1,50,2],[6,5,6,10],[5,5,5,14],[29,3,29,4],[28,3,28,4],[27,3,27,4],[26,3,26,4],[25,3,25,4],[24,3,24,4],[23,3,23,4],[22,3,22,4],[21,3,21,4],[20,3,20,4],[19,3,19,4],[18,3,18,4],[17,3,17,4],[6,13,6,14],[6,11,6,12],[31,1,31,4],[32,1,32,4],[30,5,30,6],[30,7,30,8],[30,9,30,10],[30,11,30,12],[33,5,33,6],[33,11,33,12],[33,9,33,10],[33,7,33,8],[32,7,32,8],[31,5,31,6],[31,7,31,8],[32,5,32,6],[30,1,30,4],[137,3,137,7],[138,3,138,7],[13,5,13,6],[13,7,13,8],[13,9,13,10],[13,11,13,12],[17,5,17,6],[17,7,17,8],[17,9,17,10],[17,11,17,12],[19,5,19,6],[19,7,19,8],[19,9,19,10],[19,11,19,12],[21,5,21,6],[21,7,21,8],[21,9,21,10],[117,1,131,1],[110,3,110,4],[111,3,111,4],[112,3,112,4],[113,3,113,4],[114,3,114,4],[108,15,108,17],[108,18,108,19],[108,5,108,10],[108,11,108,14],[130,3,130,4],[131,3,131,4],[125,3,125,4],[126,3,126,4],[127,3,127,4],[128,3,128,4],[129,3,129,4],[109,1,109,4],[110,1,114,1],[115,1,116,1],[115,3,115,4],[116,3,116,4],[117,3,117,4],[118,3,118,4],[119,3,119,4],[120,3,120,4],[121,3,121,4],[122,3,122,4],[123,3,123,4],[124,3,124,4],[136,1,136,7],[137,1,137,2],[138,1,138,2],[148,4,148,7],[150,9,150,13],[151,9,151,13],[150,14,150,19],[151,14,151,19],[149,9,149,13],[149,4,149,7],[148,9,148,13],[142,3,142,7],[143,3,143,7],[144,3,144,7],[145,3,145,7],[146,14,146,19],[147,14,147,19],[148,14,148,19],[149,14,149,19],[143,9,143,13],[144,9,144,13],[145,9,145,13],[146,9,146,13],[147,9,147,13],[139,14,139,19],[140,14,140,19],[141,14,141,19],[142,14,142,19],[143,14,143,19],[144,14,144,19],[145,14,145,19],[137,9,137,13],[139,9,139,13],[137,14,137,19],[139,1,139,2],[140,1,140,2],[141,1,141,2],[142,1,142,2],[143,1,143,2],[144,1,144,2],[145,1,145,2],[139,3,139,7],[140,3,140,7],[141,3,141,7],[8,5,8,6],[8,7,8,8],[8,9,8,10],[8,11,8,12],[8,13,8,14],[11,5,11,6],[11,7,11,8],[11,9,11,10],[11,11,11,12],[11,13,11,14],[10,5,10,6],[10,7,10,8],[10,9,10,10],[10,11,10,12],[10,13,10,14],[9,5,9,6],[9,7,9,8],[9,9,9,10],[9,11,9,12],[9,13,9,14],[13,13,13,14],[13,15,13,16],[13,17,13,18],[12,5,12,6],[12,7,12,8],[12,9,12,10],[12,11,12,12],[12,13,12,14],[14,13,14,14],[17,13,17,14],[17,15,17,16],[17,17,17,18],[16,5,16,6],[16,7,16,8],[16,9,16,10],[16,11,16,12],[16,13,16,14],[18,15,18,16],[18,17,18,18],[19,13,19,14],[19,15,19,16],[19,17,19,18],[18,5,18,6],[18,7,18,8],[18,9,18,10],[18,11,18,12],[18,13,18,14],[20,15,20,16],[20,17,20,18],[21,11,21,12],[21,13,21,14],[21,15,21,16],[21,17,21,18],[20,5,20,6],[20,7,20,8],[20,9,20,10],[20,11,20,12],[20,13,20,14],[23,5,23,6],[23,7,23,8],[23,9,23,10],[23,11,23,12],[23,13,23,14],[23,15,23,16],[23,17,23,18],[22,5,22,6],[22,7,22,8],[22,9,22,10],[22,11,22,12],[22,13,22,14],[25,5,25,6],[25,7,25,8],[25,9,25,10],[25,11,25,12],[25,13,25,14],[25,15,25,16],[25,17,25,18],[24,5,24,6],[24,7,24,8],[24,9,24,10],[24,11,24,12],[24,13,24,14],[7,5,7,6],[7,7,7,8],[7,9,7,10],[7,11,7,12],[7,13,7,14],[142,9,142,13],[141,9,141,13],[140,9,140,13],[138,9,138,13],[138,14,138,19],[28,15,28,16],[28,17,28,18],[29,5,29,6],[29,7,29,8],[29,9,29,10],[29,11,29,12],[29,13,29,14],[29,15,29,16],[29,17,29,18],[28,5,28,6],[28,7,28,8],[38,5,38,6],[38,7,38,8],[38,9,38,10],[7,15,7,16],[7,17,7,18],[28,9,28,10],[28,11,28,12],[28,13,28,14],[26,15,26,16],[26,17,26,18],[32,9,32,10],[32,11,32,12],[32,13,32,14],[30,13,30,14],[30,15,30,16],[30,17,30,18],[31,9,31,10],[31,11,31,12],[31,13,31,14],[31,15,31,16],[31,17,31,18],[32,15,32,16],[32,17,32,18],[26,11,26,12],[26,13,26,14],[24,15,24,16],[24,17,24,18],[27,5,27,6],[27,7,27,8],[27,9,27,10],[27,11,27,12],[27,13,27,14],[27,15,27,16],[27,17,27,18],[26,5,26,6],[26,7,26,8],[26,9,26,10],[39,3,41,3],[39,5,39,6],[39,7,39,8],[39,9,39,10],[39,11,39,12],[39,13,39,14],[39,15,39,16],[39,17,39,18],[40,5,40,6],[40,7,40,8],[40,9,40,10],[40,11,40,12],[40,13,40,14],[40,15,40,16],[40,17,40,18],[41,5,41,6],[41,7,41,8],[41,9,41,10],[41,11,41,12],[41,13,41,14],[41,15,41,16],[41,17,41,18],[38,13,38,14],[38,15,38,16],[38,17,38,18],[33,17,33,18],[33,15,33,16],[33,13,33,14],[38,11,38,12],[37,13,37,14],[37,15,37,16],[37,17,37,18],[42,15,42,16],[42,17,42,18],[43,11,43,12],[43,13,43,14],[43,15,43,16],[43,17,43,18],[42,11,42,12],[42,13,42,14],[44,15,44,16],[44,17,44,18],[45,5,45,6],[45,7,45,8],[45,9,45,10],[45,11,45,12],[45,13,45,14],[45,15,45,16],[45,17,45,18],[44,11,44,12],[44,13,44,14],[48,13,48,14],[46,15,46,16],[46,17,46,18],[47,5,47,6],[47,7,47,8],[47,9,47,10],[47,11,47,12],[47,13,47,14],[47,15,47,16],[47,17,47,18],[46,5,46,6],[46,7,46,8],[46,9,46,10],[46,11,46,12],[46,13,46,14],[50,15,50,16],[50,17,50,18],[39,20,41,20],[42,20,44,20],[45,20,47,20],[48,20,50,20],[50,5,50,6],[50,7,50,8],[50,9,50,10],[50,11,50,12],[50,13,50,14],[48,15,48,16],[48,17,48,18],[49,5,49,6],[49,7,49,8],[49,9,49,10],[49,11,49,12],[49,13,49,14],[49,15,49,16],[49,17,49,18],[48,5,48,6],[48,7,48,8],[48,9,48,10],[48,11,48,12]]}
[]
[null,"Greenhouse Gas Emission Report 2021"]
[]
[]
[null,"Total Emissions Chart - tCO2e"]
[null,null,null,null,null,"UK - DBEIS/DEFRA",null,null,null,null,null,null,null,null,null,"EUR",null,"US - EPA"]
[null,null,null,null,null,"Camira Fabrics Limited",null,null,null,null,null,"Camira Yarns Limited",null,"Holmfirth Dyers Limited",null,"UAB Camira Fabrics",null,"Camira Group, Inc"]
[null,null,null,"Scopes",null,"Mirfield",null,"Meltham",null,"Nottingham",null,"Birkby",null,"Holmfirth",null,"Lithuania",null,"Grand Rapids",null,"Total tCO2e"]
[null,"Scope \n1",1.1000000000000001,"Stationary Combustion",null,null,null,{"$f":"'1.1'!Z10","v":1034.1495879608326},null,{"$f":"'1.1'!Z13","v":3.46319519},null,{"$f":"'1.1'!Z16","v":195.55760393},null,{"$f":"'1.1'!Z19","v":2782.6162479700001},null,{"$f":"'1.1'!Z24","v":38.508928522590864},null,{"$f":"'1.1'!Z28","v":2.9536588100000003},null,{"$f":"SUM(F9:S9)","v":4057.2492223834238}]
[null,null,1.2,"Mobile Sources",null,{"$f":"'1.2'!Z8","v":11.025729450063999},null,{"$f":"'1.2'!Z11","v":0},null,{"$f":"'1.2'!Z14","v":7.2329782935199996E-2},null,null,null,{"$f":"'1.2'!Z21","v":93.560910602139998},null,{"$f":"'1.2'!Z24","v":0.47554776288599998},null,{"$f":"'1.2'!Z33","v":10.311827727809128},null,{"$f":"SUM(F10:S10)","v":115.44634532583433}]
[null,null,1.3,"Refrigeration Equipment",null,{"$f":"'1.3'!Z7","v":0},null,{"$f":"'1.3'!Z10","v":0},null,null,null,null,null,{"$f":"'1.3'!Z19","v":5.3243999999999998},null,{"$f":"'1.3'!Z23","v":0},null,{"$f":"'1.3'!Z27","v":0},null,5.3243999999999998]
[null,null,1.4,"Fire Suppression",null,{"$f":"'1.4'!Z7","v":0},null,{"$f":"'1.4'!Z10","v":0},null,null,null,null,null,null,null,null,null,null,null,0]
[null,null,1.5,"Purchased Gases",null,null,null,null,null,null,null,null,null,null,null,null,null,null,null,0]
[null,"Scope \n2",2.1,"Purchased Electricity",null,{"$f":"'2.1'!Z7","v":10.48782802},null,{"$f":"'2.1'!Z10","v":903.41127983000013},null,{"$f":"'2.1'!Z14","v":46.55483881},null,{"$f":"'2.1'!Z17","v":430.90759792000006},null,{"$f":"'2.1'!Z20","v":402.23030812000007},null,{"$f":"'2.1'!Z24","v":347.39969523000002},null,{"$f":"'2.1'!Z28","v":26.691893469896051},null,2167.6834413998963]
[null,null,2.2000000000000002,"Purchased Steam",null,null,null,null,null,null,null,null,null,null,null,null,null,null,null,0]
[null,"Scope \n3",3.1,"Supplier Scope 1 & 2 -  Goods & Services",null,null,null,null,null,null,null,null,null,null,null,null,null,null,null,0]
[null,null,3.2,"Supplier Scope 1 & 2 -  Capital Spend",null,null,null,null,null,null,null,null,null,null,null,null,null,null,null,0]
[null,null,3.3,"Supplier Scope 1 & 2 - Energy Provider",null,null,null,null,null,null,null,null,null,null,null,null,null,null,null,0]
[null,null,3.4,"Supplier Scope 1 & 2 - Transportation Provider",null,null,null,null,null,null,null,null,null,null,null,null,null,null,null,0]
[null,null,3.5,"Supplier Scope 1 & 2 - Waste Provider",null,null,null,null,null,null,null,null,null,null,null,null,null,null,null,0]
[null,null,3.8,"Supplier Scope 1 & 2 - Leased Asset Provider",null,null,null,null,null,null,null,null,null,null,null,null,null,null,null,0]
[null,null,3.6,"Employee Business Travel",null,{"$f":"'3.6'!Z8","v":0.62606799999999996},null,{"$f":"'3.6'!Z12","v":0.62287376000000005},null,{"$f":"'3.6'!Z15","v":0},null,{"$f":"'3.6'!Z19","v":0.23895375999999999},null,{"$f":"'3.6'!Z22","v":0},null,{"$f":"'3.6'!Z28","v":0.21743427999999998},null,{"$f":"'3.6'!Z32","v":0.63224055999999995},null,2.33757036]
[null,null,3.7,"Employee Commuting",null,null,null,null,null,null,null,null,null,null,null,null,null,null,null,0]
[null,null,3.9,"Customer Scope 1 & 2 - Transport",null,null,null,null,null,null,null,null,null,null,null,null,null,null,null,0]
[null,null,3.1,"Customer Scope 1 & 2 - Energy",null,null,null,null,null,null,null,null,null,null,null,null,null,null,null,0]
[null,null,3.11,"Customer Scope 1 & 2 - Product Use",null,null,null,null,null,null,null,null,null,null,null,null,null,null,null,0]
[null,null,3.12,"Customer Scope 1 & 2 - Product Waste",null,null,null,null,null,null,null,null,null,null,null,null,null,null,null,0]
[null,null,3.13,"Customer Scope 1 & 2 - Leased Asset",null,null,null,null,null,null,null,null,null,null,null,null,null,null,null,0]
[null,null,3.14,"Customer Scope 1 & 2 - Franchise",null,null,null,null,null,null,null,null,null,null,null,null,null,null,null,0]
[null,null,3.15,"Customer Scope 1 & 2 - Investment",null,null,null,null,null,null,null,null,null,null,null,null,null,null,null,0]
[null,"Total Scope 1 tCO2e - Location",null,null,null,{"$f":"SUM(F9:G13)","v":11.025729450063999},null,{"$f":"SUM(H9:I13)","v":1034.1495879608326},null,{"$f":"SUM(J9:K13)","v":3.5355249729352001},null,{"$f":"SUM(L9:M13)","v":195.55760393},null,{"$f":"SUM(N9:O13)","v":2881.5015585721403},null,{"$f":"SUM(P9:Q13)","v":38.984476285476866},null,{"$f":"SUM(R9:S13)","v":13.265486537809128},null,{"$f":"SUM(F31:S31)","v":4178.0199677092587}]
[null,"Total Scope 2 tCO2e - Location",null,null,null,{"$f":"SUM(F14:G15)","v":10.48782802},null,{"$f":"SUM(H14:I15)","v":903.41127983000013},null,{"$f":"SUM(J14:K15)","v":46.55483881},null,{"$f":"SUM(L14:M15)","v":430.90759792000006},null,{"$f":"SUM(N14:O15)","v":402.23030812000007},null,{"$f":"SUM(P14:Q15)","v":347.39969523000002},null,{"$f":"SUM(R14:S15)","v":26.691893469896051},null,{"$f":"SUM(F32:S32)","v":2167.6834413998963}]
[null,"Total Scope 3 tCO2e - Location",null,null,null,{"$f":"SUM(F16:G30)","v":0.62606799999999996},null,{"$f":"SUM(H16:I30)","v":0.62287376000000005},null,{"$f":"SUM(J16:K30)","v":0},null,{"$f":"SUM(L16:M30)","v":0.23895375999999999},null,{"$f":"SUM(N16:O30)","v":0},null,{"$f":"SUM(P16:Q30)","v":0.21743427999999998},null,{"$f":"SUM(R16:S30)","v":0.63224055999999995},null,{"$f":"SUM(F33:S33)","v":2.33757036}]
[null,"Total tCO2e - Location",null,null,null,{"$f":"SUM(F9:G30)","v":22.139625470064001},null,{"$f":"SUM(H9:I30)","v":1938.1837415508326},null,{"$f":"SUM(J9:K30)","v":50.090363782935199},null,{"$f":"SUM(L9:M30)","v":626.70415561000004},null,{"$f":"SUM(N9:O30)","v":3283.7318666921406},null,{"$f":"SUM(P9:Q30)","v":386.60160579547693},null,{"$f":"SUM(R9:S30)","v":40.589620567705182},null,{"$f":"SUM(F34:S34)","v":6348.040979469155}]
[]
[]
[null,"Intensity Ratio's"]
[null,null,null,null,null,"Camira Fabrics Limited",null,null,null,null,null,"Camira Yarns Limited",null,"Holmfirth Dyers Limited",null,"UAB Camira Fabrics",null,"Camira Group, Inc"]
[null,null,null,null,null,"Mirfield",null,"Meltham",null,"Nottingham",null,"Birkby",null,"Holmfirth",null,"Lithuania",null,"Grand Rapids",null,"Scope Sum","Total Sum"]
[null,"Intensity Ratio 1",null,"Headcount","Scope 1",{"$f":"IFERROR(F31/'GHG SoA'!K8,0)","v":0.14319129155927271},null,{"$f":"IFERROR(H31/'GHG SoA'!K9,0)","v":5.5899977727612571},null,{"$f":"IFERROR(J31/'GHG SoA'!K10,0)","v":0.23570166486234667},null,{"$f":"IFERROR(L31/'GHG SoA'!K15,0)","v":1.9954857543877551},null,{"$f":"IFERROR(N31/'GHG SoA'!K16,0)","v":49.681061354692076},null,{"$f":"IFERROR(P31/'GHG SoA'!K17,0)","v":0.20199210510609775},null,{"$f":"IFERROR(R31/'GHG SoA'!K20,0)","v":0.60297666080950585},null,{"$f":"SUM(F40:S40)","v":58.450406604178312},{"$f":"SUM(T40:T42)","v":80.96266097430879}]
[null,null,null,null,"Scope 2",{"$f":"IFERROR(F32/'GHG SoA'!K8,0)","v":0.13620555870129872},null,{"$f":"IFERROR(H32/'GHG SoA'!K9,0)","v":4.8833042152972981},null,{"$f":"IFERROR(J32/'GHG SoA'!K10,0)","v":3.1036559206666667},null,{"$f":"IFERROR(L32/'GHG SoA'!K15,0)","v":4.3970163053061233},null,{"$f":"IFERROR(N32/'GHG SoA'!K16,0)","v":6.9350053124137947},null,{"$f":"IFERROR(P32/'GHG SoA'!K17,0)","v":1.7999984208808291},null,{"$f":"IFERROR(R32/'GHG SoA'!K20,0)","v":1.2132678849952752},null,{"$f":"SUM(F41:S41)","v":22.46845361826129}]
[null,null,null,null,"Scope 3",{"$f":"IFERROR(F33/'GHG SoA'!K8,0)","v":8.1307532467532456E-3},null,{"$f":"IFERROR(H33/'GHG SoA'!K9,0)","v":3.3668851891891895E-3},null,{"$f":"IFERROR(J33/'GHG SoA'!K10,0)","v":0},null,{"$f":"IFERROR(L33/'GHG SoA'!K15,0)","v":2.4383036734693876E-3},null,{"$f":"IFERROR(N33/'GHG SoA'!K16,0)","v":0},null,{"$f":"IFERROR(P33/'GHG SoA'!K17,0)","v":1.126602487046632E-3},null,{"$f":"IFERROR(R33/'GHG SoA'!K20,0)","v":2.873820727272727E-2},null,4.3800751869185722E-2]
[null,"Intensity Ratio 2",null,"Turnover (tCO2e/£1m)","Scope 1",{"$f":"IFERROR(SUM(F31:K31)/(SUM('GHG SoA'!M8)/1000000),0)","v":18.256229412712067},null,null,null,null,null,{"$f":"IFERROR(L31/(SUM('GHG SoA'!M15)/1000000),0)","v":32.59678584186031},null,{"$f":"IFERROR(N31/(SUM('GHG SoA'!M16)/1000000),0)","v":398.76855225188768},null,{"$f":"IFERROR(P31/(SUM('GHG SoA'!M17)/1000000),0)","v":3.3060105398131672},null,{"$f":"IFERROR(R31/(SUM('GHG SoA'!M20)/1000000),0)","v":1.2577497428471724},null,454.18532778912038,{"$f":"SUM(T43:T45)","v":630.52722820203201}]
[null,null,null,null,"Scope 2",{"$f":"IFERROR(SUM(F32:K32)/(SUM('GHG SoA'!M8)/1000000),0)","v":16.719830559501428},null,null,null,null,null,{"$f":"IFERROR(L32/(SUM('GHG SoA'!M15)/1000000),0)","v":71.826420475352847},null,{"$f":"IFERROR(N32/(SUM('GHG SoA'!M16)/1000000),0)","v":55.664310561859963},null,{"$f":"IFERROR(P32/(SUM('GHG SoA'!M17)/1000000),0)","v":29.460625443521032},null,{"$f":"IFERROR(R32/(SUM('GHG SoA'!M20)/1000000),0)","v":2.530756942248606},null,176.20194398248387]
[null,null,null,null,"Scope 3",{"$f":"IFERROR(SUM(F33:K33)/(SUM('GHG SoA'!M8)/1000000),0)","v":2.1741900981825778E-2},null,null,null,null,null,{"$f":"IFERROR(L33/(SUM('GHG SoA'!M15)/1000000),0)","v":3.9830333284383103E-2},null,{"$f":"IFERROR(N33/(SUM('GHG SoA'!M16)/1000000),0)","v":0},null,{"$f":"IFERROR(P33/(SUM('GHG SoA'!M17)/1000000),0)","v":1.843913500678426E-2},null,{"$f":"IFERROR(R33/(SUM('GHG SoA'!M20)/1000000),0)","v":5.9945061154830746E-2},null,0.13995643042782388]
[null,"Intensity Ratio 3",null,"Floorspace (tCO2e/sqm)","Scope 1",{"$f":"IFERROR(F31/'GHG SoA'!P8,0)","v":8.3338846939259251E-3},null,{"$f":"IFERROR(H31/'GHG SoA'!P9,0)","v":3.2544989550630433E-2},null,{"$f":"IFERROR(J31/'GHG SoA'!P10,0)","v":2.9462708107793334E-3},null,{"$f":"IFERROR(L31/'GHG SoA'!P15,0)","v":1.6228846799170124E-2},null,{"$f":"IFERROR(N31/'GHG SoA'!P16,0)","v":0.86117799120506289},null,{"$f":"IFERROR(P31/'GHG SoA'!P17,0)","v":4.8427920851524054E-3},null,{"$f":"IFERROR(R31/'GHG SoA'!P20,0)","v":7.3249511528487733E-3},null,0.93339972629756984,{"$f":"SUM(T46:T48)","v":1.223308375718863}]
[null,null,null,null,"Scope 2",{"$f":"IFERROR(F32/'GHG SoA'!P8,0)","v":7.9273076492819353E-3},null,{"$f":"IFERROR(H32/'GHG SoA'!P9,0)","v":2.8430616812374122E-2},null,{"$f":"IFERROR(J32/'GHG SoA'!P10,0)","v":3.879569900833333E-2},null,{"$f":"IFERROR(L32/'GHG SoA'!P15,0)","v":3.575996663236515E-2},null,{"$f":"IFERROR(N32/'GHG SoA'!P16,0)","v":0.12021228575014946},null,{"$f":"IFERROR(P32/'GHG SoA'!P17,0)","v":4.3155241643478261E-2},null,{"$f":"IFERROR(R32/'GHG SoA'!P20,0)","v":1.4738759508501408E-2},null,0.28901987700448367]
[null,null,null,null,"Scope 3",{"$f":"IFERROR(F33/'GHG SoA'!P8,0)","v":4.732184429327286E-4},null,{"$f":"IFERROR(H33/'GHG SoA'!P9,0)","v":1.9602019133937564E-5},null,{"$f":"IFERROR(J33/'GHG SoA'!P10,0)","v":0},null,{"$f":"IFERROR(L33/'GHG SoA'!P15,0)","v":1.983018755186722E-5},null,{"$f":"IFERROR(N33/'GHG SoA'!P16,0)","v":0},null,{"$f":"IFERROR(P33/'GHG SoA'!P17,0)","v":2.7010469565217388E-5},null,{"$f":"IFERROR(R33/'GHG SoA'!P20,0)","v":3.4911129762562118E-4},null,8.8877241680937187E-4]
[null,"Intensity Ratio 4",null,"Production (tCO2e/000's m/kg)","Scope 1",{"$f":"IFERROR(F31/(SUM('GHG SoA'!O8)/1000),0)","v":0},null,{"$f":"IFERROR(H31/(SUM('GHG SoA'!O9)/1000),0)","v":0.12291329744492999},null,{"$f":"IFERROR(J31/(SUM('GHG SoA'!O10)/1000),0)","v":1.4606287715334117E-2},null,{"$f":"IFERROR(L31/(SUM('GHG SoA'!O15)/1000),0)","v":0.27021990378583333},null,{"$f":"IFERROR(N31/(SUM('GHG SoA'!O16)/1000),0)","v":0.51790823037281475},null,{"$f":"IFERROR(P31/(SUM('GHG SoA'!O17)/1000),0)","v":5.7438315835385279E-2},null,{"$f":"IFERROR(R31/(SUM('GHG SoA'!O20)/1000),0)","v":0},null,0.98308603515429749,{"$f":"SUM(T49:T51)","v":2.4630825524379705}]
[null,null,null,null,"Scope 2",{"$f":"IFERROR(F32/(SUM('GHG SoA'!O8)/1000),0)","v":0},null,{"$f":"IFERROR(H32/(SUM('GHG SoA'!O9)/1000),0)","v":0.10737446559525705},null,{"$f":"IFERROR(J32/(SUM('GHG SoA'!O10)/1000),0)","v":0.19233165524364296},null,{"$f":"IFERROR(L32/(SUM('GHG SoA'!O15)/1000),0)","v":0.59542460794419783},null,{"$f":"IFERROR(N32/(SUM('GHG SoA'!O16)/1000),0)","v":7.2295080480181476E-2},null,{"$f":"IFERROR(P32/(SUM('GHG SoA'!O17)/1000),0)","v":0.51184613253791333},null,{"$f":"IFERROR(R32/(SUM('GHG SoA'!O20)/1000),0)","v":0},null,1.4792719418011928]
[null,null,null,null,"Scope 3",{"$f":"IFERROR(F33/(SUM('GHG SoA'!O8)/1000),0)","v":0},null,{"$f":"IFERROR(H33/(SUM('GHG SoA'!O9)/1000),0)","v":7.4031328373377992E-5},null,{"$f":"IFERROR(J33/(SUM('GHG SoA'!O10)/1000),0)","v":0},null,{"$f":"IFERROR(L33/(SUM('GHG SoA'!O15)/1000),0)","v":3.3018435866894754E-4},null,{"$f":"IFERROR(N33/(SUM('GHG SoA'!O16)/1000),0)","v":0},null,{"$f":"IFERROR(P33/(SUM('GHG SoA'!O17)/1000),0)","v":3.2035979543817099E-4},null,{"$f":"IFERROR(R33/(SUM('GHG SoA'!O20)/1000),0)","v":0},null,7.2457548248049651E-4]
[]
[]
[]
[null,"Total Emissions Graphs - tCO2e"]
[]
[]
[]
[]
[]
[]
[]
[]
[]
[]
[]
[]
[]
[]
[]
[]
[]
[]
[]
[]
[]
[]
[]
[]
[]
[]
[]
[]
[]
[]
[]
[]
[]
[]
[]
[]
[]
[]
[]
[]
[]
[]
[]
[]
[]
[null,"Statement of Applicability"]
[]
[null,"Camira Group Holdings Limited has determined the scope and boundaries of its greenhouse gas emission reporting by evaluating relevant stakeholder needs and expectations alongside its own operational, business, and commercial interests. It is Camira's intention to include all operating Group entities across all relevant GHG scopes in its 2023 report, and until such time, makes the following exclusions:"]
[]
[]
[null,"Key",3,"Relevant, included"]
[null,null,2,"May be relevant, excluded"]
[null,null,1,"Not relevant, excluded"]
[null,null,null,null,null,"UK",null,null,null,null,null,"EUR",null,null,null,"US",null,null,"APAC"]
[null,"Scope",null,null,null,"Mirfield","Meltham","Nottingham","Birkby","Holmfirth","London","Lithuania","Denmark","Germany","Turkey","G Rapids","Chicago","San Fran","Australia","Shanghai"]
[null,"Scope \n1",1.1000000000000001,"Stationary Combustion",null,1,3,3,3,3,2,3,2,2,2,3,2,2,2,2]
[null,null,1.2,"Mobile Sources",null,3,3,3,1,3,2,3,2,2,2,3,2,2,2,2]
[null,null,1.3,"Refrigeration Equipment",null,3,3,1,1,3,2,3,2,2,2,3,2,2,2,2]
[null,null,1.4,"Fire Suppression",null,3,3,1,1,1,2,1,2,2,2,1,2,2,2,2]
[null,null,1.5,"Purchased Gases",null,1,1,1,1,1,1,1,1,1,1,1,1,1,1,1]
[null,"Scope \n2",2.1,"Purchased Electricity",null,3,3,3,3,3,2,3,2,2,2,3,2,2,2,2]
[null,null,2.2000000000000002,"Purchased Steam",null,1,1,1,1,1,1,1,1,1,1,1,1,1,1,1]
[null,"Scope \n3",3.1,"Supplier Scope 1 & 2 -  Goods & Services",null,2,2,2,2,2,2,2,2,2,2,2,2,2,2,2]
[null,null,3.2,"Supplier Scope 1 & 2 -  Capital Spend",null,2,2,2,2,2,2,2,2,2,2,2,2,2,2,2]
[null,null,3.3,"Supplier Scope 1 & 2 - Energy Provider",null,2,2,2,2,2,2,2,2,2,2,2,2,2,2,2]
[null,null,3.4,"Supplier Scope 1 & 2 - Transportation Provider",null,2,2,2,2,2,2,2,2,2,2,2,2,2,2,2]
[null,null,3.5,"Supplier Scope 1 & 2 - Waste Provider",null,2,2,2,2,2,2,2,2,2,2,2,2,2,2,2]
[null,null,3.8,"Supplier Scope 1 & 2 - Leased Asset Provider",null,2,2,2,2,2,2,2,2,2,2,2,2,2,2,2]
[null,null,3.6,"Employee Business Travel",null,3,3,3,3,3,2,3,2,2,2,3,2,2,2,2]
[null,null,3.7,"Employee Commuting",null,2,2,2,2,2,2,2,2,2,2,2,2,2,2,2]
[null,null,3.9,"Customer Scope 1 & 2 - Transport",null,2,2,2,2,2,2,2,2,2,2,2,2,2,2,2]
[null,null,3.1,"Customer Scope 1 & 2 - Energy",null,2,2,2,2,2,2,2,2,2,2,2,2,2,2,2]
[null,null,3.11,"Customer Scope 1 & 2 - Product Use",null,1,1,1,1,1,1,1,1,1,1,1,1,1,1,1]
[null,null,3.12,"Customer Scope 1 & 2 - Product Waste",null,2,2,2,2,2,2,2,2,2,2,2,2,2,2,2]
[null,null,3.13,"Customer Scope 1 & 2 - Leased Asset",null,1,1,1,1,1,1,1,1,1,1,1,1,1,1,1]
[null,null,3.14,"Customer Scope 1 & 2 - Franchise",null,1,1,1,1,1,1,1,1,1,1,1,1,1,1,1]
[null,null,3.15,"Customer Scope 1 & 2 - Investment",null,1,1,1,1,1,1,1,1,1,1,1,1,1,1,1]
[]
[]
[null,"Exclusions"]
[]
[null,"Exclusions - site general",null,null,null,null,null,null,null,"Exclusions - scopes"]
[null,"Site",null,"Justification",null,null,null,null,null,"Scope",null,null,null,null,"Justification"]
[null,"London",null,"Showroom only - minimal emissions",null,null,null,null,null,"Purchased Gases",null,null,null,null,"No relevant gases purchased by any entity or location"]
[null,"Denmark",null,"Showroom only - minimal emissions",null,null,null,null,null,"Purchased Steam",null,null,null,null,"No steam purchased by any entity or location"]
[null,"Germany",null,"Office only - minimal emissions",null,null,null,null,null,"Supplier Scope 1 & 2 -  Goods & Services",null,null,null,null,"Process adaption required to enable reporting"]
[null,"Turkey",null,"Office only - minimal emissions",null,null,null,null,null,"Supplier Scope 1 & 2 -  Capital Spend",null,null,null,null,"Process adaption required to enable reporting"]
[null,"Chicago",null,"Showroom only - minimal emissions",null,null,null,null,null,"Supplier Scope 1 & 2 - Energy Provider",null,null,null,null,"Process adaption required to enable reporting"]
[null,"San Fran",null,"Office only - minimal emissions",null,null,null,null,null,"Supplier Scope 1 & 2 - Transportation Provider",null,null,null,null,"Process adaption required to enable reporting"]
[null,"Australia",null,"Office only - minimal emissions",null,null,null,null,null,"Supplier Scope 1 & 2 - Waste Provider",null,null,null,null,"Process adaption required to enable reporting"]
[null,"Shanghai",null,"Office only - minimal emissions",null,null,null,null,null,"Supplier Scope 1 & 2 - Leased Asset Provider",null,null,null,null,"Process adaption required to enable reporting"]
[null,null,null,null,null,null,null,null,null,"Employee Commuting",null,null,null,null,"Process adaption required to enable reporting"]
[null,"Exclusions - site specific",null,null,null,null,null,null,null,"Customer Scope 1 & 2 - Transport",null,null,null,null,"Process adaption required to enable reporting"]
[null,"Site",null,"Scope","Justification",null,null,null,null,"Customer Scope 1 & 2 - Energy",null,null,null,null,"Process adaption required to enable reporting"]
[null,"Mirfield - Stationary",null,null,"No stationary combustion at location",null,null,null,null,"Customer Scope 1 & 2 - Product Use",null,null,null,null,"Products sold do not inherently emit GHGs"]
[null,"Nottingham - Refrigeration",null,null,"No refrigeration at location",null,null,null,null,"Customer Scope 1 & 2 - Leased Asset",null,null,null,null,"No onward leasing at any entity or location"]
[null,"Nottingham - Fire Suppression",null,null,"No fire suppression at location",null,null,null,null,"Customer Scope 1 & 2 - Franchise",null,null,null,null,"No franchises at any entity or location"]
[null,"Birkby - Mobile",null,null,"No leased or owned vehicles at location"]
[null,"Birkby - Refrigeration",null,null,"No refrigeration at location"]
[null,"Birkby - Fire Suppression",null,null,"No fire suppression at location"]
[null,"Lithuania - Fire Suppression",null,null,"No fire suppression at location"]
[null,"Grand Rapids - Fire Suppression",null,null,"No fire suppression at location"]
[]
[]
[]
[null,"Streamlined Energy & Carbon Reporting (SECR - UK Only)"]
[]
[null,"Camira Fabrics Limited is required to report under the Streamlined Energy Carbon Reporting (SECR) framework under the Companies (Directors' Report) and Limited Liability Partnerships (Energy and Carbon Report) Regulations 2018. The SECR reporting year is the same as the Company Financial year 1 January to 31 December 2021. This is the second period under which Camira Fabrics Limited is required to report under the SECR framework. In accordance with the guidance, Camira Fabrics Limited is required to report the UK energy usage and associated Greenhouse Gas (GHG) emissions that relate to: \n\n• Activities for which Camira Fabrics Limited is responsible involving the combustion of gas, the consumption of fuel for the purposes of transport, and fugitive emissions (scope 1); \n• The purchase of electricity by Camira Fabrics Limited for its own use (scope 2); and \n• Business travel in rental or employee-owned vehicles financed by Camira Fabrics Limited (scope 3). \n\nCamira Fabrics Limited is required to report at least one intensity ratio. For these purposes the ratio has been considered as total scope 1, 2 & 3 emissions per £1m of turnover."]
[]
[]
[]
[]
[]
[]
[]
[]
[]
[]
[null,"Energy & Carbon Data"]
[]
[null,null,null,null,null,"Camira Fabrics Limited"]
[null,null,null,"Scopes",null,"kWh",null,"tCO2e"]
[null,"Scope 1",null,"Stationary Combustion",null,{"$f":"SUM('1.1'!O6+'1.1'!O9+'1.1'!O12)","v":5664752.8697430398},null,{"$f":"SUM('1.1'!Z7+'1.1'!Z10+'1.1'!Z13)","v":1037.6127831508327}]
[null,null,null,"Mobile Sources",null,{"$f":"SUM('1.2'!O6:O7+'1.2'!O10+'1.2'!O13)","v":41436.588759999999},null,{"$f":"SUM('1.2'!Z8+'1.2'!Z11+'1.2'!Z14)","v":11.098059232999198}]
[null,null,null,"Refrigeration Equipment",null,{"$f":"SUM('1.3'!O6+'1.3'!O9)","v":0},null,{"$f":"SUM('1.3'!Z6+'1.3'!Z9)","v":0}]
[null,null,null,"Fire Suppression",null,{"$f":"SUM('1.4'!O6+'1.4'!O9)","v":0},null,{"$f":"SUM('1.4'!Z6+'1.4'!Z9)","v":0}]
[null,null,null,"Purchased Gases"]
[null,"Scope 2",null,"Purchased Electricity",null,{"$f":"SUM('2.1'!O6+'2.1'!O9+'2.1'!O12:O13)","v":8827547},null,{"$f":"SUM('2.1'!Z7+'2.1'!Z10+'2.1'!Z14)","v":960.45394666000016}]
[null,null,null,"Purchased Steam"]
[null,"Scope 3",null,"Supplier Scope 1 & 2 -  Goods & Services"]
[null,null,null,"Supplier Scope 1 & 2 -  Capital Spend"]
[null,null,null,"Supplier Scope 1 & 2 - Energy Provider"]
[null,null,null,"Supplier Scope 1 & 2 - Transportation Provider"]
[null,null,null,"Supplier Scope 1 & 2 - Waste Provider"]
[null,null,null,"Supplier Scope 1 & 2 - Leased Asset Provider"]
[null,null,null,"Employee Business Travel",null,{"$f":"SUM('3.6'!O6:O7+'3.6'!O10:O11+'3.6'!O14)","v":4584},null,{"$f":"SUM('3.6'!Z8+'3.6'!Z12+'3.6'!Z15)","v":1.2489417600000001}]
[null,null,null,"Employee Commuting"]
[null,null,null,"Customer Scope 1 & 2 - Transport"]
[null,null,null,"Customer Scope 1 & 2 - Energy"]
[null,null,null,"Customer Scope 1 & 2 - Product Use"]
[null,null,null,"Customer Scope 1 & 2 - Product Waste"]
[null,null,null,"Customer Scope 1 & 2 - Leased Asset"]
[null,null,null,"Customer Scope 1 & 2 - Franchise"]
[null,null,null,"Customer Scope 1 & 2 - Investment"]
[null,"Total Scope 1 tCO2e - Location",null,null,null,{"$f":"SUM(F178:G182)","v":5706189.4585030396},null,{"$f":"SUM(H178:I182)","v":1048.710842383832}]
[null,"Total Scope 2 tCO2e - Location",null,null,null,{"$f":"SUM(F183:G184)","v":8827547},null,{"$f":"SUM(H183:I184)","v":960.45394666000016}]
[null,"Total Scope 3 tCO2e - Location",null,null,null,{"$f":"SUM(F185:G199)","v":4584},null,{"$f":"SUM(H185:I199)","v":1.2489417600000001}]
[null,"Total tCO2e - Location",null,null,null,{"$f":"SUM(F178:G199)","v":14538320.45850304},null,{"$f":"SUM(H178:I199)","v":2010.4137308038321}]
[]
[null,"Intensity Ratio 2 - Turnover (tCO2e/£1m) ",null,null,null,2020,38.22,2021,{"$f":"SUM(H203/SUM('GHG SoA'!M8:M10/1000000))","v":34.997801873195321}]
[]
[]
[null,"The methodology used is calculated in accordance with the Greenhouse Gas (GHG) Protocol and Environmental Reporting Guidelines, including streamlined energy and carbon reporting guidance.\n\nThe emission Conversion Factors applied are based on those provided by the Department for Business, Energy & Industrial Strategy (BEIS) for 2021.\n\nThis second reporting period for Camira Fabrics Limited continued to coincide with the global COVID-19 pandemic. As a result the reporting period sets a baseline against data that doesn't represent business as usual. Despite the ongoing pandemic, an 8.42% reduction in tCO2e per £1m turnover was achieved. It is noted that this reduction is a result of gradual return to business as usual, and not due to the implementation of energy efficiency measures. \n\nThe Board of Camira Fabrics Limited recognises the urgency of the climate crisis and the importance of sustainable development. It has therefore established its five-year strategy with sustainability at its core. In support of its sustainable development ambition, Camira Fabrics Limited has committed to full scope GHG emission reporting, and to leading the way in zero-carbon operations through the setting of science-based emission reduction targets."]

{"sheet":"1.1","index":6,"n_rows":29,"n_cols":29,"rows_kept":29,"cut":false,"hidden":false,"merged":[[20,27,21,28],[22,28,24,28],[22,27,24,27],[6,28,7,28],[4,27,5,28],[9,28,10,28],[12,28,13,28],[15,28,16,28]]}
[]
[null,"Greenhouse Gas Emission Analysis - Stationary"]
[]
[null,"UK - DBEIS/DEFRA"]
[null,"Reporting \nyear","Entity","Location","Scope","Sub-scope","Source Pseudonym","Emission Source","Emission Pseudonym","Unit \nRequired","Data Raw","Unit Reported","Concatenate Units","Unit Conversion","Data Corrected","Unit Corrected","CO2","CH4","Spare1","N2O","Spare2","Spare3","Spare4","Spare5","Spare6","tCO2e Emission Equivalent",null,"Workbook links"]
[null,2021,"Camira Fabrics Limited","Mirfield",{"$f":"\"Scope_1\"","v":"Scope_1"},{"$f":"\"Stationary\"","v":"Stationary"},{"$f":"LOOKUP(Table146135136[[#This Row],[Sub-scope]],Table357841[Source],Table357841[Pseudonym])","v":"StationaryUK"},null,{"$f":"LOOKUP(Table146135136[[#This Row],[Emission Source]],Table125292[[Emission ]],Table125292[Pseudonym])","v":{"$error":"#N/A"}},{"$f":"LOOKUP(Table146135136[[#This Row],[Emission Source]],Table44300[Fuel Type],Table44300[Unit])","v":{"$error":"#N/A"}},null,null,{"$f":"CONCATENATE(Table146135136[[#This Row],[Unit Reported]],Table146135136[[#This Row],[Unit \nRequired]])","v":{"$error":"#N/A"}},{"$f":"LOOKUP(Table146135136[[#This Row],[Concatenate Units]],Table43[Concatenate],Table43[Multiply By])","v":{"$error":"#N/A"}},{"$f":"IFERROR(Table146135136[[#This Row],[Data Raw]]*Table146135136[[#This Row],[Unit Conversion]],0)","v":0},{"$f":"IFERROR(Table146135136[[#This Row],[Unit \nRequired]],\"\")","v":""},{"$f":"LOOKUP(Table146135136[[#This Row],[Emission Source]],Table44300[Fuel Type],Table44300[CO2 Factor \n(kg / Unit)])","v":{"$error":"#N/A"}},{"$f":"LOOKUP(Table146135136[[#This Row],[Emission Source]],Table44300[Fuel Type],Table44300[CH4 Factor \n(g / unit)])","v":{"$error":"#N/A"}},null,{"$f":"LOOKUP(Table146135136[[#This Row],[Emission Source]],Table44300[Fuel Type],Table44300[N2O Factor \n(g / unit)])","v":{"$error":"#N/A"}},null,null,null,null,null,{"$f":"IFERROR((Table146135136[[#This Row],[CO2]]+Table146135136[[#This Row],[CH4]]+Table146135136[[#This Row],[N2O]])*Table146135136[[#This Row],[Data Corrected]]/1000,0)","v":0}]
[null,null,null,null,null,null,null,null,null,null,null,null,null,null,null,null,null,null,null,null,null,null,null,null,null,{"$f":"SUM(Table146135136[tCO2e Emission Equivalent])","v":0},null,null,"GHG Reporting Process"]
[null,"Reporting \nyear","Entity","Location","Scope","Sub-scope","Source Pseudonym","Emission Source","Emission Pseudonym","Unit \nRequired","Data Raw","Unit Reported","Concatenate Units","Unit Conversion","Data Corrected","Unit Corrected","CO2","CH4","Spare1","N2O","Spare2","Spare3","Spare4","Spare5","Spare6","tCO2e Emission Equivalent"]
[null,2021,"Camira Fabrics Limited","Meltham",{"$f":"\"Scope_1\"","v":"Scope_1"},{"$f":"\"Stationary\"","v":"Stationary"},{"$f":"LOOKUP(Table146135136302[[#This Row],[Sub-scope]],Table357841[Source],Table357841[Pseudonym])","v":"StationaryUK"},"Natural Gas",{"$f":"LOOKUP(Table146135136302[[#This Row],[Emission Source]],Table125292[[Emission ]],Table125292[Pseudonym])","v":"StatUK"},{"$f":"LOOKUP(Table146135136302[[#This Row],[Emission Source]],Table44300[Fuel Type],Table44300[Unit])","v":"kWh"},5645845.8697430398,"kWh",{"$f":"CONCATENATE(Table146135136302[[#This Row],[Unit Reported]],Table146135136302[[#This Row],[Unit \nRequired]])","v":"kWhkWh"},{"$f":"LOOKUP(Table146135136302[[#This Row],[Concatenate Units]],Table43[Concatenate],Table43[Multiply By])","v":1},{"$f":"IFERROR(Table146135136302[[#This Row],[Data Raw]]*Table146135136302[[#This Row],[Unit Conversion]],0)","v":5645845.8697430398},{"$f":"IFERROR(Table146135136302[[#This Row],[Unit \nRequired]],\"\")","v":"kWh"},{"$f":"LOOKUP(Table146135136302[[#This Row],[Emission Source]],Table44300[Fuel Type],Table44300[CO2 Factor \n(kg / Unit)])","v":0.18282000000000001},{"$f":"LOOKUP(Table146135136302[[#This Row],[Emission Source]],Table44300[Fuel Type],Table44300[CH4 Factor \n(g / unit)])","v":2.5000000000000001E-4},null,{"$f":"LOOKUP(Table146135136302[[#This Row],[Emission Source]],Table44300[Fuel Type],Table44300[N2O Factor \n(g / unit)])","v":1E-4},null,null,null,null,null,{"$f":"IFERROR((Table146135136302[[#This Row],[CO2]]+Table146135136302[[#This Row],[CH4]]+Table146135136302[[#This Row],[N2O]])*Table146135136302[[#This Row],[Data Corrected]]/1000,0)","v":1034.1495879608326}]
[null,null,null,null,null,null,null,null,null,null,null,null,null,null,null,null,null,null,null,null,null,null,null,null,null,{"$f":"SUM(Table146135136302[tCO2e Emission Equivalent])","v":1034.1495879608326},null,null,"GHG \nQuestionnaire"]
[null,"Reporting \nyear","Entity","Location","Scope","Sub-scope","Source Pseudonym","Emission Source","Emission Pseudonym","Unit \nRequired","Data Raw","Unit Reported","Concatenate Units","Unit Conversion","Data Corrected","Unit Corrected","CO2","CH4","Spare1","N2O","Spare2","Spare3","Spare4","Spare5","Spare6","tCO2e Emission Equivalent"]
[null,2021,"Camira Fabrics Limited","Nottingham",{"$f":"\"Scope_1\"","v":"Scope_1"},{"$f":"\"Stationary\"","v":"Stationary"},{"$f":"LOOKUP(Table146135136302303[[#This Row],[Sub-scope]],Table357841[Source],Table357841[Pseudonym])","v":"StationaryUK"},"Natural Gas",{"$f":"LOOKUP(Table146135136302303[[#This Row],[Emission Source]],Table125292[[Emission ]],Table125292[Pseudonym])","v":"StatUK"},{"$f":"LOOKUP(Table146135136302303[[#This Row],[Emission Source]],Table44300[Fuel Type],Table44300[Unit])","v":"kWh"},18907,"kWh",{"$f":"CONCATENATE(Table146135136302303[[#This Row],[Unit Reported]],Table146135136302303[[#This Row],[Unit \nRequired]])","v":"kWhkWh"},{"$f":"LOOKUP(Table146135136302303[[#This Row],[Concatenate Units]],Table43[Concatenate],Table43[Multiply By])","v":1},{"$f":"IFERROR(Table146135136302303[[#This Row],[Data Raw]]*Table146135136302303[[#This Row],[Unit Conversion]],0)","v":18907},{"$f":"IFERROR(Table146135136302303[[#This Row],[Unit \nRequired]],\"\")","v":"kWh"},{"$f":"LOOKUP(Table146135136302303[[#This Row],[Emission Source]],Table44300[Fuel Type],Table44300[CO2 Factor \n(kg / Unit)])","v":0.18282000000000001},{"$f":"LOOKUP(Table146135136302303[[#This Row],[Emission Source]],Table44300[Fuel Type],Table44300[CH4 Factor \n(g / unit)])","v":2.5000000000000001E-4},null,{"$f":"LOOKUP(Table146135136302303[[#This Row],[Emission Source]],Table44300[Fuel Type],Table44300[N2O Factor \n(g / unit)])","v":1E-4},null,null,null,null,null,{"$f":"IFERROR((Table146135136302303[[#This Row],[CO2]]+Table146135136302303[[#This Row],[CH4]]+Table146135136302303[[#This Row],[N2O]])*Table146135136302303[[#This Row],[Data Corrected]]/1000,0)","v":3.46319519}]
[null,null,null,null,null,null,null,null,null,null,null,null,null,null,null,null,null,null,null,null,null,null,null,null,null,{"$f":"SUM(Table146135136302303[tCO2e Emission Equivalent])","v":3.46319519},null,null,"GHG Statement \nof Applicability"]
[null,"Reporting \nyear","Entity","Location","Scope","Sub-scope","Source Pseudonym","Emission Source","Emission Pseudonym","Unit \nRequired","Data Raw","Unit Reported","Concatenate Units","Unit Conversion","Data Corrected","Unit Corrected","CO2","CH4","Spare1","N2O","Spare2","Spare3","Spare4","Spare5","Spare6","tCO2e Emission Equivalent"]
[null,2021,"Camira Yarns Limited","Birkby",{"$f":"\"Scope_1\"","v":"Scope_1"},{"$f":"\"Stationary\"","v":"Stationary"},{"$f":"LOOKUP(Table146135136302303304[[#This Row],[Sub-scope]],Table357841[Source],Table357841[Pseudonym])","v":"StationaryUK"},"Natural Gas",{"$f":"LOOKUP(Table146135136302303304[[#This Row],[Emission Source]],Table125292[[Emission ]],Table125292[Pseudonym])","v":"StatUK"},{"$f":"LOOKUP(Table146135136302303304[[#This Row],[Emission Source]],Table44300[Fuel Type],Table44300[Unit])","v":"kWh"},1067629,"kWh",{"$f":"CONCATENATE(Table146135136302303304[[#This Row],[Unit Reported]],Table146135136302303304[[#This Row],[Unit \nRequired]])","v":"kWhkWh"},{"$f":"LOOKUP(Table146135136302303304[[#This Row],[Concatenate Units]],Table43[Concatenate],Table43[Multiply By])","v":1},{"$f":"IFERROR(Table146135136302303304[[#This Row],[Data Raw]]*Table146135136302303304[[#This Row],[Unit Conversion]],0)","v":1067629},{"$f":"IFERROR(Table146135136302303304[[#This Row],[Unit \nRequired]],\"\")","v":"kWh"},{"$f":"LOOKUP(Table146135136302303304[[#This Row],[Emission Source]],Table44300[Fuel Type],Table44300[CO2 Factor \n(kg / Unit)])","v":0.18282000000000001},{"$f":"LOOKUP(Table146135136302303304[[#This Row],[Emission Source]],Table44300[Fuel Type],Table44300[CH4 Factor \n(g / unit)])","v":2.5000000000000001E-4},null,{"$f":"LOOKUP(Table146135136302303304[[#This Row],[Emission Source]],Table44300[Fuel Type],Table44300[N2O Factor \n(g / unit)])","v":1E-4},null,null,null,null,null,{"$f":"IFERROR((Table146135136302303304[[#This Row],[CO2]]+Table146135136302303304[[#This Row],[CH4]]+Table146135136302303304[[#This Row],[N2O]])*Table146135136302303304[[#This Row],[Data Corrected]]/1000,0)","v":195.55760393}]
[null,null,null,null,null,null,null,null,null,null,null,null,null,null,null,null,null,null,null,null,null,null,null,null,null,{"$f":"SUM(Table146135136302303304[tCO2e Emission Equivalent])","v":195.55760393},null,null,"GHG Summary \nReport"]
[null,"Reporting \nyear","Entity","Location","Scope","Sub-scope","Source Pseudonym","Emission Source","Emission Pseudonym","Unit \nRequired","Data Raw","Unit Reported","Concatenate Units","Unit Conversion","Data Corrected","Unit Corrected","CO2","CH4","Spare1","N2O","Spare2","Spare3","Spare4","Spare5","Spare6","tCO2e Emission Equivalent"]
[null,2021,"Holmfirth Dyers Limited","Holmfirth",{"$f":"\"Scope_1\"","v":"Scope_1"},{"$f":"\"Stationary\"","v":"Stationary"},{"$f":"LOOKUP(Table146135136302303304305[[#This Row],[Sub-scope]],Table357841[Source],Table357841[Pseudonym])","v":"StationaryUK"},"Natural Gas",{"$f":"LOOKUP(Table146135136302303304305[[#This Row],[Emission Source]],Table125292[[Emission ]],Table125292[Pseudonym])","v":"StatUK"},{"$f":"LOOKUP(Table146135136302303304305[[#This Row],[Emission Source]],Table44300[Fuel Type],Table44300[Unit])","v":"kWh"},15191441,"kWh",{"$f":"CONCATENATE(Table146135136302303304305[[#This Row],[Unit Reported]],Table146135136302303304305[[#This Row],[Unit \nRequired]])","v":"kWhkWh"},{"$f":"LOOKUP(Table146135136302303304305[[#This Row],[Concatenate Units]],Table43[Concatenate],Table43[Multiply By])","v":1},{"$f":"IFERROR(Table146135136302303304305[[#This Row],[Data Raw]]*Table146135136302303304305[[#This Row],[Unit Conversion]],0)","v":15191441},{"$f":"IFERROR(Table146135136302303304305[[#This Row],[Unit \nRequired]],\"\")","v":"kWh"},{"$f":"LOOKUP(Table146135136302303304305[[#This Row],[Emission Source]],Table44300[Fuel Type],Table44300[CO2 Factor \n(kg / Unit)])","v":0.18282000000000001},{"$f":"LOOKUP(Table146135136302303304305[[#This Row],[Emission Source]],Table44300[Fuel Type],Table44300[CH4 Factor \n(g / unit)])","v":2.5000000000000001E-4},null,{"$f":"LOOKUP(Table146135136302303304305[[#This Row],[Emission Source]],Table44300[Fuel Type],Table44300[N2O Factor \n(g / unit)])","v":1E-4},null,null,null,null,null,{"$f":"IFERROR((Table146135136302303304305[[#This Row],[CO2]]+Table146135136302303304305[[#This Row],[CH4]]+Table146135136302303304305[[#This Row],[N2O]])*Table146135136302303304305[[#This Row],[Data Corrected]]/1000,0)","v":2782.6162479700001}]
[null,null,null,null,null,null,null,null,null,null,null,null,null,null,null,null,null,null,null,null,null,null,null,null,null,{"$f":"SUM(Table146135136302303304305[tCO2e Emission Equivalent])","v":2782.6162479700001}]
[null,"EUR"]
[null,"Reporting \nyear","Entity","Location","Scope","Sub-scope","Source Pseudonym","Emission Source","Emission Pseudonym","Unit \nRequired","Data Raw","Unit Reported","Concatenate Units","Unit Conversion","Data Corrected","Unit Corrected","CO2","CH4","Spare1","N2O","Spare2","Spare3","Spare4","Spare5","Spare6","tCO2e Emission Equivalent",null,"Scope Emissions"]
[null,2021,"UAB Camira Fabrics","Lithuania",{"$f":"\"Scope_1\"","v":"Scope_1"},{"$f":"\"Stationary\"","v":"Stationary"},{"$f":"LOOKUP(Table146135136302303304305306[[#This Row],[Sub-scope]],Table357841[Source],Table357841[Pseudonym])","v":"StationaryUK"},"Natural Gas",{"$f":"LOOKUP(Table146135136302303304305306[[#This Row],[Emission Source]],Table125292[[Emission ]],Table125292[Pseudonym])","v":"StatUK"},{"$f":"LOOKUP(Table146135136302303304305306[[#This Row],[Emission Source]],Table44300[Fuel Type],Table44300[Unit])","v":"kWh"},210236,"kWh",{"$f":"CONCATENATE(Table146135136302303304305306[[#This Row],[Unit Reported]],Table146135136302303304305306[[#This Row],[Unit \nRequired]])","v":"kWhkWh"},{"$f":"LOOKUP(Table146135136302303304305306[[#This Row],[Concatenate Units]],Table43[Concatenate],Table43[Multiply By])","v":1},{"$f":"IFERROR(Table146135136302303304305306[[#This Row],[Data Raw]]*Table146135136302303304305306[[#This Row],[Unit Conversion]],0)","v":210236},{"$f":"IFERROR(Table146135136302303304305306[[#This Row],[Unit \nRequired]],\"\")","v":"kWh"},{"$f":"LOOKUP(Table146135136302303304305306[[#This Row],[Emission Source]],Table44300[Fuel Type],Table44300[CO2 Factor \n(kg / Unit)])","v":0.18282000000000001},{"$f":"LOOKUP(Table146135136302303304305306[[#This Row],[Emission Source]],Table44300[Fuel Type],Table44300[CH4 Factor \n(g / unit)])","v":2.5000000000000001E-4},null,{"$f":"LOOKUP(Table146135136302303304305306[[#This Row],[Emission Source]],Table44300[Fuel Type],Table44300[N2O Factor \n(g / unit)])","v":1E-4},null,null,null,null,null,{"$f":"IFERROR((Table146135136302303304305306[[#This Row],[CO2]]+Table146135136302303304305306[[#This Row],[CH4]]+Table146135136302303304305306[[#This Row],[N2O]])*Table146135136302303304305306[[#This Row],[Data Corrected]]/1000,0)","v":38.50892812}]
[null,2021,"UAB Camira Fabrics","Lithuania",{"$f":"\"Scope_1\"","v":"Scope_1"},{"$f":"\"Stationary\"","v":"Stationary"},{"$f":"LOOKUP(Table146135136302303304305306[[#This Row],[Sub-scope]],Table357841[Source],Table357841[Pseudonym])","v":"StationaryUK"},"LPG",{"$f":"LOOKUP(Table146135136302303304305306[[#This Row],[Emission Source]],Table125292[[Emission ]],Table125292[Pseudonym])","v":"StatUK"},{"$f":"LOOKUP(Table146135136302303304305306[[#This Row],[Emission Source]],Table44300[Fuel Type],Table44300[Unit])","v":"kWh"},1.5720000000000001,"m3",{"$f":"CONCATENATE(Table146135136302303304305306[[#This Row],[Unit Reported]],Table146135136302303304305306[[#This Row],[Unit \nRequired]])","v":"m3kWh"},{"$f":"LOOKUP(Table146135136302303304305306[[#This Row],[Concatenate Units]],Table43[Concatenate],Table43[Multiply By])","v":1.194E-3},{"$f":"IFERROR(Table146135136302303304305306[[#This Row],[Data Raw]]*Table146135136302303304305306[[#This Row],[Unit Conversion]],0)","v":1.8769680000000001E-3},{"$f":"IFERROR(Table146135136302303304305306[[#This Row],[Unit \nRequired]],\"\")","v":"kWh"},{"$f":"LOOKUP(Table146135136302303304305306[[#This Row],[Emission Source]],Table44300[Fuel Type],Table44300[CO2 Factor \n(kg / Unit)])","v":0.21418999999999999},{"$f":"LOOKUP(Table146135136302303304305306[[#This Row],[Emission Source]],Table44300[Fuel Type],Table44300[CH4 Factor \n(g / unit)])","v":1.7000000000000001E-4},null,{"$f":"LOOKUP(Table146135136302303304305306[[#This Row],[Emission Source]],Table44300[Fuel Type],Table44300[N2O Factor \n(g / unit)])","v":1.2999999999999999E-4},null,null,null,null,null,{"$f":"IFERROR((Table146135136302303304305306[[#This Row],[CO2]]+Table146135136302303304305306[[#This Row],[CH4]]+Table146135136302303304305306[[#This Row],[N2O]])*Table146135136302303304305306[[#This Row],[Data Corrected]]/1000,0)","v":4.0259086631999997E-7},null,"tCO2e",{"$f":"Z7+Z10+Z13+Z16+Z19+Z24+Z28","v":4057.2492223834238}]
[null,null,null,null,null,null,null,null,null,null,null,null,null,null,null,null,null,null,null,null,null,null,null,null,null,{"$f":"SUM(Table146135136302303304305306[tCO2e Emission Equivalent])","v":38.508928522590864}]
[null,"US - EPA"]
[null,"Reporting \nyear","Entity","Location","Scope","Sub-scope","Source Pseudonym","Emission Source","Emission Pseudonym","Unit \nRequired","Data Raw","Unit Reported","Concatenate Units","Unit Conversion","Data Corrected","Unit Corrected","CO2","CH4","CH4 Corrected","N2O","N2O Corrected","GWP","Recycled","Landfill","Combusted","tCO2e Emission Equivalent"]
[null,2021,"Camira Group, Inc","Grand Rapids",{"$f":"\"Scope_1\"","v":"Scope_1"},{"$f":"\"Stationary\"","v":"Stationary"},{"$f":"LOOKUP(Table146135[[#This Row],[Sub-scope]],Table3578[Source],Table3578[Pseudonym])","v":"StationaryUS"},"Natural Gas",{"$f":"LOOKUP(Table146135[[#This Row],[Emission Source]],Table125[[Emission ]],Table125[Pseudonym])","v":"NaturalGasUS"},{"$f":"LOOKUP(Table146135[[#This Row],[Emission Source]],Table44[Fuel Type],Table44[Unit])","v":"scf"},542,"ccf",{"$f":"CONCATENATE(Table146135[[#This Row],[Unit Reported]],Table146135[[#This Row],[Unit \nRequired]])","v":"ccfscf"},{"$f":"LOOKUP(Table146135[[#This Row],[Concatenate Units]],Table43[Concatenate],Table43[Multiply By])","v":100},{"$f":"IFERROR(Table146135[[#This Row],[Data Raw]]*Table146135[[#This Row],[Unit Conversion]],0)","v":54200},{"$f":"IFERROR(Table146135[[#This Row],[Unit \nRequired]],\"\")","v":"scf"},{"$f":"LOOKUP(Table146135[[#This Row],[Emission Source]],Table44[Fuel Type],Table44[CO2 Factor \n(kg / Unit)])","v":5.4440000000000002E-2},{"$f":"LOOKUP(Table146135[[#This Row],[Emission Source]],Table44[Fuel Type],Table44[CH4 Factor \n(g / unit)])","v":1.0300000000000001E-3},{"$f":"(Table146135[[#This Row],[CH4]]/1000)*25","v":2.5750000000000002E-5},{"$f":"LOOKUP(Table146135[[#This Row],[Emission Source]],Table44[Fuel Type],Table44[N2O Factor \n(g / unit)])","v":1E-4},{"$f":"(Table146135[[#This Row],[N2O]]/1000)*298","v":2.9800000000000003E-5},null,null,null,null,{"$f":"IFERROR(((Table146135[[#This Row],[CO2]]+Table146135[[#This Row],[CH4 Corrected]]+Table146135[[#This Row],[N2O Corrected]])*Table146135[[#This Row],[Data Corrected]])/1000,0)","v":2.9536588100000003}]
[null,null,null,null,null,null,null,null,null,null,null,null,null,null,null,null,null,null,null,null,null,null,null,null,null,{"$f":"SUM(Table146135[tCO2e Emission Equivalent])","v":2.9536588100000003}]
[null," "]

{"sheet":"1.2","index":7,"n_rows":33,"n_cols":29,"rows_kept":33,"cut":false,"hidden":false,"merged":[[22,27,24,27],[22,28,24,28],[4,27,5,28],[9,28,10,28],[12,28,13,28],[15,28,16,28],[20,27,21,28],[6,28,7,28]]}
[]
[null,"Greenhouse Gas Emission Analysis - Mobile"]
[]
[null,"UK - DBEIS/DEFRA"]
[null,"Reporting \nyear","Entity","Location","Scope","Sub-scope","Source Pseudonym","Emission Source","Emission Pseudonym","Unit \nRequired","Data Raw","Unit Reported","Concatenate Units","Unit Conversion (SECR)","Data Corrected","Unit Corrected","CO2","CH4","Spare1","N2O","Spare2","Spare3","Spare4","Spare5","Spare6","tCO2e Emission Equivalent",null,"Workbook links"]
[null,2021,"Camira Fabrics Limited","Mirfield",{"$f":"\"Scope_1\"","v":"Scope_1"},"Mobile Road Vehicle",{"$f":"LOOKUP(Table146135136143[[#This Row],[Sub-scope]],Table357841[Source],Table357841[Pseudonym])","v":"MobileRVUK"},"Diesel Car - Average",{"$f":"LOOKUP(Table146135136143[[#This Row],[Emission Source]],Table125292[[Emission ]],Table125292[Pseudonym])","v":"MobRVUK"},{"$f":"LOOKUP(Table146135136143[[#This Row],[Emission Source]],Table44300[Fuel Type],Table44300[Unit])","v":"kWh"},33156,"mile",{"$f":"CONCATENATE(Table146135136143[[#This Row],[Unit Reported]],Table146135136143[[#This Row],[Unit \nRequired]])","v":"milekWh"},{"$f":"LOOKUP(Table146135136143[[#This Row],[Emission Source]],Table44300[Fuel Type],Table44300[SECR])","v":1.0811500000000001},{"$f":"IFERROR(Table146135136143[[#This Row],[Data Raw]]*Table146135136143[[#This Row],[Unit Conversion (SECR)]],0)","v":35846.609400000001},{"$f":"IFERROR(Table146135136143[[#This Row],[Unit \nRequired]],\"\")","v":"kWh"},{"$f":"LOOKUP(Table146135136143[[#This Row],[Emission Source]],Table44300[Fuel Type],Table44300[CO2 Factor \n(kg / Unit)])","v":0.26804},{"$f":"LOOKUP(Table146135136143[[#This Row],[Emission Source]],Table44300[Fuel Type],Table44300[CH4 Factor \n(g / unit)])","v":1.0000000000000001E-5},null,{"$f":"LOOKUP(Table146135136143[[#This Row],[Emission Source]],Table44300[Fuel Type],Table44300[N2O Factor \n(g / unit)])","v":3.0300000000000001E-3},null,{"$f":"(LOOKUP(Table146135136143[[#This Row],[Emission Source]],Table44[Fuel Type],Table44[GWP]))","v":0},{"$f":"Table146135136143[[#This Row],[Data Corrected]]*(LOOKUP(Table146135136143[[#This Row],[Emission Source]],Table44[Fuel Type],Table44[Recycled CO2 Factor]))","v":0},{"$f":"Table146135136143[[#This Row],[Data Corrected]]*(LOOKUP(Table146135136143[[#This Row],[Emission Source]],Table44[Fuel Type],Table44[Landfill CO2 Factor]))","v":0},{"$f":"Table146135136143[[#This Row],[Data Corrected]]*(LOOKUP(Table146135136143[[#This Row],[Emission Source]],Table44[Fuel Type],Table44[Combusted CO2 Factor]))","v":0},{"$f":"IFERROR(((Table146135136143[[#This Row],[CO2]]+Table146135136143[[#This Row],[Spare1]]+Table146135136143[[#This Row],[Spare2]]+Table146135136143[[#This Row],[Spare3]]+Table146135136143[[#This Row],[Spare4]]+Table146135136143[[#This Row],[Spare5]]+Table146135136143[[#This Row],[Spare6]])*Table146135136143[[#This Row],[Data Corrected]])/1000,0)","v":9.6083251835759995}]
[null,2021,"Camira Fabrics Limited","Mirfield",{"$f":"\"Scope_1\"","v":"Scope_1"},"Mobile Road Vehicle",{"$f":"LOOKUP(Table146135136143[[#This Row],[Sub-scope]],Table357841[Source],Table357841[Pseudonym])","v":"MobileRVUK"},"Petrol Car - Average",{"$f":"LOOKUP(Table146135136143[[#This Row],[Emission Source]],Table125292[[Emission ]],Table125292[Pseudonym])","v":"MobRVUK"},{"$f":"LOOKUP(Table146135136143[[#This Row],[Emission Source]],Table44300[Fuel Type],Table44300[Unit])","v":"kWh"},4370,"mile",{"$f":"CONCATENATE(Table146135136143[[#This Row],[Unit Reported]],Table146135136143[[#This Row],[Unit \nRequired]])","v":"milekWh"},{"$f":"LOOKUP(Table146135136143[[#This Row],[Emission Source]],Table44300[Fuel Type],Table44300[SECR])","v":1.1607099999999999},{"$f":"IFERROR(Table146135136143[[#This Row],[Data Raw]]*Table146135136143[[#This Row],[Unit Conversion (SECR)]],0)","v":5072.3026999999993},{"$f":"IFERROR(Table146135136143[[#This Row],[Unit \nRequired]],\"\")","v":"kWh"},{"$f":"LOOKUP(Table146135136143[[#This Row],[Emission Source]],Table44300[Fuel Type],Table44300[CO2 Factor \n(kg / Unit)])","v":0.27944000000000002},{"$f":"LOOKUP(Table146135136143[[#This Row],[Emission Source]],Table44300[Fuel Type],Table44300[CH4 Factor \n(g / unit)])","v":5.1000000000000004E-4},null,{"$f":"LOOKUP(Table146135136143[[#This Row],[Emission Source]],Table44300[Fuel Type],Table44300[N2O Factor \n(g / unit)])","v":5.8E-4},null,{"$f":"(LOOKUP(Table146135136143[[#This Row],[Emission Source]],Table44[Fuel Type],Table44[GWP]))","v":0},{"$f":"Table146135136143[[#This Row],[Data Corrected]]*(LOOKUP(Table146135136143[[#This Row],[Emission Source]],Table44[Fuel Type],Table44[Recycled CO2 Factor]))","v":0},{"$f":"Table146135136143[[#This Row],[Data Corrected]]*(LOOKUP(Table146135136143[[#This Row],[Emission Source]],Table44[Fuel Type],Table44[Landfill CO2 Factor]))","v":0},{"$f":"Table146135136143[[#This Row],[Data Corrected]]*(LOOKUP(Table146135136143[[#This Row],[Emission Source]],Table44[Fuel Type],Table44[Combusted CO2 Factor]))","v":0},{"$f":"IFERROR(((Table146135136143[[#This Row],[CO2]]+Table146135136143[[#This Row],[Spare1]]+Table146135136143[[#This Row],[Spare2]]+Table146135136143[[#This Row],[Spare3]]+Table146135136143[[#This Row],[Spare4]]+Table146135136143[[#This Row],[Spare5]]+Table146135136143[[#This Row],[Spare6]])*Table146135136143[[#This Row],[Data Corrected]])/1000,0)","v":1.4174042664879998},null,null,"GHG Reporting Process"]
[null,null,null,null,null,null,null,null,null,null,null,null,null,null,null,null,null,null,null,null,null,null,null,null,null,{"$f":"SUM(Table146135136143[tCO2e Emission Equivalent])","v":11.025729450063999}]
[null,"Reporting \nyear","Entity","Location","Scope","Sub-scope","Source Pseudonym","Emission Source","Emission Pseudonym","Unit \nRequired","Data Raw","Unit Reported","Concatenate Units","Unit Conversion (SECR)","Data Corrected","Unit Corrected","CO2","CH4","Spare1","N2O","Spare2","Spare3","Spare4","Spare5","Spare6","tCO2e Emission Equivalent"]
[null,2021,"Camira Fabrics Limited","Meltham",{"$f":"\"Scope_1\"","v":"Scope_1"},"Mobile Road Vehicle",{"$f":"LOOKUP(Table146135136143307[[#This Row],[Sub-scope]],Table357841[Source],Table357841[Pseudonym])","v":"MobileRVUK"},null,{"$f":"LOOKUP(Table146135136143307[[#This Row],[Emission Source]],Table125292[[Emission ]],Table125292[Pseudonym])","v":{"$error":"#N/A"}},{"$f":"LOOKUP(Table146135136143307[[#This Row],[Emission Source]],Table44300[Fuel Type],Table44300[Unit])","v":{"$error":"#N/A"}},null,null,{"$f":"CONCATENATE(Table146135136143307[[#This Row],[Unit Reported]],Table146135136143307[[#This Row],[Unit \nRequired]])","v":{"$error":"#N/A"}},{"$f":"LOOKUP(Table146135136143307[[#This Row],[Emission Source]],Table44300[Fuel Type],Table44300[SECR])","v":{"$error":"#N/A"}},{"$f":"IFERROR(Table146135136143307[[#This Row],[Data Raw]]*Table146135136143307[[#This Row],[Unit Conversion (SECR)]],0)","v":0},{"$f":"IFERROR(Table146135136143307[[#This Row],[Unit \nRequired]],\"\")","v":""},{"$f":"LOOKUP(Table146135136143307[[#This Row],[Emission Source]],Table44300[Fuel Type],Table44300[CO2 Factor \n(kg / Unit)])","v":{"$error":"#N/A"}},{"$f":"LOOKUP(Table146135136143307[[#This Row],[Emission Source]],Table44300[Fuel Type],Table44300[CH4 Factor \n(g / unit)])","v":{"$error":"#N/A"}},null,{"$f":"LOOKUP(Table146135136143307[[#This Row],[Emission Source]],Table44300[Fuel Type],Table44300[N2O Factor \n(g / unit)])","v":{"$error":"#N/A"}},null,{"$f":"(LOOKUP(Table146135136143307[[#This Row],[Emission Source]],Table44[Fuel Type],Table44[GWP]))","v":{"$error":"#N/A"}},{"$f":"Table146135136143307[[#This Row],[Data Corrected]]*(LOOKUP(Table146135136143307[[#This Row],[Emission Source]],Table44[Fuel Type],Table44[Recycled CO2 Factor]))","v":{"$error":"#N/A"}},{"$f":"Table146135136143307[[#This Row],[Data Corrected]]*(LOOKUP(Table146135136143307[[#This Row],[Emission Source]],Table44[Fuel Type],Table44[Landfill CO2 Factor]))","v":{"$error":"#N/A"}},{"$f":"Table146135136143307[[#This Row],[Data Corrected]]*(LOOKUP(Table146135136143307[[#This Row],[Emission Source]],Table44[Fuel Type],Table44[Combusted CO2 Factor]))","v":{"$error":"#N/A"}},{"$f":"IFERROR(((Table146135136143307[[#This Row],[CO2]]+Table146135136143307[[#This Row],[Spare1]]+Table146135136143307[[#This Row],[Spare2]]+Table146135136143307[[#This Row],[Spare3]]+Table146135136143307[[#This Row],[Spare4]]+Table146135136143307[[#This Row],[Spare5]]+Table146135136143307[[#This Row],[Spare6]])*Table146135136143307[[#This Row],[Data Corrected]])/1000,0)","v":0},null,null,"GHG \nQuestionnaire"]
[null,null,null,null,null,null,null,null,null,null,null,null,null,null,null,null,null,null,null,null,null,null,null,null,null,{"$f":"SUM(Table146135136143307[tCO2e Emission Equivalent])","v":0}]
[null,"Reporting \nyear","Entity","Location","Scope","Sub-scope","Source Pseudonym","Emission Source","Emission Pseudonym","Unit \nRequired","Data Raw","Unit Reported","Concatenate Units","Unit Conversion (SECR)","Data Corrected","Unit Corrected","CO2","CH4","Spare1","N2O","Spare2","Spare3","Spare4","Spare5","Spare6","tCO2e Emission Equivalent"]
[null,2021,"Camira Fabrics Limited","Nottingham",{"$f":"\"Scope_1\"","v":"Scope_1"},"Mobile Road Vehicle",{"$f":"LOOKUP(Table146135136143308[[#This Row],[Sub-scope]],Table357841[Source],Table357841[Pseudonym])","v":"MobileRVUK"},"Petrol Car - Average",{"$f":"LOOKUP(Table146135136143308[[#This Row],[Emission Source]],Table125292[[Emission ]],Table125292[Pseudonym])","v":"MobRVUK"},{"$f":"LOOKUP(Table146135136143308[[#This Row],[Emission Source]],Table44300[Fuel Type],Table44300[Unit])","v":"kWh"},223,"mile",{"$f":"CONCATENATE(Table146135136143308[[#This Row],[Unit Reported]],Table146135136143308[[#This Row],[Unit \nRequired]])","v":"milekWh"},{"$f":"LOOKUP(Table146135136143308[[#This Row],[Emission Source]],Table44300[Fuel Type],Table44300[SECR])","v":1.1607099999999999},{"$f":"IFERROR(Table146135136143308[[#This Row],[Data Raw]]*Table146135136143308[[#This Row],[Unit Conversion (SECR)]],0)","v":258.83832999999998},{"$f":"IFERROR(Table146135136143308[[#This Row],[Unit \nRequired]],\"\")","v":"kWh"},{"$f":"LOOKUP(Table146135136143308[[#This Row],[Emission Source]],Table44300[Fuel Type],Table44300[CO2 Factor \n(kg / Unit)])","v":0.27944000000000002},{"$f":"LOOKUP(Table146135136143308[[#This Row],[Emission Source]],Table44300[Fuel Type],Table44300[CH4 Factor \n(g / unit)])","v":5.1000000000000004E-4},null,{"$f":"LOOKUP(Table146135136143308[[#This Row],[Emission Source]],Table44300[Fuel Type],Table44300[N2O Factor \n(g / unit)])","v":5.8E-4},null,{"$f":"(LOOKUP(Table146135136143308[[#This Row],[Emission Source]],Table44[Fuel Type],Table44[GWP]))","v":0},{"$f":"Table146135136143308[[#This Row],[Data Corrected]]*(LOOKUP(Table146135136143308[[#This Row],[Emission Source]],Table44[Fuel Type],Table44[Recycled CO2 Factor]))","v":0},{"$f":"Table146135136143308[[#This Row],[Data Corrected]]*(LOOKUP(Table146135136143308[[#This Row],[Emission Source]],Table44[Fuel Type],Table44[Landfill CO2 Factor]))","v":0},{"$f":"Table146135136143308[[#This Row],[Data Corrected]]*(LOOKUP(Table146135136143308[[#This Row],[Emission Source]],Table44[Fuel Type],Table44[Combusted CO2 Factor]))","v":0},{"$f":"IFERROR(((Table146135136143308[[#This Row],[CO2]]+Table146135136143308[[#This Row],[Spare1]]+Table146135136143308[[#This Row],[Spare2]]+Table146135136143308[[#This Row],[Spare3]]+Table146135136143308[[#This Row],[Spare4]]+Table146135136143308[[#This Row],[Spare5]]+Table146135136143308[[#This Row],[Spare6]])*Table146135136143308[[#This Row],[Data Corrected]])/1000,0)","v":7.2329782935199996E-2},null,null,"GHG Statement \nof Applicability"]
[null,null,null,null,null,null,null,null,null,null,null,null,null,null,null,null,null,null,null,null,null,null,null,null,null,{"$f":"SUM(Table146135136143308[tCO2e Emission Equivalent])","v":7.2329782935199996E-2}]
[null,"Reporting \nyear","Entity","Location","Scope","Sub-scope","Source Pseudonym","Emission Source","Emission Pseudonym","Unit \nRequired","Data Raw","Unit Reported","Concatenate Units","Unit Conversion (SECR)","Data Corrected","Unit Corrected","CO2","CH4","Spare1","N2O","Spare2","Spare3","Spare4","Spare5","Spare6","tCO2e Emission Equivalent"]
[null,2021,"Camira Yarns Limited","Birkby",{"$f":"\"Scope_1\"","v":"Scope_1"},null,{"$f":"LOOKUP(Table146135136143309[[#This Row],[Sub-scope]],Table357841[Source],Table357841[Pseudonym])","v":{"$error":"#N/A"}},null,{"$f":"LOOKUP(Table146135136143309[[#This Row],[Emission Source]],Table125292[[Emission ]],Table125292[Pseudonym])","v":{"$error":"#N/A"}},{"$f":"LOOKUP(Table146135136143309[[#This Row],[Emission Source]],Table44300[Fuel Type],Table44300[Unit])","v":{"$error":"#N/A"}},null,null,{"$f":"CONCATENATE(Table146135136143309[[#This Row],[Unit Reported]],Table146135136143309[[#This Row],[Unit \nRequired]])","v":{"$error":"#N/A"}},{"$f":"LOOKUP(Table146135136143309[[#This Row],[Emission Source]],Table44300[Fuel Type],Table44300[SECR])","v":{"$error":"#N/A"}},{"$f":"IFERROR(Table146135136143309[[#This Row],[Data Raw]]*Table146135136143309[[#This Row],[Unit Conversion (SECR)]],0)","v":0},{"$f":"IFERROR(Table146135136143309[[#This Row],[Unit \nRequired]],\"\")","v":""},{"$f":"LOOKUP(Table146135136143309[[#This Row],[Emission Source]],Table44300[Fuel Type],Table44300[CO2 Factor \n(kg / Unit)])","v":{"$error":"#N/A"}},{"$f":"LOOKUP(Table146135136143309[[#This Row],[Emission Source]],Table44300[Fuel Type],Table44300[CH4 Factor \n(g / unit)])","v":{"$error":"#N/A"}},null,{"$f":"LOOKUP(Table146135136143309[[#This Row],[Emission Source]],Table44300[Fuel Type],Table44300[N2O Factor \n(g / unit)])","v":{"$error":"#N/A"}},null,{"$f":"(LOOKUP(Table146135136143309[[#This Row],[Emission Source]],Table44[Fuel Type],Table44[GWP]))","v":{"$error":"#N/A"}},{"$f":"Table146135136143309[[#This Row],[Data Corrected]]*(LOOKUP(Table146135136143309[[#This Row],[Emission Source]],Table44[Fuel Type],Table44[Recycled CO2 Factor]))","v":{"$error":"#N/A"}},{"$f":"Table146135136143309[[#This Row],[Data Corrected]]*(LOOKUP(Table146135136143309[[#This Row],[Emission Source]],Table44[Fuel Type],Table44[Landfill CO2 Factor]))","v":{"$error":"#N/A"}},{"$f":"Table146135136143309[[#This Row],[Data Corrected]]*(LOOKUP(Table146135136143309[[#This Row],[Emission Source]],Table44[Fuel Type],Table44[Combusted CO2 Factor]))","v":{"$error":"#N/A"}},{"$f":"IFERROR(((Table146135136143309[[#This Row],[CO2]]+Table146135136143309[[#This Row],[Spare1]]+Table146135136143309[[#This Row],[Spare2]]+Table146135136143309[[#This Row],[Spare3]]+Table146135136143309[[#This Row],[Spare4]]+Table146135136143309[[#This Row],[Spare5]]+Table146135136143309[[#This Row],[Spare6]])*Table146135136143309[[#This Row],[Data Corrected]])/1000,0)","v":0},null,null,"GHG Summary \nReport"]
[null,null,null,null,null,null,null,null,null,null,null,null,null,null,null,null,null,null,null,null,null,null,null,null,null,{"$f":"SUM(Table146135136143309[tCO2e Emission Equivalent])","v":0}]
[null,"Reporting \nyear","Entity","Location","Scope","Sub-scope","Source Pseudonym","Emission Source","Emission Pseudonym","Unit \nRequired","Data Raw","Unit Reported","Concatenate Units","Unit Conversion (SECR)","Data Corrected","Unit Corrected","CO2","CH4","Spare1","N2O","Spare2","Spare3","Spare4","Spare5","Spare6","tCO2e Emission Equivalent"]
[null,2021,"Holmfirth Dyers Limited","Holmfirth",{"$f":"\"Scope_1\"","v":"Scope_1"},"Mobile Road Vehicle",{"$f":"LOOKUP(Table146135136143310[[#This Row],[Sub-scope]],Table357841[Source],Table357841[Pseudonym])","v":"MobileRVUK"},"Diesel Van - Average",{"$f":"LOOKUP(Table146135136143310[[#This Row],[Emission Source]],Table125292[[Emission ]],Table125292[Pseudonym])","v":"MobRVUK"},{"$f":"LOOKUP(Table146135136143310[[#This Row],[Emission Source]],Table44300[Fuel Type],Table44300[Unit])","v":"kWh"},13000,"mile",{"$f":"CONCATENATE(Table146135136143310[[#This Row],[Unit Reported]],Table146135136143310[[#This Row],[Unit \nRequired]])","v":"milekWh"},{"$f":"LOOKUP(Table146135136143310[[#This Row],[Emission Source]],Table44300[Fuel Type],Table44300[SECR])","v":1.55339},{"$f":"IFERROR(Table146135136143310[[#This Row],[Data Raw]]*Table146135136143310[[#This Row],[Unit Conversion (SECR)]],0)","v":20194.07},{"$f":"IFERROR(Table146135136143310[[#This Row],[Unit \nRequired]],\"\")","v":"kWh"},{"$f":"LOOKUP(Table146135136143310[[#This Row],[Emission Source]],Table44300[Fuel Type],Table44300[CO2 Factor \n(kg / Unit)])","v":0.38511000000000001},{"$f":"LOOKUP(Table146135136143310[[#This Row],[Emission Source]],Table44300[Fuel Type],Table44300[CH4 Factor \n(g / unit)])","v":1.0000000000000001E-5},null,{"$f":"LOOKUP(Table146135136143310[[#This Row],[Emission Source]],Table44300[Fuel Type],Table44300[N2O Factor \n(g / unit)])","v":3.0000000000000001E-3},null,{"$f":"(LOOKUP(Table146135136143310[[#This Row],[Emission Source]],Table44[Fuel Type],Table44[GWP]))","v":0},{"$f":"Table146135136143310[[#This Row],[Data Corrected]]*(LOOKUP(Table146135136143310[[#This Row],[Emission Source]],Table44[Fuel Type],Table44[Recycled CO2 Factor]))","v":0},{"$f":"Table146135136143310[[#This Row],[Data Corrected]]*(LOOKUP(Table146135136143310[[#This Row],[Emission Source]],Table44[Fuel Type],Table44[Landfill CO2 Factor]))","v":0},{"$f":"Table146135136143310[[#This Row],[Data Corrected]]*(LOOKUP(Table146135136143310[[#This Row],[Emission Source]],Table44[Fuel Type],Table44[Combusted CO2 Factor]))","v":0},{"$f":"IFERROR(((Table146135136143310[[#This Row],[CO2]]+Table146135136143310[[#This Row],[Spare1]]+Table146135136143310[[#This Row],[Spare2]]+Table146135136143310[[#This Row],[Spare3]]+Table146135136143310[[#This Row],[Spare4]]+Table146135136143310[[#This Row],[Spare5]]+Table146135136143310[[#This Row],[Spare6]])*Table146135136143310[[#This Row],[Data Corrected]])/1000,0)","v":7.7769382977000001}]
[null,2021,"Holmfirth Dyers Limited","Holmfirth",{"$f":"\"Scope_1\"","v":"Scope_1"},"Mobile Road Vehicle",{"$f":"LOOKUP(Table146135136143310[[#This Row],[Sub-scope]],Table357841[Source],Table357841[Pseudonym])","v":"MobileRVUK"},"Diesel HGV - Rigid - Average Load",{"$f":"LOOKUP(Table146135136143310[[#This Row],[Emission Source]],Table125292[[Emission ]],Table125292[Pseudonym])","v":"MobRVUK"},{"$f":"LOOKUP(Table146135136143310[[#This Row],[Emission Source]],Table44300[Fuel Type],Table44300[Unit])","v":"kWh"},13100,"mile",{"$f":"CONCATENATE(Table146135136143310[[#This Row],[Unit Reported]],Table146135136143310[[#This Row],[Unit \nRequired]])","v":"milekWh"},{"$f":"LOOKUP(Table146135136143310[[#This Row],[Emission Source]],Table44300[Fuel Type],Table44300[SECR])","v":5.1318099999999998},{"$f":"IFERROR(Table146135136143310[[#This Row],[Data Raw]]*Table146135136143310[[#This Row],[Unit Conversion (SECR)]],0)","v":67226.710999999996},{"$f":"IFERROR(Table146135136143310[[#This Row],[Unit \nRequired]],\"\")","v":"kWh"},{"$f":"LOOKUP(Table146135136143310[[#This Row],[Emission Source]],Table44300[Fuel Type],Table44300[CO2 Factor \n(kg / Unit)])","v":1.2760400000000001},{"$f":"LOOKUP(Table146135136143310[[#This Row],[Emission Source]],Table44300[Fuel Type],Table44300[CH4 Factor \n(g / unit)])","v":2.7E-4},null,{"$f":"LOOKUP(Table146135136143310[[#This Row],[Emission Source]],Table44300[Fuel Type],Table44300[N2O Factor \n(g / unit)])","v":1.6070000000000001E-2},null,{"$f":"(LOOKUP(Table146135136143310[[#This Row],[Emission Source]],Table44[Fuel Type],Table44[GWP]))","v":0},{"$f":"Table146135136143310[[#This Row],[Data Corrected]]*(LOOKUP(Table146135136143310[[#This Row],[Emission Source]],Table44[Fuel Type],Table44[Recycled CO2 Factor]))","v":0},{"$f":"Table146135136143310[[#This Row],[Data Corrected]]*(LOOKUP(Table146135136143310[[#This Row],[Emission Source]],Table44[Fuel Type],Table44[Landfill CO2 Factor]))","v":0},{"$f":"Table146135136143310[[#This Row],[Data Corrected]]*(LOOKUP(Table146135136143310[[#This Row],[Emission Source]],Table44[Fuel Type],Table44[Combusted CO2 Factor]))","v":0},{"$f":"IFERROR(((Table146135136143310[[#This Row],[CO2]]+Table146135136143310[[#This Row],[Spare1]]+Table146135136143310[[#This Row],[Spare2]]+Table146135136143310[[#This Row],[Spare3]]+Table146135136143310[[#This Row],[Spare4]]+Table146135136143310[[#This Row],[Spare5]]+Table146135136143310[[#This Row],[Spare6]])*Table146135136143310[[#This Row],[Data Corrected]])/1000,0)","v":85.783972304439999}]
[null,null,null,null,null,null,null,null,null,null,null,null,null,null,null,null,null,null,null,null,null,null,null,null,null,{"$f":"SUM(Table146135136143310[tCO2e Emission Equivalent])","v":93.560910602139998},null,"Scope Emissions"]
[null,"EUR"]
[null,"Reporting \nyear","Entity","Location","Scope","Sub-scope","Source Pseudonym","Emission Source","Emission Pseudonym","Unit \nRequired","Data Raw","Unit Reported","Concatenate Units","Unit Conversion (SECR)","Data Corrected","Unit Corrected","CO2","CH4","Spare1","N2O","Spare2","Spare3","Spare4","Spare5","Spare6","tCO2e Emission Equivalent",null,"tCO2e",{"$f":"Z8+Z11+Z14+Z17+Z21+Z26+Z33","v":115.70452697254474}]
[null,2021,"UAB Camira Fabrics","Lithuania",{"$f":"\"Scope_1\"","v":"Scope_1"},"Mobile Road Vehicle",{"$f":"LOOKUP(Table146135136143311[[#This Row],[Sub-scope]],Table357841[Source],Table357841[Pseudonym])","v":"MobileRVUK"},"Diesel Car - Average",{"$f":"LOOKUP(Table146135136143311[[#This Row],[Emission Source]],Table125292[[Emission ]],Table125292[Pseudonym])","v":"MobRVUK"},{"$f":"LOOKUP(Table146135136143311[[#This Row],[Emission Source]],Table44300[Fuel Type],Table44300[Unit])","v":"kWh"},1641,"mile",{"$f":"CONCATENATE(Table146135136143311[[#This Row],[Unit Reported]],Table146135136143311[[#This Row],[Unit \nRequired]])","v":"milekWh"},{"$f":"LOOKUP(Table146135136143311[[#This Row],[Emission Source]],Table44300[Fuel Type],Table44300[SECR])","v":1.0811500000000001},{"$f":"IFERROR(Table146135136143311[[#This Row],[Data Raw]]*Table146135136143311[[#This Row],[Unit Conversion (SECR)]],0)","v":1774.16715},{"$f":"IFERROR(Table146135136143311[[#This Row],[Unit \nRequired]],\"\")","v":"kWh"},{"$f":"LOOKUP(Table146135136143311[[#This Row],[Emission Source]],Table44300[Fuel Type],Table44300[CO2 Factor \n(kg / Unit)])","v":0.26804},{"$f":"LOOKUP(Table146135136143311[[#This Row],[Emission Source]],Table44300[Fuel Type],Table44300[CH4 Factor \n(g / unit)])","v":1.0000000000000001E-5},null,{"$f":"LOOKUP(Table146135136143311[[#This Row],[Emission Source]],Table44300[Fuel Type],Table44300[N2O Factor \n(g / unit)])","v":3.0300000000000001E-3},null,{"$f":"(LOOKUP(Table146135136143311[[#This Row],[Emission Source]],Table44[Fuel Type],Table44[GWP]))","v":0},{"$f":"Table146135136143311[[#This Row],[Data Corrected]]*(LOOKUP(Table146135136143311[[#This Row],[Emission Source]],Table44[Fuel Type],Table44[Recycled CO2 Factor]))","v":0},{"$f":"Table146135136143311[[#This Row],[Data Corrected]]*(LOOKUP(Table146135136143311[[#This Row],[Emission Source]],Table44[Fuel Type],Table44[Landfill CO2 Factor]))","v":0},{"$f":"Table146135136143311[[#This Row],[Data Corrected]]*(LOOKUP(Table146135136143311[[#This Row],[Emission Source]],Table44[Fuel Type],Table44[Combusted CO2 Factor]))","v":0},{"$f":"IFERROR(((Table146135136143311[[#This Row],[CO2]]+Table146135136143311[[#This Row],[Spare1]]+Table146135136143311[[#This Row],[Spare2]]+Table146135136143311[[#This Row],[Spare3]]+Table146135136143311[[#This Row],[Spare4]]+Table146135136143311[[#This Row],[Spare5]]+Table146135136143311[[#This Row],[Spare6]])*Table146135136143311[[#This Row],[Data Corrected]])/1000,0)","v":0.47554776288599998}]
[null,2021,"UAB Camira Fabrics","Lithuania",{"$f":"\"Scope_1\"","v":"Scope_1"},"Mobile Road Vehicle",{"$f":"LOOKUP(Table146135136143311[[#This Row],[Sub-scope]],Table357841[Source],Table357841[Pseudonym])","v":"MobileRVUK"},"Petrol Car - Average",{"$f":"LOOKUP(Table146135136143311[[#This Row],[Emission Source]],Table125292[[Emission ]],Table125292[Pseudonym])","v":"MobRVUK"},{"$f":"LOOKUP(Table146135136143311[[#This Row],[Emission Source]],Table44300[Fuel Type],Table44300[Unit])","v":"kWh"},796,"mile",{"$f":"CONCATENATE(Table146135136143311[[#This Row],[Unit Reported]],Table146135136143311[[#This Row],[Unit \nRequired]])","v":"milekWh"},{"$f":"LOOKUP(Table146135136143311[[#This Row],[Emission Source]],Table44300[Fuel Type],Table44300[SECR])","v":1.1607099999999999},{"$f":"IFERROR(Table146135136143311[[#This Row],[Data Raw]]*Table146135136143311[[#This Row],[Unit Conversion (SECR)]],0)","v":923.92515999999989},{"$f":"IFERROR(Table146135136143311[[#This Row],[Unit \nRequired]],\"\")","v":"kWh"},{"$f":"LOOKUP(Table146135136143311[[#This Row],[Emission Source]],Table44300[Fuel Type],Table44300[CO2 Factor \n(kg / Unit)])","v":0.27944000000000002},{"$f":"LOOKUP(Table146135136143311[[#This Row],[Emission Source]],Table44300[Fuel Type],Table44300[CH4 Factor \n(g / unit)])","v":5.1000000000000004E-4},null,{"$f":"LOOKUP(Table146135136143311[[#This Row],[Emission Source]],Table44300[Fuel Type],Table44300[N2O Factor \n(g / unit)])","v":5.8E-4},null,{"$f":"(LOOKUP(Table146135136143311[[#This Row],[Emission Source]],Table44[Fuel Type],Table44[GWP]))","v":0},{"$f":"Table146135136143311[[#This Row],[Data Corrected]]*(LOOKUP(Table146135136143311[[#This Row],[Emission Source]],Table44[Fuel Type],Table44[Recycled CO2 Factor]))","v":0},{"$f":"Table146135136143311[[#This Row],[Data Corrected]]*(LOOKUP(Table146135136143311[[#This Row],[Emission Source]],Table44[Fuel Type],Table44[Landfill CO2 Factor]))","v":0},{"$f":"Table146135136143311[[#This Row],[Data Corrected]]*(LOOKUP(Table146135136143311[[#This Row],[Emission Source]],Table44[Fuel Type],Table44[Combusted CO2 Factor]))","v":0},{"$f":"IFERROR(((Table146135136143311[[#This Row],[CO2]]+Table146135136143311[[#This Row],[Spare1]]+Table146135136143311[[#This Row],[Spare2]]+Table146135136143311[[#This Row],[Spare3]]+Table146135136143311[[#This Row],[Spare4]]+Table146135136143311[[#This Row],[Spare5]]+Table146135136143311[[#This Row],[Spare6]])*Table146135136143311[[#This Row],[Data Corrected]])/1000,0)","v":0.2581816467104}]
[null,null,null,null,null,null,null,null,null,null,null,null,null,null,null,null,null,null,null,null,null,null,null,null,null,{"$f":"SUM(Table146135136143311[tCO2e Emission Equivalent])","v":0.73372940959639998}]
[null,"US - EPA"]
[null,"Reporting \nyear","Entity","Location","Scope","Sub-scope","Source Pseudonym","Emission Source","Emission Pseudonym","Unit \nRequired","Data Raw","Unit Reported","Concatenate Units","Unit Conversion","Data Corrected","Unit Corrected","CO2","CH4","CH4 Corrected","N2O","N2O Corrected","GWP","Recycled","Landfill","Combusted","tCO2e Emission Equivalent"]
[null,2021,"Camira Group, Inc","Grand Rapids",{"$f":"\"Scope_1\"","v":"Scope_1"},"Mobile Vehicle Fuel",{"$f":"LOOKUP(Table146135142[[#This Row],[Sub-scope]],Table3578[Source],Table3578[Pseudonym])","v":"MobileVFUS"},"Petrol",{"$f":"LOOKUP(Table146135142[[#This Row],[Emission Source]],Table125[[Emission ]],Table125[Pseudonym])","v":"MobileVehicleFuelUS"},{"$f":"LOOKUP(Table146135142[[#This Row],[Emission Source]],Table44[Fuel Type],Table44[Unit])","v":"gallon"},14500,"mile",{"$f":"CONCATENATE(Table146135142[[#This Row],[Unit Reported]],Table146135142[[#This Row],[Unit \nRequired]])","v":"milegallon"},{"$f":"LOOKUP(Table146135142[[#This Row],[Concatenate Units]],Table43[Concatenate],Table43[Multiply By])","v":4.1493775933609957E-2},{"$f":"IFERROR(Table146135142[[#This Row],[Data Raw]]*Table146135142[[#This Row],[Unit Conversion]],0)","v":601.65975103734434},{"$f":"IFERROR(Table146135142[[#This Row],[Unit \nRequired]],\"\")","v":"gallon"},{"$f":"LOOKUP(Table146135142[[#This Row],[Emission Source]],Table44[Fuel Type],Table44[CO2 Factor \n(kg / Unit)])","v":8.7799999999999994},{"$f":"LOOKUP(Table146135142[[#This Row],[Emission Source]],Table44[Fuel Type],Table44[CH4 Factor \n(g / unit)])","v":0},{"$f":"(Table146135142[[#This Row],[CH4]]/1000)*25","v":0},{"$f":"LOOKUP(Table146135142[[#This Row],[Emission Source]],Table44[Fuel Type],Table44[N2O Factor \n(g / unit)])","v":0},{"$f":"(Table146135142[[#This Row],[N2O]]/1000)*298","v":0},{"$f":"(LOOKUP(Table146135142[[#This Row],[Emission Source]],Table44[Fuel Type],Table44[GWP]))","v":0},{"$f":"Table146135142[[#This Row],[Data Corrected]]*(LOOKUP(Table146135142[[#This Row],[Emission Source]],Table44[Fuel Type],Table44[Recycled CO2 Factor]))","v":0},{"$f":"Table146135142[[#This Row],[Data Corrected]]*(LOOKUP(Table146135142[[#This Row],[Emission Source]],Table44[Fuel Type],Table44[Landfill CO2 Factor]))","v":0},{"$f":"Table146135142[[#This Row],[Data Corrected]]*(LOOKUP(Table146135142[[#This Row],[Emission Source]],Table44[Fuel Type],Table44[Combusted CO2 Factor]))","v":0},{"$f":"IFERROR(((Table146135142[[#This Row],[CO2]]+Table146135142[[#This Row],[CH4 Corrected]]+Table146135142[[#This Row],[N2O Corrected]]+Table146135142[[#This Row],[GWP]]+Table146135142[[#This Row],[Recycled]]+Table146135142[[#This Row],[Landfill]]+Table146135142[[#This Row],[Combusted]])*Table146135142[[#This Row],[Data Corrected]])/1000,0)","v":5.2825726141078828}]
[null,2021,"Camira Group, Inc","Grand Rapids",{"$f":"\"Scope_1\"","v":"Scope_1"},"Mobile Road Vehicle",{"$f":"LOOKUP(Table146135142[[#This Row],[Sub-scope]],Table3578[Source],Table3578[Pseudonym])","v":"MobileRVUS"},"Petrol Car 2018",{"$f":"LOOKUP(Table146135142[[#This Row],[Emission Source]],Table125[[Emission ]],Table125[Pseudonym])","v":"MobileRoadVehicleUS"},{"$f":"LOOKUP(Table146135142[[#This Row],[Emission Source]],Table44[Fuel Type],Table44[Unit])","v":"mile"},14500,"mile",{"$f":"CONCATENATE(Table146135142[[#This Row],[Unit Reported]],Table146135142[[#This Row],[Unit \nRequired]])","v":"milemile"},{"$f":"LOOKUP(Table146135142[[#This Row],[Concatenate Units]],Table43[Concatenate],Table43[Multiply By])","v":1},{"$f":"IFERROR(Table146135142[[#This Row],[Data Raw]]*Table146135142[[#This Row],[Unit Conversion]],0)","v":14500},{"$f":"IFERROR(Table146135142[[#This Row],[Unit \nRequired]],\"\")","v":"mile"},{"$f":"LOOKUP(Table146135142[[#This Row],[Emission Source]],Table44[Fuel Type],Table44[CO2 Factor \n(kg / Unit)])","v":0},{"$f":"LOOKUP(Table146135142[[#This Row],[Emission Source]],Table44[Fuel Type],Table44[CH4 Factor \n(g / unit)])","v":5.1999999999999998E-3},{"$f":"(Table146135142[[#This Row],[CH4]]/1000)*25","v":1.2999999999999999E-4},{"$f":"LOOKUP(Table146135142[[#This Row],[Emission Source]],Table44[Fuel Type],Table44[N2O Factor \n(g / unit)])","v":1.6000000000000001E-3},{"$f":"(Table146135142[[#This Row],[N2O]]/1000)*298","v":4.7680000000000004E-4},{"$f":"(LOOKUP(Table146135142[[#This Row],[Emission Source]],Table44[Fuel Type],Table44[GWP]))","v":0},{"$f":"Table146135142[[#This Row],[Data Corrected]]*(LOOKUP(Table146135142[[#This Row],[Emission Source]],Table44[Fuel Type],Table44[Recycled CO2 Factor]))","v":0},{"$f":"Table146135142[[#This Row],[Data Corrected]]*(LOOKUP(Table146135142[[#This Row],[Emission Source]],Table44[Fuel Type],Table44[Landfill CO2 Factor]))","v":0},{"$f":"Table146135142[[#This Row],[Data Corrected]]*(LOOKUP(Table146135142[[#This Row],[Emission Source]],Table44[Fuel Type],Table44[Combusted CO2 Factor]))","v":0},{"$f":"IFERROR(((Table146135142[[#This Row],[CO2]]+Table146135142[[#This Row],[CH4 Corrected]]+Table146135142[[#This Row],[N2O Corrected]]+Table146135142[[#This Row],[GWP]]+Table146135142[[#This Row],[Recycled]]+Table146135142[[#This Row],[Landfill]]+Table146135142[[#This Row],[Combusted]])*Table146135142[[#This Row],[Data Corrected]])/1000,0)","v":8.7986000000000002E-3}]
[null,2021,"Camira Group, Inc","Grand Rapids",{"$f":"\"Scope_1\"","v":"Scope_1"},"Mobile Vehicle Fuel",{"$f":"LOOKUP(Table146135142[[#This Row],[Sub-scope]],Table3578[Source],Table3578[Pseudonym])","v":"MobileVFUS"},"Petrol",{"$f":"LOOKUP(Table146135142[[#This Row],[Emission Source]],Table125[[Emission ]],Table125[Pseudonym])","v":"MobileVehicleFuelUS"},{"$f":"LOOKUP(Table146135142[[#This Row],[Emission Source]],Table44[Fuel Type],Table44[Unit])","v":"gallon"},13756,"mile",{"$f":"CONCATENATE(Table146135142[[#This Row],[Unit Reported]],Table146135142[[#This Row],[Unit \nRequired]])","v":"milegallon"},{"$f":"LOOKUP(Table146135142[[#This Row],[Concatenate Units]],Table43[Concatenate],Table43[Multiply By])","v":4.1493775933609957E-2},{"$f":"IFERROR(Table146135142[[#This Row],[Data Raw]]*Table146135142[[#This Row],[Unit Conversion]],0)","v":570.78838174273858},{"$f":"IFERROR(Table146135142[[#This Row],[Unit \nRequired]],\"\")","v":"gallon"},{"$f":"LOOKUP(Table146135142[[#This Row],[Emission Source]],Table44[Fuel Type],Table44[CO2 Factor \n(kg / Unit)])","v":8.7799999999999994},{"$f":"LOOKUP(Table146135142[[#This Row],[Emission Source]],Table44[Fuel Type],Table44[CH4 Factor \n(g / unit)])","v":0},{"$f":"(Table146135142[[#This Row],[CH4]]/1000)*25","v":0},{"$f":"LOOKUP(Table146135142[[#This Row],[Emission Source]],Table44[Fuel Type],Table44[N2O Factor \n(g / unit)])","v":0},{"$f":"(Table146135142[[#This Row],[N2O]]/1000)*298","v":0},{"$f":"(LOOKUP(Table146135142[[#This Row],[Emission Source]],Table44[Fuel Type],Table44[GWP]))","v":0},{"$f":"Table146135142[[#This Row],[Data Corrected]]*(LOOKUP(Table146135142[[#This Row],[Emission Source]],Table44[Fuel Type],Table44[Recycled CO2 Factor]))","v":0},{"$f":"Table146135142[[#This Row],[Data Corrected]]*(LOOKUP(Table146135142[[#This Row],[Emission Source]],Table44[Fuel Type],Table44[Landfill CO2 Factor]))","v":0},{"$f":"Table146135142[[#This Row],[Data Corrected]]*(LOOKUP(Table146135142[[#This Row],[Emission Source]],Table44[Fuel Type],Table44[Combusted CO2 Factor]))","v":0},{"$f":"IFERROR(((Table146135142[[#This Row],[CO2]]+Table146135142[[#This Row],[CH4 Corrected]]+Table146135142[[#This Row],[N2O Corrected]]+Table146135142[[#This Row],[GWP]]+Table146135142[[#This Row],[Recycled]]+Table146135142[[#This Row],[Landfill]]+Table146135142[[#This Row],[Combusted]])*Table146135142[[#This Row],[Data Corrected]])/1000,0)","v":5.0115219917012448}]
[null,2021,"Camira Group, Inc","Grand Rapids",{"$f":"\"Scope_1\"","v":"Scope_1"},"Mobile Road Vehicle",{"$f":"LOOKUP(Table146135142[[#This Row],[Sub-scope]],Table3578[Source],Table3578[Pseudonym])","v":"MobileRVUS"},"Petrol Van 2018",{"$f":"LOOKUP(Table146135142[[#This Row],[Emission Source]],Table125[[Emission ]],Table125[Pseudonym])","v":"MobileRoadVehicleUS"},{"$f":"LOOKUP(Table146135142[[#This Row],[Emission Source]],Table44[Fuel Type],Table44[Unit])","v":"mile"},13756,"mile",{"$f":"CONCATENATE(Table146135142[[#This Row],[Unit Reported]],Table146135142[[#This Row],[Unit \nRequired]])","v":"milemile"},{"$f":"LOOKUP(Table146135142[[#This Row],[Concatenate Units]],Table43[Concatenate],Table43[Multiply By])","v":1},{"$f":"IFERROR(Table146135142[[#This Row],[Data Raw]]*Table146135142[[#This Row],[Unit Conversion]],0)","v":13756},{"$f":"IFERROR(Table146135142[[#This Row],[Unit \nRequired]],\"\")","v":"mile"},{"$f":"LOOKUP(Table146135142[[#This Row],[Emission Source]],Table44[Fuel Type],Table44[CO2 Factor \n(kg / Unit)])","v":0},{"$f":"LOOKUP(Table146135142[[#This Row],[Emission Source]],Table44[Fuel Type],Table44[CH4 Factor \n(g / unit)])","v":8.0999999999999996E-3},{"$f":"(Table146135142[[#This Row],[CH4]]/1000)*25","v":2.0250000000000002E-4},{"$f":"LOOKUP(Table146135142[[#This Row],[Emission Source]],Table44[Fuel Type],Table44[N2O Factor \n(g / unit)])","v":1.5E-3},{"$f":"(Table146135142[[#This Row],[N2O]]/1000)*298","v":4.4700000000000002E-4},{"$f":"(LOOKUP(Table146135142[[#This Row],[Emission Source]],Table44[Fuel Type],Table44[GWP]))","v":0},{"$f":"Table146135142[[#This Row],[Data Corrected]]*(LOOKUP(Table146135142[[#This Row],[Emission Source]],Table44[Fuel Type],Table44[Recycled CO2 Factor]))","v":0},{"$f":"Table146135142[[#This Row],[Data Corrected]]*(LOOKUP(Table146135142[[#This Row],[Emission Source]],Table44[Fuel Type],Table44[Landfill CO2 Factor]))","v":0},{"$f":"Table146135142[[#This Row],[Data Corrected]]*(LOOKUP(Table146135142[[#This Row],[Emission Source]],Table44[Fuel Type],Table44[Combusted CO2 Factor]))","v":0},{"$f":"IFERROR(((Table146135142[[#This Row],[CO2]]+Table146135142[[#This Row],[CH4 Corrected]]+Table146135142[[#This Row],[N2O Corrected]]+Table146135142[[#This Row],[GWP]]+Table146135142[[#This Row],[Recycled]]+Table146135142[[#This Row],[Landfill]]+Table146135142[[#This Row],[Combusted]])*Table146135142[[#This Row],[Data Corrected]])/1000,0)","v":8.9345219999999986E-3}]
[null,null,null,null,null,null,null,null,null,null,null,null,null,null,null,null,null,null,null,null,null,null,null,null,null,{"$f":"SUM(Table146135142[tCO2e Emission Equivalent])","v":10.311827727809128}]

{"sheet":"1.3","index":8,"n_rows":27,"n_cols":29,"rows_kept":27,"cut":false,"hidden":false,"merged":[[22,27,24,27],[22,28,24,28],[4,27,5,28],[6,28,7,28],[9,28,10,28],[12,28,13,28],[15,28,16,28],[20,27,21,28]]}
[]
[null,"Greenhouse Gas Emission Analysis - Refrigeration Equipment"]
[]
[null,"UK - DBEIS/DEFRA"]
[null,"Reporting \nyear","Entity","Location","Scope","Sub-scope","Source Pseudonym","Emission Source","Emission Pseudonym","Unit \nRequired","Data Raw","Unit Reported","Concatenate Units","Unit Conversion","Data Corrected","Unit Corrected","Spare1","Spare2","Spare3","Spare4","Spare5","GWP","kg_lb","Spare6","Spare7","tCO2e Emission Equivalent",null,"Workbook links"]
[null,2021,"Camira Fabrics Limited","Mirfield",{"$f":"\"Scope_1\"","v":"Scope_1"},{"$f":"\"Fugitive\"","v":"Fugitive"},{"$f":"LOOKUP(Table146135136143150[[#This Row],[Sub-scope]],Table357841[Source],Table357841[Pseudonym])","v":"FugitiveUK"},null,{"$f":"LOOKUP(Table146135136143150[[#This Row],[Emission Source]],Table125292[[Emission ]],Table125292[Pseudonym])","v":{"$error":"#N/A"}},{"$f":"LOOKUP(Table146135136143150[[#This Row],[Emission Source]],Table44300[Fuel Type],Table44300[Unit])","v":{"$error":"#N/A"}},null,null,{"$f":"CONCATENATE(Table146135136143150[[#This Row],[Unit Reported]],Table146135136143150[[#This Row],[Unit \nRequired]])","v":{"$error":"#N/A"}},{"$f":"LOOKUP(Table146135136143150[[#This Row],[Concatenate Units]],Table43299[Concatenate],Table43299[Multiply By])","v":{"$error":"#N/A"}},{"$f":"IFERROR(Table146135136143150[[#This Row],[Data Raw]]*Table146135136143150[[#This Row],[Unit Conversion]],0)","v":0},{"$f":"IFERROR(Table146135136143150[[#This Row],[Unit \nRequired]],\"\")","v":""},null,null,null,null,null,{"$f":"(LOOKUP(Table146135136143150[[#This Row],[Emission Source]],Table44300[Fuel Type],Table44300[GWP]))","v":{"$error":"#N/A"}},{"$f":"Table146135136143150[[#This Row],[Data Corrected]]*(LOOKUP(Table146135136143150[[#This Row],[Emission Source]],Table44[Fuel Type],Table44[Recycled CO2 Factor]))","v":{"$error":"#N/A"}},{"$f":"Table146135136143150[[#This Row],[Data Corrected]]*(LOOKUP(Table146135136143150[[#This Row],[Emission Source]],Table44[Fuel Type],Table44[Landfill CO2 Factor]))","v":{"$error":"#N/A"}},{"$f":"Table146135136143150[[#This Row],[Data Corrected]]*(LOOKUP(Table146135136143150[[#This Row],[Emission Source]],Table44[Fuel Type],Table44[Combusted CO2 Factor]))","v":{"$error":"#N/A"}},{"$f":"IFERROR(((Table146135136143150[[#This Row],[Spare1]]+Table146135136143150[[#This Row],[Spare3]]+Table146135136143150[[#This Row],[Spare5]]+Table146135136143150[[#This Row],[GWP]]+Table146135136143150[[#This Row],[kg_lb]]+Table146135136143150[[#This Row],[Spare6]]+Table146135136143150[[#This Row],[Spare7]])*Table146135136143150[[#This Row],[Data Corrected]])/1000,0)","v":0}]
[null,null,null,null,null,null,null,null,null,null,null,null,null,null,null,null,null,null,null,null,null,null,null,null,null,{"$f":"SUM(Table146135136143150[tCO2e Emission Equivalent])","v":0},null,null,"GHG Reporting \nProcess"]
[null,"Reporting \nyear","Entity","Location","Scope","Sub-scope","Source Pseudonym","Emission Source","Emission Pseudonym","Unit \nRequired","Data Raw","Unit Reported","Concatenate Units","Unit Conversion","Data Corrected","Unit Corrected","Spare1","Spare2","Spare3","Spare4","Spare5","GWP","kg_lb","Spare6","Spare7","tCO2e Emission Equivalent"]
[null,2021,"Camira Fabrics Limited","Meltham",{"$f":"\"Scope_1\"","v":"Scope_1"},{"$f":"\"Fugitive\"","v":"Fugitive"},{"$f":"LOOKUP(Table146135136143150312[[#This Row],[Sub-scope]],Table357841[Source],Table357841[Pseudonym])","v":"FugitiveUK"},"R407C",{"$f":"LOOKUP(Table146135136143150312[[#This Row],[Emission Source]],Table125292[[Emission ]],Table125292[Pseudonym])","v":"FugUK"},{"$f":"LOOKUP(Table146135136143150312[[#This Row],[Emission Source]],Table44300[Fuel Type],Table44300[Unit])","v":"kg"},0,"kg",{"$f":"CONCATENATE(Table146135136143150312[[#This Row],[Unit Reported]],Table146135136143150312[[#This Row],[Unit \nRequired]])","v":"kgkg"},{"$f":"LOOKUP(Table146135136143150312[[#This Row],[Concatenate Units]],Table43299[Concatenate],Table43299[Multiply By])","v":1},{"$f":"IFERROR(Table146135136143150312[[#This Row],[Data Raw]]*Table146135136143150312[[#This Row],[Unit Conversion]],0)","v":0},{"$f":"IFERROR(Table146135136143150312[[#This Row],[Unit \nRequired]],\"\")","v":"kg"},null,null,null,null,null,{"$f":"(LOOKUP(Table146135136143150312[[#This Row],[Emission Source]],Table44300[Fuel Type],Table44300[GWP]))","v":1774},{"$f":"Table146135136143150312[[#This Row],[Data Corrected]]*(LOOKUP(Table146135136143150312[[#This Row],[Emission Source]],Table44[Fuel Type],Table44[Recycled CO2 Factor]))","v":0},{"$f":"Table146135136143150312[[#This Row],[Data Corrected]]*(LOOKUP(Table146135136143150312[[#This Row],[Emission Source]],Table44[Fuel Type],Table44[Landfill CO2 Factor]))","v":0},{"$f":"Table146135136143150312[[#This Row],[Data Corrected]]*(LOOKUP(Table146135136143150312[[#This Row],[Emission Source]],Table44[Fuel Type],Table44[Combusted CO2 Factor]))","v":0},{"$f":"IFERROR(((Table146135136143150312[[#This Row],[Spare1]]+Table146135136143150312[[#This Row],[Spare3]]+Table146135136143150312[[#This Row],[Spare5]]+Table146135136143150312[[#This Row],[GWP]]+Table146135136143150312[[#This Row],[kg_lb]]+Table146135136143150312[[#This Row],[Spare6]]+Table146135136143150312[[#This Row],[Spare7]])*Table146135136143150312[[#This Row],[Data Corrected]])/1000,0)","v":0}]
[null,null,null,null,null,null,null,null,null,null,null,null,null,null,null,null,null,null,null,null,null,null,null,null,null,{"$f":"SUM(Table146135136143150312[tCO2e Emission Equivalent])","v":0},null,null,"GHG \nQuestionnaire"]
[null,"Reporting \nyear","Entity","Location","Scope","Sub-scope","Source Pseudonym","Emission Source","Emission Pseudonym","Unit \nRequired","Data Raw","Unit Reported","Concatenate Units","Unit Conversion","Data Corrected","Unit Corrected","Spare1","Spare2","Spare3","Spare4","Spare5","GWP","kg_lb","Spare6","Spare7","tCO2e Emission Equivalent"]
[null,2021,"Camira Fabrics Limited","Nottingham",{"$f":"\"Scope_1\"","v":"Scope_1"},{"$f":"\"Fugitive\"","v":"Fugitive"},{"$f":"LOOKUP(Table146135136143150313[[#This Row],[Sub-scope]],Table357841[Source],Table357841[Pseudonym])","v":"FugitiveUK"},null,{"$f":"LOOKUP(Table146135136143150313[[#This Row],[Emission Source]],Table125292[[Emission ]],Table125292[Pseudonym])","v":{"$error":"#N/A"}},{"$f":"LOOKUP(Table146135136143150313[[#This Row],[Emission Source]],Table44300[Fuel Type],Table44300[Unit])","v":{"$error":"#N/A"}},null,null,{"$f":"CONCATENATE(Table146135136143150313[[#This Row],[Unit Reported]],Table146135136143150313[[#This Row],[Unit \nRequired]])","v":{"$error":"#N/A"}},{"$f":"LOOKUP(Table146135136143150313[[#This Row],[Concatenate Units]],Table43299[Concatenate],Table43299[Multiply By])","v":{"$error":"#N/A"}},{"$f":"IFERROR(Table146135136143150313[[#This Row],[Data Raw]]*Table146135136143150313[[#This Row],[Unit Conversion]],0)","v":0},{"$f":"IFERROR(Table146135136143150313[[#This Row],[Unit \nRequired]],\"\")","v":""},null,null,null,null,null,{"$f":"(LOOKUP(Table146135136143150313[[#This Row],[Emission Source]],Table44300[Fuel Type],Table44300[GWP]))","v":{"$error":"#N/A"}},{"$f":"Table146135136143150313[[#This Row],[Data Corrected]]*(LOOKUP(Table146135136143150313[[#This Row],[Emission Source]],Table44[Fuel Type],Table44[Recycled CO2 Factor]))","v":{"$error":"#N/A"}},{"$f":"Table146135136143150313[[#This Row],[Data Corrected]]*(LOOKUP(Table146135136143150313[[#This Row],[Emission Source]],Table44[Fuel Type],Table44[Landfill CO2 Factor]))","v":{"$error":"#N/A"}},{"$f":"Table146135136143150313[[#This Row],[Data Corrected]]*(LOOKUP(Table146135136143150313[[#This Row],[Emission Source]],Table44[Fuel Type],Table44[Combusted CO2 Factor]))","v":{"$error":"#N/A"}},{"$f":"IFERROR(((Table146135136143150313[[#This Row],[Spare1]]+Table146135136143150313[[#This Row],[Spare3]]+Table146135136143150313[[#This Row],[Spare5]]+Table146135136143150313[[#This Row],[GWP]]+Table146135136143150313[[#This Row],[kg_lb]]+Table146135136143150313[[#This Row],[Spare6]]+Table146135136143150313[[#This Row],[Spare7]])*Table146135136143150313[[#This Row],[Data Corrected]])/1000,0)","v":0}]
[null,null,null,null,null,null,null,null,null,null,null,null,null,null,null,null,null,null,null,null,null,null,null,null,null,{"$f":"SUM(Table146135136143150313[tCO2e Emission Equivalent])","v":0},null,null,"GHG Statement \nof Applicability"]
[null,"Reporting \nyear","Entity","Location","Scope","Sub-scope","Source Pseudonym","Emission Source","Emission Pseudonym","Unit \nRequired","Data Raw","Unit Reported","Concatenate Units","Unit Conversion","Data Corrected","Unit Corrected","Spare1","Spare2","Spare3","Spare4","Spare5","GWP","kg_lb","Spare6","Spare7","tCO2e Emission Equivalent"]
[null,2021,"Camira Yarns Limited","Birkby",{"$f":"\"Scope_1\"","v":"Scope_1"},{"$f":"\"Fugitive\"","v":"Fugitive"},{"$f":"LOOKUP(Table146135136143150314[[#This Row],[Sub-scope]],Table357841[Source],Table357841[Pseudonym])","v":"FugitiveUK"},null,{"$f":"LOOKUP(Table146135136143150314[[#This Row],[Emission Source]],Table125292[[Emission ]],Table125292[Pseudonym])","v":{"$error":"#N/A"}},{"$f":"LOOKUP(Table146135136143150314[[#This Row],[Emission Source]],Table44300[Fuel Type],Table44300[Unit])","v":{"$error":"#N/A"}},null,null,{"$f":"CONCATENATE(Table146135136143150314[[#This Row],[Unit Reported]],Table146135136143150314[[#This Row],[Unit \nRequired]])","v":{"$error":"#N/A"}},{"$f":"LOOKUP(Table146135136143150314[[#This Row],[Concatenate Units]],Table43299[Concatenate],Table43299[Multiply By])","v":{"$error":"#N/A"}},{"$f":"IFERROR(Table146135136143150314[[#This Row],[Data Raw]]*Table146135136143150314[[#This Row],[Unit Conversion]],0)","v":0},{"$f":"IFERROR(Table146135136143150314[[#This Row],[Unit \nRequired]],\"\")","v":""},null,null,null,null,null,{"$f":"(LOOKUP(Table146135136143150314[[#This Row],[Emission Source]],Table44300[Fuel Type],Table44300[GWP]))","v":{"$error":"#N/A"}},{"$f":"Table146135136143150314[[#This Row],[Data Corrected]]*(LOOKUP(Table146135136143150314[[#This Row],[Emission Source]],Table44[Fuel Type],Table44[Recycled CO2 Factor]))","v":{"$error":"#N/A"}},{"$f":"Table146135136143150314[[#This Row],[Data Corrected]]*(LOOKUP(Table146135136143150314[[#This Row],[Emission Source]],Table44[Fuel Type],Table44[Landfill CO2 Factor]))","v":{"$error":"#N/A"}},{"$f":"Table146135136143150314[[#This Row],[Data Corrected]]*(LOOKUP(Table146135136143150314[[#This Row],[Emission Source]],Table44[Fuel Type],Table44[Combusted CO2 Factor]))","v":{"$error":"#N/A"}},{"$f":"IFERROR(((Table146135136143150314[[#This Row],[Spare1]]+Table146135136143150314[[#This Row],[Spare3]]+Table146135136143150314[[#This Row],[Spare5]]+Table146135136143150314[[#This Row],[GWP]]+Table146135136143150314[[#This Row],[kg_lb]]+Table146135136143150314[[#This Row],[Spare6]]+Table146135136143150314[[#This Row],[Spare7]])*Table146135136143150314[[#This Row],[Data Corrected]])/1000,0)","v":0}]
[null,null,null,null,null,null,null,null,null,null,null,null,null,null,null,null,null,null,null,null,null,null,null,null,null,{"$f":"SUM(Table146135136143150314[tCO2e Emission Equivalent])","v":0},null,null,"GHG Summary \nReport"]
[null,"Reporting \nyear","Entity","Location","Scope","Sub-scope","Source Pseudonym","Emission Source","Emission Pseudonym","Unit \nRequired","Data Raw","Unit Reported","Concatenate Units","Unit Conversion","Data Corrected","Unit Corrected","Spare1","Spare2","Spare3","Spare4","Spare5","GWP","kg_lb","Spare6","Spare7","tCO2e Emission Equivalent"]
[null,2021,"Holmfirth Dyers Limited","Holmfirth",{"$f":"\"Scope_1\"","v":"Scope_1"},{"$f":"\"Fugitive\"","v":"Fugitive"},{"$f":"LOOKUP(Table146135136143150315[[#This Row],[Sub-scope]],Table357841[Source],Table357841[Pseudonym])","v":"FugitiveUK"},"R410A",{"$f":"LOOKUP(Table146135136143150315[[#This Row],[Emission Source]],Table125292[[Emission ]],Table125292[Pseudonym])","v":"FugUK"},{"$f":"LOOKUP(Table146135136143150315[[#This Row],[Emission Source]],Table44300[Fuel Type],Table44300[Unit])","v":"kg"},2.5499999999999998,"kg",{"$f":"CONCATENATE(Table146135136143150315[[#This Row],[Unit Reported]],Table146135136143150315[[#This Row],[Unit \nRequired]])","v":"kgkg"},{"$f":"LOOKUP(Table146135136143150315[[#This Row],[Concatenate Units]],Table43299[Concatenate],Table43299[Multiply By])","v":1},{"$f":"IFERROR(Table146135136143150315[[#This Row],[Data Raw]]*Table146135136143150315[[#This Row],[Unit Conversion]],0)","v":2.5499999999999998},{"$f":"IFERROR(Table146135136143150315[[#This Row],[Unit \nRequired]],\"\")","v":"kg"},null,null,null,null,null,{"$f":"(LOOKUP(Table146135136143150315[[#This Row],[Emission Source]],Table44300[Fuel Type],Table44300[GWP]))","v":2088},{"$f":"Table146135136143150315[[#This Row],[Data Corrected]]*(LOOKUP(Table146135136143150315[[#This Row],[Emission Source]],Table44[Fuel Type],Table44[Recycled CO2 Factor]))","v":0},{"$f":"Table146135136143150315[[#This Row],[Data Corrected]]*(LOOKUP(Table146135136143150315[[#This Row],[Emission Source]],Table44[Fuel Type],Table44[Landfill CO2 Factor]))","v":0},{"$f":"Table146135136143150315[[#This Row],[Data Corrected]]*(LOOKUP(Table146135136143150315[[#This Row],[Emission Source]],Table44[Fuel Type],Table44[Combusted CO2 Factor]))","v":0},{"$f":"IFERROR(((Table146135136143150315[[#This Row],[Spare1]]+Table146135136143150315[[#This Row],[Spare3]]+Table146135136143150315[[#This Row],[Spare5]]+Table146135136143150315[[#This Row],[GWP]]+Table146135136143150315[[#This Row],[kg_lb]]+Table146135136143150315[[#This Row],[Spare6]]+Table146135136143150315[[#This Row],[Spare7]])*Table146135136143150315[[#This Row],[Data Corrected]])/1000,0)","v":5.3243999999999998}]
[null,null,null,null,null,null,null,null,null,null,null,null,null,null,null,null,null,null,null,null,null,null,null,null,null,{"$f":"SUM(Table146135136143150315[tCO2e Emission Equivalent])","v":5.3243999999999998}]
[null,"EUR"]
[null,"Reporting \nyear","Entity","Location","Scope","Sub-scope","Source Pseudonym","Emission Source","Emission Pseudonym","Unit \nRequired","Data Raw","Unit Reported","Concatenate Units","Unit Conversion","Data Corrected","Unit Corrected","Spare1","Spare2","Spare3","Spare4","Spare5","GWP","kg_lb","Spare6","Spare7","tCO2e Emission Equivalent",null,"Scope Emissions"]
[null,2021,"UAB Camira Fabrics","Lithuania",{"$f":"\"Scope_1\"","v":"Scope_1"},{"$f":"\"Fugitive\"","v":"Fugitive"},{"$f":"LOOKUP(Table146135136143150316[[#This Row],[Sub-scope]],Table357841[Source],Table357841[Pseudonym])","v":"FugitiveUK"},"R410A",{"$f":"LOOKUP(Table146135136143150316[[#This Row],[Emission Source]],Table125292[[Emission ]],Table125292[Pseudonym])","v":"FugUK"},{"$f":"LOOKUP(Table146135136143150316[[#This Row],[Emission Source]],Table44300[Fuel Type],Table44300[Unit])","v":"kg"},0,"kg",{"$f":"CONCATENATE(Table146135136143150316[[#This Row],[Unit Reported]],Table146135136143150316[[#This Row],[Unit \nRequired]])","v":"kgkg"},{"$f":"LOOKUP(Table146135136143150316[[#This Row],[Concatenate Units]],Table43299[Concatenate],Table43299[Multiply By])","v":1},{"$f":"IFERROR(Table146135136143150316[[#This Row],[Data Raw]]*Table146135136143150316[[#This Row],[Unit Conversion]],0)","v":0},{"$f":"IFERROR(Table146135136143150316[[#This Row],[Unit \nRequired]],\"\")","v":"kg"},null,null,null,null,null,{"$f":"(LOOKUP(Table146135136143150316[[#This Row],[Emission Source]],Table44300[Fuel Type],Table44300[GWP]))","v":2088},{"$f":"Table146135136143150316[[#This Row],[Data Corrected]]*(LOOKUP(Table146135136143150316[[#This Row],[Emission Source]],Table44[Fuel Type],Table44[Recycled CO2 Factor]))","v":0},{"$f":"Table146135136143150316[[#This Row],[Data Corrected]]*(LOOKUP(Table146135136143150316[[#This Row],[Emission Source]],Table44[Fuel Type],Table44[Landfill CO2 Factor]))","v":0},{"$f":"Table146135136143150316[[#This Row],[Data Corrected]]*(LOOKUP(Table146135136143150316[[#This Row],[Emission Source]],Table44[Fuel Type],Table44[Combusted CO2 Factor]))","v":0},{"$f":"IFERROR(((Table146135136143150316[[#This Row],[Spare1]]+Table146135136143150316[[#This Row],[Spare3]]+Table146135136143150316[[#This Row],[Spare5]]+Table146135136143150316[[#This Row],[GWP]]+Table146135136143150316[[#This Row],[kg_lb]]+Table146135136143150316[[#This Row],[Spare6]]+Table146135136143150316[[#This Row],[Spare7]])*Table146135136143150316[[#This Row],[Data Corrected]])/1000,0)","v":0}]
[null,null,null,null,null,null,null,null,null,null,null,null,null,null,null,null,null,null,null,null,null,null,null,null,null,{"$f":"SUM(Table146135136143150316[tCO2e Emission Equivalent])","v":0},null,"tCO2e",{"$f":"Z7+Z10+Z13+Z16+Z19+Z23+Z27","v":5.3243999999999998}]
[null,"US - EPA"]
[null,"Reporting \nyear","Entity","Location","Scope","Sub-scope","Source Pseudonym","Emission Source","Emission Pseudonym","Unit \nRequired","Data Raw","Unit Reported","Concatenate Units","Unit Conversion","Data Corrected","Unit Corrected","Spare1","Spare2","Spare3","Spare4","Spare5","GWP","kg_lb","Spare6","Spare7","tCO2e Emission Equivalent"]
[null,2021,"Camira Group, Inc","Grand Rapids",{"$f":"\"Scope_1\"","v":"Scope_1"},{"$f":"\"Fugitive\"","v":"Fugitive"},{"$f":"LOOKUP(Table146135142149[[#This Row],[Sub-scope]],Table3578[Source],Table3578[Pseudonym])","v":"FugitiveUS"},null,{"$f":"LOOKUP(Table146135142149[[#This Row],[Emission Source]],Table125[[Emission ]],Table125[Pseudonym])","v":{"$error":"#N/A"}},{"$f":"LOOKUP(Table146135142149[[#This Row],[Emission Source]],Table44[Fuel Type],Table44[Unit])","v":{"$error":"#N/A"}},0,null,{"$f":"CONCATENATE(Table146135142149[[#This Row],[Unit Reported]],Table146135142149[[#This Row],[Unit \nRequired]])","v":{"$error":"#N/A"}},{"$f":"LOOKUP(Table146135142149[[#This Row],[Concatenate Units]],Table43[Concatenate],Table43[Multiply By])","v":{"$error":"#N/A"}},{"$f":"IFERROR(Table146135142149[[#This Row],[Data Raw]]*Table146135142149[[#This Row],[Unit Conversion]],0)","v":0},{"$f":"IFERROR(Table146135142149[[#This Row],[Unit \nRequired]],\"\")","v":""},null,null,null,null,null,{"$f":"(LOOKUP(Table146135142149[[#This Row],[Emission Source]],Table44[Fuel Type],Table44[GWP]))","v":{"$error":"#N/A"}},{"$f":"'Conversions - US'!AA5","v":0.4536},null,null,{"$f":"IFERROR((((Table146135142149[[#This Row],[GWP]])*Table146135142149[[#This Row],[Data Corrected]])/1000)*Table146135142149[[#This Row],[kg_lb]],0)","v":0}]
[null,null,null,null,null,null,null,null,null,null,null,null,null,null,null,null,null,null,null,null,null,null,null,null,null,{"$f":"SUM(Table146135142149[tCO2e Emission Equivalent])","v":0}]

{"sheet":"1.4","index":9,"n_rows":27,"n_cols":29,"rows_kept":27,"cut":false,"hidden":false,"merged":[[22,27,24,27],[22,28,24,28],[4,27,5,28],[6,28,7,28],[9,28,10,28],[12,28,13,28],[15,28,16,28],[20,27,21,28]]}
[]
[null,"Greenhouse Gas Emission Analysis - Fire Supression"]
[]
[null,"UK - DBEIS/DEFRA"]
[null,"Reporting \nyear","Entity","Location","Scope","Sub-scope","Source Pseudonym","Emission Source","Emission Pseudonym","Unit \nRequired","Data \n(Raw)","Unit Reported","Concatenate Units","Unit Conversion","Data \n(Corrected)","Unit\n(Corrected)","Spare1","Spare2","Spare3","Spare4","Spare5","GWP","kg_lb","Spare6","Spare7","tCO2e Emission Equivalent",null,"Workbook links"]
[null,2021,"Camira Fabrics Limited","Mirfield",{"$f":"\"Scope_1\"","v":"Scope_1"},{"$f":"\"Fugitive\"","v":"Fugitive"},{"$f":"LOOKUP(Table146135136143150318[[#This Row],[Sub-scope]],Table357841[Source],Table357841[Pseudonym])","v":"FugitiveUK"},"HFC-227ea",{"$f":"LOOKUP(Table146135136143150318[[#This Row],[Emission Source]],Table125292[[Emission ]],Table125292[Pseudonym])","v":"FugUK"},{"$f":"LOOKUP(Table146135136143150318[[#This Row],[Emission Source]],Table44300[Fuel Type],Table44300[Unit])","v":"kg"},0,"kg",{"$f":"CONCATENATE(Table146135136143150318[[#This Row],[Unit Reported]],Table146135136143150318[[#This Row],[Unit \nRequired]])","v":"kgkg"},{"$f":"LOOKUP(Table146135136143150318[[#This Row],[Concatenate Units]],Table43299[Concatenate],Table43299[Multiply By])","v":1},{"$f":"IFERROR(Table146135136143150318[[#This Row],[Data \n(Raw)]]*Table146135136143150318[[#This Row],[Unit Conversion]],0)","v":0},{"$f":"IFERROR(Table146135136143150318[[#This Row],[Unit \nRequired]],\"\")","v":"kg"},null,null,null,null,null,{"$f":"(LOOKUP(Table146135136143150318[[#This Row],[Emission Source]],Table44300[Fuel Type],Table44300[GWP]))","v":3220},{"$f":"Table146135136143150318[[#This Row],[Data \n(Corrected)]]*(LOOKUP(Table146135136143150318[[#This Row],[Emission Source]],Table44[Fuel Type],Table44[Recycled CO2 Factor]))","v":0},{"$f":"Table146135136143150318[[#This Row],[Data \n(Corrected)]]*(LOOKUP(Table146135136143150318[[#This Row],[Emission Source]],Table44[Fuel Type],Table44[Landfill CO2 Factor]))","v":0},{"$f":"Table146135136143150318[[#This Row],[Data \n(Corrected)]]*(LOOKUP(Table146135136143150318[[#This Row],[Emission Source]],Table44[Fuel Type],Table44[Combusted CO2 Factor]))","v":0},{"$f":"IFERROR(((Table146135136143150318[[#This Row],[Spare1]]+Table146135136143150318[[#This Row],[Spare3]]+Table146135136143150318[[#This Row],[Spare5]]+Table146135136143150318[[#This Row],[GWP]]+Table146135136143150318[[#This Row],[kg_lb]]+Table146135136143150318[[#This Row],[Spare6]]+Table146135136143150318[[#This Row],[Spare7]])*Table146135136143150318[[#This Row],[Data \n(Corrected)]])/1000,0)","v":0}]
[null,null,null,null,null,null,null,null,null,null,null,null,null,null,null,null,null,null,null,null,null,null,null,null,null,{"$f":"SUM(Table146135136143150318[tCO2e Emission Equivalent])","v":0},null,null,"GHG Reporting \nProcess"]
[null,"Reporting \nyear","Entity","Location","Scope","Sub-scope","Source Pseudonym","Emission Source","Emission Pseudonym","Unit \nRequired","Data \n(Raw)","Unit Reported","Concatenate Units","Unit Conversion","Data \n(Corrected)","Unit\n(Corrected)","Spare1","Spare2","Spare3","Spare4","Spare5","GWP","kg_lb","Spare6","Spare7","tCO2e Emission Equivalent"]
[null,2021,"Camira Fabrics Limited","Meltham",{"$f":"\"Scope_1\"","v":"Scope_1"},{"$f":"\"Fugitive\"","v":"Fugitive"},{"$f":"LOOKUP(Table146135136143150312319[[#This Row],[Sub-scope]],Table357841[Source],Table357841[Pseudonym])","v":"FugitiveUK"},"HFC-227ea",{"$f":"LOOKUP(Table146135136143150312319[[#This Row],[Emission Source]],Table125292[[Emission ]],Table125292[Pseudonym])","v":"FugUK"},{"$f":"LOOKUP(Table146135136143150312319[[#This Row],[Emission Source]],Table44300[Fuel Type],Table44300[Unit])","v":"kg"},0,"kg",{"$f":"CONCATENATE(Table146135136143150312319[[#This Row],[Unit Reported]],Table146135136143150312319[[#This Row],[Unit \nRequired]])","v":"kgkg"},{"$f":"LOOKUP(Table146135136143150312319[[#This Row],[Concatenate Units]],Table43299[Concatenate],Table43299[Multiply By])","v":1},{"$f":"IFERROR(Table146135136143150312319[[#This Row],[Data \n(Raw)]]*Table146135136143150312319[[#This Row],[Unit Conversion]],0)","v":0},{"$f":"IFERROR(Table146135136143150312319[[#This Row],[Unit \nRequired]],\"\")","v":"kg"},null,null,null,null,null,{"$f":"(LOOKUP(Table146135136143150312319[[#This Row],[Emission Source]],Table44300[Fuel Type],Table44300[GWP]))","v":3220},{"$f":"Table146135136143150312319[[#This Row],[Data \n(Corrected)]]*(LOOKUP(Table146135136143150312319[[#This Row],[Emission Source]],Table44[Fuel Type],Table44[Recycled CO2 Factor]))","v":0},{"$f":"Table146135136143150312319[[#This Row],[Data \n(Corrected)]]*(LOOKUP(Table146135136143150312319[[#This Row],[Emission Source]],Table44[Fuel Type],Table44[Landfill CO2 Factor]))","v":0},{"$f":"Table146135136143150312319[[#This Row],[Data \n(Corrected)]]*(LOOKUP(Table146135136143150312319[[#This Row],[Emission Source]],Table44[Fuel Type],Table44[Combusted CO2 Factor]))","v":0},{"$f":"IFERROR(((Table146135136143150312319[[#This Row],[Spare1]]+Table146135136143150312319[[#This Row],[Spare3]]+Table146135136143150312319[[#This Row],[Spare5]]+Table146135136143150312319[[#This Row],[GWP]]+Table146135136143150312319[[#This Row],[kg_lb]]+Table146135136143150312319[[#This Row],[Spare6]]+Table146135136143150312319[[#This Row],[Spare7]])*Table146135136143150312319[[#This Row],[Data \n(Corrected)]])/1000,0)","v":0}]
[null,null,null,null,null,null,null,null,null,null,null,null,null,null,null,null,null,null,null,null,null,null,null,null,null,{"$f":"SUM(Table146135136143150312319[tCO2e Emission Equivalent])","v":0},null,null,"GHG \nQuestionnaire"]
[null,"Reporting \nyear","Entity","Location","Scope","Sub-scope","Source Pseudonym","Emission Source","Emission Pseudonym","Unit \nRequired","Data \n(Raw)","Unit Reported","Concatenate Units","Unit Conversion","Data \n(Corrected)","Unit\n(Corrected)","Spare1","Spare2","Spare3","Spare4","Spare5","GWP","kg_lb","Spare6","Spare7","tCO2e Emission Equivalent"]
[null,2021,"Camira Fabrics Limited","Nottingham",{"$f":"\"Scope_1\"","v":"Scope_1"},{"$f":"\"Fugitive\"","v":"Fugitive"},{"$f":"LOOKUP(Table146135136143150313320[[#This Row],[Sub-scope]],Table357841[Source],Table357841[Pseudonym])","v":"FugitiveUK"},null,{"$f":"LOOKUP(Table146135136143150313320[[#This Row],[Emission Source]],Table125292[[Emission ]],Table125292[Pseudonym])","v":{"$error":"#N/A"}},{"$f":"LOOKUP(Table146135136143150313320[[#This Row],[Emission Source]],Table44300[Fuel Type],Table44300[Unit])","v":{"$error":"#N/A"}},null,null,{"$f":"CONCATENATE(Table146135136143150313320[[#This Row],[Unit Reported]],Table146135136143150313320[[#This Row],[Unit \nRequired]])","v":{"$error":"#N/A"}},{"$f":"LOOKUP(Table146135136143150313320[[#This Row],[Concatenate Units]],Table43299[Concatenate],Table43299[Multiply By])","v":{"$error":"#N/A"}},{"$f":"IFERROR(Table146135136143150313320[[#This Row],[Data \n(Raw)]]*Table146135136143150313320[[#This Row],[Unit Conversion]],0)","v":0},{"$f":"IFERROR(Table146135136143150313320[[#This Row],[Unit \nRequired]],\"\")","v":""},null,null,null,null,null,{"$f":"(LOOKUP(Table146135136143150313320[[#This Row],[Emission Source]],Table44300[Fuel Type],Table44300[GWP]))","v":{"$error":"#N/A"}},{"$f":"Table146135136143150313320[[#This Row],[Data \n(Corrected)]]*(LOOKUP(Table146135136143150313320[[#This Row],[Emission Source]],Table44[Fuel Type],Table44[Recycled CO2 Factor]))","v":{"$error":"#N/A"}},{"$f":"Table146135136143150313320[[#This Row],[Data \n(Corrected)]]*(LOOKUP(Table146135136143150313320[[#This Row],[Emission Source]],Table44[Fuel Type],Table44[Landfill CO2 Factor]))","v":{"$error":"#N/A"}},{"$f":"Table146135136143150313320[[#This Row],[Data \n(Corrected)]]*(LOOKUP(Table146135136143150313320[[#This Row],[Emission Source]],Table44[Fuel Type],Table44[Combusted CO2 Factor]))","v":{"$error":"#N/A"}},{"$f":"IFERROR(((Table146135136143150313320[[#This Row],[Spare1]]+Table146135136143150313320[[#This Row],[Spare3]]+Table146135136143150313320[[#This Row],[Spare5]]+Table146135136143150313320[[#This Row],[GWP]]+Table146135136143150313320[[#This Row],[kg_lb]]+Table146135136143150313320[[#This Row],[Spare6]]+Table146135136143150313320[[#This Row],[Spare7]])*Table146135136143150313320[[#This Row],[Data \n(Corrected)]])/1000,0)","v":0}]
[null,null,null,null,null,null,null,null,null,null,null,null,null,null,null,null,null,null,null,null,null,null,null,null,null,{"$f":"SUM(Table146135136143150313320[tCO2e Emission Equivalent])","v":0},null,null,"GHG Statement \nof Applicability"]
[null,"Reporting \nyear","Entity","Location","Scope","Sub-scope","Source Pseudonym","Emission Source","Emission Pseudonym","Unit \nRequired","Data \n(Raw)","Unit Reported","Concatenate Units","Unit Conversion","Data \n(Corrected)","Unit\n(Corrected)","Spare1","Spare2","Spare3","Spare4","Spare5","GWP","kg_lb","Spare6","Spare7","tCO2e Emission Equivalent"]
[null,2021,"Camira Yarns Limited","Birkby",{"$f":"\"Scope_1\"","v":"Scope_1"},{"$f":"\"Fugitive\"","v":"Fugitive"},{"$f":"LOOKUP(Table146135136143150314321[[#This Row],[Sub-scope]],Table357841[Source],Table357841[Pseudonym])","v":"FugitiveUK"},null,{"$f":"LOOKUP(Table146135136143150314321[[#This Row],[Emission Source]],Table125292[[Emission ]],Table125292[Pseudonym])","v":{"$error":"#N/A"}},{"$f":"LOOKUP(Table146135136143150314321[[#This Row],[Emission Source]],Table44300[Fuel Type],Table44300[Unit])","v":{"$error":"#N/A"}},null,null,{"$f":"CONCATENATE(Table146135136143150314321[[#This Row],[Unit Reported]],Table146135136143150314321[[#This Row],[Unit \nRequired]])","v":{"$error":"#N/A"}},{"$f":"LOOKUP(Table146135136143150314321[[#This Row],[Concatenate Units]],Table43299[Concatenate],Table43299[Multiply By])","v":{"$error":"#N/A"}},{"$f":"IFERROR(Table146135136143150314321[[#This Row],[Data \n(Raw)]]*Table146135136143150314321[[#This Row],[Unit Conversion]],0)","v":0},{"$f":"IFERROR(Table146135136143150314321[[#This Row],[Unit \nRequired]],\"\")","v":""},null,null,null,null,null,{"$f":"(LOOKUP(Table146135136143150314321[[#This Row],[Emission Source]],Table44300[Fuel Type],Table44300[GWP]))","v":{"$error":"#N/A"}},{"$f":"Table146135136143150314321[[#This Row],[Data \n(Corrected)]]*(LOOKUP(Table146135136143150314321[[#This Row],[Emission Source]],Table44[Fuel Type],Table44[Recycled CO2 Factor]))","v":{"$error":"#N/A"}},{"$f":"Table146135136143150314321[[#This Row],[Data \n(Corrected)]]*(LOOKUP(Table146135136143150314321[[#This Row],[Emission Source]],Table44[Fuel Type],Table44[Landfill CO2 Factor]))","v":{"$error":"#N/A"}},{"$f":"Table146135136143150314321[[#This Row],[Data \n(Corrected)]]*(LOOKUP(Table146135136143150314321[[#This Row],[Emission Source]],Table44[Fuel Type],Table44[Combusted CO2 Factor]))","v":{"$error":"#N/A"}},{"$f":"IFERROR(((Table146135136143150314321[[#This Row],[Spare1]]+Table146135136143150314321[[#This Row],[Spare3]]+Table146135136143150314321[[#This Row],[Spare5]]+Table146135136143150314321[[#This Row],[GWP]]+Table146135136143150314321[[#This Row],[kg_lb]]+Table146135136143150314321[[#This Row],[Spare6]]+Table146135136143150314321[[#This Row],[Spare7]])*Table146135136143150314321[[#This Row],[Data \n(Corrected)]])/1000,0)","v":0}]
[null,null,null,null,null,null,null,null,null,null,null,null,null,null,null,null,null,null,null,null,null,null,null,null,null,{"$f":"SUM(Table146135136143150314321[tCO2e Emission Equivalent])","v":0},null,null,"GHG Summary \nReport"]
[null,"Reporting \nyear","Entity","Location","Scope","Sub-scope","Source Pseudonym","Emission Source","Emission Pseudonym","Unit \nRequired","Data \n(Raw)","Unit Reported","Concatenate Units","Unit Conversion","Data \n(Corrected)","Unit\n(Corrected)","Spare1","Spare2","Spare3","Spare4","Spare5","GWP","kg_lb","Spare6","Spare7","tCO2e Emission Equivalent"]
[null,2021,"Holmfirth Dyers Limited","Holmfirth",{"$f":"\"Scope_1\"","v":"Scope_1"},{"$f":"\"Fugitive\"","v":"Fugitive"},{"$f":"LOOKUP(Table146135136143150315322[[#This Row],[Sub-scope]],Table357841[Source],Table357841[Pseudonym])","v":"FugitiveUK"},null,{"$f":"LOOKUP(Table146135136143150315322[[#This Row],[Emission Source]],Table125292[[Emission ]],Table125292[Pseudonym])","v":{"$error":"#N/A"}},{"$f":"LOOKUP(Table146135136143150315322[[#This Row],[Emission Source]],Table44300[Fuel Type],Table44300[Unit])","v":{"$error":"#N/A"}},null,null,{"$f":"CONCATENATE(Table146135136143150315322[[#This Row],[Unit Reported]],Table146135136143150315322[[#This Row],[Unit \nRequired]])","v":{"$error":"#N/A"}},{"$f":"LOOKUP(Table146135136143150315322[[#This Row],[Concatenate Units]],Table43299[Concatenate],Table43299[Multiply By])","v":{"$error":"#N/A"}},{"$f":"IFERROR(Table146135136143150315322[[#This Row],[Data \n(Raw)]]*Table146135136143150315322[[#This Row],[Unit Conversion]],0)","v":0},{"$f":"IFERROR(Table146135136143150315322[[#This Row],[Unit \nRequired]],\"\")","v":""},null,null,null,null,null,{"$f":"(LOOKUP(Table146135136143150315322[[#This Row],[Emission Source]],Table44300[Fuel Type],Table44300[GWP]))","v":{"$error":"#N/A"}},{"$f":"Table146135136143150315322[[#This Row],[Data \n(Corrected)]]*(LOOKUP(Table146135136143150315322[[#This Row],[Emission Source]],Table44[Fuel Type],Table44[Recycled CO2 Factor]))","v":{"$error":"#N/A"}},{"$f":"Table146135136143150315322[[#This Row],[Data \n(Corrected)]]*(LOOKUP(Table146135136143150315322[[#This Row],[Emission Source]],Table44[Fuel Type],Table44[Landfill CO2 Factor]))","v":{"$error":"#N/A"}},{"$f":"Table146135136143150315322[[#This Row],[Data \n(Corrected)]]*(LOOKUP(Table146135136143150315322[[#This Row],[Emission Source]],Table44[Fuel Type],Table44[Combusted CO2 Factor]))","v":{"$error":"#N/A"}},{"$f":"IFERROR(((Table146135136143150315322[[#This Row],[Spare1]]+Table146135136143150315322[[#This Row],[Spare3]]+Table146135136143150315322[[#This Row],[Spare5]]+Table146135136143150315322[[#This Row],[GWP]]+Table146135136143150315322[[#This Row],[kg_lb]]+Table146135136143150315322[[#This Row],[Spare6]]+Table146135136143150315322[[#This Row],[Spare7]])*Table146135136143150315322[[#This Row],[Data \n(Corrected)]])/1000,0)","v":0}]
[null,null,null,null,null,null,null,null,null,null,null,null,null,null,null,null,null,null,null,null,null,null,null,null,null,{"$f":"SUM(Table146135136143150315322[tCO2e Emission Equivalent])","v":0}]
[null,"EUR"]
[null,"Reporting \nyear","Entity","Location","Scope","Sub-scope","Source Pseudonym","Emission Source","Emission Pseudonym","Unit \nRequired","Data \n(Raw)","Unit Reported","Concatenate Units","Unit Conversion","Data \n(Corrected)","Unit\n(Corrected)","Spare1","Spare2","Spare3","Spare4","Spare5","GWP","kg_lb","Spare6","Spare7","tCO2e Emission Equivalent",null,"Scope Emissions"]
[null,2021,"UAB Camira Fabrics","Lithuania",{"$f":"\"Scope_1\"","v":"Scope_1"},{"$f":"\"Fugitive\"","v":"Fugitive"},{"$f":"LOOKUP(Table146135136143150316323[[#This Row],[Sub-scope]],Table357841[Source],Table357841[Pseudonym])","v":"FugitiveUK"},null,{"$f":"LOOKUP(Table146135136143150316323[[#This Row],[Emission Source]],Table125292[[Emission ]],Table125292[Pseudonym])","v":{"$error":"#N/A"}},{"$f":"LOOKUP(Table146135136143150316323[[#This Row],[Emission Source]],Table44300[Fuel Type],Table44300[Unit])","v":{"$error":"#N/A"}},null,null,{"$f":"CONCATENATE(Table146135136143150316323[[#This Row],[Unit Reported]],Table146135136143150316323[[#This Row],[Unit \nRequired]])","v":{"$error":"#N/A"}},{"$f":"LOOKUP(Table146135136143150316323[[#This Row],[Concatenate Units]],Table43299[Concatenate],Table43299[Multiply By])","v":{"$error":"#N/A"}},{"$f":"IFERROR(Table146135136143150316323[[#This Row],[Data \n(Raw)]]*Table146135136143150316323[[#This Row],[Unit Conversion]],0)","v":0},{"$f":"IFERROR(Table146135136143150316323[[#This Row],[Unit \nRequired]],\"\")","v":""},null,null,null,null,null,{"$f":"(LOOKUP(Table146135136143150316323[[#This Row],[Emission Source]],Table44300[Fuel Type],Table44300[GWP]))","v":{"$error":"#N/A"}},{"$f":"Table146135136143150316323[[#This Row],[Data \n(Corrected)]]*(LOOKUP(Table146135136143150316323[[#This Row],[Emission Source]],Table44[Fuel Type],Table44[Recycled CO2 Factor]))","v":{"$error":"#N/A"}},{"$f":"Table146135136143150316323[[#This Row],[Data \n(Corrected)]]*(LOOKUP(Table146135136143150316323[[#This Row],[Emission Source]],Table44[Fuel Type],Table44[Landfill CO2 Factor]))","v":{"$error":"#N/A"}},{"$f":"Table146135136143150316323[[#This Row],[Data \n(Corrected)]]*(LOOKUP(Table146135136143150316323[[#This Row],[Emission Source]],Table44[Fuel Type],Table44[Combusted CO2 Factor]))","v":{"$error":"#N/A"}},{"$f":"IFERROR(((Table146135136143150316323[[#This Row],[Spare1]]+Table146135136143150316323[[#This Row],[Spare3]]+Table146135136143150316323[[#This Row],[Spare5]]+Table146135136143150316323[[#This Row],[GWP]]+Table146135136143150316323[[#This Row],[kg_lb]]+Table146135136143150316323[[#This Row],[Spare6]]+Table146135136143150316323[[#This Row],[Spare7]])*Table146135136143150316323[[#This Row],[Data \n(Corrected)]])/1000,0)","v":0}]
[null,null,null,null,null,null,null,null,null,null,null,null,null,null,null,null,null,null,null,null,null,null,null,null,null,{"$f":"SUM(Table146135136143150316323[tCO2e Emission Equivalent])","v":0},null,"tCO2e",{"$f":"Z7+Z10+Z13+Z16+Z19+Z23+Z27","v":0}]
[null,"US - EPA"]
[null,"Reporting \nyear","Entity","Location","Scope","Sub-scope","Source Pseudonym","Emission Source","Emission Pseudonym","Unit \nRequired","Data \n(Raw)","Unit Reported","Concatenate Units","Unit Conversion","Data \n(Corrected)","Unit\n(Corrected)","Spare1","Spare2","Spare3","Spare4","Spare5","GWP","kg_lb","Spare6","Spare7","tCO2e Emission Equivalent"]
[null,2021,"Camira Group, Inc","Grand Rapids",{"$f":"\"Scope_1\"","v":"Scope_1"},{"$f":"\"Fugitive\"","v":"Fugitive"},{"$f":"LOOKUP(Table146135142149317[[#This Row],[Sub-scope]],Table3578[Source],Table3578[Pseudonym])","v":"FugitiveUS"},null,{"$f":"LOOKUP(Table146135142149317[[#This Row],[Emission Source]],Table125[[Emission ]],Table125[Pseudonym])","v":{"$error":"#N/A"}},{"$f":"LOOKUP(Table146135142149317[[#This Row],[Emission Source]],Table44[Fuel Type],Table44[Unit])","v":{"$error":"#N/A"}},null,null,{"$f":"CONCATENATE(Table146135142149317[[#This Row],[Unit Reported]],Table146135142149317[[#This Row],[Unit \nRequired]])","v":{"$error":"#N/A"}},{"$f":"LOOKUP(Table146135142149317[[#This Row],[Concatenate Units]],Table43[Concatenate],Table43[Multiply By])","v":{"$error":"#N/A"}},{"$f":"IFERROR(Table146135142149317[[#This Row],[Data \n(Raw)]]*Table146135142149317[[#This Row],[Unit Conversion]],0)","v":0},{"$f":"IFERROR(Table146135142149317[[#This Row],[Unit \nRequired]],\"\")","v":""},null,null,null,null,null,{"$f":"(LOOKUP(Table146135142149317[[#This Row],[Emission Source]],Table44[Fuel Type],Table44[GWP]))","v":{"$error":"#N/A"}},{"$f":"'Conversions - US'!AA5","v":0.4536},null,null,{"$f":"IFERROR((((Table146135142149317[[#This Row],[GWP]])*Table146135142149317[[#This Row],[Data \n(Corrected)]])/1000)*Table146135142149317[[#This Row],[kg_lb]],0)","v":0}]
[null,null,null,null,null,null,null,null,null,null,null,null,null,null,null,null,null,null,null,null,null,null,null,null,null,{"$f":"SUM(Table146135142149317[tCO2e Emission Equivalent])","v":0}]

{"sheet":"2.1","index":10,"n_rows":28,"n_cols":29,"rows_kept":28,"cut":false,"hidden":false,"merged":[[22,27,24,27],[22,28,24,28],[4,27,5,28],[6,28,7,28],[9,28,10,28],[12,28,13,28],[15,28,16,28],[20,27,21,28]]}
[]
[null,"Greenhouse Gas Emission Analysis - Purchased Electricity"]
[]
[null,"UK - DBEIS/DEFRA"]
[null,"Reporting \nyear","Entity","Location","Scope","Emission Source","Source Pseudonym","Emission Sub-source","Emission Pseudonym","Unit \nRequired","Data \n(Raw)","Unit Reported","Concatenate Units","Unit Conversion","Data \n(Corrected)","Unit\n(Corrected)","CO2","CH4","Spare1","N2O","Spare2","Spare3","Spare4","Spare5","Spare6","tCO2e Emission Equivalent",null,"Workbook links"]
[null,2021,"Camira Fabrics Limited","Mirfield",{"$f":"\"Scope_2\"","v":"Scope_2"},{"$f":"\"Electricity\"","v":"Electricity"},{"$f":"LOOKUP(Table146135136143150157164171[[#This Row],[Emission Source]],Table357841[Source],Table357841[Pseudonym])","v":"ElectricityUK"},"Electricty",{"$f":"LOOKUP(Table146135136143150157164171[[#This Row],[Emission Sub-source]],Table125292[[Emission ]],Table125292[Pseudonym])","v":"ElecUK"},{"$f":"LOOKUP(Table146135136143150157164171[[#This Row],[Emission Sub-source]],Table44300[Fuel Type],Table44300[Unit])","v":"kWh"},49394,"kWh",{"$f":"CONCATENATE(Table146135136143150157164171[[#This Row],[Unit Reported]],Table146135136143150157164171[[#This Row],[Unit \nRequired]])","v":"kWhkWh"},{"$f":"LOOKUP(Table146135136143150157164171[[#This Row],[Concatenate Units]],Table43[Concatenate],Table43[Multiply By])","v":1},{"$f":"IFERROR(Table146135136143150157164171[[#This Row],[Data \n(Raw)]]*Table146135136143150157164171[[#This Row],[Unit Conversion]],0)","v":49394},{"$f":"IFERROR(Table146135136143150157164171[[#This Row],[Unit \nRequired]],\"\")","v":"kWh"},{"$f":"LOOKUP(Table146135136143150157164171[[#This Row],[Emission Sub-source]],Table44300[Fuel Type],Table44300[CO2 Factor \n(kg / Unit)])","v":0.21016000000000001},{"$f":"LOOKUP(Table146135136143150157164171[[#This Row],[Emission Sub-source]],Table44300[Fuel Type],Table44300[CH4 Factor \n(g / unit)])","v":8.0000000000000004E-4},null,{"$f":"LOOKUP(Table146135136143150157164171[[#This Row],[Emission Sub-source]],Table44300[Fuel Type],Table44300[N2O Factor \n(g / unit)])","v":1.3699999999999999E-3},null,null,null,null,null,{"$f":"IFERROR(((Table146135136143150157164171[[#This Row],[CO2]]+Table146135136143150157164171[[#This Row],[CH4]]+Table146135136143150157164171[[#This Row],[N2O]])*Table146135136143150157164171[[#This Row],[Data \n(Corrected)]])/1000,0)","v":10.48782802}]
[null,null,null,null,null,null,null,null,null,null,null,null,null,null,null,null,null,null,null,null,null,null,null,null,null,{"$f":"SUM(Table146135136143150157164171[tCO2e Emission Equivalent])","v":10.48782802},null,null,"GHG Reporting \nProcess"]
[null,"Reporting \nyear","Entity","Location","Scope","Emission Source","Source Pseudonym","Emission Sub-source","Emission Pseudonym","Unit \nRequired","Data \n(Raw)","Unit Reported","Concatenate Units","Unit Conversion","Data \n(Corrected)","Unit\n(Corrected)","CO2","CH4","Spare1","N2O","Spare2","Spare3","Spare4","Spare5","Spare6","tCO2e Emission Equivalent"]
[null,2021,"Camira Fabrics Limited","Meltham",{"$f":"\"Scope_2\"","v":"Scope_2"},{"$f":"\"Electricity\"","v":"Electricity"},{"$f":"LOOKUP(Table146135136143150157164171324[[#This Row],[Emission Source]],Table357841[Source],Table357841[Pseudonym])","v":"ElectricityUK"},"Electricty",{"$f":"LOOKUP(Table146135136143150157164171324[[#This Row],[Emission Sub-source]],Table125292[[Emission ]],Table125292[Pseudonym])","v":"ElecUK"},{"$f":"LOOKUP(Table146135136143150157164171324[[#This Row],[Emission Sub-source]],Table44300[Fuel Type],Table44300[Unit])","v":"kWh"},4254751,"kWh",{"$f":"CONCATENATE(Table146135136143150157164171324[[#This Row],[Unit Reported]],Table146135136143150157164171324[[#This Row],[Unit \nRequired]])","v":"kWhkWh"},{"$f":"LOOKUP(Table146135136143150157164171324[[#This Row],[Concatenate Units]],Table43[Concatenate],Table43[Multiply By])","v":1},{"$f":"IFERROR(Table146135136143150157164171324[[#This Row],[Data \n(Raw)]]*Table146135136143150157164171324[[#This Row],[Unit Conversion]],0)","v":4254751},{"$f":"IFERROR(Table146135136143150157164171324[[#This Row],[Unit \nRequired]],\"\")","v":"kWh"},{"$f":"LOOKUP(Table146135136143150157164171324[[#This Row],[Emission Sub-source]],Table44300[Fuel Type],Table44300[CO2 Factor \n(kg / Unit)])","v":0.21016000000000001},{"$f":"LOOKUP(Table146135136143150157164171324[[#This Row],[Emission Sub-source]],Table44300[Fuel Type],Table44300[CH4 Factor \n(g / unit)])","v":8.0000000000000004E-4},null,{"$f":"LOOKUP(Table146135136143150157164171324[[#This Row],[Emission Sub-source]],Table44300[Fuel Type],Table44300[N2O Factor \n(g / unit)])","v":1.3699999999999999E-3},null,null,null,null,null,{"$f":"IFERROR(((Table146135136143150157164171324[[#This Row],[CO2]]+Table146135136143150157164171324[[#This Row],[CH4]]+Table146135136143150157164171324[[#This Row],[N2O]])*Table146135136143150157164171324[[#This Row],[Data \n(Corrected)]])/1000,0)","v":903.41127983000013}]
[null,null,null,null,null,null,null,null,null,null,null,null,null,null,null,null,null,null,null,null,null,null,null,null,null,{"$f":"SUM(Table146135136143150157164171324[tCO2e Emission Equivalent])","v":903.41127983000013},null,null,"GHG \nQuestionnaire"]
[null,"Reporting \nyear","Entity","Location","Scope","Emission Source","Source Pseudonym","Emission Sub-source","Emission Pseudonym","Unit \nRequired","Data \n(Raw)","Unit Reported","Concatenate Units","Unit Conversion","Data \n(Corrected)","Unit\n(Corrected)","CO2","CH4","Spare1","N2O","Spare2","Spare3","Spare4","Spare5","Spare6","tCO2e Emission Equivalent"]
[null,2021,"Camira Fabrics Limited","Nottingham",{"$f":"\"Scope_2\"","v":"Scope_2"},{"$f":"\"Electricity\"","v":"Electricity"},{"$f":"LOOKUP(Table146135136143150157164171325[[#This Row],[Emission Source]],Table357841[Source],Table357841[Pseudonym])","v":"ElectricityUK"},"Electricty",{"$f":"LOOKUP(Table146135136143150157164171325[[#This Row],[Emission Sub-source]],Table125292[[Emission ]],Table125292[Pseudonym])","v":"ElecUK"},{"$f":"LOOKUP(Table146135136143150157164171325[[#This Row],[Emission Sub-source]],Table44300[Fuel Type],Table44300[Unit])","v":"kWh"},217317,"kWh",{"$f":"CONCATENATE(Table146135136143150157164171325[[#This Row],[Unit Reported]],Table146135136143150157164171325[[#This Row],[Unit \nRequired]])","v":"kWhkWh"},{"$f":"LOOKUP(Table146135136143150157164171325[[#This Row],[Concatenate Units]],Table43[Concatenate],Table43[Multiply By])","v":1},{"$f":"IFERROR(Table146135136143150157164171325[[#This Row],[Data \n(Raw)]]*Table146135136143150157164171325[[#This Row],[Unit Conversion]],0)","v":217317},{"$f":"IFERROR(Table146135136143150157164171325[[#This Row],[Unit \nRequired]],\"\")","v":"kWh"},{"$f":"LOOKUP(Table146135136143150157164171325[[#This Row],[Emission Sub-source]],Table44300[Fuel Type],Table44300[CO2 Factor \n(kg / Unit)])","v":0.21016000000000001},{"$f":"LOOKUP(Table146135136143150157164171325[[#This Row],[Emission Sub-source]],Table44300[Fuel Type],Table44300[CH4 Factor \n(g / unit)])","v":8.0000000000000004E-4},null,{"$f":"LOOKUP(Table146135136143150157164171325[[#This Row],[Emission Sub-source]],Table44300[Fuel Type],Table44300[N2O Factor \n(g / unit)])","v":1.3699999999999999E-3},null,null,null,null,null,{"$f":"IFERROR(((Table146135136143150157164171325[[#This Row],[CO2]]+Table146135136143150157164171325[[#This Row],[CH4]]+Table146135136143150157164171325[[#This Row],[N2O]])*Table146135136143150157164171325[[#This Row],[Data \n(Corrected)]])/1000,0)","v":46.142918610000002}]
[null,2021,"Camira Fabrics Limited","Nottingham",{"$f":"\"Scope_2\"","v":"Scope_2"},{"$f":"\"Electricity\"","v":"Electricity"},{"$f":"LOOKUP(Table146135136143150157164171325[[#This Row],[Emission Source]],Table357841[Source],Table357841[Pseudonym])","v":"ElectricityUK"},"Electricty",{"$f":"LOOKUP(Table146135136143150157164171325[[#This Row],[Emission Sub-source]],Table125292[[Emission ]],Table125292[Pseudonym])","v":"ElecUK"},{"$f":"LOOKUP(Table146135136143150157164171325[[#This Row],[Emission Sub-source]],Table44300[Fuel Type],Table44300[Unit])","v":"kWh"},1940,"kWh",{"$f":"CONCATENATE(Table146135136143150157164171325[[#This Row],[Unit Reported]],Table146135136143150157164171325[[#This Row],[Unit \nRequired]])","v":"kWhkWh"},{"$f":"LOOKUP(Table146135136143150157164171325[[#This Row],[Concatenate Units]],Table43[Concatenate],Table43[Multiply By])","v":1},{"$f":"IFERROR(Table146135136143150157164171325[[#This Row],[Data \n(Raw)]]*Table146135136143150157164171325[[#This Row],[Unit Conversion]],0)","v":1940},{"$f":"IFERROR(Table146135136143150157164171325[[#This Row],[Unit \nRequired]],\"\")","v":"kWh"},{"$f":"LOOKUP(Table146135136143150157164171325[[#This Row],[Emission Sub-source]],Table44300[Fuel Type],Table44300[CO2 Factor \n(kg / Unit)])","v":0.21016000000000001},{"$f":"LOOKUP(Table146135136143150157164171325[[#This Row],[Emission Sub-source]],Table44300[Fuel Type],Table44300[CH4 Factor \n(g / unit)])","v":8.0000000000000004E-4},null,{"$f":"LOOKUP(Table146135136143150157164171325[[#This Row],[Emission Sub-source]],Table44300[Fuel Type],Table44300[N2O Factor \n(g / unit)])","v":1.3699999999999999E-3},null,null,null,null,null,{"$f":"IFERROR(((Table146135136143150157164171325[[#This Row],[CO2]]+Table146135136143150157164171325[[#This Row],[CH4]]+Table146135136143150157164171325[[#This Row],[N2O]])*Table146135136143150157164171325[[#This Row],[Data \n(Corrected)]])/1000,0)","v":0.41192020000000001},null,null,"GHG Statement \nof Applicability"]
[null,null,null,null,null,null,null,null,null,null,null,null,null,null,null,null,null,null,null,null,null,null,null,null,null,{"$f":"SUM(Table146135136143150157164171325[tCO2e Emission Equivalent])","v":46.55483881}]
[null,"Reporting \nyear","Entity","Location","Scope","Emission Source","Source Pseudonym","Emission Sub-source","Emission Pseudonym","Unit \nRequired","Data \n(Raw)","Unit Reported","Concatenate Units","Unit Conversion","Data \n(Corrected)","Unit\n(Corrected)","CO2","CH4","Spare1","N2O","Spare2","Spare3","Spare4","Spare5","Spare6","tCO2e Emission Equivalent"]
[null,2021,"Camira Yarns Limited","Birkby",{"$f":"\"Scope_2\"","v":"Scope_2"},{"$f":"\"Electricity\"","v":"Electricity"},{"$f":"LOOKUP(Table146135136143150157164171326[[#This Row],[Emission Source]],Table357841[Source],Table357841[Pseudonym])","v":"ElectricityUK"},"Electricty",{"$f":"LOOKUP(Table146135136143150157164171326[[#This Row],[Emission Sub-source]],Table125292[[Emission ]],Table125292[Pseudonym])","v":"ElecUK"},{"$f":"LOOKUP(Table146135136143150157164171326[[#This Row],[Emission Sub-source]],Table44300[Fuel Type],Table44300[Unit])","v":"kWh"},2029424,"kWh",{"$f":"CONCATENATE(Table146135136143150157164171326[[#This Row],[Unit Reported]],Table146135136143150157164171326[[#This Row],[Unit \nRequired]])","v":"kWhkWh"},{"$f":"LOOKUP(Table146135136143150157164171326[[#This Row],[Concatenate Units]],Table43[Concatenate],Table43[Multiply By])","v":1},{"$f":"IFERROR(Table146135136143150157164171326[[#This Row],[Data \n(Raw)]]*Table146135136143150157164171326[[#This Row],[Unit Conversion]],0)","v":2029424},{"$f":"IFERROR(Table146135136143150157164171326[[#This Row],[Unit \nRequired]],\"\")","v":"kWh"},{"$f":"LOOKUP(Table146135136143150157164171326[[#This Row],[Emission Sub-source]],Table44300[Fuel Type],Table44300[CO2 Factor \n(kg / Unit)])","v":0.21016000000000001},{"$f":"LOOKUP(Table146135136143150157164171326[[#This Row],[Emission Sub-source]],Table44300[Fuel Type],Table44300[CH4 Factor \n(g / unit)])","v":8.0000000000000004E-4},null,{"$f":"LOOKUP(Table146135136143150157164171326[[#This Row],[Emission Sub-source]],Table44300[Fuel Type],Table44300[N2O Factor \n(g / unit)])","v":1.3699999999999999E-3},null,null,null,null,null,{"$f":"IFERROR(((Table146135136143150157164171326[[#This Row],[CO2]]+Table146135136143150157164171326[[#This Row],[CH4]]+Table146135136143150157164171326[[#This Row],[N2O]])*Table146135136143150157164171326[[#This Row],[Data \n(Corrected)]])/1000,0)","v":430.90759792000006},null,null,"GHG Summary \nReport"]
[null,null,null,null,null,null,null,null,null,null,null,null,null,null,null,null,null,null,null,null,null,null,null,null,null,{"$f":"SUM(Table146135136143150157164171326[tCO2e Emission Equivalent])","v":430.90759792000006}]
[null,"Reporting \nyear","Entity","Location","Scope","Emission Source","Source Pseudonym","Emission Sub-source","Emission Pseudonym","Unit \nRequired","Data \n(Raw)","Unit Reported","Concatenate Units","Unit Conversion","Data \n(Corrected)","Unit\n(Corrected)","CO2","CH4","Spare1","N2O","Spare2","Spare3","Spare4","Spare5","Spare6","tCO2e Emission Equivalent"]
[null,2021,"Holmfirth Dyers Limited","Holmfirth",{"$f":"\"Scope_2\"","v":"Scope_2"},{"$f":"\"Electricity\"","v":"Electricity"},{"$f":"LOOKUP(Table146135136143150157164171327[[#This Row],[Emission Source]],Table357841[Source],Table357841[Pseudonym])","v":"ElectricityUK"},"Electricty",{"$f":"LOOKUP(Table146135136143150157164171327[[#This Row],[Emission Sub-source]],Table125292[[Emission ]],Table125292[Pseudonym])","v":"ElecUK"},{"$f":"LOOKUP(Table146135136143150157164171327[[#This Row],[Emission Sub-source]],Table44300[Fuel Type],Table44300[Unit])","v":"kWh"},1894364,"kWh",{"$f":"CONCATENATE(Table146135136143150157164171327[[#This Row],[Unit Reported]],Table146135136143150157164171327[[#This Row],[Unit \nRequired]])","v":"kWhkWh"},{"$f":"LOOKUP(Table146135136143150157164171327[[#This Row],[Concatenate Units]],Table43[Concatenate],Table43[Multiply By])","v":1},{"$f":"IFERROR(Table146135136143150157164171327[[#This Row],[Data \n(Raw)]]*Table146135136143150157164171327[[#This Row],[Unit Conversion]],0)","v":1894364},{"$f":"IFERROR(Table146135136143150157164171327[[#This Row],[Unit \nRequired]],\"\")","v":"kWh"},{"$f":"LOOKUP(Table146135136143150157164171327[[#This Row],[Emission Sub-source]],Table44300[Fuel Type],Table44300[CO2 Factor \n(kg / Unit)])","v":0.21016000000000001},{"$f":"LOOKUP(Table146135136143150157164171327[[#This Row],[Emission Sub-source]],Table44300[Fuel Type],Table44300[CH4 Factor \n(g / unit)])","v":8.0000000000000004E-4},null,{"$f":"LOOKUP(Table146135136143150157164171327[[#This Row],[Emission Sub-source]],Table44300[Fuel Type],Table44300[N2O Factor \n(g / unit)])","v":1.3699999999999999E-3},null,null,null,null,null,{"$f":"IFERROR(((Table146135136143150157164171327[[#This Row],[CO2]]+Table146135136143150157164171327[[#This Row],[CH4]]+Table146135136143150157164171327[[#This Row],[N2O]])*Table146135136143150157164171327[[#This Row],[Data \n(Corrected)]])/1000,0)","v":402.23030812000007}]
[null,null,null,null,null,null,null,null,null,null,null,null,null,null,null,null,null,null,null,null,null,null,null,null,null,{"$f":"SUM(Table146135136143150157164171327[tCO2e Emission Equivalent])","v":402.23030812000007}]
[null,"EUR - ??",null,null,null,null,null,null,null,null,null,null,null,null,null,null,null,null,null,null,null,null,null,null,null,null,null,"Scope Emissions"]
[null,"Reporting \nyear","Entity","Location","Scope","Emission Source","Source Pseudonym","Emission Sub-source","Emission Pseudonym","Unit \nRequired","Data \n(Raw)","Unit Reported","Concatenate Units","Unit Conversion","Data \n(Corrected)","Unit\n(Corrected)","CO2","CH4","Spare1","N2O","Spare2","Spare3","Spare4","Spare5","Spare6","tCO2e Emission Equivalent"]
[null,2021,"UAB Camira Fabrics","Lithuania",{"$f":"\"Scope_2\"","v":"Scope_2"},{"$f":"\"Electricity\"","v":"Electricity"},{"$f":"LOOKUP(Table146135136143150157164171328[[#This Row],[Emission Source]],Table357841[Source],Table357841[Pseudonym])","v":"ElectricityUK"},"Electricty",{"$f":"LOOKUP(Table146135136143150157164171328[[#This Row],[Emission Sub-source]],Table125292[[Emission ]],Table125292[Pseudonym])","v":"ElecUK"},{"$f":"LOOKUP(Table146135136143150157164171328[[#This Row],[Emission Sub-source]],Table44300[Fuel Type],Table44300[Unit])","v":"kWh"},1636131,"kWh",{"$f":"CONCATENATE(Table146135136143150157164171328[[#This Row],[Unit Reported]],Table146135136143150157164171328[[#This Row],[Unit \nRequired]])","v":"kWhkWh"},{"$f":"LOOKUP(Table146135136143150157164171328[[#This Row],[Concatenate Units]],Table43[Concatenate],Table43[Multiply By])","v":1},{"$f":"IFERROR(Table146135136143150157164171328[[#This Row],[Data \n(Raw)]]*Table146135136143150157164171328[[#This Row],[Unit Conversion]],0)","v":1636131},{"$f":"IFERROR(Table146135136143150157164171328[[#This Row],[Unit \nRequired]],\"\")","v":"kWh"},{"$f":"LOOKUP(Table146135136143150157164171328[[#This Row],[Emission Sub-source]],Table44300[Fuel Type],Table44300[CO2 Factor \n(kg / Unit)])","v":0.21016000000000001},{"$f":"LOOKUP(Table146135136143150157164171328[[#This Row],[Emission Sub-source]],Table44300[Fuel Type],Table44300[CH4 Factor \n(g / unit)])","v":8.0000000000000004E-4},null,{"$f":"LOOKUP(Table146135136143150157164171328[[#This Row],[Emission Sub-source]],Table44300[Fuel Type],Table44300[N2O Factor \n(g / unit)])","v":1.3699999999999999E-3},null,null,null,null,null,{"$f":"IFERROR(((Table146135136143150157164171328[[#This Row],[CO2]]+Table146135136143150157164171328[[#This Row],[CH4]]+Table146135136143150157164171328[[#This Row],[N2O]])*Table146135136143150157164171328[[#This Row],[Data \n(Corrected)]])/1000,0)","v":347.39969523000002},null,"tCO2e",{"$f":"Z7+Z10+Z14+Z17+Z20+Z24+Z28","v":2167.6834413998963}]
[null,null,null,null,null,null,null,null,null,null,null,null,null,null,null,null,null,null,null,null,null,null,null,null,null,{"$f":"SUM(Table146135136143150157164171328[tCO2e Emission Equivalent])","v":347.39969523000002}]
[null,"US - EPA"]
[null,"Reporting \nyear","Entity","Location","Scope","Emission Source","Source Pseudonym","Emission Sub-source","Emission Pseudonym","Unit \nRequired","Data \n(Raw)","Unit Reported","Concatenate Units","Unit Conversion","Data \n(Corrected)","Unit\n(Corrected)","CO2","CH4","CH4 Corrected","N2O","N2O Corrected","kg_lb","Electricity correction","Spare1","Spare2","tCO2e Emission Equivalent"]
[null,2021,"Camira Group, Inc","Grand Rapids",{"$f":"\"Scope_2\"","v":"Scope_2"},{"$f":"\"Electricity\"","v":"Electricity"},{"$f":"LOOKUP(Table146135142149156163170[[#This Row],[Emission Source]],Table3578[Source],Table3578[Pseudonym])","v":"ElectricityUS"},"RFCM (RFC Michigan)",{"$f":"LOOKUP(Table146135142149156163170[[#This Row],[Emission Sub-source]],Table125[[Emission ]],Table125[Pseudonym])","v":"ElecUS"},{"$f":"LOOKUP(Table146135142149156163170[[#This Row],[Emission Sub-source]],Table44[Fuel Type],Table44[Unit])","v":"kWh"},49478,"kWh",{"$f":"CONCATENATE(Table146135142149156163170[[#This Row],[Unit Reported]],Table146135142149156163170[[#This Row],[Unit \nRequired]])","v":"kWhkWh"},{"$f":"LOOKUP(Table146135142149156163170[[#This Row],[Concatenate Units]],Table43[Concatenate],Table43[Multiply By])","v":1},{"$f":"IFERROR(Table146135142149156163170[[#This Row],[Data \n(Raw)]]*Table146135142149156163170[[#This Row],[Unit Conversion]],0)","v":49478},{"$f":"IFERROR(Table146135142149156163170[[#This Row],[Unit \nRequired]],\"\")","v":"kWh"},{"$f":"LOOKUP(Table146135142149156163170[[#This Row],[Emission Sub-source]],Table44[Fuel Type],Table44[CO2 Factor \n(kg / Unit)])","v":1189.3},{"$f":"LOOKUP(Table146135142149156163170[[#This Row],[Emission Sub-source]],Table44[Fuel Type],Table44[CH4 Factor \n(g / unit)])","v":0.114},{"$f":"(Table146135142149156163170[[#This Row],[CH4]]/1000)*25","v":2.8500000000000001E-3},{"$f":"LOOKUP(Table146135142149156163170[[#This Row],[Emission Sub-source]],Table44[Fuel Type],Table44[N2O Factor \n(g / unit)])","v":1.6E-2},{"$f":"(Table146135142149156163170[[#This Row],[N2O]]/1000)*298","v":4.7679999999999997E-3},{"$f":"'Conversions - US'!AA4","v":0.4536},{"$f":"((Table146135142149156163170[[#This Row],[CO2]]+Table146135142149156163170[[#This Row],[CH4 Corrected]]+Table146135142149156163170[[#This Row],[N2O Corrected]])*Table146135142149156163170[[#This Row],[Data \n(Corrected)]])/1000","v":58844.562323403996},null,null,{"$f":"IFERROR((Table146135142149156163170[[#This Row],[Electricity correction]]*Table146135142149156163170[[#This Row],[kg_lb]])/1000,0)","v":26.691893469896051}]
[null,null,null,null,null,null,null,null,null,null,null,null,null,null,null,null,null,null,null,null,null,null,null,null,null,{"$f":"SUM(Table146135142149156163170[tCO2e Emission Equivalent])","v":26.691893469896051}]

{"sheet":"2.2","index":11,"n_rows":26,"n_cols":26,"rows_kept":26,"cut":false,"hidden":true,"merged":[]}
[]
[null,"Greenhouse Gas Emission Analysis - Purchased Steam"]
[]
[null,"UK - DBEIS/DEFRA"]
[null,"Reporting \nyear","Entity","Location","Scope","Emission Source","Source Pseudonym","Emission Sub-source","Emission Pseudonym","Unit \nRequired","Data \n(Raw)","Unit Reported","Concatenate Units","Unit Conversion","Data \n(Corrected)","Unit\n(Corrected)","CO2","CH4","CH4 Corrected","N2O","N2O Corrected","GWP","Recycled","Landfill","Combusted","tCO2e Emission Equivalent"]
[null,2021,"Camira Fabrics Limited","Mirfield","Scope_1","Stationary",{"$f":"LOOKUP(Table146135136143150157164171178[[#This Row],[Emission Source]],Table3578[Source],Table3578[Pseudonym])","v":"StationaryUS"},"Natural Gas",{"$f":"LOOKUP(Table146135136143150157164171178[[#This Row],[Emission Sub-source]],Table125[[Emission ]],Table125[Pseudonym])","v":"NaturalGasUS"},{"$f":"LOOKUP(Table146135136143150157164171178[[#This Row],[Emission Sub-source]],Table44[Fuel Type],Table44[Unit])","v":"scf"},100000,"scf",{"$f":"CONCATENATE(Table146135136143150157164171178[[#This Row],[Unit Reported]],Table146135136143150157164171178[[#This Row],[Unit \nRequired]])","v":"scfscf"},{"$f":"LOOKUP(Table146135136143150157164171178[[#This Row],[Concatenate Units]],Table43[Concatenate],Table43[Multiply By])","v":1},{"$f":"Table146135136143150157164171178[[#This Row],[Data \n(Raw)]]*Table146135136143150157164171178[[#This Row],[Unit Conversion]]","v":100000},{"$f":"Table146135136143150157164171178[[#This Row],[Unit \nRequired]]","v":"scf"},{"$f":"LOOKUP(Table146135136143150157164171178[[#This Row],[Emission Sub-source]],Table44[Fuel Type],Table44[CO2 Factor \n(kg / Unit)])","v":5.4440000000000002E-2},{"$f":"LOOKUP(Table146135136143150157164171178[[#This Row],[Emission Sub-source]],Table44[Fuel Type],Table44[CH4 Factor \n(g / unit)])","v":1.0300000000000001E-3},{"$f":"(Table146135136143150157164171178[[#This Row],[CH4]]/1000)*25","v":2.5750000000000002E-5},{"$f":"LOOKUP(Table146135136143150157164171178[[#This Row],[Emission Sub-source]],Table44[Fuel Type],Table44[N2O Factor \n(g / unit)])","v":1E-4},{"$f":"(Table146135136143150157164171178[[#This Row],[N2O]]/1000)*298","v":2.9800000000000003E-5},{"$f":"(LOOKUP(Table146135136143150157164171178[[#This Row],[Emission Sub-source]],Table44[Fuel Type],Table44[GWP]))","v":0},{"$f":"Table146135136143150157164171178[[#This Row],[Data \n(Corrected)]]*(LOOKUP(Table146135136143150157164171178[[#This Row],[Emission Sub-source]],Table44[Fuel Type],Table44[Recycled CO2 Factor]))","v":0},{"$f":"Table146135136143150157164171178[[#This Row],[Data \n(Corrected)]]*(LOOKUP(Table146135136143150157164171178[[#This Row],[Emission Sub-source]],Table44[Fuel Type],Table44[Landfill CO2 Factor]))","v":0},{"$f":"Table146135136143150157164171178[[#This Row],[Data \n(Corrected)]]*(LOOKUP(Table146135136143150157164171178[[#This Row],[Emission Sub-source]],Table44[Fuel Type],Table44[Combusted CO2 Factor]))","v":0},{"$f":"((Table146135136143150157164171178[[#This Row],[CO2]]+Table146135136143150157164171178[[#This Row],[CH4 Corrected]]+Table146135136143150157164171178[[#This Row],[N2O Corrected]]+Table146135136143150157164171178[[#This Row],[GWP]]+Table146135136143150157164171178[[#This Row],[Recycled]]+Table146135136143150157164171178[[#This Row],[Landfill]]+Table146135136143150157164171178[[#This Row],[Combusted]])*Table146135136143150157164171178[[#This Row],[Data \n(Corrected)]])/1000","v":5.4495550000000001}]
[]
[null,"Reporting \nyear","Entity","Location","Scope","Emission Source","Source Pseudonym","Emission Sub-source","Emission Pseudonym","Unit \nRequired","Data \n(Raw)","Unit Reported","Concatenate Units","Unit Conversion","Data \n(Corrected)","Unit\n(Corrected)","CO2","CH4","CH4 Corrected","N2O","N2O Corrected","GWP","Recycled","Landfill","Combusted","tCO2e Emission Equivalent"]
[null,2021,"Camira Fabrics Limited","Meltham","Scope_1","Stationary",{"$f":"LOOKUP(Table146135136137144151158165172179[[#This Row],[Emission Source]],Table3578[Source],Table3578[Pseudonym])","v":"StationaryUS"},"Natural Gas",{"$f":"LOOKUP(Table146135136137144151158165172179[[#This Row],[Emission Sub-source]],Table125[[Emission ]],Table125[Pseudonym])","v":"NaturalGasUS"},{"$f":"LOOKUP(Table146135136137144151158165172179[[#This Row],[Emission Sub-source]],Table44[Fuel Type],Table44[Unit])","v":"scf"},100000,"scf",{"$f":"CONCATENATE(Table146135136137144151158165172179[[#This Row],[Unit Reported]],Table146135136137144151158165172179[[#This Row],[Unit \nRequired]])","v":"scfscf"},{"$f":"LOOKUP(Table146135136137144151158165172179[[#This Row],[Concatenate Units]],Table43[Concatenate],Table43[Multiply By])","v":1},{"$f":"Table146135136137144151158165172179[[#This Row],[Data \n(Raw)]]*Table146135136137144151158165172179[[#This Row],[Unit Conversion]]","v":100000},{"$f":"Table146135136137144151158165172179[[#This Row],[Unit \nRequired]]","v":"scf"},{"$f":"LOOKUP(Table146135136137144151158165172179[[#This Row],[Emission Sub-source]],Table44[Fuel Type],Table44[CO2 Factor \n(kg / Unit)])","v":5.4440000000000002E-2},{"$f":"LOOKUP(Table146135136137144151158165172179[[#This Row],[Emission Sub-source]],Table44[Fuel Type],Table44[CH4 Factor \n(g / unit)])","v":1.0300000000000001E-3},{"$f":"(Table146135136137144151158165172179[[#This Row],[CH4]]/1000)*25","v":2.5750000000000002E-5},{"$f":"LOOKUP(Table146135136137144151158165172179[[#This Row],[Emission Sub-source]],Table44[Fuel Type],Table44[N2O Factor \n(g / unit)])","v":1E-4},{"$f":"(Table146135136137144151158165172179[[#This Row],[N2O]]/1000)*298","v":2.9800000000000003E-5},{"$f":"(LOOKUP(Table146135136137144151158165172179[[#This Row],[Emission Sub-source]],Table44[Fuel Type],Table44[GWP]))","v":0},{"$f":"Table146135136137144151158165172179[[#This Row],[Data \n(Corrected)]]*(LOOKUP(Table146135136137144151158165172179[[#This Row],[Emission Sub-source]],Table44[Fuel Type],Table44[Recycled CO2 Factor]))","v":0},{"$f":"Table146135136137144151158165172179[[#This Row],[Data \n(Corrected)]]*(LOOKUP(Table146135136137144151158165172179[[#This Row],[Emission Sub-source]],Table44[Fuel Type],Table44[Landfill CO2 Factor]))","v":0},{"$f":"Table146135136137144151158165172179[[#This Row],[Data \n(Corrected)]]*(LOOKUP(Table146135136137144151158165172179[[#This Row],[Emission Sub-source]],Table44[Fuel Type],Table44[Combusted CO2 Factor]))","v":0},{"$f":"((Table146135136137144151158165172179[[#This Row],[CO2]]+Table146135136137144151158165172179[[#This Row],[CH4 Corrected]]+Table146135136137144151158165172179[[#This Row],[N2O Corrected]]+Table146135136137144151158165172179[[#This Row],[GWP]]+Table146135136137144151158165172179[[#This Row],[Recycled]]+Table146135136137144151158165172179[[#This Row],[Landfill]]+Table146135136137144151158165172179[[#This Row],[Combusted]])*Table146135136137144151158165172179[[#This Row],[Data \n(Corrected)]])/1000","v":5.4495550000000001}]
[]
[null,"Reporting \nyear","Entity","Location","Scope","Emission Source","Source Pseudonym","Emission Sub-source","Emission Pseudonym","Unit \nRequired","Data \n(Raw)","Unit Reported","Concatenate Units","Unit Conversion","Data \n(Corrected)","Unit\n(Corrected)","CO2","CH4","CH4 Corrected","N2O","N2O Corrected","GWP","Recycled","Landfill","Combusted","tCO2e Emission Equivalent"]
[null,2021,"Camira Fabrics Limited","Nottingham","Scope_1","Stationary",{"$f":"LOOKUP(Table146135136137138145152159166173180[[#This Row],[Emission Source]],Table3578[Source],Table3578[Pseudonym])","v":"StationaryUS"},"Natural Gas",{"$f":"LOOKUP(Table146135136137138145152159166173180[[#This Row],[Emission Sub-source]],Table125[[Emission ]],Table125[Pseudonym])","v":"NaturalGasUS"},{"$f":"LOOKUP(Table146135136137138145152159166173180[[#This Row],[Emission Sub-source]],Table44[Fuel Type],Table44[Unit])","v":"scf"},100000,"scf",{"$f":"CONCATENATE(Table146135136137138145152159166173180[[#This Row],[Unit Reported]],Table146135136137138145152159166173180[[#This Row],[Unit \nRequired]])","v":"scfscf"},{"$f":"LOOKUP(Table146135136137138145152159166173180[[#This Row],[Concatenate Units]],Table43[Concatenate],Table43[Multiply By])","v":1},{"$f":"Table146135136137138145152159166173180[[#This Row],[Data \n(Raw)]]*Table146135136137138145152159166173180[[#This Row],[Unit Conversion]]","v":100000},{"$f":"Table146135136137138145152159166173180[[#This Row],[Unit \nRequired]]","v":"scf"},{"$f":"LOOKUP(Table146135136137138145152159166173180[[#This Row],[Emission Sub-source]],Table44[Fuel Type],Table44[CO2 Factor \n(kg / Unit)])","v":5.4440000000000002E-2},{"$f":"LOOKUP(Table146135136137138145152159166173180[[#This Row],[Emission Sub-source]],Table44[Fuel Type],Table44[CH4 Factor \n(g / unit)])","v":1.0300000000000001E-3},{"$f":"(Table146135136137138145152159166173180[[#This Row],[CH4]]/1000)*25","v":2.5750000000000002E-5},{"$f":"LOOKUP(Table146135136137138145152159166173180[[#This Row],[Emission Sub-source]],Table44[Fuel Type],Table44[N2O Factor \n(g / unit)])","v":1E-4},{"$f":"(Table146135136137138145152159166173180[[#This Row],[N2O]]/1000)*298","v":2.9800000000000003E-5},{"$f":"(LOOKUP(Table146135136137138145152159166173180[[#This Row],[Emission Sub-source]],Table44[Fuel Type],Table44[GWP]))","v":0},{"$f":"Table146135136137138145152159166173180[[#This Row],[Data \n(Corrected)]]*(LOOKUP(Table146135136137138145152159166173180[[#This Row],[Emission Sub-source]],Table44[Fuel Type],Table44[Recycled CO2 Factor]))","v":0},{"$f":"Table146135136137138145152159166173180[[#This Row],[Data \n(Corrected)]]*(LOOKUP(Table146135136137138145152159166173180[[#This Row],[Emission Sub-source]],Table44[Fuel Type],Table44[Landfill CO2 Factor]))","v":0},{"$f":"Table146135136137138145152159166173180[[#This Row],[Data \n(Corrected)]]*(LOOKUP(Table146135136137138145152159166173180[[#This Row],[Emission Sub-source]],Table44[Fuel Type],Table44[Combusted CO2 Factor]))","v":0},{"$f":"((Table146135136137138145152159166173180[[#This Row],[CO2]]+Table146135136137138145152159166173180[[#This Row],[CH4 Corrected]]+Table146135136137138145152159166173180[[#This Row],[N2O Corrected]]+Table146135136137138145152159166173180[[#This Row],[GWP]]+Table146135136137138145152159166173180[[#This Row],[Recycled]]+Table146135136137138145152159166173180[[#This Row],[Landfill]]+Table146135136137138145152159166173180[[#This Row],[Combusted]])*Table146135136137138145152159166173180[[#This Row],[Data \n(Corrected)]])/1000","v":5.4495550000000001}]
[]
[null,"Reporting \nyear","Entity","Location","Scope","Emission Source","Source Pseudonym","Emission Sub-source","Emission Pseudonym","Unit \nRequired","Data \n(Raw)","Unit Reported","Concatenate Units","Unit Conversion","Data \n(Corrected)","Unit\n(Corrected)","CO2","CH4","CH4 Corrected","N2O","N2O Corrected","GWP","Recycled","Landfill","Combusted","tCO2e Emission Equivalent"]
[null,2021,"Camira Fabrics Limited","Birkby","Scope_1","Stationary",{"$f":"LOOKUP(Table146135136137138139146153160167174181[[#This Row],[Emission Source]],Table3578[Source],Table3578[Pseudonym])","v":"StationaryUS"},"Natural Gas",{"$f":"LOOKUP(Table146135136137138139146153160167174181[[#This Row],[Emission Sub-source]],Table125[[Emission ]],Table125[Pseudonym])","v":"NaturalGasUS"},{"$f":"LOOKUP(Table146135136137138139146153160167174181[[#This Row],[Emission Sub-source]],Table44[Fuel Type],Table44[Unit])","v":"scf"},100000,"scf",{"$f":"CONCATENATE(Table146135136137138139146153160167174181[[#This Row],[Unit Reported]],Table146135136137138139146153160167174181[[#This Row],[Unit \nRequired]])","v":"scfscf"},{"$f":"LOOKUP(Table146135136137138139146153160167174181[[#This Row],[Concatenate Units]],Table43[Concatenate],Table43[Multiply By])","v":1},{"$f":"Table146135136137138139146153160167174181[[#This Row],[Data \n(Raw)]]*Table146135136137138139146153160167174181[[#This Row],[Unit Conversion]]","v":100000},{"$f":"Table146135136137138139146153160167174181[[#This Row],[Unit \nRequired]]","v":"scf"},{"$f":"LOOKUP(Table146135136137138139146153160167174181[[#This Row],[Emission Sub-source]],Table44[Fuel Type],Table44[CO2 Factor \n(kg / Unit)])","v":5.4440000000000002E-2},{"$f":"LOOKUP(Table146135136137138139146153160167174181[[#This Row],[Emission Sub-source]],Table44[Fuel Type],Table44[CH4 Factor \n(g / unit)])","v":1.0300000000000001E-3},{"$f":"(Table146135136137138139146153160167174181[[#This Row],[CH4]]/1000)*25","v":2.5750000000000002E-5},{"$f":"LOOKUP(Table146135136137138139146153160167174181[[#This Row],[Emission Sub-source]],Table44[Fuel Type],Table44[N2O Factor \n(g / unit)])","v":1E-4},{"$f":"(Table146135136137138139146153160167174181[[#This Row],[N2O]]/1000)*298","v":2.9800000000000003E-5},{"$f":"(LOOKUP(Table146135136137138139146153160167174181[[#This Row],[Emission Sub-source]],Table44[Fuel Type],Table44[GWP]))","v":0},{"$f":"Table146135136137138139146153160167174181[[#This Row],[Data \n(Corrected)]]*(LOOKUP(Table146135136137138139146153160167174181[[#This Row],[Emission Sub-source]],Table44[Fuel Type],Table44[Recycled CO2 Factor]))","v":0},{"$f":"Table146135136137138139146153160167174181[[#This Row],[Data \n(Corrected)]]*(LOOKUP(Table146135136137138139146153160167174181[[#This Row],[Emission Sub-source]],Table44[Fuel Type],Table44[Landfill CO2 Factor]))","v":0},{"$f":"Table146135136137138139146153160167174181[[#This Row],[Data \n(Corrected)]]*(LOOKUP(Table146135136137138139146153160167174181[[#This Row],[Emission Sub-source]],Table44[Fuel Type],Table44[Combusted CO2 Factor]))","v":0},{"$f":"((Table146135136137138139146153160167174181[[#This Row],[CO2]]+Table146135136137138139146153160167174181[[#This Row],[CH4 Corrected]]+Table146135136137138139146153160167174181[[#This Row],[N2O Corrected]]+Table146135136137138139146153160167174181[[#This Row],[GWP]]+Table146135136137138139146153160167174181[[#This Row],[Recycled]]+Table146135136137138139146153160167174181[[#This Row],[Landfill]]+Table146135136137138139146153160167174181[[#This Row],[Combusted]])*Table146135136137138139146153160167174181[[#This Row],[Data \n(Corrected)]])/1000","v":5.4495550000000001}]
[]
[null,"Reporting \nyear","Entity","Location","Scope","Emission Source","Source Pseudonym","Emission Sub-source","Emission Pseudonym","Unit \nRequired","Data \n(Raw)","Unit Reported","Concatenate Units","Unit Conversion","Data \n(Corrected)","Unit\n(Corrected)","CO2","CH4","CH4 Corrected","N2O","N2O Corrected","GWP","Recycled","Landfill","Combusted","tCO2e Emission Equivalent"]
[null,2021,"Camira Fabrics Limited","Holmfirth","Scope_1","Stationary",{"$f":"LOOKUP(Table146135136137138140147154161168175182[[#This Row],[Emission Source]],Table3578[Source],Table3578[Pseudonym])","v":"StationaryUS"},"Natural Gas",{"$f":"LOOKUP(Table146135136137138140147154161168175182[[#This Row],[Emission Sub-source]],Table125[[Emission ]],Table125[Pseudonym])","v":"NaturalGasUS"},{"$f":"LOOKUP(Table146135136137138140147154161168175182[[#This Row],[Emission Sub-source]],Table44[Fuel Type],Table44[Unit])","v":"scf"},100000,"scf",{"$f":"CONCATENATE(Table146135136137138140147154161168175182[[#This Row],[Unit Reported]],Table146135136137138140147154161168175182[[#This Row],[Unit \nRequired]])","v":"scfscf"},{"$f":"LOOKUP(Table146135136137138140147154161168175182[[#This Row],[Concatenate Units]],Table43[Concatenate],Table43[Multiply By])","v":1},{"$f":"Table146135136137138140147154161168175182[[#This Row],[Data \n(Raw)]]*Table146135136137138140147154161168175182[[#This Row],[Unit Conversion]]","v":100000},{"$f":"Table146135136137138140147154161168175182[[#This Row],[Unit \nRequired]]","v":"scf"},{"$f":"LOOKUP(Table146135136137138140147154161168175182[[#This Row],[Emission Sub-source]],Table44[Fuel Type],Table44[CO2 Factor \n(kg / Unit)])","v":5.4440000000000002E-2},{"$f":"LOOKUP(Table146135136137138140147154161168175182[[#This Row],[Emission Sub-source]],Table44[Fuel Type],Table44[CH4 Factor \n(g / unit)])","v":1.0300000000000001E-3},{"$f":"(Table146135136137138140147154161168175182[[#This Row],[CH4]]/1000)*25","v":2.5750000000000002E-5},{"$f":"LOOKUP(Table146135136137138140147154161168175182[[#This Row],[Emission Sub-source]],Table44[Fuel Type],Table44[N2O Factor \n(g / unit)])","v":1E-4},{"$f":"(Table146135136137138140147154161168175182[[#This Row],[N2O]]/1000)*298","v":2.9800000000000003E-5},{"$f":"(LOOKUP(Table146135136137138140147154161168175182[[#This Row],[Emission Sub-source]],Table44[Fuel Type],Table44[GWP]))","v":0},{"$f":"Table146135136137138140147154161168175182[[#This Row],[Data \n(Corrected)]]*(LOOKUP(Table146135136137138140147154161168175182[[#This Row],[Emission Sub-source]],Table44[Fuel Type],Table44[Recycled CO2 Factor]))","v":0},{"$f":"Table146135136137138140147154161168175182[[#This Row],[Data \n(Corrected)]]*(LOOKUP(Table146135136137138140147154161168175182[[#This Row],[Emission Sub-source]],Table44[Fuel Type],Table44[Landfill CO2 Factor]))","v":0},{"$f":"Table146135136137138140147154161168175182[[#This Row],[Data \n(Corrected)]]*(LOOKUP(Table146135136137138140147154161168175182[[#This Row],[Emission Sub-source]],Table44[Fuel Type],Table44[Combusted CO2 Factor]))","v":0},{"$f":"((Table146135136137138140147154161168175182[[#This Row],[CO2]]+Table146135136137138140147154161168175182[[#This Row],[CH4 Corrected]]+Table146135136137138140147154161168175182[[#This Row],[N2O Corrected]]+Table146135136137138140147154161168175182[[#This Row],[GWP]]+Table146135136137138140147154161168175182[[#This Row],[Recycled]]+Table146135136137138140147154161168175182[[#This Row],[Landfill]]+Table146135136137138140147154161168175182[[#This Row],[Combusted]])*Table146135136137138140147154161168175182[[#This Row],[Data \n(Corrected)]])/1000","v":5.4495550000000001}]
[]
[null,"EUR - ??"]
[null,"Reporting \nyear","Entity","Location","Scope","Emission Source","Source Pseudonym","Emission Sub-source","Emission Pseudonym","Unit \nRequired","Data \n(Raw)","Unit Reported","Concatenate Units","Unit Conversion","Data \n(Corrected)","Unit\n(Corrected)","CO2","CH4","CH4 Corrected","N2O","N2O Corrected","GWP","Recycled","Landfill","Combusted","tCO2e Emission Equivalent"]
[null,2021,"UAB Camira Fabrics","Lithuania","Scope_1","Stationary",{"$f":"LOOKUP(Table146135136137138140141148155162169176183[[#This Row],[Emission Source]],Table3578[Source],Table3578[Pseudonym])","v":"StationaryUS"},"Natural Gas",{"$f":"LOOKUP(Table146135136137138140141148155162169176183[[#This Row],[Emission Sub-source]],Table125[[Emission ]],Table125[Pseudonym])","v":"NaturalGasUS"},{"$f":"LOOKUP(Table146135136137138140141148155162169176183[[#This Row],[Emission Sub-source]],Table44[Fuel Type],Table44[Unit])","v":"scf"},100000,"scf",{"$f":"CONCATENATE(Table146135136137138140141148155162169176183[[#This Row],[Unit Reported]],Table146135136137138140141148155162169176183[[#This Row],[Unit \nRequired]])","v":"scfscf"},{"$f":"LOOKUP(Table146135136137138140141148155162169176183[[#This Row],[Concatenate Units]],Table43[Concatenate],Table43[Multiply By])","v":1},{"$f":"Table146135136137138140141148155162169176183[[#This Row],[Data \n(Raw)]]*Table146135136137138140141148155162169176183[[#This Row],[Unit Conversion]]","v":100000},{"$f":"Table146135136137138140141148155162169176183[[#This Row],[Unit \nRequired]]","v":"scf"},{"$f":"LOOKUP(Table146135136137138140141148155162169176183[[#This Row],[Emission Sub-source]],Table44[Fuel Type],Table44[CO2 Factor \n(kg / Unit)])","v":5.4440000000000002E-2},{"$f":"LOOKUP(Table146135136137138140141148155162169176183[[#This Row],[Emission Sub-source]],Table44[Fuel Type],Table44[CH4 Factor \n(g / unit)])","v":1.0300000000000001E-3},{"$f":"(Table146135136137138140141148155162169176183[[#This Row],[CH4]]/1000)*25","v":2.5750000000000002E-5},{"$f":"LOOKUP(Table146135136137138140141148155162169176183[[#This Row],[Emission Sub-source]],Table44[Fuel Type],Table44[N2O Factor \n(g / unit)])","v":1E-4},{"$f":"(Table146135136137138140141148155162169176183[[#This Row],[N2O]]/1000)*298","v":2.9800000000000003E-5},{"$f":"(LOOKUP(Table146135136137138140141148155162169176183[[#This Row],[Emission Sub-source]],Table44[Fuel Type],Table44[GWP]))","v":0},{"$f":"Table146135136137138140141148155162169176183[[#This Row],[Data \n(Corrected)]]*(LOOKUP(Table146135136137138140141148155162169176183[[#This Row],[Emission Sub-source]],Table44[Fuel Type],Table44[Recycled CO2 Factor]))","v":0},{"$f":"Table146135136137138140141148155162169176183[[#This Row],[Data \n(Corrected)]]*(LOOKUP(Table146135136137138140141148155162169176183[[#This Row],[Emission Sub-source]],Table44[Fuel Type],Table44[Landfill CO2 Factor]))","v":0},{"$f":"Table146135136137138140141148155162169176183[[#This Row],[Data \n(Corrected)]]*(LOOKUP(Table146135136137138140141148155162169176183[[#This Row],[Emission Sub-source]],Table44[Fuel Type],Table44[Combusted CO2 Factor]))","v":0},{"$f":"((Table146135136137138140141148155162169176183[[#This Row],[CO2]]+Table146135136137138140141148155162169176183[[#This Row],[CH4 Corrected]]+Table146135136137138140141148155162169176183[[#This Row],[N2O Corrected]]+Table146135136137138140141148155162169176183[[#This Row],[GWP]]+Table146135136137138140141148155162169176183[[#This Row],[Recycled]]+Table146135136137138140141148155162169176183[[#This Row],[Landfill]]+Table146135136137138140141148155162169176183[[#This Row],[Combusted]])*Table146135136137138140141148155162169176183[[#This Row],[Data \n(Corrected)]])/1000","v":5.4495550000000001}]
[]
[null,"US - EPA"]
[null,"Reporting \nyear","Entity","Location","Scope","Emission Source","Source Pseudonym","Emission Sub-source","Emission Pseudonym","Unit \nRequired","Data \n(Raw)","Unit Reported","Concatenate Units","Unit Conversion","Data \n(Corrected)","Unit\n(Corrected)","CO2","CH4","CH4 Corrected","N2O","N2O Corrected","GWP","Recycled","Landfill","Combusted","tCO2e Emission Equivalent"]
[null,2021,"Camira Group, Inc","Grand Rapids","Scope_1","Stationary",{"$f":"LOOKUP(Table146135142149156163170177[[#This Row],[Emission Source]],Table3578[Source],Table3578[Pseudonym])","v":"StationaryUS"},"Natural Gas",{"$f":"LOOKUP(Table146135142149156163170177[[#This Row],[Emission Sub-source]],Table125[[Emission ]],Table125[Pseudonym])","v":"NaturalGasUS"},{"$f":"LOOKUP(Table146135142149156163170177[[#This Row],[Emission Sub-source]],Table44[Fuel Type],Table44[Unit])","v":"scf"},100000,"scf",{"$f":"CONCATENATE(Table146135142149156163170177[[#This Row],[Unit Reported]],Table146135142149156163170177[[#This Row],[Unit \nRequired]])","v":"scfscf"},{"$f":"LOOKUP(Table146135142149156163170177[[#This Row],[Concatenate Units]],Table43[Concatenate],Table43[Multiply By])","v":1},{"$f":"Table146135142149156163170177[[#This Row],[Data \n(Raw)]]*Table146135142149156163170177[[#This Row],[Unit Conversion]]","v":100000},{"$f":"Table146135142149156163170177[[#This Row],[Unit \nRequired]]","v":"scf"},{"$f":"LOOKUP(Table146135142149156163170177[[#This Row],[Emission Sub-source]],Table44[Fuel Type],Table44[CO2 Factor \n(kg / Unit)])","v":5.4440000000000002E-2},{"$f":"LOOKUP(Table146135142149156163170177[[#This Row],[Emission Sub-source]],Table44[Fuel Type],Table44[CH4 Factor \n(g / unit)])","v":1.0300000000000001E-3},{"$f":"(Table146135142149156163170177[[#This Row],[CH4]]/1000)*25","v":2.5750000000000002E-5},{"$f":"LOOKUP(Table146135142149156163170177[[#This Row],[Emission Sub-source]],Table44[Fuel Type],Table44[N2O Factor \n(g / unit)])","v":1E-4},{"$f":"(Table146135142149156163170177[[#This Row],[N2O]]/1000)*298","v":2.9800000000000003E-5},{"$f":"(LOOKUP(Table146135142149156163170177[[#This Row],[Emission Sub-source]],Table44[Fuel Type],Table44[GWP]))","v":0},{"$f":"Table146135142149156163170177[[#This Row],[Data \n(Corrected)]]*(LOOKUP(Table146135142149156163170177[[#This Row],[Emission Sub-source]],Table44[Fuel Type],Table44[Recycled CO2 Factor]))","v":0},{"$f":"Table146135142149156163170177[[#This Row],[Data \n(Corrected)]]*(LOOKUP(Table146135142149156163170177[[#This Row],[Emission Sub-source]],Table44[Fuel Type],Table44[Landfill CO2 Factor]))","v":0},{"$f":"Table146135142149156163170177[[#This Row],[Data \n(Corrected)]]*(LOOKUP(Table146135142149156163170177[[#This Row],[Emission Sub-source]],Table44[Fuel Type],Table44[Combusted CO2 Factor]))","v":0},{"$f":"((Table146135142149156163170177[[#This Row],[CO2]]+Table146135142149156163170177[[#This Row],[CH4 Corrected]]+Table146135142149156163170177[[#This Row],[N2O Corrected]]+Table146135142149156163170177[[#This Row],[GWP]]+Table146135142149156163170177[[#This Row],[Recycled]]+Table146135142149156163170177[[#This Row],[Landfill]]+Table146135142149156163170177[[#This Row],[Combusted]])*Table146135142149156163170177[[#This Row],[Data \n(Corrected)]])/1000","v":5.4495550000000001}]

{"sheet":"3.1","index":12,"n_rows":26,"n_cols":26,"rows_kept":26,"cut":false,"hidden":true,"merged":[]}
[]
[null,"Greenhouse Gas Emission Analysis - Supplier Scope 1 & 2 -  Goods & Services"]
[]
[null,"UK - DBEIS/DEFRA"]
[null,"Reporting \nyear","Entity","Location","Scope","Emission Source","Source Pseudonym","Emission Sub-source","Emission Pseudonym","Unit \nRequired","Data \n(Raw)","Unit Reported","Concatenate Units","Unit Conversion","Data \n(Corrected)","Unit\n(Corrected)","CO2","CH4","CH4 Corrected","N2O","N2O Corrected","GWP","Recycled","Landfill","Combusted","tCO2e Emission Equivalent"]
[null,2021,"Camira Fabrics Limited","Mirfield","Scope_1","Stationary",{"$f":"LOOKUP(Table146135136143150157164171178185[[#This Row],[Emission Source]],Table3578[Source],Table3578[Pseudonym])","v":"StationaryUS"},"Natural Gas",{"$f":"LOOKUP(Table146135136143150157164171178185[[#This Row],[Emission Sub-source]],Table125[[Emission ]],Table125[Pseudonym])","v":"NaturalGasUS"},{"$f":"LOOKUP(Table146135136143150157164171178185[[#This Row],[Emission Sub-source]],Table44[Fuel Type],Table44[Unit])","v":"scf"},100000,"scf",{"$f":"CONCATENATE(Table146135136143150157164171178185[[#This Row],[Unit Reported]],Table146135136143150157164171178185[[#This Row],[Unit \nRequired]])","v":"scfscf"},{"$f":"LOOKUP(Table146135136143150157164171178185[[#This Row],[Concatenate Units]],Table43[Concatenate],Table43[Multiply By])","v":1},{"$f":"Table146135136143150157164171178185[[#This Row],[Data \n(Raw)]]*Table146135136143150157164171178185[[#This Row],[Unit Conversion]]","v":100000},{"$f":"Table146135136143150157164171178185[[#This Row],[Unit \nRequired]]","v":"scf"},{"$f":"LOOKUP(Table146135136143150157164171178185[[#This Row],[Emission Sub-source]],Table44[Fuel Type],Table44[CO2 Factor \n(kg / Unit)])","v":5.4440000000000002E-2},{"$f":"LOOKUP(Table146135136143150157164171178185[[#This Row],[Emission Sub-source]],Table44[Fuel Type],Table44[CH4 Factor \n(g / unit)])","v":1.0300000000000001E-3},{"$f":"(Table146135136143150157164171178185[[#This Row],[CH4]]/1000)*25","v":2.5750000000000002E-5},{"$f":"LOOKUP(Table146135136143150157164171178185[[#This Row],[Emission Sub-source]],Table44[Fuel Type],Table44[N2O Factor \n(g / unit)])","v":1E-4},{"$f":"(Table146135136143150157164171178185[[#This Row],[N2O]]/1000)*298","v":2.9800000000000003E-5},{"$f":"(LOOKUP(Table146135136143150157164171178185[[#This Row],[Emission Sub-source]],Table44[Fuel Type],Table44[GWP]))","v":0},{"$f":"Table146135136143150157164171178185[[#This Row],[Data \n(Corrected)]]*(LOOKUP(Table146135136143150157164171178185[[#This Row],[Emission Sub-source]],Table44[Fuel Type],Table44[Recycled CO2 Factor]))","v":0},{"$f":"Table146135136143150157164171178185[[#This Row],[Data \n(Corrected)]]*(LOOKUP(Table146135136143150157164171178185[[#This Row],[Emission Sub-source]],Table44[Fuel Type],Table44[Landfill CO2 Factor]))","v":0},{"$f":"Table146135136143150157164171178185[[#This Row],[Data \n(Corrected)]]*(LOOKUP(Table146135136143150157164171178185[[#This Row],[Emission Sub-source]],Table44[Fuel Type],Table44[Combusted CO2 Factor]))","v":0},{"$f":"((Table146135136143150157164171178185[[#This Row],[CO2]]+Table146135136143150157164171178185[[#This Row],[CH4 Corrected]]+Table146135136143150157164171178185[[#This Row],[N2O Corrected]]+Table146135136143150157164171178185[[#This Row],[GWP]]+Table146135136143150157164171178185[[#This Row],[Recycled]]+Table146135136143150157164171178185[[#This Row],[Landfill]]+Table146135136143150157164171178185[[#This Row],[Combusted]])*Table146135136143150157164171178185[[#This Row],[Data \n(Corrected)]])/1000","v":5.4495550000000001}]
[]
[null,"Reporting \nyear","Entity","Location","Scope","Emission Source","Source Pseudonym","Emission Sub-source","Emission Pseudonym","Unit \nRequired","Data \n(Raw)","Unit Reported","Concatenate Units","Unit Conversion","Data \n(Corrected)","Unit\n(Corrected)","CO2","CH4","CH4 Corrected","N2O","N2O Corrected","GWP","Recycled","Landfill","Combusted","tCO2e Emission Equivalent"]
[null,2021,"Camira Fabrics Limited","Meltham","Scope_1","Stationary",{"$f":"LOOKUP(Table146135136137144151158165172179186[[#This Row],[Emission Source]],Table3578[Source],Table3578[Pseudonym])","v":"StationaryUS"},"Natural Gas",{"$f":"LOOKUP(Table146135136137144151158165172179186[[#This Row],[Emission Sub-source]],Table125[[Emission ]],Table125[Pseudonym])","v":"NaturalGasUS"},{"$f":"LOOKUP(Table146135136137144151158165172179186[[#This Row],[Emission Sub-source]],Table44[Fuel Type],Table44[Unit])","v":"scf"},100000,"scf",{"$f":"CONCATENATE(Table146135136137144151158165172179186[[#This Row],[Unit Reported]],Table146135136137144151158165172179186[[#This Row],[Unit \nRequired]])","v":"scfscf"},{"$f":"LOOKUP(Table146135136137144151158165172179186[[#This Row],[Concatenate Units]],Table43[Concatenate],Table43[Multiply By])","v":1},{"$f":"Table146135136137144151158165172179186[[#This Row],[Data \n(Raw)]]*Table146135136137144151158165172179186[[#This Row],[Unit Conversion]]","v":100000},{"$f":"Table146135136137144151158165172179186[[#This Row],[Unit \nRequired]]","v":"scf"},{"$f":"LOOKUP(Table146135136137144151158165172179186[[#This Row],[Emission Sub-source]],Table44[Fuel Type],Table44[CO2 Factor \n(kg / Unit)])","v":5.4440000000000002E-2},{"$f":"LOOKUP(Table146135136137144151158165172179186[[#This Row],[Emission Sub-source]],Table44[Fuel Type],Table44[CH4 Factor \n(g / unit)])","v":1.0300000000000001E-3},{"$f":"(Table146135136137144151158165172179186[[#This Row],[CH4]]/1000)*25","v":2.5750000000000002E-5},{"$f":"LOOKUP(Table146135136137144151158165172179186[[#This Row],[Emission Sub-source]],Table44[Fuel Type],Table44[N2O Factor \n(g / unit)])","v":1E-4},{"$f":"(Table146135136137144151158165172179186[[#This Row],[N2O]]/1000)*298","v":2.9800000000000003E-5},{"$f":"(LOOKUP(Table146135136137144151158165172179186[[#This Row],[Emission Sub-source]],Table44[Fuel Type],Table44[GWP]))","v":0},{"$f":"Table146135136137144151158165172179186[[#This Row],[Data \n(Corrected)]]*(LOOKUP(Table146135136137144151158165172179186[[#This Row],[Emission Sub-source]],Table44[Fuel Type],Table44[Recycled CO2 Factor]))","v":0},{"$f":"Table146135136137144151158165172179186[[#This Row],[Data \n(Corrected)]]*(LOOKUP(Table146135136137144151158165172179186[[#This Row],[Emission Sub-source]],Table44[Fuel Type],Table44[Landfill CO2 Factor]))","v":0},{"$f":"Table146135136137144151158165172179186[[#This Row],[Data \n(Corrected)]]*(LOOKUP(Table146135136137144151158165172179186[[#This Row],[Emission Sub-source]],Table44[Fuel Type],Table44[Combusted CO2 Factor]))","v":0},{"$f":"((Table146135136137144151158165172179186[[#This Row],[CO2]]+Table146135136137144151158165172179186[[#This Row],[CH4 Corrected]]+Table146135136137144151158165172179186[[#This Row],[N2O Corrected]]+Table146135136137144151158165172179186[[#This Row],[GWP]]+Table146135136137144151158165172179186[[#This Row],[Recycled]]+Table146135136137144151158165172179186[[#This Row],[Landfill]]+Table146135136137144151158165172179186[[#This Row],[Combusted]])*Table146135136137144151158165172179186[[#This Row],[Data \n(Corrected)]])/1000","v":5.4495550000000001}]
[]
[null,"Reporting \nyear","Entity","Location","Scope","Emission Source","Source Pseudonym","Emission Sub-source","Emission Pseudonym","Unit \nRequired","Data \n(Raw)","Unit Reported","Concatenate Units","Unit Conversion","Data \n(Corrected)","Unit\n(Corrected)","CO2","CH4","CH4 Corrected","N2O","N2O Corrected","GWP","Recycled","Landfill","Combusted","tCO2e Emission Equivalent"]
[null,2021,"Camira Fabrics Limited","Nottingham","Scope_1","Stationary",{"$f":"LOOKUP(Table146135136137138145152159166173180187[[#This Row],[Emission Source]],Table3578[Source],Table3578[Pseudonym])","v":"StationaryUS"},"Natural Gas",{"$f":"LOOKUP(Table146135136137138145152159166173180187[[#This Row],[Emission Sub-source]],Table125[[Emission ]],Table125[Pseudonym])","v":"NaturalGasUS"},{"$f":"LOOKUP(Table146135136137138145152159166173180187[[#This Row],[Emission Sub-source]],Table44[Fuel Type],Table44[Unit])","v":"scf"},100000,"scf",{"$f":"CONCATENATE(Table146135136137138145152159166173180187[[#This Row],[Unit Reported]],Table146135136137138145152159166173180187[[#This Row],[Unit \nRequired]])","v":"scfscf"},{"$f":"LOOKUP(Table146135136137138145152159166173180187[[#This Row],[Concatenate Units]],Table43[Concatenate],Table43[Multiply By])","v":1},{"$f":"Table146135136137138145152159166173180187[[#This Row],[Data \n(Raw)]]*Table146135136137138145152159166173180187[[#This Row],[Unit Conversion]]","v":100000},{"$f":"Table146135136137138145152159166173180187[[#This Row],[Unit \nRequired]]","v":"scf"},{"$f":"LOOKUP(Table146135136137138145152159166173180187[[#This Row],[Emission Sub-source]],Table44[Fuel Type],Table44[CO2 Factor \n(kg / Unit)])","v":5.4440000000000002E-2},{"$f":"LOOKUP(Table146135136137138145152159166173180187[[#This Row],[Emission Sub-source]],Table44[Fuel Type],Table44[CH4 Factor \n(g / unit)])","v":1.0300000000000001E-3},{"$f":"(Table146135136137138145152159166173180187[[#This Row],[CH4]]/1000)*25","v":2.5750000000000002E-5},{"$f":"LOOKUP(Table146135136137138145152159166173180187[[#This Row],[Emission Sub-source]],Table44[Fuel Type],Table44[N2O Factor \n(g / unit)])","v":1E-4},{"$f":"(Table146135136137138145152159166173180187[[#This Row],[N2O]]/1000)*298","v":2.9800000000000003E-5},{"$f":"(LOOKUP(Table146135136137138145152159166173180187[[#This Row],[Emission Sub-source]],Table44[Fuel Type],Table44[GWP]))","v":0},{"$f":"Table146135136137138145152159166173180187[[#This Row],[Data \n(Corrected)]]*(LOOKUP(Table146135136137138145152159166173180187[[#This Row],[Emission Sub-source]],Table44[Fuel Type],Table44[Recycled CO2 Factor]))","v":0},{"$f":"Table146135136137138145152159166173180187[[#This Row],[Data \n(Corrected)]]*(LOOKUP(Table146135136137138145152159166173180187[[#This Row],[Emission Sub-source]],Table44[Fuel Type],Table44[Landfill CO2 Factor]))","v":0},{"$f":"Table146135136137138145152159166173180187[[#This Row],[Data \n(Corrected)]]*(LOOKUP(Table146135136137138145152159166173180187[[#This Row],[Emission Sub-source]],Table44[Fuel Type],Table44[Combusted CO2 Factor]))","v":0},{"$f":"((Table146135136137138145152159166173180187[[#This Row],[CO2]]+Table146135136137138145152159166173180187[[#This Row],[CH4 Corrected]]+Table146135136137138145152159166173180187[[#This Row],[N2O Corrected]]+Table146135136137138145152159166173180187[[#This Row],[GWP]]+Table146135136137138145152159166173180187[[#This Row],[Recycled]]+Table146135136137138145152159166173180187[[#This Row],[Landfill]]+Table146135136137138145152159166173180187[[#This Row],[Combusted]])*Table146135136137138145152159166173180187[[#This Row],[Data \n(Corrected)]])/1000","v":5.4495550000000001}]
[]
[null,"Reporting \nyear","Entity","Location","Scope","Emission Source","Source Pseudonym","Emission Sub-source","Emission Pseudonym","Unit \nRequired","Data \n(Raw)","Unit Reported","Concatenate Units","Unit Conversion","Data \n(Corrected)","Unit\n(Corrected)","CO2","CH4","CH4 Corrected","N2O","N2O Corrected","GWP","Recycled","Landfill","Combusted","tCO2e Emission Equivalent"]
[null,2021,"Camira Fabrics Limited","Birkby","Scope_1","Stationary",{"$f":"LOOKUP(Table146135136137138139146153160167174181188[[#This Row],[Emission Source]],Table3578[Source],Table3578[Pseudonym])","v":"StationaryUS"},"Natural Gas",{"$f":"LOOKUP(Table146135136137138139146153160167174181188[[#This Row],[Emission Sub-source]],Table125[[Emission ]],Table125[Pseudonym])","v":"NaturalGasUS"},{"$f":"LOOKUP(Table146135136137138139146153160167174181188[[#This Row],[Emission Sub-source]],Table44[Fuel Type],Table44[Unit])","v":"scf"},100000,"scf",{"$f":"CONCATENATE(Table146135136137138139146153160167174181188[[#This Row],[Unit Reported]],Table146135136137138139146153160167174181188[[#This Row],[Unit \nRequired]])","v":"scfscf"},{"$f":"LOOKUP(Table146135136137138139146153160167174181188[[#This Row],[Concatenate Units]],Table43[Concatenate],Table43[Multiply By])","v":1},{"$f":"Table146135136137138139146153160167174181188[[#This Row],[Data \n(Raw)]]*Table146135136137138139146153160167174181188[[#This Row],[Unit Conversion]]","v":100000},{"$f":"Table146135136137138139146153160167174181188[[#This Row],[Unit \nRequired]]","v":"scf"},{"$f":"LOOKUP(Table146135136137138139146153160167174181188[[#This Row],[Emission Sub-source]],Table44[Fuel Type],Table44[CO2 Factor \n(kg / Unit)])","v":5.4440000000000002E-2},{"$f":"LOOKUP(Table146135136137138139146153160167174181188[[#This Row],[Emission Sub-source]],Table44[Fuel Type],Table44[CH4 Factor \n(g / unit)])","v":1.0300000000000001E-3},{"$f":"(Table146135136137138139146153160167174181188[[#This Row],[CH4]]/1000)*25","v":2.5750000000000002E-5},{"$f":"LOOKUP(Table146135136137138139146153160167174181188[[#This Row],[Emission Sub-source]],Table44[Fuel Type],Table44[N2O Factor \n(g / unit)])","v":1E-4},{"$f":"(Table146135136137138139146153160167174181188[[#This Row],[N2O]]/1000)*298","v":2.9800000000000003E-5},{"$f":"(LOOKUP(Table146135136137138139146153160167174181188[[#This Row],[Emission Sub-source]],Table44[Fuel Type],Table44[GWP]))","v":0},{"$f":"Table146135136137138139146153160167174181188[[#This Row],[Data \n(Corrected)]]*(LOOKUP(Table146135136137138139146153160167174181188[[#This Row],[Emission Sub-source]],Table44[Fuel Type],Table44[Recycled CO2 Factor]))","v":0},{"$f":"Table146135136137138139146153160167174181188[[#This Row],[Data \n(Corrected)]]*(LOOKUP(Table146135136137138139146153160167174181188[[#This Row],[Emission Sub-source]],Table44[Fuel Type],Table44[Landfill CO2 Factor]))","v":0},{"$f":"Table146135136137138139146153160167174181188[[#This Row],[Data \n(Corrected)]]*(LOOKUP(Table146135136137138139146153160167174181188[[#This Row],[Emission Sub-source]],Table44[Fuel Type],Table44[Combusted CO2 Factor]))","v":0},{"$f":"((Table146135136137138139146153160167174181188[[#This Row],[CO2]]+Table146135136137138139146153160167174181188[[#This Row],[CH4 Corrected]]+Table146135136137138139146153160167174181188[[#This Row],[N2O Corrected]]+Table146135136137138139146153160167174181188[[#This Row],[GWP]]+Table146135136137138139146153160167174181188[[#This Row],[Recycled]]+Table146135136137138139146153160167174181188[[#This Row],[Landfill]]+Table146135136137138139146153160167174181188[[#This Row],[Combusted]])*Table146135136137138139146153160167174181188[[#This Row],[Data \n(Corrected)]])/1000","v":5.4495550000000001}]
[]
[null,"Reporting \nyear","Entity","Location","Scope","Emission Source","Source Pseudonym","Emission Sub-source","Emission Pseudonym","Unit \nRequired","Data \n(Raw)","Unit Reported","Concatenate Units","Unit Conversion","Data \n(Corrected)","Unit\n(Corrected)","CO2","CH4","CH4 Corrected","N2O","N2O Corrected","GWP","Recycled","Landfill","Combusted","tCO2e Emission Equivalent"]
[null,2021,"Camira Fabrics Limited","Holmfirth","Scope_1","Stationary",{"$f":"LOOKUP(Table146135136137138140147154161168175182189[[#This Row],[Emission Source]],Table3578[Source],Table3578[Pseudonym])","v":"StationaryUS"},"Natural Gas",{"$f":"LOOKUP(Table146135136137138140147154161168175182189[[#This Row],[Emission Sub-source]],Table125[[Emission ]],Table125[Pseudonym])","v":"NaturalGasUS"},{"$f":"LOOKUP(Table146135136137138140147154161168175182189[[#This Row],[Emission Sub-source]],Table44[Fuel Type],Table44[Unit])","v":"scf"},100000,"scf",{"$f":"CONCATENATE(Table146135136137138140147154161168175182189[[#This Row],[Unit Reported]],Table146135136137138140147154161168175182189[[#This Row],[Unit \nRequired]])","v":"scfscf"},{"$f":"LOOKUP(Table146135136137138140147154161168175182189[[#This Row],[Concatenate Units]],Table43[Concatenate],Table43[Multiply By])","v":1},{"$f":"Table146135136137138140147154161168175182189[[#This Row],[Data \n(Raw)]]*Table146135136137138140147154161168175182189[[#This Row],[Unit Conversion]]","v":100000},{"$f":"Table146135136137138140147154161168175182189[[#This Row],[Unit \nRequired]]","v":"scf"},{"$f":"LOOKUP(Table146135136137138140147154161168175182189[[#This Row],[Emission Sub-source]],Table44[Fuel Type],Table44[CO2 Factor \n(kg / Unit)])","v":5.4440000000000002E-2},{"$f":"LOOKUP(Table146135136137138140147154161168175182189[[#This Row],[Emission Sub-source]],Table44[Fuel Type],Table44[CH4 Factor \n(g / unit)])","v":1.0300000000000001E-3},{"$f":"(Table146135136137138140147154161168175182189[[#This Row],[CH4]]/1000)*25","v":2.5750000000000002E-5},{"$f":"LOOKUP(Table146135136137138140147154161168175182189[[#This Row],[Emission Sub-source]],Table44[Fuel Type],Table44[N2O Factor \n(g / unit)])","v":1E-4},{"$f":"(Table146135136137138140147154161168175182189[[#This Row],[N2O]]/1000)*298","v":2.9800000000000003E-5},{"$f":"(LOOKUP(Table146135136137138140147154161168175182189[[#This Row],[Emission Sub-source]],Table44[Fuel Type],Table44[GWP]))","v":0},{"$f":"Table146135136137138140147154161168175182189[[#This Row],[Data \n(Corrected)]]*(LOOKUP(Table146135136137138140147154161168175182189[[#This Row],[Emission Sub-source]],Table44[Fuel Type],Table44[Recycled CO2 Factor]))","v":0},{"$f":"Table146135136137138140147154161168175182189[[#This Row],[Data \n(Corrected)]]*(LOOKUP(Table146135136137138140147154161168175182189[[#This Row],[Emission Sub-source]],Table44[Fuel Type],Table44[Landfill CO2 Factor]))","v":0},{"$f":"Table146135136137138140147154161168175182189[[#This Row],[Data \n(Corrected)]]*(LOOKUP(Table146135136137138140147154161168175182189[[#This Row],[Emission Sub-source]],Table44[Fuel Type],Table44[Combusted CO2 Factor]))","v":0},{"$f":"((Table146135136137138140147154161168175182189[[#This Row],[CO2]]+Table146135136137138140147154161168175182189[[#This Row],[CH4 Corrected]]+Table146135136137138140147154161168175182189[[#This Row],[N2O Corrected]]+Table146135136137138140147154161168175182189[[#This Row],[GWP]]+Table146135136137138140147154161168175182189[[#This Row],[Recycled]]+Table146135136137138140147154161168175182189[[#This Row],[Landfill]]+Table146135136137138140147154161168175182189[[#This Row],[Combusted]])*Table146135136137138140147154161168175182189[[#This Row],[Data \n(Corrected)]])/1000","v":5.4495550000000001}]
[]
[null,"EUR - ??"]
[null,"Reporting \nyear","Entity","Location","Scope","Emission Source","Source Pseudonym","Emission Sub-source","Emission Pseudonym","Unit \nRequired","Data \n(Raw)","Unit Reported","Concatenate Units","Unit Conversion","Data \n(Corrected)","Unit\n(Corrected)","CO2","CH4","CH4 Corrected","N2O","N2O Corrected","GWP","Recycled","Landfill","Combusted","tCO2e Emission Equivalent"]
[null,2021,"UAB Camira Fabrics","Lithuania","Scope_1","Stationary",{"$f":"LOOKUP(Table146135136137138140141148155162169176183190[[#This Row],[Emission Source]],Table3578[Source],Table3578[Pseudonym])","v":"StationaryUS"},"Natural Gas",{"$f":"LOOKUP(Table146135136137138140141148155162169176183190[[#This Row],[Emission Sub-source]],Table125[[Emission ]],Table125[Pseudonym])","v":"NaturalGasUS"},{"$f":"LOOKUP(Table146135136137138140141148155162169176183190[[#This Row],[Emission Sub-source]],Table44[Fuel Type],Table44[Unit])","v":"scf"},100000,"scf",{"$f":"CONCATENATE(Table146135136137138140141148155162169176183190[[#This Row],[Unit Reported]],Table146135136137138140141148155162169176183190[[#This Row],[Unit \nRequired]])","v":"scfscf"},{"$f":"LOOKUP(Table146135136137138140141148155162169176183190[[#This Row],[Concatenate Units]],Table43[Concatenate],Table43[Multiply By])","v":1},{"$f":"Table146135136137138140141148155162169176183190[[#This Row],[Data \n(Raw)]]*Table146135136137138140141148155162169176183190[[#This Row],[Unit Conversion]]","v":100000},{"$f":"Table146135136137138140141148155162169176183190[[#This Row],[Unit \nRequired]]","v":"scf"},{"$f":"LOOKUP(Table146135136137138140141148155162169176183190[[#This Row],[Emission Sub-source]],Table44[Fuel Type],Table44[CO2 Factor \n(kg / Unit)])","v":5.4440000000000002E-2},{"$f":"LOOKUP(Table146135136137138140141148155162169176183190[[#This Row],[Emission Sub-source]],Table44[Fuel Type],Table44[CH4 Factor \n(g / unit)])","v":1.0300000000000001E-3},{"$f":"(Table146135136137138140141148155162169176183190[[#This Row],[CH4]]/1000)*25","v":2.5750000000000002E-5},{"$f":"LOOKUP(Table146135136137138140141148155162169176183190[[#This Row],[Emission Sub-source]],Table44[Fuel Type],Table44[N2O Factor \n(g / unit)])","v":1E-4},{"$f":"(Table146135136137138140141148155162169176183190[[#This Row],[N2O]]/1000)*298","v":2.9800000000000003E-5},{"$f":"(LOOKUP(Table146135136137138140141148155162169176183190[[#This Row],[Emission Sub-source]],Table44[Fuel Type],Table44[GWP]))","v":0},{"$f":"Table146135136137138140141148155162169176183190[[#This Row],[Data \n(Corrected)]]*(LOOKUP(Table146135136137138140141148155162169176183190[[#This Row],[Emission Sub-source]],Table44[Fuel Type],Table44[Recycled CO2 Factor]))","v":0},{"$f":"Table146135136137138140141148155162169176183190[[#This Row],[Data \n(Corrected)]]*(LOOKUP(Table146135136137138140141148155162169176183190[[#This Row],[Emission Sub-source]],Table44[Fuel Type],Table44[Landfill CO2 Factor]))","v":0},{"$f":"Table146135136137138140141148155162169176183190[[#This Row],[Data \n(Corrected)]]*(LOOKUP(Table146135136137138140141148155162169176183190[[#This Row],[Emission Sub-source]],Table44[Fuel Type],Table44[Combusted CO2 Factor]))","v":0},{"$f":"((Table146135136137138140141148155162169176183190[[#This Row],[CO2]]+Table146135136137138140141148155162169176183190[[#This Row],[CH4 Corrected]]+Table146135136137138140141148155162169176183190[[#This Row],[N2O Corrected]]+Table146135136137138140141148155162169176183190[[#This Row],[GWP]]+Table146135136137138140141148155162169176183190[[#This Row],[Recycled]]+Table146135136137138140141148155162169176183190[[#This Row],[Landfill]]+Table146135136137138140141148155162169176183190[[#This Row],[Combusted]])*Table146135136137138140141148155162169176183190[[#This Row],[Data \n(Corrected)]])/1000","v":5.4495550000000001}]
[]
[null,"US - EPA"]
[null,"Reporting \nyear","Entity","Location","Scope","Emission Source","Source Pseudonym","Emission Sub-source","Emission Pseudonym","Unit \nRequired","Data \n(Raw)","Unit Reported","Concatenate Units","Unit Conversion","Data \n(Corrected)","Unit\n(Corrected)","CO2","CH4","CH4 Corrected","N2O","N2O Corrected","GWP","Recycled","Landfill","Combusted","tCO2e Emission Equivalent"]
[null,2021,"Camira Group, Inc","Grand Rapids","Scope_1","Stationary",{"$f":"LOOKUP(Table146135142149156163170177184[[#This Row],[Emission Source]],Table3578[Source],Table3578[Pseudonym])","v":"StationaryUS"},"Natural Gas",{"$f":"LOOKUP(Table146135142149156163170177184[[#This Row],[Emission Sub-source]],Table125[[Emission ]],Table125[Pseudonym])","v":"NaturalGasUS"},{"$f":"LOOKUP(Table146135142149156163170177184[[#This Row],[Emission Sub-source]],Table44[Fuel Type],Table44[Unit])","v":"scf"},100000,"scf",{"$f":"CONCATENATE(Table146135142149156163170177184[[#This Row],[Unit Reported]],Table146135142149156163170177184[[#This Row],[Unit \nRequired]])","v":"scfscf"},{"$f":"LOOKUP(Table146135142149156163170177184[[#This Row],[Concatenate Units]],Table43[Concatenate],Table43[Multiply By])","v":1},{"$f":"Table146135142149156163170177184[[#This Row],[Data \n(Raw)]]*Table146135142149156163170177184[[#This Row],[Unit Conversion]]","v":100000},{"$f":"Table146135142149156163170177184[[#This Row],[Unit \nRequired]]","v":"scf"},{"$f":"LOOKUP(Table146135142149156163170177184[[#This Row],[Emission Sub-source]],Table44[Fuel Type],Table44[CO2 Factor \n(kg / Unit)])","v":5.4440000000000002E-2},{"$f":"LOOKUP(Table146135142149156163170177184[[#This Row],[Emission Sub-source]],Table44[Fuel Type],Table44[CH4 Factor \n(g / unit)])","v":1.0300000000000001E-3},{"$f":"(Table146135142149156163170177184[[#This Row],[CH4]]/1000)*25","v":2.5750000000000002E-5},{"$f":"LOOKUP(Table146135142149156163170177184[[#This Row],[Emission Sub-source]],Table44[Fuel Type],Table44[N2O Factor \n(g / unit)])","v":1E-4},{"$f":"(Table146135142149156163170177184[[#This Row],[N2O]]/1000)*298","v":2.9800000000000003E-5},{"$f":"(LOOKUP(Table146135142149156163170177184[[#This Row],[Emission Sub-source]],Table44[Fuel Type],Table44[GWP]))","v":0},{"$f":"Table146135142149156163170177184[[#This Row],[Data \n(Corrected)]]*(LOOKUP(Table146135142149156163170177184[[#This Row],[Emission Sub-source]],Table44[Fuel Type],Table44[Recycled CO2 Factor]))","v":0},{"$f":"Table146135142149156163170177184[[#This Row],[Data \n(Corrected)]]*(LOOKUP(Table146135142149156163170177184[[#This Row],[Emission Sub-source]],Table44[Fuel Type],Table44[Landfill CO2 Factor]))","v":0},{"$f":"Table146135142149156163170177184[[#This Row],[Data \n(Corrected)]]*(LOOKUP(Table146135142149156163170177184[[#This Row],[Emission Sub-source]],Table44[Fuel Type],Table44[Combusted CO2 Factor]))","v":0},{"$f":"((Table146135142149156163170177184[[#This Row],[CO2]]+Table146135142149156163170177184[[#This Row],[CH4 Corrected]]+Table146135142149156163170177184[[#This Row],[N2O Corrected]]+Table146135142149156163170177184[[#This Row],[GWP]]+Table146135142149156163170177184[[#This Row],[Recycled]]+Table146135142149156163170177184[[#This Row],[Landfill]]+Table146135142149156163170177184[[#This Row],[Combusted]])*Table146135142149156163170177184[[#This Row],[Data \n(Corrected)]])/1000","v":5.4495550000000001}]

{"sheet":"3.2","index":13,"n_rows":26,"n_cols":26,"rows_kept":26,"cut":false,"hidden":true,"merged":[]}
[]
[null,"Greenhouse Gas Emission Analysis - Supplier Scope 1 & 2 -  Capital Spend"]
[]
[null,"UK - DBEIS/DEFRA"]
[null,"Reporting \nyear","Entity","Location","Scope","Emission Source","Source Pseudonym","Emission Sub-source","Emission Pseudonym","Unit \nRequired","Data \n(Raw)","Unit Reported","Concatenate Units","Unit Conversion","Data \n(Corrected)","Unit\n(Corrected)","CO2","CH4","CH4 Corrected","N2O","N2O Corrected","GWP","Recycled","Landfill","Combusted","tCO2e Emission Equivalent"]
[null,2021,"Camira Fabrics Limited","Mirfield","Scope_1","Stationary",{"$f":"LOOKUP(Table146135136143150157164171178185192[[#This Row],[Emission Source]],Table3578[Source],Table3578[Pseudonym])","v":"StationaryUS"},"Natural Gas",{"$f":"LOOKUP(Table146135136143150157164171178185192[[#This Row],[Emission Sub-source]],Table125[[Emission ]],Table125[Pseudonym])","v":"NaturalGasUS"},{"$f":"LOOKUP(Table146135136143150157164171178185192[[#This Row],[Emission Sub-source]],Table44[Fuel Type],Table44[Unit])","v":"scf"},100000,"scf",{"$f":"CONCATENATE(Table146135136143150157164171178185192[[#This Row],[Unit Reported]],Table146135136143150157164171178185192[[#This Row],[Unit \nRequired]])","v":"scfscf"},{"$f":"LOOKUP(Table146135136143150157164171178185192[[#This Row],[Concatenate Units]],Table43[Concatenate],Table43[Multiply By])","v":1},{"$f":"Table146135136143150157164171178185192[[#This Row],[Data \n(Raw)]]*Table146135136143150157164171178185192[[#This Row],[Unit Conversion]]","v":100000},{"$f":"Table146135136143150157164171178185192[[#This Row],[Unit \nRequired]]","v":"scf"},{"$f":"LOOKUP(Table146135136143150157164171178185192[[#This Row],[Emission Sub-source]],Table44[Fuel Type],Table44[CO2 Factor \n(kg / Unit)])","v":5.4440000000000002E-2},{"$f":"LOOKUP(Table146135136143150157164171178185192[[#This Row],[Emission Sub-source]],Table44[Fuel Type],Table44[CH4 Factor \n(g / unit)])","v":1.0300000000000001E-3},{"$f":"(Table146135136143150157164171178185192[[#This Row],[CH4]]/1000)*25","v":2.5750000000000002E-5},{"$f":"LOOKUP(Table146135136143150157164171178185192[[#This Row],[Emission Sub-source]],Table44[Fuel Type],Table44[N2O Factor \n(g / unit)])","v":1E-4},{"$f":"(Table146135136143150157164171178185192[[#This Row],[N2O]]/1000)*298","v":2.9800000000000003E-5},{"$f":"(LOOKUP(Table146135136143150157164171178185192[[#This Row],[Emission Sub-source]],Table44[Fuel Type],Table44[GWP]))","v":0},{"$f":"Table146135136143150157164171178185192[[#This Row],[Data \n(Corrected)]]*(LOOKUP(Table146135136143150157164171178185192[[#This Row],[Emission Sub-source]],Table44[Fuel Type],Table44[Recycled CO2 Factor]))","v":0},{"$f":"Table146135136143150157164171178185192[[#This Row],[Data \n(Corrected)]]*(LOOKUP(Table146135136143150157164171178185192[[#This Row],[Emission Sub-source]],Table44[Fuel Type],Table44[Landfill CO2 Factor]))","v":0},{"$f":"Table146135136143150157164171178185192[[#This Row],[Data \n(Corrected)]]*(LOOKUP(Table146135136143150157164171178185192[[#This Row],[Emission Sub-source]],Table44[Fuel Type],Table44[Combusted CO2 Factor]))","v":0},{"$f":"((Table146135136143150157164171178185192[[#This Row],[CO2]]+Table146135136143150157164171178185192[[#This Row],[CH4 Corrected]]+Table146135136143150157164171178185192[[#This Row],[N2O Corrected]]+Table146135136143150157164171178185192[[#This Row],[GWP]]+Table146135136143150157164171178185192[[#This Row],[Recycled]]+Table146135136143150157164171178185192[[#This Row],[Landfill]]+Table146135136143150157164171178185192[[#This Row],[Combusted]])*Table146135136143150157164171178185192[[#This Row],[Data \n(Corrected)]])/1000","v":5.4495550000000001}]
[]
[null,"Reporting \nyear","Entity","Location","Scope","Emission Source","Source Pseudonym","Emission Sub-source","Emission Pseudonym","Unit \nRequired","Data \n(Raw)","Unit Reported","Concatenate Units","Unit Conversion","Data \n(Corrected)","Unit\n(Corrected)","CO2","CH4","CH4 Corrected","N2O","N2O Corrected","GWP","Recycled","Landfill","Combusted","tCO2e Emission Equivalent"]
[null,2021,"Camira Fabrics Limited","Meltham","Scope_1","Stationary",{"$f":"LOOKUP(Table146135136137144151158165172179186193[[#This Row],[Emission Source]],Table3578[Source],Table3578[Pseudonym])","v":"StationaryUS"},"Natural Gas",{"$f":"LOOKUP(Table146135136137144151158165172179186193[[#This Row],[Emission Sub-source]],Table125[[Emission ]],Table125[Pseudonym])","v":"NaturalGasUS"},{"$f":"LOOKUP(Table146135136137144151158165172179186193[[#This Row],[Emission Sub-source]],Table44[Fuel Type],Table44[Unit])","v":"scf"},100000,"scf",{"$f":"CONCATENATE(Table146135136137144151158165172179186193[[#This Row],[Unit Reported]],Table146135136137144151158165172179186193[[#This Row],[Unit \nRequired]])","v":"scfscf"},{"$f":"LOOKUP(Table146135136137144151158165172179186193[[#This Row],[Concatenate Units]],Table43[Concatenate],Table43[Multiply By])","v":1},{"$f":"Table146135136137144151158165172179186193[[#This Row],[Data \n(Raw)]]*Table146135136137144151158165172179186193[[#This Row],[Unit Conversion]]","v":100000},{"$f":"Table146135136137144151158165172179186193[[#This Row],[Unit \nRequired]]","v":"scf"},{"$f":"LOOKUP(Table146135136137144151158165172179186193[[#This Row],[Emission Sub-source]],Table44[Fuel Type],Table44[CO2 Factor \n(kg / Unit)])","v":5.4440000000000002E-2},{"$f":"LOOKUP(Table146135136137144151158165172179186193[[#This Row],[Emission Sub-source]],Table44[Fuel Type],Table44[CH4 Factor \n(g / unit)])","v":1.0300000000000001E-3},{"$f":"(Table146135136137144151158165172179186193[[#This Row],[CH4]]/1000)*25","v":2.5750000000000002E-5},{"$f":"LOOKUP(Table146135136137144151158165172179186193[[#This Row],[Emission Sub-source]],Table44[Fuel Type],Table44[N2O Factor \n(g / unit)])","v":1E-4},{"$f":"(Table146135136137144151158165172179186193[[#This Row],[N2O]]/1000)*298","v":2.9800000000000003E-5},{"$f":"(LOOKUP(Table146135136137144151158165172179186193[[#This Row],[Emission Sub-source]],Table44[Fuel Type],Table44[GWP]))","v":0},{"$f":"Table146135136137144151158165172179186193[[#This Row],[Data \n(Corrected)]]*(LOOKUP(Table146135136137144151158165172179186193[[#This Row],[Emission Sub-source]],Table44[Fuel Type],Table44[Recycled CO2 Factor]))","v":0},{"$f":"Table146135136137144151158165172179186193[[#This Row],[Data \n(Corrected)]]*(LOOKUP(Table146135136137144151158165172179186193[[#This Row],[Emission Sub-source]],Table44[Fuel Type],Table44[Landfill CO2 Factor]))","v":0},{"$f":"Table146135136137144151158165172179186193[[#This Row],[Data \n(Corrected)]]*(LOOKUP(Table146135136137144151158165172179186193[[#This Row],[Emission Sub-source]],Table44[Fuel Type],Table44[Combusted CO2 Factor]))","v":0},{"$f":"((Table146135136137144151158165172179186193[[#This Row],[CO2]]+Table146135136137144151158165172179186193[[#This Row],[CH4 Corrected]]+Table146135136137144151158165172179186193[[#This Row],[N2O Corrected]]+Table146135136137144151158165172179186193[[#This Row],[GWP]]+Table146135136137144151158165172179186193[[#This Row],[Recycled]]+Table146135136137144151158165172179186193[[#This Row],[Landfill]]+Table146135136137144151158165172179186193[[#This Row],[Combusted]])*Table146135136137144151158165172179186193[[#This Row],[Data \n(Corrected)]])/1000","v":5.4495550000000001}]
[]
[null,"Reporting \nyear","Entity","Location","Scope","Emission Source","Source Pseudonym","Emission Sub-source","Emission Pseudonym","Unit \nRequired","Data \n(Raw)","Unit Reported","Concatenate Units","Unit Conversion","Data \n(Corrected)","Unit\n(Corrected)","CO2","CH4","CH4 Corrected","N2O","N2O Corrected","GWP","Recycled","Landfill","Combusted","tCO2e Emission Equivalent"]
[null,2021,"Camira Fabrics Limited","Nottingham","Scope_1","Stationary",{"$f":"LOOKUP(Table146135136137138145152159166173180187194[[#This Row],[Emission Source]],Table3578[Source],Table3578[Pseudonym])","v":"StationaryUS"},"Natural Gas",{"$f":"LOOKUP(Table146135136137138145152159166173180187194[[#This Row],[Emission Sub-source]],Table125[[Emission ]],Table125[Pseudonym])","v":"NaturalGasUS"},{"$f":"LOOKUP(Table146135136137138145152159166173180187194[[#This Row],[Emission Sub-source]],Table44[Fuel Type],Table44[Unit])","v":"scf"},100000,"scf",{"$f":"CONCATENATE(Table146135136137138145152159166173180187194[[#This Row],[Unit Reported]],Table146135136137138145152159166173180187194[[#This Row],[Unit \nRequired]])","v":"scfscf"},{"$f":"LOOKUP(Table146135136137138145152159166173180187194[[#This Row],[Concatenate Units]],Table43[Concatenate],Table43[Multiply By])","v":1},{"$f":"Table146135136137138145152159166173180187194[[#This Row],[Data \n(Raw)]]*Table146135136137138145152159166173180187194[[#This Row],[Unit Conversion]]","v":100000},{"$f":"Table146135136137138145152159166173180187194[[#This Row],[Unit \nRequired]]","v":"scf"},{"$f":"LOOKUP(Table146135136137138145152159166173180187194[[#This Row],[Emission Sub-source]],Table44[Fuel Type],Table44[CO2 Factor \n(kg / Unit)])","v":5.4440000000000002E-2},{"$f":"LOOKUP(Table146135136137138145152159166173180187194[[#This Row],[Emission Sub-source]],Table44[Fuel Type],Table44[CH4 Factor \n(g / unit)])","v":1.0300000000000001E-3},{"$f":"(Table146135136137138145152159166173180187194[[#This Row],[CH4]]/1000)*25","v":2.5750000000000002E-5},{"$f":"LOOKUP(Table146135136137138145152159166173180187194[[#This Row],[Emission Sub-source]],Table44[Fuel Type],Table44[N2O Factor \n(g / unit)])","v":1E-4},{"$f":"(Table146135136137138145152159166173180187194[[#This Row],[N2O]]/1000)*298","v":2.9800000000000003E-5},{"$f":"(LOOKUP(Table146135136137138145152159166173180187194[[#This Row],[Emission Sub-source]],Table44[Fuel Type],Table44[GWP]))","v":0},{"$f":"Table146135136137138145152159166173180187194[[#This Row],[Data \n(Corrected)]]*(LOOKUP(Table146135136137138145152159166173180187194[[#This Row],[Emission Sub-source]],Table44[Fuel Type],Table44[Recycled CO2 Factor]))","v":0},{"$f":"Table146135136137138145152159166173180187194[[#This Row],[Data \n(Corrected)]]*(LOOKUP(Table146135136137138145152159166173180187194[[#This Row],[Emission Sub-source]],Table44[Fuel Type],Table44[Landfill CO2 Factor]))","v":0},{"$f":"Table146135136137138145152159166173180187194[[#This Row],[Data \n(Corrected)]]*(LOOKUP(Table146135136137138145152159166173180187194[[#This Row],[Emission Sub-source]],Table44[Fuel Type],Table44[Combusted CO2 Factor]))","v":0},{"$f":"((Table146135136137138145152159166173180187194[[#This Row],[CO2]]+Table146135136137138145152159166173180187194[[#This Row],[CH4 Corrected]]+Table146135136137138145152159166173180187194[[#This Row],[N2O Corrected]]+Table146135136137138145152159166173180187194[[#This Row],[GWP]]+Table146135136137138145152159166173180187194[[#This Row],[Recycled]]+Table146135136137138145152159166173180187194[[#This Row],[Landfill]]+Table146135136137138145152159166173180187194[[#This Row],[Combusted]])*Table146135136137138145152159166173180187194[[#This Row],[Data \n(Corrected)]])/1000","v":5.4495550000000001}]
[]
[null,"Reporting \nyear","Entity","Location","Scope","Emission Source","Source Pseudonym","Emission Sub-source","Emission Pseudonym","Unit \nRequired","Data \n(Raw)","Unit Reported","Concatenate Units","Unit Conversion","Data \n(Corrected)","Unit\n(Corrected)","CO2","CH4","CH4 Corrected","N2O","N2O Corrected","GWP","Recycled","Landfill","Combusted","tCO2e Emission Equivalent"]
[null,2021,"Camira Fabrics Limited","Birkby","Scope_1","Stationary",{"$f":"LOOKUP(Table146135136137138139146153160167174181188195[[#This Row],[Emission Source]],Table3578[Source],Table3578[Pseudonym])","v":"StationaryUS"},"Natural Gas",{"$f":"LOOKUP(Table146135136137138139146153160167174181188195[[#This Row],[Emission Sub-source]],Table125[[Emission ]],Table125[Pseudonym])","v":"NaturalGasUS"},{"$f":"LOOKUP(Table146135136137138139146153160167174181188195[[#This Row],[Emission Sub-source]],Table44[Fuel Type],Table44[Unit])","v":"scf"},100000,"scf",{"$f":"CONCATENATE(Table146135136137138139146153160167174181188195[[#This Row],[Unit Reported]],Table146135136137138139146153160167174181188195[[#This Row],[Unit \nRequired]])","v":"scfscf"},{"$f":"LOOKUP(Table146135136137138139146153160167174181188195[[#This Row],[Concatenate Units]],Table43[Concatenate],Table43[Multiply By])","v":1},{"$f":"Table146135136137138139146153160167174181188195[[#This Row],[Data \n(Raw)]]*Table146135136137138139146153160167174181188195[[#This Row],[Unit Conversion]]","v":100000},{"$f":"Table146135136137138139146153160167174181188195[[#This Row],[Unit \nRequired]]","v":"scf"},{"$f":"LOOKUP(Table146135136137138139146153160167174181188195[[#This Row],[Emission Sub-source]],Table44[Fuel Type],Table44[CO2 Factor \n(kg / Unit)])","v":5.4440000000000002E-2},{"$f":"LOOKUP(Table146135136137138139146153160167174181188195[[#This Row],[Emission Sub-source]],Table44[Fuel Type],Table44[CH4 Factor \n(g / unit)])","v":1.0300000000000001E-3},{"$f":"(Table146135136137138139146153160167174181188195[[#This Row],[CH4]]/1000)*25","v":2.5750000000000002E-5},{"$f":"LOOKUP(Table146135136137138139146153160167174181188195[[#This Row],[Emission Sub-source]],Table44[Fuel Type],Table44[N2O Factor \n(g / unit)])","v":1E-4},{"$f":"(Table146135136137138139146153160167174181188195[[#This Row],[N2O]]/1000)*298","v":2.9800000000000003E-5},{"$f":"(LOOKUP(Table146135136137138139146153160167174181188195[[#This Row],[Emission Sub-source]],Table44[Fuel Type],Table44[GWP]))","v":0},{"$f":"Table146135136137138139146153160167174181188195[[#This Row],[Data \n(Corrected)]]*(LOOKUP(Table146135136137138139146153160167174181188195[[#This Row],[Emission Sub-source]],Table44[Fuel Type],Table44[Recycled CO2 Factor]))","v":0},{"$f":"Table146135136137138139146153160167174181188195[[#This Row],[Data \n(Corrected)]]*(LOOKUP(Table146135136137138139146153160167174181188195[[#This Row],[Emission Sub-source]],Table44[Fuel Type],Table44[Landfill CO2 Factor]))","v":0},{"$f":"Table146135136137138139146153160167174181188195[[#This Row],[Data \n(Corrected)]]*(LOOKUP(Table146135136137138139146153160167174181188195[[#This Row],[Emission Sub-source]],Table44[Fuel Type],Table44[Combusted CO2 Factor]))","v":0},{"$f":"((Table146135136137138139146153160167174181188195[[#This Row],[CO2]]+Table146135136137138139146153160167174181188195[[#This Row],[CH4 Corrected]]+Table146135136137138139146153160167174181188195[[#This Row],[N2O Corrected]]+Table146135136137138139146153160167174181188195[[#This Row],[GWP]]+Table146135136137138139146153160167174181188195[[#This Row],[Recycled]]+Table146135136137138139146153160167174181188195[[#This Row],[Landfill]]+Table146135136137138139146153160167174181188195[[#This Row],[Combusted]])*Table146135136137138139146153160167174181188195[[#This Row],[Data \n(Corrected)]])/1000","v":5.4495550000000001}]
[]
[null,"Reporting \nyear","Entity","Location","Scope","Emission Source","Source Pseudonym","Emission Sub-source","Emission Pseudonym","Unit \nRequired","Data \n(Raw)","Unit Reported","Concatenate Units","Unit Conversion","Data \n(Corrected)","Unit\n(Corrected)","CO2","CH4","CH4 Corrected","N2O","N2O Corrected","GWP","Recycled","Landfill","Combusted","tCO2e Emission Equivalent"]
[null,2021,"Camira Fabrics Limited","Holmfirth","Scope_1","Stationary",{"$f":"LOOKUP(Table146135136137138140147154161168175182189196[[#This Row],[Emission Source]],Table3578[Source],Table3578[Pseudonym])","v":"StationaryUS"},"Natural Gas",{"$f":"LOOKUP(Table146135136137138140147154161168175182189196[[#This Row],[Emission Sub-source]],Table125[[Emission ]],Table125[Pseudonym])","v":"NaturalGasUS"},{"$f":"LOOKUP(Table146135136137138140147154161168175182189196[[#This Row],[Emission Sub-source]],Table44[Fuel Type],Table44[Unit])","v":"scf"},100000,"scf",{"$f":"CONCATENATE(Table146135136137138140147154161168175182189196[[#This Row],[Unit Reported]],Table146135136137138140147154161168175182189196[[#This Row],[Unit \nRequired]])","v":"scfscf"},{"$f":"LOOKUP(Table146135136137138140147154161168175182189196[[#This Row],[Concatenate Units]],Table43[Concatenate],Table43[Multiply By])","v":1},{"$f":"Table146135136137138140147154161168175182189196[[#This Row],[Data \n(Raw)]]*Table146135136137138140147154161168175182189196[[#This Row],[Unit Conversion]]","v":100000},{"$f":"Table146135136137138140147154161168175182189196[[#This Row],[Unit \nRequired]]","v":"scf"},{"$f":"LOOKUP(Table146135136137138140147154161168175182189196[[#This Row],[Emission Sub-source]],Table44[Fuel Type],Table44[CO2 Factor \n(kg / Unit)])","v":5.4440000000000002E-2},{"$f":"LOOKUP(Table146135136137138140147154161168175182189196[[#This Row],[Emission Sub-source]],Table44[Fuel Type],Table44[CH4 Factor \n(g / unit)])","v":1.0300000000000001E-3},{"$f":"(Table146135136137138140147154161168175182189196[[#This Row],[CH4]]/1000)*25","v":2.5750000000000002E-5},{"$f":"LOOKUP(Table146135136137138140147154161168175182189196[[#This Row],[Emission Sub-source]],Table44[Fuel Type],Table44[N2O Factor \n(g / unit)])","v":1E-4},{"$f":"(Table146135136137138140147154161168175182189196[[#This Row],[N2O]]/1000)*298","v":2.9800000000000003E-5},{"$f":"(LOOKUP(Table146135136137138140147154161168175182189196[[#This Row],[Emission Sub-source]],Table44[Fuel Type],Table44[GWP]))","v":0},{"$f":"Table146135136137138140147154161168175182189196[[#This Row],[Data \n(Corrected)]]*(LOOKUP(Table146135136137138140147154161168175182189196[[#This Row],[Emission Sub-source]],Table44[Fuel Type],Table44[Recycled CO2 Factor]))","v":0},{"$f":"Table146135136137138140147154161168175182189196[[#This Row],[Data \n(Corrected)]]*(LOOKUP(Table146135136137138140147154161168175182189196[[#This Row],[Emission Sub-source]],Table44[Fuel Type],Table44[Landfill CO2 Factor]))","v":0},{"$f":"Table146135136137138140147154161168175182189196[[#This Row],[Data \n(Corrected)]]*(LOOKUP(Table146135136137138140147154161168175182189196[[#This Row],[Emission Sub-source]],Table44[Fuel Type],Table44[Combusted CO2 Factor]))","v":0},{"$f":"((Table146135136137138140147154161168175182189196[[#This Row],[CO2]]+Table146135136137138140147154161168175182189196[[#This Row],[CH4 Corrected]]+Table146135136137138140147154161168175182189196[[#This Row],[N2O Corrected]]+Table146135136137138140147154161168175182189196[[#This Row],[GWP]]+Table146135136137138140147154161168175182189196[[#This Row],[Recycled]]+Table146135136137138140147154161168175182189196[[#This Row],[Landfill]]+Table146135136137138140147154161168175182189196[[#This Row],[Combusted]])*Table146135136137138140147154161168175182189196[[#This Row],[Data \n(Corrected)]])/1000","v":5.4495550000000001}]
[]
[null,"EUR - ??"]
[null,"Reporting \nyear","Entity","Location","Scope","Emission Source","Source Pseudonym","Emission Sub-source","Emission Pseudonym","Unit \nRequired","Data \n(Raw)","Unit Reported","Concatenate Units","Unit Conversion","Data \n(Corrected)","Unit\n(Corrected)","CO2","CH4","CH4 Corrected","N2O","N2O Corrected","GWP","Recycled","Landfill","Combusted","tCO2e Emission Equivalent"]
[null,2021,"UAB Camira Fabrics","Lithuania","Scope_1","Stationary",{"$f":"LOOKUP(Table146135136137138140141148155162169176183190197[[#This Row],[Emission Source]],Table3578[Source],Table3578[Pseudonym])","v":"StationaryUS"},"Natural Gas",{"$f":"LOOKUP(Table146135136137138140141148155162169176183190197[[#This Row],[Emission Sub-source]],Table125[[Emission ]],Table125[Pseudonym])","v":"NaturalGasUS"},{"$f":"LOOKUP(Table146135136137138140141148155162169176183190197[[#This Row],[Emission Sub-source]],Table44[Fuel Type],Table44[Unit])","v":"scf"},100000,"scf",{"$f":"CONCATENATE(Table146135136137138140141148155162169176183190197[[#This Row],[Unit Reported]],Table146135136137138140141148155162169176183190197[[#This Row],[Unit \nRequired]])","v":"scfscf"},{"$f":"LOOKUP(Table146135136137138140141148155162169176183190197[[#This Row],[Concatenate Units]],Table43[Concatenate],Table43[Multiply By])","v":1},{"$f":"Table146135136137138140141148155162169176183190197[[#This Row],[Data \n(Raw)]]*Table146135136137138140141148155162169176183190197[[#This Row],[Unit Conversion]]","v":100000},{"$f":"Table146135136137138140141148155162169176183190197[[#This Row],[Unit \nRequired]]","v":"scf"},{"$f":"LOOKUP(Table146135136137138140141148155162169176183190197[[#This Row],[Emission Sub-source]],Table44[Fuel Type],Table44[CO2 Factor \n(kg / Unit)])","v":5.4440000000000002E-2},{"$f":"LOOKUP(Table146135136137138140141148155162169176183190197[[#This Row],[Emission Sub-source]],Table44[Fuel Type],Table44[CH4 Factor \n(g / unit)])","v":1.0300000000000001E-3},{"$f":"(Table146135136137138140141148155162169176183190197[[#This Row],[CH4]]/1000)*25","v":2.5750000000000002E-5},{"$f":"LOOKUP(Table146135136137138140141148155162169176183190197[[#This Row],[Emission Sub-source]],Table44[Fuel Type],Table44[N2O Factor \n(g / unit)])","v":1E-4},{"$f":"(Table146135136137138140141148155162169176183190197[[#This Row],[N2O]]/1000)*298","v":2.9800000000000003E-5},{"$f":"(LOOKUP(Table146135136137138140141148155162169176183190197[[#This Row],[Emission Sub-source]],Table44[Fuel Type],Table44[GWP]))","v":0},{"$f":"Table146135136137138140141148155162169176183190197[[#This Row],[Data \n(Corrected)]]*(LOOKUP(Table146135136137138140141148155162169176183190197[[#This Row],[Emission Sub-source]],Table44[Fuel Type],Table44[Recycled CO2 Factor]))","v":0},{"$f":"Table146135136137138140141148155162169176183190197[[#This Row],[Data \n(Corrected)]]*(LOOKUP(Table146135136137138140141148155162169176183190197[[#This Row],[Emission Sub-source]],Table44[Fuel Type],Table44[Landfill CO2 Factor]))","v":0},{"$f":"Table146135136137138140141148155162169176183190197[[#This Row],[Data \n(Corrected)]]*(LOOKUP(Table146135136137138140141148155162169176183190197[[#This Row],[Emission Sub-source]],Table44[Fuel Type],Table44[Combusted CO2 Factor]))","v":0},{"$f":"((Table146135136137138140141148155162169176183190197[[#This Row],[CO2]]+Table146135136137138140141148155162169176183190197[[#This Row],[CH4 Corrected]]+Table146135136137138140141148155162169176183190197[[#This Row],[N2O Corrected]]+Table146135136137138140141148155162169176183190197[[#This Row],[GWP]]+Table146135136137138140141148155162169176183190197[[#This Row],[Recycled]]+Table146135136137138140141148155162169176183190197[[#This Row],[Landfill]]+Table146135136137138140141148155162169176183190197[[#This Row],[Combusted]])*Table146135136137138140141148155162169176183190197[[#This Row],[Data \n(Corrected)]])/1000","v":5.4495550000000001}]
[]
[null,"US - EPA"]
[null,"Reporting \nyear","Entity","Location","Scope","Emission Source","Source Pseudonym","Emission Sub-source","Emission Pseudonym","Unit \nRequired","Data \n(Raw)","Unit Reported","Concatenate Units","Unit Conversion","Data \n(Corrected)","Unit\n(Corrected)","CO2","CH4","CH4 Corrected","N2O","N2O Corrected","GWP","Recycled","Landfill","Combusted","tCO2e Emission Equivalent"]
[null,2021,"Camira Group, Inc","Grand Rapids","Scope_1","Stationary",{"$f":"LOOKUP(Table146135142149156163170177184191[[#This Row],[Emission Source]],Table3578[Source],Table3578[Pseudonym])","v":"StationaryUS"},"Natural Gas",{"$f":"LOOKUP(Table146135142149156163170177184191[[#This Row],[Emission Sub-source]],Table125[[Emission ]],Table125[Pseudonym])","v":"NaturalGasUS"},{"$f":"LOOKUP(Table146135142149156163170177184191[[#This Row],[Emission Sub-source]],Table44[Fuel Type],Table44[Unit])","v":"scf"},100000,"scf",{"$f":"CONCATENATE(Table146135142149156163170177184191[[#This Row],[Unit Reported]],Table146135142149156163170177184191[[#This Row],[Unit \nRequired]])","v":"scfscf"},{"$f":"LOOKUP(Table146135142149156163170177184191[[#This Row],[Concatenate Units]],Table43[Concatenate],Table43[Multiply By])","v":1},{"$f":"Table146135142149156163170177184191[[#This Row],[Data \n(Raw)]]*Table146135142149156163170177184191[[#This Row],[Unit Conversion]]","v":100000},{"$f":"Table146135142149156163170177184191[[#This Row],[Unit \nRequired]]","v":"scf"},{"$f":"LOOKUP(Table146135142149156163170177184191[[#This Row],[Emission Sub-source]],Table44[Fuel Type],Table44[CO2 Factor \n(kg / Unit)])","v":5.4440000000000002E-2},{"$f":"LOOKUP(Table146135142149156163170177184191[[#This Row],[Emission Sub-source]],Table44[Fuel Type],Table44[CH4 Factor \n(g / unit)])","v":1.0300000000000001E-3},{"$f":"(Table146135142149156163170177184191[[#This Row],[CH4]]/1000)*25","v":2.5750000000000002E-5},{"$f":"LOOKUP(Table146135142149156163170177184191[[#This Row],[Emission Sub-source]],Table44[Fuel Type],Table44[N2O Factor \n(g / unit)])","v":1E-4},{"$f":"(Table146135142149156163170177184191[[#This Row],[N2O]]/1000)*298","v":2.9800000000000003E-5},{"$f":"(LOOKUP(Table146135142149156163170177184191[[#This Row],[Emission Sub-source]],Table44[Fuel Type],Table44[GWP]))","v":0},{"$f":"Table146135142149156163170177184191[[#This Row],[Data \n(Corrected)]]*(LOOKUP(Table146135142149156163170177184191[[#This Row],[Emission Sub-source]],Table44[Fuel Type],Table44[Recycled CO2 Factor]))","v":0},{"$f":"Table146135142149156163170177184191[[#This Row],[Data \n(Corrected)]]*(LOOKUP(Table146135142149156163170177184191[[#This Row],[Emission Sub-source]],Table44[Fuel Type],Table44[Landfill CO2 Factor]))","v":0},{"$f":"Table146135142149156163170177184191[[#This Row],[Data \n(Corrected)]]*(LOOKUP(Table146135142149156163170177184191[[#This Row],[Emission Sub-source]],Table44[Fuel Type],Table44[Combusted CO2 Factor]))","v":0},{"$f":"((Table146135142149156163170177184191[[#This Row],[CO2]]+Table146135142149156163170177184191[[#This Row],[CH4 Corrected]]+Table146135142149156163170177184191[[#This Row],[N2O Corrected]]+Table146135142149156163170177184191[[#This Row],[GWP]]+Table146135142149156163170177184191[[#This Row],[Recycled]]+Table146135142149156163170177184191[[#This Row],[Landfill]]+Table146135142149156163170177184191[[#This Row],[Combusted]])*Table146135142149156163170177184191[[#This Row],[Data \n(Corrected)]])/1000","v":5.4495550000000001}]

{"sheet":"3.3","index":14,"n_rows":26,"n_cols":26,"rows_kept":26,"cut":false,"hidden":true,"merged":[]}
[]
[null,"Greenhouse Gas Emission Analysis - Supplier Scope 1 & 2 - Energy Provider"]
[]
[null,"UK - DBEIS/DEFRA"]
[null,"Reporting \nyear","Entity","Location","Scope","Emission Source","Source Pseudonym","Emission Sub-source","Emission Pseudonym","Unit \nRequired","Data \n(Raw)","Unit Reported","Concatenate Units","Unit Conversion","Data \n(Corrected)","Unit\n(Corrected)","CO2","CH4","CH4 Corrected","N2O","N2O Corrected","GWP","Recycled","Landfill","Combusted","tCO2e Emission Equivalent"]
[null,2021,"Camira Fabrics Limited","Mirfield","Scope_1","Stationary",{"$f":"LOOKUP(Table146135136143150157164171178185192199[[#This Row],[Emission Source]],Table3578[Source],Table3578[Pseudonym])","v":"StationaryUS"},"Natural Gas",{"$f":"LOOKUP(Table146135136143150157164171178185192199[[#This Row],[Emission Sub-source]],Table125[[Emission ]],Table125[Pseudonym])","v":"NaturalGasUS"},{"$f":"LOOKUP(Table146135136143150157164171178185192199[[#This Row],[Emission Sub-source]],Table44[Fuel Type],Table44[Unit])","v":"scf"},100000,"scf",{"$f":"CONCATENATE(Table146135136143150157164171178185192199[[#This Row],[Unit Reported]],Table146135136143150157164171178185192199[[#This Row],[Unit \nRequired]])","v":"scfscf"},{"$f":"LOOKUP(Table146135136143150157164171178185192199[[#This Row],[Concatenate Units]],Table43[Concatenate],Table43[Multiply By])","v":1},{"$f":"Table146135136143150157164171178185192199[[#This Row],[Data \n(Raw)]]*Table146135136143150157164171178185192199[[#This Row],[Unit Conversion]]","v":100000},{"$f":"Table146135136143150157164171178185192199[[#This Row],[Unit \nRequired]]","v":"scf"},{"$f":"LOOKUP(Table146135136143150157164171178185192199[[#This Row],[Emission Sub-source]],Table44[Fuel Type],Table44[CO2 Factor \n(kg / Unit)])","v":5.4440000000000002E-2},{"$f":"LOOKUP(Table146135136143150157164171178185192199[[#This Row],[Emission Sub-source]],Table44[Fuel Type],Table44[CH4 Factor \n(g / unit)])","v":1.0300000000000001E-3},{"$f":"(Table146135136143150157164171178185192199[[#This Row],[CH4]]/1000)*25","v":2.5750000000000002E-5},{"$f":"LOOKUP(Table146135136143150157164171178185192199[[#This Row],[Emission Sub-source]],Table44[Fuel Type],Table44[N2O Factor \n(g / unit)])","v":1E-4},{"$f":"(Table146135136143150157164171178185192199[[#This Row],[N2O]]/1000)*298","v":2.9800000000000003E-5},{"$f":"(LOOKUP(Table146135136143150157164171178185192199[[#This Row],[Emission Sub-source]],Table44[Fuel Type],Table44[GWP]))","v":0},{"$f":"Table146135136143150157164171178185192199[[#This Row],[Data \n(Corrected)]]*(LOOKUP(Table146135136143150157164171178185192199[[#This Row],[Emission Sub-source]],Table44[Fuel Type],Table44[Recycled CO2 Factor]))","v":0},{"$f":"Table146135136143150157164171178185192199[[#This Row],[Data \n(Corrected)]]*(LOOKUP(Table146135136143150157164171178185192199[[#This Row],[Emission Sub-source]],Table44[Fuel Type],Table44[Landfill CO2 Factor]))","v":0},{"$f":"Table146135136143150157164171178185192199[[#This Row],[Data \n(Corrected)]]*(LOOKUP(Table146135136143150157164171178185192199[[#This Row],[Emission Sub-source]],Table44[Fuel Type],Table44[Combusted CO2 Factor]))","v":0},{"$f":"((Table146135136143150157164171178185192199[[#This Row],[CO2]]+Table146135136143150157164171178185192199[[#This Row],[CH4 Corrected]]+Table146135136143150157164171178185192199[[#This Row],[N2O Corrected]]+Table146135136143150157164171178185192199[[#This Row],[GWP]]+Table146135136143150157164171178185192199[[#This Row],[Recycled]]+Table146135136143150157164171178185192199[[#This Row],[Landfill]]+Table146135136143150157164171178185192199[[#This Row],[Combusted]])*Table146135136143150157164171178185192199[[#This Row],[Data \n(Corrected)]])/1000","v":5.4495550000000001}]
[]
[null,"Reporting \nyear","Entity","Location","Scope","Emission Source","Source Pseudonym","Emission Sub-source","Emission Pseudonym","Unit \nRequired","Data \n(Raw)","Unit Reported","Concatenate Units","Unit Conversion","Data \n(Corrected)","Unit\n(Corrected)","CO2","CH4","CH4 Corrected","N2O","N2O Corrected","GWP","Recycled","Landfill","Combusted","tCO2e Emission Equivalent"]
[null,2021,"Camira Fabrics Limited","Meltham","Scope_1","Stationary",{"$f":"LOOKUP(Table146135136137144151158165172179186193200[[#This Row],[Emission Source]],Table3578[Source],Table3578[Pseudonym])","v":"StationaryUS"},"Natural Gas",{"$f":"LOOKUP(Table146135136137144151158165172179186193200[[#This Row],[Emission Sub-source]],Table125[[Emission ]],Table125[Pseudonym])","v":"NaturalGasUS"},{"$f":"LOOKUP(Table146135136137144151158165172179186193200[[#This Row],[Emission Sub-source]],Table44[Fuel Type],Table44[Unit])","v":"scf"},100000,"scf",{"$f":"CONCATENATE(Table146135136137144151158165172179186193200[[#This Row],[Unit Reported]],Table146135136137144151158165172179186193200[[#This Row],[Unit \nRequired]])","v":"scfscf"},{"$f":"LOOKUP(Table146135136137144151158165172179186193200[[#This Row],[Concatenate Units]],Table43[Concatenate],Table43[Multiply By])","v":1},{"$f":"Table146135136137144151158165172179186193200[[#This Row],[Data \n(Raw)]]*Table146135136137144151158165172179186193200[[#This Row],[Unit Conversion]]","v":100000},{"$f":"Table146135136137144151158165172179186193200[[#This Row],[Unit \nRequired]]","v":"scf"},{"$f":"LOOKUP(Table146135136137144151158165172179186193200[[#This Row],[Emission Sub-source]],Table44[Fuel Type],Table44[CO2 Factor \n(kg / Unit)])","v":5.4440000000000002E-2},{"$f":"LOOKUP(Table146135136137144151158165172179186193200[[#This Row],[Emission Sub-source]],Table44[Fuel Type],Table44[CH4 Factor \n(g / unit)])","v":1.0300000000000001E-3},{"$f":"(Table146135136137144151158165172179186193200[[#This Row],[CH4]]/1000)*25","v":2.5750000000000002E-5},{"$f":"LOOKUP(Table146135136137144151158165172179186193200[[#This Row],[Emission Sub-source]],Table44[Fuel Type],Table44[N2O Factor \n(g / unit)])","v":1E-4},{"$f":"(Table146135136137144151158165172179186193200[[#This Row],[N2O]]/1000)*298","v":2.9800000000000003E-5},{"$f":"(LOOKUP(Table146135136137144151158165172179186193200[[#This Row],[Emission Sub-source]],Table44[Fuel Type],Table44[GWP]))","v":0},{"$f":"Table146135136137144151158165172179186193200[[#This Row],[Data \n(Corrected)]]*(LOOKUP(Table146135136137144151158165172179186193200[[#This Row],[Emission Sub-source]],Table44[Fuel Type],Table44[Recycled CO2 Factor]))","v":0},{"$f":"Table146135136137144151158165172179186193200[[#This Row],[Data \n(Corrected)]]*(LOOKUP(Table146135136137144151158165172179186193200[[#This Row],[Emission Sub-source]],Table44[Fuel Type],Table44[Landfill CO2 Factor]))","v":0},{"$f":"Table146135136137144151158165172179186193200[[#This Row],[Data \n(Corrected)]]*(LOOKUP(Table146135136137144151158165172179186193200[[#This Row],[Emission Sub-source]],Table44[Fuel Type],Table44[Combusted CO2 Factor]))","v":0},{"$f":"((Table146135136137144151158165172179186193200[[#This Row],[CO2]]+Table146135136137144151158165172179186193200[[#This Row],[CH4 Corrected]]+Table146135136137144151158165172179186193200[[#This Row],[N2O Corrected]]+Table146135136137144151158165172179186193200[[#This Row],[GWP]]+Table146135136137144151158165172179186193200[[#This Row],[Recycled]]+Table146135136137144151158165172179186193200[[#This Row],[Landfill]]+Table146135136137144151158165172179186193200[[#This Row],[Combusted]])*Table146135136137144151158165172179186193200[[#This Row],[Data \n(Corrected)]])/1000","v":5.4495550000000001}]
[]
[null,"Reporting \nyear","Entity","Location","Scope","Emission Source","Source Pseudonym","Emission Sub-source","Emission Pseudonym","Unit \nRequired","Data \n(Raw)","Unit Reported","Concatenate Units","Unit Conversion","Data \n(Corrected)","Unit\n(Corrected)","CO2","CH4","CH4 Corrected","N2O","N2O Corrected","GWP","Recycled","Landfill","Combusted","tCO2e Emission Equivalent"]
[null,2021,"Camira Fabrics Limited","Nottingham","Scope_1","Stationary",{"$f":"LOOKUP(Table146135136137138145152159166173180187194201[[#This Row],[Emission Source]],Table3578[Source],Table3578[Pseudonym])","v":"StationaryUS"},"Natural Gas",{"$f":"LOOKUP(Table146135136137138145152159166173180187194201[[#This Row],[Emission Sub-source]],Table125[[Emission ]],Table125[Pseudonym])","v":"NaturalGasUS"},{"$f":"LOOKUP(Table146135136137138145152159166173180187194201[[#This Row],[Emission Sub-source]],Table44[Fuel Type],Table44[Unit])","v":"scf"},100000,"scf",{"$f":"CONCATENATE(Table146135136137138145152159166173180187194201[[#This Row],[Unit Reported]],Table146135136137138145152159166173180187194201[[#This Row],[Unit \nRequired]])","v":"scfscf"},{"$f":"LOOKUP(Table146135136137138145152159166173180187194201[[#This Row],[Concatenate Units]],Table43[Concatenate],Table43[Multiply By])","v":1},{"$f":"Table146135136137138145152159166173180187194201[[#This Row],[Data \n(Raw)]]*Table146135136137138145152159166173180187194201[[#This Row],[Unit Conversion]]","v":100000},{"$f":"Table146135136137138145152159166173180187194201[[#This Row],[Unit \nRequired]]","v":"scf"},{"$f":"LOOKUP(Table146135136137138145152159166173180187194201[[#This Row],[Emission Sub-source]],Table44[Fuel Type],Table44[CO2 Factor \n(kg / Unit)])","v":5.4440000000000002E-2},{"$f":"LOOKUP(Table146135136137138145152159166173180187194201[[#This Row],[Emission Sub-source]],Table44[Fuel Type],Table44[CH4 Factor \n(g / unit)])","v":1.0300000000000001E-3},{"$f":"(Table146135136137138145152159166173180187194201[[#This Row],[CH4]]/1000)*25","v":2.5750000000000002E-5},{"$f":"LOOKUP(Table146135136137138145152159166173180187194201[[#This Row],[Emission Sub-source]],Table44[Fuel Type],Table44[N2O Factor \n(g / unit)])","v":1E-4},{"$f":"(Table146135136137138145152159166173180187194201[[#This Row],[N2O]]/1000)*298","v":2.9800000000000003E-5},{"$f":"(LOOKUP(Table146135136137138145152159166173180187194201[[#This Row],[Emission Sub-source]],Table44[Fuel Type],Table44[GWP]))","v":0},{"$f":"Table146135136137138145152159166173180187194201[[#This Row],[Data \n(Corrected)]]*(LOOKUP(Table146135136137138145152159166173180187194201[[#This Row],[Emission Sub-source]],Table44[Fuel Type],Table44[Recycled CO2 Factor]))","v":0},{"$f":"Table146135136137138145152159166173180187194201[[#This Row],[Data \n(Corrected)]]*(LOOKUP(Table146135136137138145152159166173180187194201[[#This Row],[Emission Sub-source]],Table44[Fuel Type],Table44[Landfill CO2 Factor]))","v":0},{"$f":"Table146135136137138145152159166173180187194201[[#This Row],[Data \n(Corrected)]]*(LOOKUP(Table146135136137138145152159166173180187194201[[#This Row],[Emission Sub-source]],Table44[Fuel Type],Table44[Combusted CO2 Factor]))","v":0},{"$f":"((Table146135136137138145152159166173180187194201[[#This Row],[CO2]]+Table146135136137138145152159166173180187194201[[#This Row],[CH4 Corrected]]+Table146135136137138145152159166173180187194201[[#This Row],[N2O Corrected]]+Table146135136137138145152159166173180187194201[[#This Row],[GWP]]+Table146135136137138145152159166173180187194201[[#This Row],[Recycled]]+Table146135136137138145152159166173180187194201[[#This Row],[Landfill]]+Table146135136137138145152159166173180187194201[[#This Row],[Combusted]])*Table146135136137138145152159166173180187194201[[#This Row],[Data \n(Corrected)]])/1000","v":5.4495550000000001}]
[]
[null,"Reporting \nyear","Entity","Location","Scope","Emission Source","Source Pseudonym","Emission Sub-source","Emission Pseudonym","Unit \nRequired","Data \n(Raw)","Unit Reported","Concatenate Units","Unit Conversion","Data \n(Corrected)","Unit\n(Corrected)","CO2","CH4","CH4 Corrected","N2O","N2O Corrected","GWP","Recycled","Landfill","Combusted","tCO2e Emission Equivalent"]
[null,2021,"Camira Fabrics Limited","Birkby","Scope_1","Stationary",{"$f":"LOOKUP(Table146135136137138139146153160167174181188195202[[#This Row],[Emission Source]],Table3578[Source],Table3578[Pseudonym])","v":"StationaryUS"},"Natural Gas",{"$f":"LOOKUP(Table146135136137138139146153160167174181188195202[[#This Row],[Emission Sub-source]],Table125[[Emission ]],Table125[Pseudonym])","v":"NaturalGasUS"},{"$f":"LOOKUP(Table146135136137138139146153160167174181188195202[[#This Row],[Emission Sub-source]],Table44[Fuel Type],Table44[Unit])","v":"scf"},100000,"scf",{"$f":"CONCATENATE(Table146135136137138139146153160167174181188195202[[#This Row],[Unit Reported]],Table146135136137138139146153160167174181188195202[[#This Row],[Unit \nRequired]])","v":"scfscf"},{"$f":"LOOKUP(Table146135136137138139146153160167174181188195202[[#This Row],[Concatenate Units]],Table43[Concatenate],Table43[Multiply By])","v":1},{"$f":"Table146135136137138139146153160167174181188195202[[#This Row],[Data \n(Raw)]]*Table146135136137138139146153160167174181188195202[[#This Row],[Unit Conversion]]","v":100000},{"$f":"Table146135136137138139146153160167174181188195202[[#This Row],[Unit \nRequired]]","v":"scf"},{"$f":"LOOKUP(Table146135136137138139146153160167174181188195202[[#This Row],[Emission Sub-source]],Table44[Fuel Type],Table44[CO2 Factor \n(kg / Unit)])","v":5.4440000000000002E-2},{"$f":"LOOKUP(Table146135136137138139146153160167174181188195202[[#This Row],[Emission Sub-source]],Table44[Fuel Type],Table44[CH4 Factor \n(g / unit)])","v":1.0300000000000001E-3},{"$f":"(Table146135136137138139146153160167174181188195202[[#This Row],[CH4]]/1000)*25","v":2.5750000000000002E-5},{"$f":"LOOKUP(Table146135136137138139146153160167174181188195202[[#This Row],[Emission Sub-source]],Table44[Fuel Type],Table44[N2O Factor \n(g / unit)])","v":1E-4},{"$f":"(Table146135136137138139146153160167174181188195202[[#This Row],[N2O]]/1000)*298","v":2.9800000000000003E-5},{"$f":"(LOOKUP(Table146135136137138139146153160167174181188195202[[#This Row],[Emission Sub-source]],Table44[Fuel Type],Table44[GWP]))","v":0},{"$f":"Table146135136137138139146153160167174181188195202[[#This Row],[Data \n(Corrected)]]*(LOOKUP(Table146135136137138139146153160167174181188195202[[#This Row],[Emission Sub-source]],Table44[Fuel Type],Table44[Recycled CO2 Factor]))","v":0},{"$f":"Table146135136137138139146153160167174181188195202[[#This Row],[Data \n(Corrected)]]*(LOOKUP(Table146135136137138139146153160167174181188195202[[#This Row],[Emission Sub-source]],Table44[Fuel Type],Table44[Landfill CO2 Factor]))","v":0},{"$f":"Table146135136137138139146153160167174181188195202[[#This Row],[Data \n(Corrected)]]*(LOOKUP(Table146135136137138139146153160167174181188195202[[#This Row],[Emission Sub-source]],Table44[Fuel Type],Table44[Combusted CO2 Factor]))","v":0},{"$f":"((Table146135136137138139146153160167174181188195202[[#This Row],[CO2]]+Table146135136137138139146153160167174181188195202[[#This Row],[CH4 Corrected]]+Table146135136137138139146153160167174181188195202[[#This Row],[N2O Corrected]]+Table146135136137138139146153160167174181188195202[[#This Row],[GWP]]+Table146135136137138139146153160167174181188195202[[#This Row],[Recycled]]+Table146135136137138139146153160167174181188195202[[#This Row],[Landfill]]+Table146135136137138139146153160167174181188195202[[#This Row],[Combusted]])*Table146135136137138139146153160167174181188195202[[#This Row],[Data \n(Corrected)]])/1000","v":5.4495550000000001}]
[]
[null,"Reporting \nyear","Entity","Location","Scope","Emission Source","Source Pseudonym","Emission Sub-source","Emission Pseudonym","Unit \nRequired","Data \n(Raw)","Unit Reported","Concatenate Units","Unit Conversion","Data \n(Corrected)","Unit\n(Corrected)","CO2","CH4","CH4 Corrected","N2O","N2O Corrected","GWP","Recycled","Landfill","Combusted","tCO2e Emission Equivalent"]
[null,2021,"Camira Fabrics Limited","Holmfirth","Scope_1","Stationary",{"$f":"LOOKUP(Table146135136137138140147154161168175182189196203[[#This Row],[Emission Source]],Table3578[Source],Table3578[Pseudonym])","v":"StationaryUS"},"Natural Gas",{"$f":"LOOKUP(Table146135136137138140147154161168175182189196203[[#This Row],[Emission Sub-source]],Table125[[Emission ]],Table125[Pseudonym])","v":"NaturalGasUS"},{"$f":"LOOKUP(Table146135136137138140147154161168175182189196203[[#This Row],[Emission Sub-source]],Table44[Fuel Type],Table44[Unit])","v":"scf"},100000,"scf",{"$f":"CONCATENATE(Table146135136137138140147154161168175182189196203[[#This Row],[Unit Reported]],Table146135136137138140147154161168175182189196203[[#This Row],[Unit \nRequired]])","v":"scfscf"},{"$f":"LOOKUP(Table146135136137138140147154161168175182189196203[[#This Row],[Concatenate Units]],Table43[Concatenate],Table43[Multiply By])","v":1},{"$f":"Table146135136137138140147154161168175182189196203[[#This Row],[Data \n(Raw)]]*Table146135136137138140147154161168175182189196203[[#This Row],[Unit Conversion]]","v":100000},{"$f":"Table146135136137138140147154161168175182189196203[[#This Row],[Unit \nRequired]]","v":"scf"},{"$f":"LOOKUP(Table146135136137138140147154161168175182189196203[[#This Row],[Emission Sub-source]],Table44[Fuel Type],Table44[CO2 Factor \n(kg / Unit)])","v":5.4440000000000002E-2},{"$f":"LOOKUP(Table146135136137138140147154161168175182189196203[[#This Row],[Emission Sub-source]],Table44[Fuel Type],Table44[CH4 Factor \n(g / unit)])","v":1.0300000000000001E-3},{"$f":"(Table146135136137138140147154161168175182189196203[[#This Row],[CH4]]/1000)*25","v":2.5750000000000002E-5},{"$f":"LOOKUP(Table146135136137138140147154161168175182189196203[[#This Row],[Emission Sub-source]],Table44[Fuel Type],Table44[N2O Factor \n(g / unit)])","v":1E-4},{"$f":"(Table146135136137138140147154161168175182189196203[[#This Row],[N2O]]/1000)*298","v":2.9800000000000003E-5},{"$f":"(LOOKUP(Table146135136137138140147154161168175182189196203[[#This Row],[Emission Sub-source]],Table44[Fuel Type],Table44[GWP]))","v":0},{"$f":"Table146135136137138140147154161168175182189196203[[#This Row],[Data \n(Corrected)]]*(LOOKUP(Table146135136137138140147154161168175182189196203[[#This Row],[Emission Sub-source]],Table44[Fuel Type],Table44[Recycled CO2 Factor]))","v":0},{"$f":"Table146135136137138140147154161168175182189196203[[#This Row],[Data \n(Corrected)]]*(LOOKUP(Table146135136137138140147154161168175182189196203[[#This Row],[Emission Sub-source]],Table44[Fuel Type],Table44[Landfill CO2 Factor]))","v":0},{"$f":"Table146135136137138140147154161168175182189196203[[#This Row],[Data \n(Corrected)]]*(LOOKUP(Table146135136137138140147154161168175182189196203[[#This Row],[Emission Sub-source]],Table44[Fuel Type],Table44[Combusted CO2 Factor]))","v":0},{"$f":"((Table146135136137138140147154161168175182189196203[[#This Row],[CO2]]+Table146135136137138140147154161168175182189196203[[#This Row],[CH4 Corrected]]+Table146135136137138140147154161168175182189196203[[#This Row],[N2O Corrected]]+Table146135136137138140147154161168175182189196203[[#This Row],[GWP]]+Table146135136137138140147154161168175182189196203[[#This Row],[Recycled]]+Table146135136137138140147154161168175182189196203[[#This Row],[Landfill]]+Table146135136137138140147154161168175182189196203[[#This Row],[Combusted]])*Table146135136137138140147154161168175182189196203[[#This Row],[Data \n(Corrected)]])/1000","v":5.4495550000000001}]
[]
[null,"EUR - ??"]
[null,"Reporting \nyear","Entity","Location","Scope","Emission Source","Source Pseudonym","Emission Sub-source","Emission Pseudonym","Unit \nRequired","Data \n(Raw)","Unit Reported","Concatenate Units","Unit Conversion","Data \n(Corrected)","Unit\n(Corrected)","CO2","CH4","CH4 Corrected","N2O","N2O Corrected","GWP","Recycled","Landfill","Combusted","tCO2e Emission Equivalent"]
[null,2021,"UAB Camira Fabrics","Lithuania","Scope_1","Stationary",{"$f":"LOOKUP(Table146135136137138140141148155162169176183190197204[[#This Row],[Emission Source]],Table3578[Source],Table3578[Pseudonym])","v":"StationaryUS"},"Natural Gas",{"$f":"LOOKUP(Table146135136137138140141148155162169176183190197204[[#This Row],[Emission Sub-source]],Table125[[Emission ]],Table125[Pseudonym])","v":"NaturalGasUS"},{"$f":"LOOKUP(Table146135136137138140141148155162169176183190197204[[#This Row],[Emission Sub-source]],Table44[Fuel Type],Table44[Unit])","v":"scf"},100000,"scf",{"$f":"CONCATENATE(Table146135136137138140141148155162169176183190197204[[#This Row],[Unit Reported]],Table146135136137138140141148155162169176183190197204[[#This Row],[Unit \nRequired]])","v":"scfscf"},{"$f":"LOOKUP(Table146135136137138140141148155162169176183190197204[[#This Row],[Concatenate Units]],Table43[Concatenate],Table43[Multiply By])","v":1},{"$f":"Table146135136137138140141148155162169176183190197204[[#This Row],[Data \n(Raw)]]*Table146135136137138140141148155162169176183190197204[[#This Row],[Unit Conversion]]","v":100000},{"$f":"Table146135136137138140141148155162169176183190197204[[#This Row],[Unit \nRequired]]","v":"scf"},{"$f":"LOOKUP(Table146135136137138140141148155162169176183190197204[[#This Row],[Emission Sub-source]],Table44[Fuel Type],Table44[CO2 Factor \n(kg / Unit)])","v":5.4440000000000002E-2},{"$f":"LOOKUP(Table146135136137138140141148155162169176183190197204[[#This Row],[Emission Sub-source]],Table44[Fuel Type],Table44[CH4 Factor \n(g / unit)])","v":1.0300000000000001E-3},{"$f":"(Table146135136137138140141148155162169176183190197204[[#This Row],[CH4]]/1000)*25","v":2.5750000000000002E-5},{"$f":"LOOKUP(Table146135136137138140141148155162169176183190197204[[#This Row],[Emission Sub-source]],Table44[Fuel Type],Table44[N2O Factor \n(g / unit)])","v":1E-4},{"$f":"(Table146135136137138140141148155162169176183190197204[[#This Row],[N2O]]/1000)*298","v":2.9800000000000003E-5},{"$f":"(LOOKUP(Table146135136137138140141148155162169176183190197204[[#This Row],[Emission Sub-source]],Table44[Fuel Type],Table44[GWP]))","v":0},{"$f":"Table146135136137138140141148155162169176183190197204[[#This Row],[Data \n(Corrected)]]*(LOOKUP(Table146135136137138140141148155162169176183190197204[[#This Row],[Emission Sub-source]],Table44[Fuel Type],Table44[Recycled CO2 Factor]))","v":0},{"$f":"Table146135136137138140141148155162169176183190197204[[#This Row],[Data \n(Corrected)]]*(LOOKUP(Table146135136137138140141148155162169176183190197204[[#This Row],[Emission Sub-source]],Table44[Fuel Type],Table44[Landfill CO2 Factor]))","v":0},{"$f":"Table146135136137138140141148155162169176183190197204[[#This Row],[Data \n(Corrected)]]*(LOOKUP(Table146135136137138140141148155162169176183190197204[[#This Row],[Emission Sub-source]],Table44[Fuel Type],Table44[Combusted CO2 Factor]))","v":0},{"$f":"((Table146135136137138140141148155162169176183190197204[[#This Row],[CO2]]+Table146135136137138140141148155162169176183190197204[[#This Row],[CH4 Corrected]]+Table146135136137138140141148155162169176183190197204[[#This Row],[N2O Corrected]]+Table146135136137138140141148155162169176183190197204[[#This Row],[GWP]]+Table146135136137138140141148155162169176183190197204[[#This Row],[Recycled]]+Table146135136137138140141148155162169176183190197204[[#This Row],[Landfill]]+Table146135136137138140141148155162169176183190197204[[#This Row],[Combusted]])*Table146135136137138140141148155162169176183190197204[[#This Row],[Data \n(Corrected)]])/1000","v":5.4495550000000001}]
[]
[null,"US - EPA"]
[null,"Reporting \nyear","Entity","Location","Scope","Emission Source","Source Pseudonym","Emission Sub-source","Emission Pseudonym","Unit \nRequired","Data \n(Raw)","Unit Reported","Concatenate Units","Unit Conversion","Data \n(Corrected)","Unit\n(Corrected)","CO2","CH4","CH4 Corrected","N2O","N2O Corrected","GWP","Recycled","Landfill","Combusted","tCO2e Emission Equivalent"]
[null,2021,"Camira Group, Inc","Grand Rapids","Scope_1","Stationary",{"$f":"LOOKUP(Table146135142149156163170177184191198[[#This Row],[Emission Source]],Table3578[Source],Table3578[Pseudonym])","v":"StationaryUS"},"Natural Gas",{"$f":"LOOKUP(Table146135142149156163170177184191198[[#This Row],[Emission Sub-source]],Table125[[Emission ]],Table125[Pseudonym])","v":"NaturalGasUS"},{"$f":"LOOKUP(Table146135142149156163170177184191198[[#This Row],[Emission Sub-source]],Table44[Fuel Type],Table44[Unit])","v":"scf"},100000,"scf",{"$f":"CONCATENATE(Table146135142149156163170177184191198[[#This Row],[Unit Reported]],Table146135142149156163170177184191198[[#This Row],[Unit \nRequired]])","v":"scfscf"},{"$f":"LOOKUP(Table146135142149156163170177184191198[[#This Row],[Concatenate Units]],Table43[Concatenate],Table43[Multiply By])","v":1},{"$f":"Table146135142149156163170177184191198[[#This Row],[Data \n(Raw)]]*Table146135142149156163170177184191198[[#This Row],[Unit Conversion]]","v":100000},{"$f":"Table146135142149156163170177184191198[[#This Row],[Unit \nRequired]]","v":"scf"},{"$f":"LOOKUP(Table146135142149156163170177184191198[[#This Row],[Emission Sub-source]],Table44[Fuel Type],Table44[CO2 Factor \n(kg / Unit)])","v":5.4440000000000002E-2},{"$f":"LOOKUP(Table146135142149156163170177184191198[[#This Row],[Emission Sub-source]],Table44[Fuel Type],Table44[CH4 Factor \n(g / unit)])","v":1.0300000000000001E-3},{"$f":"(Table146135142149156163170177184191198[[#This Row],[CH4]]/1000)*25","v":2.5750000000000002E-5},{"$f":"LOOKUP(Table146135142149156163170177184191198[[#This Row],[Emission Sub-source]],Table44[Fuel Type],Table44[N2O Factor \n(g / unit)])","v":1E-4},{"$f":"(Table146135142149156163170177184191198[[#This Row],[N2O]]/1000)*298","v":2.9800000000000003E-5},{"$f":"(LOOKUP(Table146135142149156163170177184191198[[#This Row],[Emission Sub-source]],Table44[Fuel Type],Table44[GWP]))","v":0},{"$f":"Table146135142149156163170177184191198[[#This Row],[Data \n(Corrected)]]*(LOOKUP(Table146135142149156163170177184191198[[#This Row],[Emission Sub-source]],Table44[Fuel Type],Table44[Recycled CO2 Factor]))","v":0},{"$f":"Table146135142149156163170177184191198[[#This Row],[Data \n(Corrected)]]*(LOOKUP(Table146135142149156163170177184191198[[#This Row],[Emission Sub-source]],Table44[Fuel Type],Table44[Landfill CO2 Factor]))","v":0},{"$f":"Table146135142149156163170177184191198[[#This Row],[Data \n(Corrected)]]*(LOOKUP(Table146135142149156163170177184191198[[#This Row],[Emission Sub-source]],Table44[Fuel Type],Table44[Combusted CO2 Factor]))","v":0},{"$f":"((Table146135142149156163170177184191198[[#This Row],[CO2]]+Table146135142149156163170177184191198[[#This Row],[CH4 Corrected]]+Table146135142149156163170177184191198[[#This Row],[N2O Corrected]]+Table146135142149156163170177184191198[[#This Row],[GWP]]+Table146135142149156163170177184191198[[#This Row],[Recycled]]+Table146135142149156163170177184191198[[#This Row],[Landfill]]+Table146135142149156163170177184191198[[#This Row],[Combusted]])*Table146135142149156163170177184191198[[#This Row],[Data \n(Corrected)]])/1000","v":5.4495550000000001}]

{"sheet":"3.4","index":15,"n_rows":26,"n_cols":26,"rows_kept":26,"cut":false,"hidden":true,"merged":[]}
[]
[null,"Greenhouse Gas Emission Analysis - Supplier Scope 1 & 2 - Transportation Provider"]
[]
[null,"UK - DBEIS/DEFRA"]
[null,"Reporting \nyear","Entity","Location","Scope","Emission Source","Source Pseudonym","Emission Sub-source","Emission Pseudonym","Unit \nRequired","Data \n(Raw)","Unit Reported","Concatenate Units","Unit Conversion","Data \n(Corrected)","Unit\n(Corrected)","CO2","CH4","CH4 Corrected","N2O","N2O Corrected","GWP","Recycled","Landfill","Combusted","tCO2e Emission Equivalent"]
[null,2021,"Camira Fabrics Limited","Mirfield","Scope_1","Stationary",{"$f":"LOOKUP(Table146135136143150157164171178185192199206[[#This Row],[Emission Source]],Table3578[Source],Table3578[Pseudonym])","v":"StationaryUS"},"Natural Gas",{"$f":"LOOKUP(Table146135136143150157164171178185192199206[[#This Row],[Emission Sub-source]],Table125[[Emission ]],Table125[Pseudonym])","v":"NaturalGasUS"},{"$f":"LOOKUP(Table146135136143150157164171178185192199206[[#This Row],[Emission Sub-source]],Table44[Fuel Type],Table44[Unit])","v":"scf"},100000,"scf",{"$f":"CONCATENATE(Table146135136143150157164171178185192199206[[#This Row],[Unit Reported]],Table146135136143150157164171178185192199206[[#This Row],[Unit \nRequired]])","v":"scfscf"},{"$f":"LOOKUP(Table146135136143150157164171178185192199206[[#This Row],[Concatenate Units]],Table43[Concatenate],Table43[Multiply By])","v":1},{"$f":"Table146135136143150157164171178185192199206[[#This Row],[Data \n(Raw)]]*Table146135136143150157164171178185192199206[[#This Row],[Unit Conversion]]","v":100000},{"$f":"Table146135136143150157164171178185192199206[[#This Row],[Unit \nRequired]]","v":"scf"},{"$f":"LOOKUP(Table146135136143150157164171178185192199206[[#This Row],[Emission Sub-source]],Table44[Fuel Type],Table44[CO2 Factor \n(kg / Unit)])","v":5.4440000000000002E-2},{"$f":"LOOKUP(Table146135136143150157164171178185192199206[[#This Row],[Emission Sub-source]],Table44[Fuel Type],Table44[CH4 Factor \n(g / unit)])","v":1.0300000000000001E-3},{"$f":"(Table146135136143150157164171178185192199206[[#This Row],[CH4]]/1000)*25","v":2.5750000000000002E-5},{"$f":"LOOKUP(Table146135136143150157164171178185192199206[[#This Row],[Emission Sub-source]],Table44[Fuel Type],Table44[N2O Factor \n(g / unit)])","v":1E-4},{"$f":"(Table146135136143150157164171178185192199206[[#This Row],[N2O]]/1000)*298","v":2.9800000000000003E-5},{"$f":"(LOOKUP(Table146135136143150157164171178185192199206[[#This Row],[Emission Sub-source]],Table44[Fuel Type],Table44[GWP]))","v":0},{"$f":"Table146135136143150157164171178185192199206[[#This Row],[Data \n(Corrected)]]*(LOOKUP(Table146135136143150157164171178185192199206[[#This Row],[Emission Sub-source]],Table44[Fuel Type],Table44[Recycled CO2 Factor]))","v":0},{"$f":"Table146135136143150157164171178185192199206[[#This Row],[Data \n(Corrected)]]*(LOOKUP(Table146135136143150157164171178185192199206[[#This Row],[Emission Sub-source]],Table44[Fuel Type],Table44[Landfill CO2 Factor]))","v":0},{"$f":"Table146135136143150157164171178185192199206[[#This Row],[Data \n(Corrected)]]*(LOOKUP(Table146135136143150157164171178185192199206[[#This Row],[Emission Sub-source]],Table44[Fuel Type],Table44[Combusted CO2 Factor]))","v":0},{"$f":"((Table146135136143150157164171178185192199206[[#This Row],[CO2]]+Table146135136143150157164171178185192199206[[#This Row],[CH4 Corrected]]+Table146135136143150157164171178185192199206[[#This Row],[N2O Corrected]]+Table146135136143150157164171178185192199206[[#This Row],[GWP]]+Table146135136143150157164171178185192199206[[#This Row],[Recycled]]+Table146135136143150157164171178185192199206[[#This Row],[Landfill]]+Table146135136143150157164171178185192199206[[#This Row],[Combusted]])*Table146135136143150157164171178185192199206[[#This Row],[Data \n(Corrected)]])/1000","v":5.4495550000000001}]
[]
[null,"Reporting \nyear","Entity","Location","Scope","Emission Source","Source Pseudonym","Emission Sub-source","Emission Pseudonym","Unit \nRequired","Data \n(Raw)","Unit Reported","Concatenate Units","Unit Conversion","Data \n(Corrected)","Unit\n(Corrected)","CO2","CH4","CH4 Corrected","N2O","N2O Corrected","GWP","Recycled","Landfill","Combusted","tCO2e Emission Equivalent"]
[null,2021,"Camira Fabrics Limited","Meltham","Scope_1","Stationary",{"$f":"LOOKUP(Table146135136137144151158165172179186193200207[[#This Row],[Emission Source]],Table3578[Source],Table3578[Pseudonym])","v":"StationaryUS"},"Natural Gas",{"$f":"LOOKUP(Table146135136137144151158165172179186193200207[[#This Row],[Emission Sub-source]],Table125[[Emission ]],Table125[Pseudonym])","v":"NaturalGasUS"},{"$f":"LOOKUP(Table146135136137144151158165172179186193200207[[#This Row],[Emission Sub-source]],Table44[Fuel Type],Table44[Unit])","v":"scf"},100000,"scf",{"$f":"CONCATENATE(Table146135136137144151158165172179186193200207[[#This Row],[Unit Reported]],Table146135136137144151158165172179186193200207[[#This Row],[Unit \nRequired]])","v":"scfscf"},{"$f":"LOOKUP(Table146135136137144151158165172179186193200207[[#This Row],[Concatenate Units]],Table43[Concatenate],Table43[Multiply By])","v":1},{"$f":"Table146135136137144151158165172179186193200207[[#This Row],[Data \n(Raw)]]*Table146135136137144151158165172179186193200207[[#This Row],[Unit Conversion]]","v":100000},{"$f":"Table146135136137144151158165172179186193200207[[#This Row],[Unit \nRequired]]","v":"scf"},{"$f":"LOOKUP(Table146135136137144151158165172179186193200207[[#This Row],[Emission Sub-source]],Table44[Fuel Type],Table44[CO2 Factor \n(kg / Unit)])","v":5.4440000000000002E-2},{"$f":"LOOKUP(Table146135136137144151158165172179186193200207[[#This Row],[Emission Sub-source]],Table44[Fuel Type],Table44[CH4 Factor \n(g / unit)])","v":1.0300000000000001E-3},{"$f":"(Table146135136137144151158165172179186193200207[[#This Row],[CH4]]/1000)*25","v":2.5750000000000002E-5},{"$f":"LOOKUP(Table146135136137144151158165172179186193200207[[#This Row],[Emission Sub-source]],Table44[Fuel Type],Table44[N2O Factor \n(g / unit)])","v":1E-4},{"$f":"(Table146135136137144151158165172179186193200207[[#This Row],[N2O]]/1000)*298","v":2.9800000000000003E-5},{"$f":"(LOOKUP(Table146135136137144151158165172179186193200207[[#This Row],[Emission Sub-source]],Table44[Fuel Type],Table44[GWP]))","v":0},{"$f":"Table146135136137144151158165172179186193200207[[#This Row],[Data \n(Corrected)]]*(LOOKUP(Table146135136137144151158165172179186193200207[[#This Row],[Emission Sub-source]],Table44[Fuel Type],Table44[Recycled CO2 Factor]))","v":0},{"$f":"Table146135136137144151158165172179186193200207[[#This Row],[Data \n(Corrected)]]*(LOOKUP(Table146135136137144151158165172179186193200207[[#This Row],[Emission Sub-source]],Table44[Fuel Type],Table44[Landfill CO2 Factor]))","v":0},{"$f":"Table146135136137144151158165172179186193200207[[#This Row],[Data \n(Corrected)]]*(LOOKUP(Table146135136137144151158165172179186193200207[[#This Row],[Emission Sub-source]],Table44[Fuel Type],Table44[Combusted CO2 Factor]))","v":0},{"$f":"((Table146135136137144151158165172179186193200207[[#This Row],[CO2]]+Table146135136137144151158165172179186193200207[[#This Row],[CH4 Corrected]]+Table146135136137144151158165172179186193200207[[#This Row],[N2O Corrected]]+Table146135136137144151158165172179186193200207[[#This Row],[GWP]]+Table146135136137144151158165172179186193200207[[#This Row],[Recycled]]+Table146135136137144151158165172179186193200207[[#This Row],[Landfill]]+Table146135136137144151158165172179186193200207[[#This Row],[Combusted]])*Table146135136137144151158165172179186193200207[[#This Row],[Data \n(Corrected)]])/1000","v":5.4495550000000001}]
[]
[null,"Reporting \nyear","Entity","Location","Scope","Emission Source","Source Pseudonym","Emission Sub-source","Emission Pseudonym","Unit \nRequired","Data \n(Raw)","Unit Reported","Concatenate Units","Unit Conversion","Data \n(Corrected)","Unit\n(Corrected)","CO2","CH4","CH4 Corrected","N2O","N2O Corrected","GWP","Recycled","Landfill","Combusted","tCO2e Emission Equivalent"]
[null,2021,"Camira Fabrics Limited","Nottingham","Scope_1","Stationary",{"$f":"LOOKUP(Table146135136137138145152159166173180187194201208[[#This Row],[Emission Source]],Table3578[Source],Table3578[Pseudonym])","v":"StationaryUS"},"Natural Gas",{"$f":"LOOKUP(Table146135136137138145152159166173180187194201208[[#This Row],[Emission Sub-source]],Table125[[Emission ]],Table125[Pseudonym])","v":"NaturalGasUS"},{"$f":"LOOKUP(Table146135136137138145152159166173180187194201208[[#This Row],[Emission Sub-source]],Table44[Fuel Type],Table44[Unit])","v":"scf"},100000,"scf",{"$f":"CONCATENATE(Table146135136137138145152159166173180187194201208[[#This Row],[Unit Reported]],Table146135136137138145152159166173180187194201208[[#This Row],[Unit \nRequired]])","v":"scfscf"},{"$f":"LOOKUP(Table146135136137138145152159166173180187194201208[[#This Row],[Concatenate Units]],Table43[Concatenate],Table43[Multiply By])","v":1},{"$f":"Table146135136137138145152159166173180187194201208[[#This Row],[Data \n(Raw)]]*Table146135136137138145152159166173180187194201208[[#This Row],[Unit Conversion]]","v":100000},{"$f":"Table146135136137138145152159166173180187194201208[[#This Row],[Unit \nRequired]]","v":"scf"},{"$f":"LOOKUP(Table146135136137138145152159166173180187194201208[[#This Row],[Emission Sub-source]],Table44[Fuel Type],Table44[CO2 Factor \n(kg / Unit)])","v":5.4440000000000002E-2},{"$f":"LOOKUP(Table146135136137138145152159166173180187194201208[[#This Row],[Emission Sub-source]],Table44[Fuel Type],Table44[CH4 Factor \n(g / unit)])","v":1.0300000000000001E-3},{"$f":"(Table146135136137138145152159166173180187194201208[[#This Row],[CH4]]/1000)*25","v":2.5750000000000002E-5},{"$f":"LOOKUP(Table146135136137138145152159166173180187194201208[[#This Row],[Emission Sub-source]],Table44[Fuel Type],Table44[N2O Factor \n(g / unit)])","v":1E-4},{"$f":"(Table146135136137138145152159166173180187194201208[[#This Row],[N2O]]/1000)*298","v":2.9800000000000003E-5},{"$f":"(LOOKUP(Table146135136137138145152159166173180187194201208[[#This Row],[Emission Sub-source]],Table44[Fuel Type],Table44[GWP]))","v":0},{"$f":"Table146135136137138145152159166173180187194201208[[#This Row],[Data \n(Corrected)]]*(LOOKUP(Table146135136137138145152159166173180187194201208[[#This Row],[Emission Sub-source]],Table44[Fuel Type],Table44[Recycled CO2 Factor]))","v":0},{"$f":"Table146135136137138145152159166173180187194201208[[#This Row],[Data \n(Corrected)]]*(LOOKUP(Table146135136137138145152159166173180187194201208[[#This Row],[Emission Sub-source]],Table44[Fuel Type],Table44[Landfill CO2 Factor]))","v":0},{"$f":"Table146135136137138145152159166173180187194201208[[#This Row],[Data \n(Corrected)]]*(LOOKUP(Table146135136137138145152159166173180187194201208[[#This Row],[Emission Sub-source]],Table44[Fuel Type],Table44[Combusted CO2 Factor]))","v":0},{"$f":"((Table146135136137138145152159166173180187194201208[[#This Row],[CO2]]+Table146135136137138145152159166173180187194201208[[#This Row],[CH4 Corrected]]+Table146135136137138145152159166173180187194201208[[#This Row],[N2O Corrected]]+Table146135136137138145152159166173180187194201208[[#This Row],[GWP]]+Table146135136137138145152159166173180187194201208[[#This Row],[Recycled]]+Table146135136137138145152159166173180187194201208[[#This Row],[Landfill]]+Table146135136137138145152159166173180187194201208[[#This Row],[Combusted]])*Table146135136137138145152159166173180187194201208[[#This Row],[Data \n(Corrected)]])/1000","v":5.4495550000000001}]
[]
[null,"Reporting \nyear","Entity","Location","Scope","Emission Source","Source Pseudonym","Emission Sub-source","Emission Pseudonym","Unit \nRequired","Data \n(Raw)","Unit Reported","Concatenate Units","Unit Conversion","Data \n(Corrected)","Unit\n(Corrected)","CO2","CH4","CH4 Corrected","N2O","N2O Corrected","GWP","Recycled","Landfill","Combusted","tCO2e Emission Equivalent"]
[null,2021,"Camira Fabrics Limited","Birkby","Scope_1","Stationary",{"$f":"LOOKUP(Table146135136137138139146153160167174181188195202209[[#This Row],[Emission Source]],Table3578[Source],Table3578[Pseudonym])","v":"StationaryUS"},"Natural Gas",{"$f":"LOOKUP(Table146135136137138139146153160167174181188195202209[[#This Row],[Emission Sub-source]],Table125[[Emission ]],Table125[Pseudonym])","v":"NaturalGasUS"},{"$f":"LOOKUP(Table146135136137138139146153160167174181188195202209[[#This Row],[Emission Sub-source]],Table44[Fuel Type],Table44[Unit])","v":"scf"},100000,"scf",{"$f":"CONCATENATE(Table146135136137138139146153160167174181188195202209[[#This Row],[Unit Reported]],Table146135136137138139146153160167174181188195202209[[#This Row],[Unit \nRequired]])","v":"scfscf"},{"$f":"LOOKUP(Table146135136137138139146153160167174181188195202209[[#This Row],[Concatenate Units]],Table43[Concatenate],Table43[Multiply By])","v":1},{"$f":"Table146135136137138139146153160167174181188195202209[[#This Row],[Data \n(Raw)]]*Table146135136137138139146153160167174181188195202209[[#This Row],[Unit Conversion]]","v":100000},{"$f":"Table146135136137138139146153160167174181188195202209[[#This Row],[Unit \nRequired]]","v":"scf"},{"$f":"LOOKUP(Table146135136137138139146153160167174181188195202209[[#This Row],[Emission Sub-source]],Table44[Fuel Type],Table44[CO2 Factor \n(kg / Unit)])","v":5.4440000000000002E-2},{"$f":"LOOKUP(Table146135136137138139146153160167174181188195202209[[#This Row],[Emission Sub-source]],Table44[Fuel Type],Table44[CH4 Factor \n(g / unit)])","v":1.0300000000000001E-3},{"$f":"(Table146135136137138139146153160167174181188195202209[[#This Row],[CH4]]/1000)*25","v":2.5750000000000002E-5},{"$f":"LOOKUP(Table146135136137138139146153160167174181188195202209[[#This Row],[Emission Sub-source]],Table44[Fuel Type],Table44[N2O Factor \n(g / unit)])","v":1E-4},{"$f":"(Table146135136137138139146153160167174181188195202209[[#This Row],[N2O]]/1000)*298","v":2.9800000000000003E-5},{"$f":"(LOOKUP(Table146135136137138139146153160167174181188195202209[[#This Row],[Emission Sub-source]],Table44[Fuel Type],Table44[GWP]))","v":0},{"$f":"Table146135136137138139146153160167174181188195202209[[#This Row],[Data \n(Corrected)]]*(LOOKUP(Table146135136137138139146153160167174181188195202209[[#This Row],[Emission Sub-source]],Table44[Fuel Type],Table44[Recycled CO2 Factor]))","v":0},{"$f":"Table146135136137138139146153160167174181188195202209[[#This Row],[Data \n(Corrected)]]*(LOOKUP(Table146135136137138139146153160167174181188195202209[[#This Row],[Emission Sub-source]],Table44[Fuel Type],Table44[Landfill CO2 Factor]))","v":0},{"$f":"Table146135136137138139146153160167174181188195202209[[#This Row],[Data \n(Corrected)]]*(LOOKUP(Table146135136137138139146153160167174181188195202209[[#This Row],[Emission Sub-source]],Table44[Fuel Type],Table44[Combusted CO2 Factor]))","v":0},{"$f":"((Table146135136137138139146153160167174181188195202209[[#This Row],[CO2]]+Table146135136137138139146153160167174181188195202209[[#This Row],[CH4 Corrected]]+Table146135136137138139146153160167174181188195202209[[#This Row],[N2O Corrected]]+Table146135136137138139146153160167174181188195202209[[#This Row],[GWP]]+Table146135136137138139146153160167174181188195202209[[#This Row],[Recycled]]+Table146135136137138139146153160167174181188195202209[[#This Row],[Landfill]]+Table146135136137138139146153160167174181188195202209[[#This Row],[Combusted]])*Table146135136137138139146153160167174181188195202209[[#This Row],[Data \n(Corrected)]])/1000","v":5.4495550000000001}]
[]
[null,"Reporting \nyear","Entity","Location","Scope","Emission Source","Source Pseudonym","Emission Sub-source","Emission Pseudonym","Unit \nRequired","Data \n(Raw)","Unit Reported","Concatenate Units","Unit Conversion","Data \n(Corrected)","Unit\n(Corrected)","CO2","CH4","CH4 Corrected","N2O","N2O Corrected","GWP","Recycled","Landfill","Combusted","tCO2e Emission Equivalent"]
[null,2021,"Camira Fabrics Limited","Holmfirth","Scope_1","Stationary",{"$f":"LOOKUP(Table146135136137138140147154161168175182189196203210[[#This Row],[Emission Source]],Table3578[Source],Table3578[Pseudonym])","v":"StationaryUS"},"Natural Gas",{"$f":"LOOKUP(Table146135136137138140147154161168175182189196203210[[#This Row],[Emission Sub-source]],Table125[[Emission ]],Table125[Pseudonym])","v":"NaturalGasUS"},{"$f":"LOOKUP(Table146135136137138140147154161168175182189196203210[[#This Row],[Emission Sub-source]],Table44[Fuel Type],Table44[Unit])","v":"scf"},100000,"scf",{"$f":"CONCATENATE(Table146135136137138140147154161168175182189196203210[[#This Row],[Unit Reported]],Table146135136137138140147154161168175182189196203210[[#This Row],[Unit \nRequired]])","v":"scfscf"},{"$f":"LOOKUP(Table146135136137138140147154161168175182189196203210[[#This Row],[Concatenate Units]],Table43[Concatenate],Table43[Multiply By])","v":1},{"$f":"Table146135136137138140147154161168175182189196203210[[#This Row],[Data \n(Raw)]]*Table146135136137138140147154161168175182189196203210[[#This Row],[Unit Conversion]]","v":100000},{"$f":"Table146135136137138140147154161168175182189196203210[[#This Row],[Unit \nRequired]]","v":"scf"},{"$f":"LOOKUP(Table146135136137138140147154161168175182189196203210[[#This Row],[Emission Sub-source]],Table44[Fuel Type],Table44[CO2 Factor \n(kg / Unit)])","v":5.4440000000000002E-2},{"$f":"LOOKUP(Table146135136137138140147154161168175182189196203210[[#This Row],[Emission Sub-source]],Table44[Fuel Type],Table44[CH4 Factor \n(g / unit)])","v":1.0300000000000001E-3},{"$f":"(Table146135136137138140147154161168175182189196203210[[#This Row],[CH4]]/1000)*25","v":2.5750000000000002E-5},{"$f":"LOOKUP(Table146135136137138140147154161168175182189196203210[[#This Row],[Emission Sub-source]],Table44[Fuel Type],Table44[N2O Factor \n(g / unit)])","v":1E-4},{"$f":"(Table146135136137138140147154161168175182189196203210[[#This Row],[N2O]]/1000)*298","v":2.9800000000000003E-5},{"$f":"(LOOKUP(Table146135136137138140147154161168175182189196203210[[#This Row],[Emission Sub-source]],Table44[Fuel Type],Table44[GWP]))","v":0},{"$f":"Table146135136137138140147154161168175182189196203210[[#This Row],[Data \n(Corrected)]]*(LOOKUP(Table146135136137138140147154161168175182189196203210[[#This Row],[Emission Sub-source]],Table44[Fuel Type],Table44[Recycled CO2 Factor]))","v":0},{"$f":"Table146135136137138140147154161168175182189196203210[[#This Row],[Data \n(Corrected)]]*(LOOKUP(Table146135136137138140147154161168175182189196203210[[#This Row],[Emission Sub-source]],Table44[Fuel Type],Table44[Landfill CO2 Factor]))","v":0},{"$f":"Table146135136137138140147154161168175182189196203210[[#This Row],[Data \n(Corrected)]]*(LOOKUP(Table146135136137138140147154161168175182189196203210[[#This Row],[Emission Sub-source]],Table44[Fuel Type],Table44[Combusted CO2 Factor]))","v":0},{"$f":"((Table146135136137138140147154161168175182189196203210[[#This Row],[CO2]]+Table146135136137138140147154161168175182189196203210[[#This Row],[CH4 Corrected]]+Table146135136137138140147154161168175182189196203210[[#This Row],[N2O Corrected]]+Table146135136137138140147154161168175182189196203210[[#This Row],[GWP]]+Table146135136137138140147154161168175182189196203210[[#This Row],[Recycled]]+Table146135136137138140147154161168175182189196203210[[#This Row],[Landfill]]+Table146135136137138140147154161168175182189196203210[[#This Row],[Combusted]])*Table146135136137138140147154161168175182189196203210[[#This Row],[Data \n(Corrected)]])/1000","v":5.4495550000000001}]
[]
[null,"EUR - ??"]
[null,"Reporting \nyear","Entity","Location","Scope","Emission Source","Source Pseudonym","Emission Sub-source","Emission Pseudonym","Unit \nRequired","Data \n(Raw)","Unit Reported","Concatenate Units","Unit Conversion","Data \n(Corrected)","Unit\n(Corrected)","CO2","CH4","CH4 Corrected","N2O","N2O Corrected","GWP","Recycled","Landfill","Combusted","tCO2e Emission Equivalent"]
[null,2021,"UAB Camira Fabrics","Lithuania","Scope_1","Stationary",{"$f":"LOOKUP(Table146135136137138140141148155162169176183190197204211[[#This Row],[Emission Source]],Table3578[Source],Table3578[Pseudonym])","v":"StationaryUS"},"Natural Gas",{"$f":"LOOKUP(Table146135136137138140141148155162169176183190197204211[[#This Row],[Emission Sub-source]],Table125[[Emission ]],Table125[Pseudonym])","v":"NaturalGasUS"},{"$f":"LOOKUP(Table146135136137138140141148155162169176183190197204211[[#This Row],[Emission Sub-source]],Table44[Fuel Type],Table44[Unit])","v":"scf"},100000,"scf",{"$f":"CONCATENATE(Table146135136137138140141148155162169176183190197204211[[#This Row],[Unit Reported]],Table146135136137138140141148155162169176183190197204211[[#This Row],[Unit \nRequired]])","v":"scfscf"},{"$f":"LOOKUP(Table146135136137138140141148155162169176183190197204211[[#This Row],[Concatenate Units]],Table43[Concatenate],Table43[Multiply By])","v":1},{"$f":"Table146135136137138140141148155162169176183190197204211[[#This Row],[Data \n(Raw)]]*Table146135136137138140141148155162169176183190197204211[[#This Row],[Unit Conversion]]","v":100000},{"$f":"Table146135136137138140141148155162169176183190197204211[[#This Row],[Unit \nRequired]]","v":"scf"},{"$f":"LOOKUP(Table146135136137138140141148155162169176183190197204211[[#This Row],[Emission Sub-source]],Table44[Fuel Type],Table44[CO2 Factor \n(kg / Unit)])","v":5.4440000000000002E-2},{"$f":"LOOKUP(Table146135136137138140141148155162169176183190197204211[[#This Row],[Emission Sub-source]],Table44[Fuel Type],Table44[CH4 Factor \n(g / unit)])","v":1.0300000000000001E-3},{"$f":"(Table146135136137138140141148155162169176183190197204211[[#This Row],[CH4]]/1000)*25","v":2.5750000000000002E-5},{"$f":"LOOKUP(Table146135136137138140141148155162169176183190197204211[[#This Row],[Emission Sub-source]],Table44[Fuel Type],Table44[N2O Factor \n(g / unit)])","v":1E-4},{"$f":"(Table146135136137138140141148155162169176183190197204211[[#This Row],[N2O]]/1000)*298","v":2.9800000000000003E-5},{"$f":"(LOOKUP(Table146135136137138140141148155162169176183190197204211[[#This Row],[Emission Sub-source]],Table44[Fuel Type],Table44[GWP]))","v":0},{"$f":"Table146135136137138140141148155162169176183190197204211[[#This Row],[Data \n(Corrected)]]*(LOOKUP(Table146135136137138140141148155162169176183190197204211[[#This Row],[Emission Sub-source]],Table44[Fuel Type],Table44[Recycled CO2 Factor]))","v":0},{"$f":"Table146135136137138140141148155162169176183190197204211[[#This Row],[Data \n(Corrected)]]*(LOOKUP(Table146135136137138140141148155162169176183190197204211[[#This Row],[Emission Sub-source]],Table44[Fuel Type],Table44[Landfill CO2 Factor]))","v":0},{"$f":"Table146135136137138140141148155162169176183190197204211[[#This Row],[Data \n(Corrected)]]*(LOOKUP(Table146135136137138140141148155162169176183190197204211[[#This Row],[Emission Sub-source]],Table44[Fuel Type],Table44[Combusted CO2 Factor]))","v":0},{"$f":"((Table146135136137138140141148155162169176183190197204211[[#This Row],[CO2]]+Table146135136137138140141148155162169176183190197204211[[#This Row],[CH4 Corrected]]+Table146135136137138140141148155162169176183190197204211[[#This Row],[N2O Corrected]]+Table146135136137138140141148155162169176183190197204211[[#This Row],[GWP]]+Table146135136137138140141148155162169176183190197204211[[#This Row],[Recycled]]+Table146135136137138140141148155162169176183190197204211[[#This Row],[Landfill]]+Table146135136137138140141148155162169176183190197204211[[#This Row],[Combusted]])*Table146135136137138140141148155162169176183190197204211[[#This Row],[Data \n(Corrected)]])/1000","v":5.4495550000000001}]
[]
[null,"US - EPA"]
[null,"Reporting \nyear","Entity","Location","Scope","Emission Source","Source Pseudonym","Emission Sub-source","Emission Pseudonym","Unit \nRequired","Data \n(Raw)","Unit Reported","Concatenate Units","Unit Conversion","Data \n(Corrected)","Unit\n(Corrected)","CO2","CH4","CH4 Corrected","N2O","N2O Corrected","GWP","Recycled","Landfill","Combusted","tCO2e Emission Equivalent"]
[null,2021,"Camira Group, Inc","Grand Rapids","Scope_1","Stationary",{"$f":"LOOKUP(Table146135142149156163170177184191198205[[#This Row],[Emission Source]],Table3578[Source],Table3578[Pseudonym])","v":"StationaryUS"},"Natural Gas",{"$f":"LOOKUP(Table146135142149156163170177184191198205[[#This Row],[Emission Sub-source]],Table125[[Emission ]],Table125[Pseudonym])","v":"NaturalGasUS"},{"$f":"LOOKUP(Table146135142149156163170177184191198205[[#This Row],[Emission Sub-source]],Table44[Fuel Type],Table44[Unit])","v":"scf"},100000,"scf",{"$f":"CONCATENATE(Table146135142149156163170177184191198205[[#This Row],[Unit Reported]],Table146135142149156163170177184191198205[[#This Row],[Unit \nRequired]])","v":"scfscf"},{"$f":"LOOKUP(Table146135142149156163170177184191198205[[#This Row],[Concatenate Units]],Table43[Concatenate],Table43[Multiply By])","v":1},{"$f":"Table146135142149156163170177184191198205[[#This Row],[Data \n(Raw)]]*Table146135142149156163170177184191198205[[#This Row],[Unit Conversion]]","v":100000},{"$f":"Table146135142149156163170177184191198205[[#This Row],[Unit \nRequired]]","v":"scf"},{"$f":"LOOKUP(Table146135142149156163170177184191198205[[#This Row],[Emission Sub-source]],Table44[Fuel Type],Table44[CO2 Factor \n(kg / Unit)])","v":5.4440000000000002E-2},{"$f":"LOOKUP(Table146135142149156163170177184191198205[[#This Row],[Emission Sub-source]],Table44[Fuel Type],Table44[CH4 Factor \n(g / unit)])","v":1.0300000000000001E-3},{"$f":"(Table146135142149156163170177184191198205[[#This Row],[CH4]]/1000)*25","v":2.5750000000000002E-5},{"$f":"LOOKUP(Table146135142149156163170177184191198205[[#This Row],[Emission Sub-source]],Table44[Fuel Type],Table44[N2O Factor \n(g / unit)])","v":1E-4},{"$f":"(Table146135142149156163170177184191198205[[#This Row],[N2O]]/1000)*298","v":2.9800000000000003E-5},{"$f":"(LOOKUP(Table146135142149156163170177184191198205[[#This Row],[Emission Sub-source]],Table44[Fuel Type],Table44[GWP]))","v":0},{"$f":"Table146135142149156163170177184191198205[[#This Row],[Data \n(Corrected)]]*(LOOKUP(Table146135142149156163170177184191198205[[#This Row],[Emission Sub-source]],Table44[Fuel Type],Table44[Recycled CO2 Factor]))","v":0},{"$f":"Table146135142149156163170177184191198205[[#This Row],[Data \n(Corrected)]]*(LOOKUP(Table146135142149156163170177184191198205[[#This Row],[Emission Sub-source]],Table44[Fuel Type],Table44[Landfill CO2 Factor]))","v":0},{"$f":"Table146135142149156163170177184191198205[[#This Row],[Data \n(Corrected)]]*(LOOKUP(Table146135142149156163170177184191198205[[#This Row],[Emission Sub-source]],Table44[Fuel Type],Table44[Combusted CO2 Factor]))","v":0},{"$f":"((Table146135142149156163170177184191198205[[#This Row],[CO2]]+Table146135142149156163170177184191198205[[#This Row],[CH4 Corrected]]+Table146135142149156163170177184191198205[[#This Row],[N2O Corrected]]+Table146135142149156163170177184191198205[[#This Row],[GWP]]+Table146135142149156163170177184191198205[[#This Row],[Recycled]]+Table146135142149156163170177184191198205[[#This Row],[Landfill]]+Table146135142149156163170177184191198205[[#This Row],[Combusted]])*Table146135142149156163170177184191198205[[#This Row],[Data \n(Corrected)]])/1000","v":5.4495550000000001}]

{"sheet":"3.5","index":16,"n_rows":26,"n_cols":26,"rows_kept":26,"cut":false,"hidden":true,"merged":[]}
[]
[null,"Greenhouse Gas Emission Analysis - Supplier Scope 1 & 2 - Waste Provider"]
[]
[null,"UK - DBEIS/DEFRA"]
[null,"Reporting \nyear","Entity","Location","Scope","Emission Source","Source Pseudonym","Emission Sub-source","Emission Pseudonym","Unit \nRequired","Data \n(Raw)","Unit Reported","Concatenate Units","Unit Conversion","Data \n(Corrected)","Unit\n(Corrected)","CO2","CH4","CH4 Corrected","N2O","N2O Corrected","GWP","Recycled","Landfill","Combusted","tCO2e Emission Equivalent"]
[null,2021,"Camira Fabrics Limited","Mirfield","Scope_1","Stationary",{"$f":"LOOKUP(Table146135136143150157164171178185192199206213[[#This Row],[Emission Source]],Table3578[Source],Table3578[Pseudonym])","v":"StationaryUS"},"Natural Gas",{"$f":"LOOKUP(Table146135136143150157164171178185192199206213[[#This Row],[Emission Sub-source]],Table125[[Emission ]],Table125[Pseudonym])","v":"NaturalGasUS"},{"$f":"LOOKUP(Table146135136143150157164171178185192199206213[[#This Row],[Emission Sub-source]],Table44[Fuel Type],Table44[Unit])","v":"scf"},100000,"scf",{"$f":"CONCATENATE(Table146135136143150157164171178185192199206213[[#This Row],[Unit Reported]],Table146135136143150157164171178185192199206213[[#This Row],[Unit \nRequired]])","v":"scfscf"},{"$f":"LOOKUP(Table146135136143150157164171178185192199206213[[#This Row],[Concatenate Units]],Table43[Concatenate],Table43[Multiply By])","v":1},{"$f":"Table146135136143150157164171178185192199206213[[#This Row],[Data \n(Raw)]]*Table146135136143150157164171178185192199206213[[#This Row],[Unit Conversion]]","v":100000},{"$f":"Table146135136143150157164171178185192199206213[[#This Row],[Unit \nRequired]]","v":"scf"},{"$f":"LOOKUP(Table146135136143150157164171178185192199206213[[#This Row],[Emission Sub-source]],Table44[Fuel Type],Table44[CO2 Factor \n(kg / Unit)])","v":5.4440000000000002E-2},{"$f":"LOOKUP(Table146135136143150157164171178185192199206213[[#This Row],[Emission Sub-source]],Table44[Fuel Type],Table44[CH4 Factor \n(g / unit)])","v":1.0300000000000001E-3},{"$f":"(Table146135136143150157164171178185192199206213[[#This Row],[CH4]]/1000)*25","v":2.5750000000000002E-5},{"$f":"LOOKUP(Table146135136143150157164171178185192199206213[[#This Row],[Emission Sub-source]],Table44[Fuel Type],Table44[N2O Factor \n(g / unit)])","v":1E-4},{"$f":"(Table146135136143150157164171178185192199206213[[#This Row],[N2O]]/1000)*298","v":2.9800000000000003E-5},{"$f":"(LOOKUP(Table146135136143150157164171178185192199206213[[#This Row],[Emission Sub-source]],Table44[Fuel Type],Table44[GWP]))","v":0},{"$f":"Table146135136143150157164171178185192199206213[[#This Row],[Data \n(Corrected)]]*(LOOKUP(Table146135136143150157164171178185192199206213[[#This Row],[Emission Sub-source]],Table44[Fuel Type],Table44[Recycled CO2 Factor]))","v":0},{"$f":"Table146135136143150157164171178185192199206213[[#This Row],[Data \n(Corrected)]]*(LOOKUP(Table146135136143150157164171178185192199206213[[#This Row],[Emission Sub-source]],Table44[Fuel Type],Table44[Landfill CO2 Factor]))","v":0},{"$f":"Table146135136143150157164171178185192199206213[[#This Row],[Data \n(Corrected)]]*(LOOKUP(Table146135136143150157164171178185192199206213[[#This Row],[Emission Sub-source]],Table44[Fuel Type],Table44[Combusted CO2 Factor]))","v":0},{"$f":"((Table146135136143150157164171178185192199206213[[#This Row],[CO2]]+Table146135136143150157164171178185192199206213[[#This Row],[CH4 Corrected]]+Table146135136143150157164171178185192199206213[[#This Row],[N2O Corrected]]+Table146135136143150157164171178185192199206213[[#This Row],[GWP]]+Table146135136143150157164171178185192199206213[[#This Row],[Recycled]]+Table146135136143150157164171178185192199206213[[#This Row],[Landfill]]+Table146135136143150157164171178185192199206213[[#This Row],[Combusted]])*Table146135136143150157164171178185192199206213[[#This Row],[Data \n(Corrected)]])/1000","v":5.4495550000000001}]
[]
[null,"Reporting \nyear","Entity","Location","Scope","Emission Source","Source Pseudonym","Emission Sub-source","Emission Pseudonym","Unit \nRequired","Data \n(Raw)","Unit Reported","Concatenate Units","Unit Conversion","Data \n(Corrected)","Unit\n(Corrected)","CO2","CH4","CH4 Corrected","N2O","N2O Corrected","GWP","Recycled","Landfill","Combusted","tCO2e Emission Equivalent"]
[null,2021,"Camira Fabrics Limited","Meltham","Scope_1","Stationary",{"$f":"LOOKUP(Table146135136137144151158165172179186193200207214[[#This Row],[Emission Source]],Table3578[Source],Table3578[Pseudonym])","v":"StationaryUS"},"Natural Gas",{"$f":"LOOKUP(Table146135136137144151158165172179186193200207214[[#This Row],[Emission Sub-source]],Table125[[Emission ]],Table125[Pseudonym])","v":"NaturalGasUS"},{"$f":"LOOKUP(Table146135136137144151158165172179186193200207214[[#This Row],[Emission Sub-source]],Table44[Fuel Type],Table44[Unit])","v":"scf"},100000,"scf",{"$f":"CONCATENATE(Table146135136137144151158165172179186193200207214[[#This Row],[Unit Reported]],Table146135136137144151158165172179186193200207214[[#This Row],[Unit \nRequired]])","v":"scfscf"},{"$f":"LOOKUP(Table146135136137144151158165172179186193200207214[[#This Row],[Concatenate Units]],Table43[Concatenate],Table43[Multiply By])","v":1},{"$f":"Table146135136137144151158165172179186193200207214[[#This Row],[Data \n(Raw)]]*Table146135136137144151158165172179186193200207214[[#This Row],[Unit Conversion]]","v":100000},{"$f":"Table146135136137144151158165172179186193200207214[[#This Row],[Unit \nRequired]]","v":"scf"},{"$f":"LOOKUP(Table146135136137144151158165172179186193200207214[[#This Row],[Emission Sub-source]],Table44[Fuel Type],Table44[CO2 Factor \n(kg / Unit)])","v":5.4440000000000002E-2},{"$f":"LOOKUP(Table146135136137144151158165172179186193200207214[[#This Row],[Emission Sub-source]],Table44[Fuel Type],Table44[CH4 Factor \n(g / unit)])","v":1.0300000000000001E-3},{"$f":"(Table146135136137144151158165172179186193200207214[[#This Row],[CH4]]/1000)*25","v":2.5750000000000002E-5},{"$f":"LOOKUP(Table146135136137144151158165172179186193200207214[[#This Row],[Emission Sub-source]],Table44[Fuel Type],Table44[N2O Factor \n(g / unit)])","v":1E-4},{"$f":"(Table146135136137144151158165172179186193200207214[[#This Row],[N2O]]/1000)*298","v":2.9800000000000003E-5},{"$f":"(LOOKUP(Table146135136137144151158165172179186193200207214[[#This Row],[Emission Sub-source]],Table44[Fuel Type],Table44[GWP]))","v":0},{"$f":"Table146135136137144151158165172179186193200207214[[#This Row],[Data \n(Corrected)]]*(LOOKUP(Table146135136137144151158165172179186193200207214[[#This Row],[Emission Sub-source]],Table44[Fuel Type],Table44[Recycled CO2 Factor]))","v":0},{"$f":"Table146135136137144151158165172179186193200207214[[#This Row],[Data \n(Corrected)]]*(LOOKUP(Table146135136137144151158165172179186193200207214[[#This Row],[Emission Sub-source]],Table44[Fuel Type],Table44[Landfill CO2 Factor]))","v":0},{"$f":"Table146135136137144151158165172179186193200207214[[#This Row],[Data \n(Corrected)]]*(LOOKUP(Table146135136137144151158165172179186193200207214[[#This Row],[Emission Sub-source]],Table44[Fuel Type],Table44[Combusted CO2 Factor]))","v":0},{"$f":"((Table146135136137144151158165172179186193200207214[[#This Row],[CO2]]+Table146135136137144151158165172179186193200207214[[#This Row],[CH4 Corrected]]+Table146135136137144151158165172179186193200207214[[#This Row],[N2O Corrected]]+Table146135136137144151158165172179186193200207214[[#This Row],[GWP]]+Table146135136137144151158165172179186193200207214[[#This Row],[Recycled]]+Table146135136137144151158165172179186193200207214[[#This Row],[Landfill]]+Table146135136137144151158165172179186193200207214[[#This Row],[Combusted]])*Table146135136137144151158165172179186193200207214[[#This Row],[Data \n(Corrected)]])/1000","v":5.4495550000000001}]
[]
[null,"Reporting \nyear","Entity","Location","Scope","Emission Source","Source Pseudonym","Emission Sub-source","Emission Pseudonym","Unit \nRequired","Data \n(Raw)","Unit Reported","Concatenate Units","Unit Conversion","Data \n(Corrected)","Unit\n(Corrected)","CO2","CH4","CH4 Corrected","N2O","N2O Corrected","GWP","Recycled","Landfill","Combusted","tCO2e Emission Equivalent"]
[null,2021,"Camira Fabrics Limited","Nottingham","Scope_1","Stationary",{"$f":"LOOKUP(Table146135136137138145152159166173180187194201208215[[#This Row],[Emission Source]],Table3578[Source],Table3578[Pseudonym])","v":"StationaryUS"},"Natural Gas",{"$f":"LOOKUP(Table146135136137138145152159166173180187194201208215[[#This Row],[Emission Sub-source]],Table125[[Emission ]],Table125[Pseudonym])","v":"NaturalGasUS"},{"$f":"LOOKUP(Table146135136137138145152159166173180187194201208215[[#This Row],[Emission Sub-source]],Table44[Fuel Type],Table44[Unit])","v":"scf"},100000,"scf",{"$f":"CONCATENATE(Table146135136137138145152159166173180187194201208215[[#This Row],[Unit Reported]],Table146135136137138145152159166173180187194201208215[[#This Row],[Unit \nRequired]])","v":"scfscf"},{"$f":"LOOKUP(Table146135136137138145152159166173180187194201208215[[#This Row],[Concatenate Units]],Table43[Concatenate],Table43[Multiply By])","v":1},{"$f":"Table146135136137138145152159166173180187194201208215[[#This Row],[Data \n(Raw)]]*Table146135136137138145152159166173180187194201208215[[#This Row],[Unit Conversion]]","v":100000},{"$f":"Table146135136137138145152159166173180187194201208215[[#This Row],[Unit \nRequired]]","v":"scf"},{"$f":"LOOKUP(Table146135136137138145152159166173180187194201208215[[#This Row],[Emission Sub-source]],Table44[Fuel Type],Table44[CO2 Factor \n(kg / Unit)])","v":5.4440000000000002E-2},{"$f":"LOOKUP(Table146135136137138145152159166173180187194201208215[[#This Row],[Emission Sub-source]],Table44[Fuel Type],Table44[CH4 Factor \n(g / unit)])","v":1.0300000000000001E-3},{"$f":"(Table146135136137138145152159166173180187194201208215[[#This Row],[CH4]]/1000)*25","v":2.5750000000000002E-5},{"$f":"LOOKUP(Table146135136137138145152159166173180187194201208215[[#This Row],[Emission Sub-source]],Table44[Fuel Type],Table44[N2O Factor \n(g / unit)])","v":1E-4},{"$f":"(Table146135136137138145152159166173180187194201208215[[#This Row],[N2O]]/1000)*298","v":2.9800000000000003E-5},{"$f":"(LOOKUP(Table146135136137138145152159166173180187194201208215[[#This Row],[Emission Sub-source]],Table44[Fuel Type],Table44[GWP]))","v":0},{"$f":"Table146135136137138145152159166173180187194201208215[[#This Row],[Data \n(Corrected)]]*(LOOKUP(Table146135136137138145152159166173180187194201208215[[#This Row],[Emission Sub-source]],Table44[Fuel Type],Table44[Recycled CO2 Factor]))","v":0},{"$f":"Table146135136137138145152159166173180187194201208215[[#This Row],[Data \n(Corrected)]]*(LOOKUP(Table146135136137138145152159166173180187194201208215[[#This Row],[Emission Sub-source]],Table44[Fuel Type],Table44[Landfill CO2 Factor]))","v":0},{"$f":"Table146135136137138145152159166173180187194201208215[[#This Row],[Data \n(Corrected)]]*(LOOKUP(Table146135136137138145152159166173180187194201208215[[#This Row],[Emission Sub-source]],Table44[Fuel Type],Table44[Combusted CO2 Factor]))","v":0},{"$f":"((Table146135136137138145152159166173180187194201208215[[#This Row],[CO2]]+Table146135136137138145152159166173180187194201208215[[#This Row],[CH4 Corrected]]+Table146135136137138145152159166173180187194201208215[[#This Row],[N2O Corrected]]+Table146135136137138145152159166173180187194201208215[[#This Row],[GWP]]+Table146135136137138145152159166173180187194201208215[[#This Row],[Recycled]]+Table146135136137138145152159166173180187194201208215[[#This Row],[Landfill]]+Table146135136137138145152159166173180187194201208215[[#This Row],[Combusted]])*Table146135136137138145152159166173180187194201208215[[#This Row],[Data \n(Corrected)]])/1000","v":5.4495550000000001}]
[]
[null,"Reporting \nyear","Entity","Location","Scope","Emission Source","Source Pseudonym","Emission Sub-source","Emission Pseudonym","Unit \nRequired","Data \n(Raw)","Unit Reported","Concatenate Units","Unit Conversion","Data \n(Corrected)","Unit\n(Corrected)","CO2","CH4","CH4 Corrected","N2O","N2O Corrected","GWP","Recycled","Landfill","Combusted","tCO2e Emission Equivalent"]
[null,2021,"Camira Fabrics Limited","Birkby","Scope_1","Stationary",{"$f":"LOOKUP(Table146135136137138139146153160167174181188195202209216[[#This Row],[Emission Source]],Table3578[Source],Table3578[Pseudonym])","v":"StationaryUS"},"Natural Gas",{"$f":"LOOKUP(Table146135136137138139146153160167174181188195202209216[[#This Row],[Emission Sub-source]],Table125[[Emission ]],Table125[Pseudonym])","v":"NaturalGasUS"},{"$f":"LOOKUP(Table146135136137138139146153160167174181188195202209216[[#This Row],[Emission Sub-source]],Table44[Fuel Type],Table44[Unit])","v":"scf"},100000,"scf",{"$f":"CONCATENATE(Table146135136137138139146153160167174181188195202209216[[#This Row],[Unit Reported]],Table146135136137138139146153160167174181188195202209216[[#This Row],[Unit \nRequired]])","v":"scfscf"},{"$f":"LOOKUP(Table146135136137138139146153160167174181188195202209216[[#This Row],[Concatenate Units]],Table43[Concatenate],Table43[Multiply By])","v":1},{"$f":"Table146135136137138139146153160167174181188195202209216[[#This Row],[Data \n(Raw)]]*Table146135136137138139146153160167174181188195202209216[[#This Row],[Unit Conversion]]","v":100000},{"$f":"Table146135136137138139146153160167174181188195202209216[[#This Row],[Unit \nRequired]]","v":"scf"},{"$f":"LOOKUP(Table146135136137138139146153160167174181188195202209216[[#This Row],[Emission Sub-source]],Table44[Fuel Type],Table44[CO2 Factor \n(kg / Unit)])","v":5.4440000000000002E-2},{"$f":"LOOKUP(Table146135136137138139146153160167174181188195202209216[[#This Row],[Emission Sub-source]],Table44[Fuel Type],Table44[CH4 Factor \n(g / unit)])","v":1.0300000000000001E-3},{"$f":"(Table146135136137138139146153160167174181188195202209216[[#This Row],[CH4]]/1000)*25","v":2.5750000000000002E-5},{"$f":"LOOKUP(Table146135136137138139146153160167174181188195202209216[[#This Row],[Emission Sub-source]],Table44[Fuel Type],Table44[N2O Factor \n(g / unit)])","v":1E-4},{"$f":"(Table146135136137138139146153160167174181188195202209216[[#This Row],[N2O]]/1000)*298","v":2.9800000000000003E-5},{"$f":"(LOOKUP(Table146135136137138139146153160167174181188195202209216[[#This Row],[Emission Sub-source]],Table44[Fuel Type],Table44[GWP]))","v":0},{"$f":"Table146135136137138139146153160167174181188195202209216[[#This Row],[Data \n(Corrected)]]*(LOOKUP(Table146135136137138139146153160167174181188195202209216[[#This Row],[Emission Sub-source]],Table44[Fuel Type],Table44[Recycled CO2 Factor]))","v":0},{"$f":"Table146135136137138139146153160167174181188195202209216[[#This Row],[Data \n(Corrected)]]*(LOOKUP(Table146135136137138139146153160167174181188195202209216[[#This Row],[Emission Sub-source]],Table44[Fuel Type],Table44[Landfill CO2 Factor]))","v":0},{"$f":"Table146135136137138139146153160167174181188195202209216[[#This Row],[Data \n(Corrected)]]*(LOOKUP(Table146135136137138139146153160167174181188195202209216[[#This Row],[Emission Sub-source]],Table44[Fuel Type],Table44[Combusted CO2 Factor]))","v":0},{"$f":"((Table146135136137138139146153160167174181188195202209216[[#This Row],[CO2]]+Table146135136137138139146153160167174181188195202209216[[#This Row],[CH4 Corrected]]+Table146135136137138139146153160167174181188195202209216[[#This Row],[N2O Corrected]]+Table146135136137138139146153160167174181188195202209216[[#This Row],[GWP]]+Table146135136137138139146153160167174181188195202209216[[#This Row],[Recycled]]+Table146135136137138139146153160167174181188195202209216[[#This Row],[Landfill]]+Table146135136137138139146153160167174181188195202209216[[#This Row],[Combusted]])*Table146135136137138139146153160167174181188195202209216[[#This Row],[Data \n(Corrected)]])/1000","v":5.4495550000000001}]
[]
[null,"Reporting \nyear","Entity","Location","Scope","Emission Source","Source Pseudonym","Emission Sub-source","Emission Pseudonym","Unit \nRequired","Data \n(Raw)","Unit Reported","Concatenate Units","Unit Conversion","Data \n(Corrected)","Unit\n(Corrected)","CO2","CH4","CH4 Corrected","N2O","N2O Corrected","GWP","Recycled","Landfill","Combusted","tCO2e Emission Equivalent"]
[null,2021,"Camira Fabrics Limited","Holmfirth","Scope_1","Stationary",{"$f":"LOOKUP(Table146135136137138140147154161168175182189196203210217[[#This Row],[Emission Source]],Table3578[Source],Table3578[Pseudonym])","v":"StationaryUS"},"Natural Gas",{"$f":"LOOKUP(Table146135136137138140147154161168175182189196203210217[[#This Row],[Emission Sub-source]],Table125[[Emission ]],Table125[Pseudonym])","v":"NaturalGasUS"},{"$f":"LOOKUP(Table146135136137138140147154161168175182189196203210217[[#This Row],[Emission Sub-source]],Table44[Fuel Type],Table44[Unit])","v":"scf"},100000,"scf",{"$f":"CONCATENATE(Table146135136137138140147154161168175182189196203210217[[#This Row],[Unit Reported]],Table146135136137138140147154161168175182189196203210217[[#This Row],[Unit \nRequired]])","v":"scfscf"},{"$f":"LOOKUP(Table146135136137138140147154161168175182189196203210217[[#This Row],[Concatenate Units]],Table43[Concatenate],Table43[Multiply By])","v":1},{"$f":"Table146135136137138140147154161168175182189196203210217[[#This Row],[Data \n(Raw)]]*Table146135136137138140147154161168175182189196203210217[[#This Row],[Unit Conversion]]","v":100000},{"$f":"Table146135136137138140147154161168175182189196203210217[[#This Row],[Unit \nRequired]]","v":"scf"},{"$f":"LOOKUP(Table146135136137138140147154161168175182189196203210217[[#This Row],[Emission Sub-source]],Table44[Fuel Type],Table44[CO2 Factor \n(kg / Unit)])","v":5.4440000000000002E-2},{"$f":"LOOKUP(Table146135136137138140147154161168175182189196203210217[[#This Row],[Emission Sub-source]],Table44[Fuel Type],Table44[CH4 Factor \n(g / unit)])","v":1.0300000000000001E-3},{"$f":"(Table146135136137138140147154161168175182189196203210217[[#This Row],[CH4]]/1000)*25","v":2.5750000000000002E-5},{"$f":"LOOKUP(Table146135136137138140147154161168175182189196203210217[[#This Row],[Emission Sub-source]],Table44[Fuel Type],Table44[N2O Factor \n(g / unit)])","v":1E-4},{"$f":"(Table146135136137138140147154161168175182189196203210217[[#This Row],[N2O]]/1000)*298","v":2.9800000000000003E-5},{"$f":"(LOOKUP(Table146135136137138140147154161168175182189196203210217[[#This Row],[Emission Sub-source]],Table44[Fuel Type],Table44[GWP]))","v":0},{"$f":"Table146135136137138140147154161168175182189196203210217[[#This Row],[Data \n(Corrected)]]*(LOOKUP(Table146135136137138140147154161168175182189196203210217[[#This Row],[Emission Sub-source]],Table44[Fuel Type],Table44[Recycled CO2 Factor]))","v":0},{"$f":"Table146135136137138140147154161168175182189196203210217[[#This Row],[Data \n(Corrected)]]*(LOOKUP(Table146135136137138140147154161168175182189196203210217[[#This Row],[Emission Sub-source]],Table44[Fuel Type],Table44[Landfill CO2 Factor]))","v":0},{"$f":"Table146135136137138140147154161168175182189196203210217[[#This Row],[Data \n(Corrected)]]*(LOOKUP(Table146135136137138140147154161168175182189196203210217[[#This Row],[Emission Sub-source]],Table44[Fuel Type],Table44[Combusted CO2 Factor]))","v":0},{"$f":"((Table146135136137138140147154161168175182189196203210217[[#This Row],[CO2]]+Table146135136137138140147154161168175182189196203210217[[#This Row],[CH4 Corrected]]+Table146135136137138140147154161168175182189196203210217[[#This Row],[N2O Corrected]]+Table146135136137138140147154161168175182189196203210217[[#This Row],[GWP]]+Table146135136137138140147154161168175182189196203210217[[#This Row],[Recycled]]+Table146135136137138140147154161168175182189196203210217[[#This Row],[Landfill]]+Table146135136137138140147154161168175182189196203210217[[#This Row],[Combusted]])*Table146135136137138140147154161168175182189196203210217[[#This Row],[Data \n(Corrected)]])/1000","v":5.4495550000000001}]
[]
[null,"EUR - ??"]
[null,"Reporting \nyear","Entity","Location","Scope","Emission Source","Source Pseudonym","Emission Sub-source","Emission Pseudonym","Unit \nRequired","Data \n(Raw)","Unit Reported","Concatenate Units","Unit Conversion","Data \n(Corrected)","Unit\n(Corrected)","CO2","CH4","CH4 Corrected","N2O","N2O Corrected","GWP","Recycled","Landfill","Combusted","tCO2e Emission Equivalent"]
[null,2021,"UAB Camira Fabrics","Lithuania","Scope_1","Stationary",{"$f":"LOOKUP(Table146135136137138140141148155162169176183190197204211218[[#This Row],[Emission Source]],Table3578[Source],Table3578[Pseudonym])","v":"StationaryUS"},"Natural Gas",{"$f":"LOOKUP(Table146135136137138140141148155162169176183190197204211218[[#This Row],[Emission Sub-source]],Table125[[Emission ]],Table125[Pseudonym])","v":"NaturalGasUS"},{"$f":"LOOKUP(Table146135136137138140141148155162169176183190197204211218[[#This Row],[Emission Sub-source]],Table44[Fuel Type],Table44[Unit])","v":"scf"},100000,"scf",{"$f":"CONCATENATE(Table146135136137138140141148155162169176183190197204211218[[#This Row],[Unit Reported]],Table146135136137138140141148155162169176183190197204211218[[#This Row],[Unit \nRequired]])","v":"scfscf"},{"$f":"LOOKUP(Table146135136137138140141148155162169176183190197204211218[[#This Row],[Concatenate Units]],Table43[Concatenate],Table43[Multiply By])","v":1},{"$f":"Table146135136137138140141148155162169176183190197204211218[[#This Row],[Data \n(Raw)]]*Table146135136137138140141148155162169176183190197204211218[[#This Row],[Unit Conversion]]","v":100000},{"$f":"Table146135136137138140141148155162169176183190197204211218[[#This Row],[Unit \nRequired]]","v":"scf"},{"$f":"LOOKUP(Table146135136137138140141148155162169176183190197204211218[[#This Row],[Emission Sub-source]],Table44[Fuel Type],Table44[CO2 Factor \n(kg / Unit)])","v":5.4440000000000002E-2},{"$f":"LOOKUP(Table146135136137138140141148155162169176183190197204211218[[#This Row],[Emission Sub-source]],Table44[Fuel Type],Table44[CH4 Factor \n(g / unit)])","v":1.0300000000000001E-3},{"$f":"(Table146135136137138140141148155162169176183190197204211218[[#This Row],[CH4]]/1000)*25","v":2.5750000000000002E-5},{"$f":"LOOKUP(Table146135136137138140141148155162169176183190197204211218[[#This Row],[Emission Sub-source]],Table44[Fuel Type],Table44[N2O Factor \n(g / unit)])","v":1E-4},{"$f":"(Table146135136137138140141148155162169176183190197204211218[[#This Row],[N2O]]/1000)*298","v":2.9800000000000003E-5},{"$f":"(LOOKUP(Table146135136137138140141148155162169176183190197204211218[[#This Row],[Emission Sub-source]],Table44[Fuel Type],Table44[GWP]))","v":0},{"$f":"Table146135136137138140141148155162169176183190197204211218[[#This Row],[Data \n(Corrected)]]*(LOOKUP(Table146135136137138140141148155162169176183190197204211218[[#This Row],[Emission Sub-source]],Table44[Fuel Type],Table44[Recycled CO2 Factor]))","v":0},{"$f":"Table146135136137138140141148155162169176183190197204211218[[#This Row],[Data \n(Corrected)]]*(LOOKUP(Table146135136137138140141148155162169176183190197204211218[[#This Row],[Emission Sub-source]],Table44[Fuel Type],Table44[Landfill CO2 Factor]))","v":0},{"$f":"Table146135136137138140141148155162169176183190197204211218[[#This Row],[Data \n(Corrected)]]*(LOOKUP(Table146135136137138140141148155162169176183190197204211218[[#This Row],[Emission Sub-source]],Table44[Fuel Type],Table44[Combusted CO2 Factor]))","v":0},{"$f":"((Table146135136137138140141148155162169176183190197204211218[[#This Row],[CO2]]+Table146135136137138140141148155162169176183190197204211218[[#This Row],[CH4 Corrected]]+Table146135136137138140141148155162169176183190197204211218[[#This Row],[N2O Corrected]]+Table146135136137138140141148155162169176183190197204211218[[#This Row],[GWP]]+Table146135136137138140141148155162169176183190197204211218[[#This Row],[Recycled]]+Table146135136137138140141148155162169176183190197204211218[[#This Row],[Landfill]]+Table146135136137138140141148155162169176183190197204211218[[#This Row],[Combusted]])*Table146135136137138140141148155162169176183190197204211218[[#This Row],[Data \n(Corrected)]])/1000","v":5.4495550000000001}]
[]
[null,"US - EPA"]
[null,"Reporting \nyear","Entity","Location","Scope","Emission Source","Source Pseudonym","Emission Sub-source","Emission Pseudonym","Unit \nRequired","Data \n(Raw)","Unit Reported","Concatenate Units","Unit Conversion","Data \n(Corrected)","Unit\n(Corrected)","CO2","CH4","CH4 Corrected","N2O","N2O Corrected","GWP","Recycled","Landfill","Combusted","tCO2e Emission Equivalent"]
[null,2021,"Camira Group, Inc","Grand Rapids","Scope_1","Stationary",{"$f":"LOOKUP(Table146135142149156163170177184191198205212[[#This Row],[Emission Source]],Table3578[Source],Table3578[Pseudonym])","v":"StationaryUS"},"Natural Gas",{"$f":"LOOKUP(Table146135142149156163170177184191198205212[[#This Row],[Emission Sub-source]],Table125[[Emission ]],Table125[Pseudonym])","v":"NaturalGasUS"},{"$f":"LOOKUP(Table146135142149156163170177184191198205212[[#This Row],[Emission Sub-source]],Table44[Fuel Type],Table44[Unit])","v":"scf"},100000,"scf",{"$f":"CONCATENATE(Table146135142149156163170177184191198205212[[#This Row],[Unit Reported]],Table146135142149156163170177184191198205212[[#This Row],[Unit \nRequired]])","v":"scfscf"},{"$f":"LOOKUP(Table146135142149156163170177184191198205212[[#This Row],[Concatenate Units]],Table43[Concatenate],Table43[Multiply By])","v":1},{"$f":"Table146135142149156163170177184191198205212[[#This Row],[Data \n(Raw)]]*Table146135142149156163170177184191198205212[[#This Row],[Unit Conversion]]","v":100000},{"$f":"Table146135142149156163170177184191198205212[[#This Row],[Unit \nRequired]]","v":"scf"},{"$f":"LOOKUP(Table146135142149156163170177184191198205212[[#This Row],[Emission Sub-source]],Table44[Fuel Type],Table44[CO2 Factor \n(kg / Unit)])","v":5.4440000000000002E-2},{"$f":"LOOKUP(Table146135142149156163170177184191198205212[[#This Row],[Emission Sub-source]],Table44[Fuel Type],Table44[CH4 Factor \n(g / unit)])","v":1.0300000000000001E-3},{"$f":"(Table146135142149156163170177184191198205212[[#This Row],[CH4]]/1000)*25","v":2.5750000000000002E-5},{"$f":"LOOKUP(Table146135142149156163170177184191198205212[[#This Row],[Emission Sub-source]],Table44[Fuel Type],Table44[N2O Factor \n(g / unit)])","v":1E-4},{"$f":"(Table146135142149156163170177184191198205212[[#This Row],[N2O]]/1000)*298","v":2.9800000000000003E-5},{"$f":"(LOOKUP(Table146135142149156163170177184191198205212[[#This Row],[Emission Sub-source]],Table44[Fuel Type],Table44[GWP]))","v":0},{"$f":"Table146135142149156163170177184191198205212[[#This Row],[Data \n(Corrected)]]*(LOOKUP(Table146135142149156163170177184191198205212[[#This Row],[Emission Sub-source]],Table44[Fuel Type],Table44[Recycled CO2 Factor]))","v":0},{"$f":"Table146135142149156163170177184191198205212[[#This Row],[Data \n(Corrected)]]*(LOOKUP(Table146135142149156163170177184191198205212[[#This Row],[Emission Sub-source]],Table44[Fuel Type],Table44[Landfill CO2 Factor]))","v":0},{"$f":"Table146135142149156163170177184191198205212[[#This Row],[Data \n(Corrected)]]*(LOOKUP(Table146135142149156163170177184191198205212[[#This Row],[Emission Sub-source]],Table44[Fuel Type],Table44[Combusted CO2 Factor]))","v":0},{"$f":"((Table146135142149156163170177184191198205212[[#This Row],[CO2]]+Table146135142149156163170177184191198205212[[#This Row],[CH4 Corrected]]+Table146135142149156163170177184191198205212[[#This Row],[N2O Corrected]]+Table146135142149156163170177184191198205212[[#This Row],[GWP]]+Table146135142149156163170177184191198205212[[#This Row],[Recycled]]+Table146135142149156163170177184191198205212[[#This Row],[Landfill]]+Table146135142149156163170177184191198205212[[#This Row],[Combusted]])*Table146135142149156163170177184191198205212[[#This Row],[Data \n(Corrected)]])/1000","v":5.4495550000000001}]

{"sheet":"3.8","index":17,"n_rows":26,"n_cols":26,"rows_kept":26,"cut":false,"hidden":true,"merged":[]}
[]
[null,"Greenhouse Gas Emission Analysis - Supplier Scope 1 & 2 - Leased Asset Provider"]
[]
[null,"UK - DBEIS/DEFRA"]
[null,"Reporting \nyear","Entity","Location","Scope","Emission Source","Source Pseudonym","Emission Sub-source","Emission Pseudonym","Unit \nRequired","Data \n(Raw)","Unit Reported","Concatenate Units","Unit Conversion","Data \n(Corrected)","Unit\n(Corrected)","CO2","CH4","CH4 Corrected","N2O","N2O Corrected","GWP","Recycled","Landfill","Combusted","tCO2e Emission Equivalent"]
[null,2021,"Camira Fabrics Limited","Mirfield","Scope_1","Stationary",{"$f":"LOOKUP(Table146135136143150157164171178185192199206213220[[#This Row],[Emission Source]],Table3578[Source],Table3578[Pseudonym])","v":"StationaryUS"},"Natural Gas",{"$f":"LOOKUP(Table146135136143150157164171178185192199206213220[[#This Row],[Emission Sub-source]],Table125[[Emission ]],Table125[Pseudonym])","v":"NaturalGasUS"},{"$f":"LOOKUP(Table146135136143150157164171178185192199206213220[[#This Row],[Emission Sub-source]],Table44[Fuel Type],Table44[Unit])","v":"scf"},100000,"scf",{"$f":"CONCATENATE(Table146135136143150157164171178185192199206213220[[#This Row],[Unit Reported]],Table146135136143150157164171178185192199206213220[[#This Row],[Unit \nRequired]])","v":"scfscf"},{"$f":"LOOKUP(Table146135136143150157164171178185192199206213220[[#This Row],[Concatenate Units]],Table43[Concatenate],Table43[Multiply By])","v":1},{"$f":"Table146135136143150157164171178185192199206213220[[#This Row],[Data \n(Raw)]]*Table146135136143150157164171178185192199206213220[[#This Row],[Unit Conversion]]","v":100000},{"$f":"Table146135136143150157164171178185192199206213220[[#This Row],[Unit \nRequired]]","v":"scf"},{"$f":"LOOKUP(Table146135136143150157164171178185192199206213220[[#This Row],[Emission Sub-source]],Table44[Fuel Type],Table44[CO2 Factor \n(kg / Unit)])","v":5.4440000000000002E-2},{"$f":"LOOKUP(Table146135136143150157164171178185192199206213220[[#This Row],[Emission Sub-source]],Table44[Fuel Type],Table44[CH4 Factor \n(g / unit)])","v":1.0300000000000001E-3},{"$f":"(Table146135136143150157164171178185192199206213220[[#This Row],[CH4]]/1000)*25","v":2.5750000000000002E-5},{"$f":"LOOKUP(Table146135136143150157164171178185192199206213220[[#This Row],[Emission Sub-source]],Table44[Fuel Type],Table44[N2O Factor \n(g / unit)])","v":1E-4},{"$f":"(Table146135136143150157164171178185192199206213220[[#This Row],[N2O]]/1000)*298","v":2.9800000000000003E-5},{"$f":"(LOOKUP(Table146135136143150157164171178185192199206213220[[#This Row],[Emission Sub-source]],Table44[Fuel Type],Table44[GWP]))","v":0},{"$f":"Table146135136143150157164171178185192199206213220[[#This Row],[Data \n(Corrected)]]*(LOOKUP(Table146135136143150157164171178185192199206213220[[#This Row],[Emission Sub-source]],Table44[Fuel Type],Table44[Recycled CO2 Factor]))","v":0},{"$f":"Table146135136143150157164171178185192199206213220[[#This Row],[Data \n(Corrected)]]*(LOOKUP(Table146135136143150157164171178185192199206213220[[#This Row],[Emission Sub-source]],Table44[Fuel Type],Table44[Landfill CO2 Factor]))","v":0},{"$f":"Table146135136143150157164171178185192199206213220[[#This Row],[Data \n(Corrected)]]*(LOOKUP(Table146135136143150157164171178185192199206213220[[#This Row],[Emission Sub-source]],Table44[Fuel Type],Table44[Combusted CO2 Factor]))","v":0},{"$f":"((Table146135136143150157164171178185192199206213220[[#This Row],[CO2]]+Table146135136143150157164171178185192199206213220[[#This Row],[CH4 Corrected]]+Table146135136143150157164171178185192199206213220[[#This Row],[N2O Corrected]]+Table146135136143150157164171178185192199206213220[[#This Row],[GWP]]+Table146135136143150157164171178185192199206213220[[#This Row],[Recycled]]+Table146135136143150157164171178185192199206213220[[#This Row],[Landfill]]+Table146135136143150157164171178185192199206213220[[#This Row],[Combusted]])*Table146135136143150157164171178185192199206213220[[#This Row],[Data \n(Corrected)]])/1000","v":5.4495550000000001}]
[]
[null,"Reporting \nyear","Entity","Location","Scope","Emission Source","Source Pseudonym","Emission Sub-source","Emission Pseudonym","Unit \nRequired","Data \n(Raw)","Unit Reported","Concatenate Units","Unit Conversion","Data \n(Corrected)","Unit\n(Corrected)","CO2","CH4","CH4 Corrected","N2O","N2O Corrected","GWP","Recycled","Landfill","Combusted","tCO2e Emission Equivalent"]
[null,2021,"Camira Fabrics Limited","Meltham","Scope_1","Stationary",{"$f":"LOOKUP(Table146135136137144151158165172179186193200207214221[[#This Row],[Emission Source]],Table3578[Source],Table3578[Pseudonym])","v":"StationaryUS"},"Natural Gas",{"$f":"LOOKUP(Table146135136137144151158165172179186193200207214221[[#This Row],[Emission Sub-source]],Table125[[Emission ]],Table125[Pseudonym])","v":"NaturalGasUS"},{"$f":"LOOKUP(Table146135136137144151158165172179186193200207214221[[#This Row],[Emission Sub-source]],Table44[Fuel Type],Table44[Unit])","v":"scf"},100000,"scf",{"$f":"CONCATENATE(Table146135136137144151158165172179186193200207214221[[#This Row],[Unit Reported]],Table146135136137144151158165172179186193200207214221[[#This Row],[Unit \nRequired]])","v":"scfscf"},{"$f":"LOOKUP(Table146135136137144151158165172179186193200207214221[[#This Row],[Concatenate Units]],Table43[Concatenate],Table43[Multiply By])","v":1},{"$f":"Table146135136137144151158165172179186193200207214221[[#This Row],[Data \n(Raw)]]*Table146135136137144151158165172179186193200207214221[[#This Row],[Unit Conversion]]","v":100000},{"$f":"Table146135136137144151158165172179186193200207214221[[#This Row],[Unit \nRequired]]","v":"scf"},{"$f":"LOOKUP(Table146135136137144151158165172179186193200207214221[[#This Row],[Emission Sub-source]],Table44[Fuel Type],Table44[CO2 Factor \n(kg / Unit)])","v":5.4440000000000002E-2},{"$f":"LOOKUP(Table146135136137144151158165172179186193200207214221[[#This Row],[Emission Sub-source]],Table44[Fuel Type],Table44[CH4 Factor \n(g / unit)])","v":1.0300000000000001E-3},{"$f":"(Table146135136137144151158165172179186193200207214221[[#This Row],[CH4]]/1000)*25","v":2.5750000000000002E-5},{"$f":"LOOKUP(Table146135136137144151158165172179186193200207214221[[#This Row],[Emission Sub-source]],Table44[Fuel Type],Table44[N2O Factor \n(g / unit)])","v":1E-4},{"$f":"(Table146135136137144151158165172179186193200207214221[[#This Row],[N2O]]/1000)*298","v":2.9800000000000003E-5},{"$f":"(LOOKUP(Table146135136137144151158165172179186193200207214221[[#This Row],[Emission Sub-source]],Table44[Fuel Type],Table44[GWP]))","v":0},{"$f":"Table146135136137144151158165172179186193200207214221[[#This Row],[Data \n(Corrected)]]*(LOOKUP(Table146135136137144151158165172179186193200207214221[[#This Row],[Emission Sub-source]],Table44[Fuel Type],Table44[Recycled CO2 Factor]))","v":0},{"$f":"Table146135136137144151158165172179186193200207214221[[#This Row],[Data \n(Corrected)]]*(LOOKUP(Table146135136137144151158165172179186193200207214221[[#This Row],[Emission Sub-source]],Table44[Fuel Type],Table44[Landfill CO2 Factor]))","v":0},{"$f":"Table146135136137144151158165172179186193200207214221[[#This Row],[Data \n(Corrected)]]*(LOOKUP(Table146135136137144151158165172179186193200207214221[[#This Row],[Emission Sub-source]],Table44[Fuel Type],Table44[Combusted CO2 Factor]))","v":0},{"$f":"((Table146135136137144151158165172179186193200207214221[[#This Row],[CO2]]+Table146135136137144151158165172179186193200207214221[[#This Row],[CH4 Corrected]]+Table146135136137144151158165172179186193200207214221[[#This Row],[N2O Corrected]]+Table146135136137144151158165172179186193200207214221[[#This Row],[GWP]]+Table146135136137144151158165172179186193200207214221[[#This Row],[Recycled]]+Table146135136137144151158165172179186193200207214221[[#This Row],[Landfill]]+Table146135136137144151158165172179186193200207214221[[#This Row],[Combusted]])*Table146135136137144151158165172179186193200207214221[[#This Row],[Data \n(Corrected)]])/1000","v":5.4495550000000001}]
[]
[null,"Reporting \nyear","Entity","Location","Scope","Emission Source","Source Pseudonym","Emission Sub-source","Emission Pseudonym","Unit \nRequired","Data \n(Raw)","Unit Reported","Concatenate Units","Unit Conversion","Data \n(Corrected)","Unit\n(Corrected)","CO2","CH4","CH4 Corrected","N2O","N2O Corrected","GWP","Recycled","Landfill","Combusted","tCO2e Emission Equivalent"]
[null,2021,"Camira Fabrics Limited","Nottingham","Scope_1","Stationary",{"$f":"LOOKUP(Table146135136137138145152159166173180187194201208215222[[#This Row],[Emission Source]],Table3578[Source],Table3578[Pseudonym])","v":"StationaryUS"},"Natural Gas",{"$f":"LOOKUP(Table146135136137138145152159166173180187194201208215222[[#This Row],[Emission Sub-source]],Table125[[Emission ]],Table125[Pseudonym])","v":"NaturalGasUS"},{"$f":"LOOKUP(Table146135136137138145152159166173180187194201208215222[[#This Row],[Emission Sub-source]],Table44[Fuel Type],Table44[Unit])","v":"scf"},100000,"scf",{"$f":"CONCATENATE(Table146135136137138145152159166173180187194201208215222[[#This Row],[Unit Reported]],Table146135136137138145152159166173180187194201208215222[[#This Row],[Unit \nRequired]])","v":"scfscf"},{"$f":"LOOKUP(Table146135136137138145152159166173180187194201208215222[[#This Row],[Concatenate Units]],Table43[Concatenate],Table43[Multiply By])","v":1},{"$f":"Table146135136137138145152159166173180187194201208215222[[#This Row],[Data \n(Raw)]]*Table146135136137138145152159166173180187194201208215222[[#This Row],[Unit Conversion]]","v":100000},{"$f":"Table146135136137138145152159166173180187194201208215222[[#This Row],[Unit \nRequired]]","v":"scf"},{"$f":"LOOKUP(Table146135136137138145152159166173180187194201208215222[[#This Row],[Emission Sub-source]],Table44[Fuel Type],Table44[CO2 Factor \n(kg / Unit)])","v":5.4440000000000002E-2},{"$f":"LOOKUP(Table146135136137138145152159166173180187194201208215222[[#This Row],[Emission Sub-source]],Table44[Fuel Type],Table44[CH4 Factor \n(g / unit)])","v":1.0300000000000001E-3},{"$f":"(Table146135136137138145152159166173180187194201208215222[[#This Row],[CH4]]/1000)*25","v":2.5750000000000002E-5},{"$f":"LOOKUP(Table146135136137138145152159166173180187194201208215222[[#This Row],[Emission Sub-source]],Table44[Fuel Type],Table44[N2O Factor \n(g / unit)])","v":1E-4},{"$f":"(Table146135136137138145152159166173180187194201208215222[[#This Row],[N2O]]/1000)*298","v":2.9800000000000003E-5},{"$f":"(LOOKUP(Table146135136137138145152159166173180187194201208215222[[#This Row],[Emission Sub-source]],Table44[Fuel Type],Table44[GWP]))","v":0},{"$f":"Table146135136137138145152159166173180187194201208215222[[#This Row],[Data \n(Corrected)]]*(LOOKUP(Table146135136137138145152159166173180187194201208215222[[#This Row],[Emission Sub-source]],Table44[Fuel Type],Table44[Recycled CO2 Factor]))","v":0},{"$f":"Table146135136137138145152159166173180187194201208215222[[#This Row],[Data \n(Corrected)]]*(LOOKUP(Table146135136137138145152159166173180187194201208215222[[#This Row],[Emission Sub-source]],Table44[Fuel Type],Table44[Landfill CO2 Factor]))","v":0},{"$f":"Table146135136137138145152159166173180187194201208215222[[#This Row],[Data \n(Corrected)]]*(LOOKUP(Table146135136137138145152159166173180187194201208215222[[#This Row],[Emission Sub-source]],Table44[Fuel Type],Table44[Combusted CO2 Factor]))","v":0},{"$f":"((Table146135136137138145152159166173180187194201208215222[[#This Row],[CO2]]+Table146135136137138145152159166173180187194201208215222[[#This Row],[CH4 Corrected]]+Table146135136137138145152159166173180187194201208215222[[#This Row],[N2O Corrected]]+Table146135136137138145152159166173180187194201208215222[[#This Row],[GWP]]+Table146135136137138145152159166173180187194201208215222[[#This Row],[Recycled]]+Table146135136137138145152159166173180187194201208215222[[#This Row],[Landfill]]+Table146135136137138145152159166173180187194201208215222[[#This Row],[Combusted]])*Table146135136137138145152159166173180187194201208215222[[#This Row],[Data \n(Corrected)]])/1000","v":5.4495550000000001}]
[]
[null,"Reporting \nyear","Entity","Location","Scope","Emission Source","Source Pseudonym","Emission Sub-source","Emission Pseudonym","Unit \nRequired","Data \n(Raw)","Unit Reported","Concatenate Units","Unit Conversion","Data \n(Corrected)","Unit\n(Corrected)","CO2","CH4","CH4 Corrected","N2O","N2O Corrected","GWP","Recycled","Landfill","Combusted","tCO2e Emission Equivalent"]
[null,2021,"Camira Fabrics Limited","Birkby","Scope_1","Stationary",{"$f":"LOOKUP(Table146135136137138139146153160167174181188195202209216223[[#This Row],[Emission Source]],Table3578[Source],Table3578[Pseudonym])","v":"StationaryUS"},"Natural Gas",{"$f":"LOOKUP(Table146135136137138139146153160167174181188195202209216223[[#This Row],[Emission Sub-source]],Table125[[Emission ]],Table125[Pseudonym])","v":"NaturalGasUS"},{"$f":"LOOKUP(Table146135136137138139146153160167174181188195202209216223[[#This Row],[Emission Sub-source]],Table44[Fuel Type],Table44[Unit])","v":"scf"},100000,"scf",{"$f":"CONCATENATE(Table146135136137138139146153160167174181188195202209216223[[#This Row],[Unit Reported]],Table146135136137138139146153160167174181188195202209216223[[#This Row],[Unit \nRequired]])","v":"scfscf"},{"$f":"LOOKUP(Table146135136137138139146153160167174181188195202209216223[[#This Row],[Concatenate Units]],Table43[Concatenate],Table43[Multiply By])","v":1},{"$f":"Table146135136137138139146153160167174181188195202209216223[[#This Row],[Data \n(Raw)]]*Table146135136137138139146153160167174181188195202209216223[[#This Row],[Unit Conversion]]","v":100000},{"$f":"Table146135136137138139146153160167174181188195202209216223[[#This Row],[Unit \nRequired]]","v":"scf"},{"$f":"LOOKUP(Table146135136137138139146153160167174181188195202209216223[[#This Row],[Emission Sub-source]],Table44[Fuel Type],Table44[CO2 Factor \n(kg / Unit)])","v":5.4440000000000002E-2},{"$f":"LOOKUP(Table146135136137138139146153160167174181188195202209216223[[#This Row],[Emission Sub-source]],Table44[Fuel Type],Table44[CH4 Factor \n(g / unit)])","v":1.0300000000000001E-3},{"$f":"(Table146135136137138139146153160167174181188195202209216223[[#This Row],[CH4]]/1000)*25","v":2.5750000000000002E-5},{"$f":"LOOKUP(Table146135136137138139146153160167174181188195202209216223[[#This Row],[Emission Sub-source]],Table44[Fuel Type],Table44[N2O Factor \n(g / unit)])","v":1E-4},{"$f":"(Table146135136137138139146153160167174181188195202209216223[[#This Row],[N2O]]/1000)*298","v":2.9800000000000003E-5},{"$f":"(LOOKUP(Table146135136137138139146153160167174181188195202209216223[[#This Row],[Emission Sub-source]],Table44[Fuel Type],Table44[GWP]))","v":0},{"$f":"Table146135136137138139146153160167174181188195202209216223[[#This Row],[Data \n(Corrected)]]*(LOOKUP(Table146135136137138139146153160167174181188195202209216223[[#This Row],[Emission Sub-source]],Table44[Fuel Type],Table44[Recycled CO2 Factor]))","v":0},{"$f":"Table146135136137138139146153160167174181188195202209216223[[#This Row],[Data \n(Corrected)]]*(LOOKUP(Table146135136137138139146153160167174181188195202209216223[[#This Row],[Emission Sub-source]],Table44[Fuel Type],Table44[Landfill CO2 Factor]))","v":0},{"$f":"Table146135136137138139146153160167174181188195202209216223[[#This Row],[Data \n(Corrected)]]*(LOOKUP(Table146135136137138139146153160167174181188195202209216223[[#This Row],[Emission Sub-source]],Table44[Fuel Type],Table44[Combusted CO2 Factor]))","v":0},{"$f":"((Table146135136137138139146153160167174181188195202209216223[[#This Row],[CO2]]+Table146135136137138139146153160167174181188195202209216223[[#This Row],[CH4 Corrected]]+Table146135136137138139146153160167174181188195202209216223[[#This Row],[N2O Corrected]]+Table146135136137138139146153160167174181188195202209216223[[#This Row],[GWP]]+Table146135136137138139146153160167174181188195202209216223[[#This Row],[Recycled]]+Table146135136137138139146153160167174181188195202209216223[[#This Row],[Landfill]]+Table146135136137138139146153160167174181188195202209216223[[#This Row],[Combusted]])*Table146135136137138139146153160167174181188195202209216223[[#This Row],[Data \n(Corrected)]])/1000","v":5.4495550000000001}]
[]
[null,"Reporting \nyear","Entity","Location","Scope","Emission Source","Source Pseudonym","Emission Sub-source","Emission Pseudonym","Unit \nRequired","Data \n(Raw)","Unit Reported","Concatenate Units","Unit Conversion","Data \n(Corrected)","Unit\n(Corrected)","CO2","CH4","CH4 Corrected","N2O","N2O Corrected","GWP","Recycled","Landfill","Combusted","tCO2e Emission Equivalent"]
[null,2021,"Camira Fabrics Limited","Holmfirth","Scope_1","Stationary",{"$f":"LOOKUP(Table146135136137138140147154161168175182189196203210217224[[#This Row],[Emission Source]],Table3578[Source],Table3578[Pseudonym])","v":"StationaryUS"},"Natural Gas",{"$f":"LOOKUP(Table146135136137138140147154161168175182189196203210217224[[#This Row],[Emission Sub-source]],Table125[[Emission ]],Table125[Pseudonym])","v":"NaturalGasUS"},{"$f":"LOOKUP(Table146135136137138140147154161168175182189196203210217224[[#This Row],[Emission Sub-source]],Table44[Fuel Type],Table44[Unit])","v":"scf"},100000,"scf",{"$f":"CONCATENATE(Table146135136137138140147154161168175182189196203210217224[[#This Row],[Unit Reported]],Table146135136137138140147154161168175182189196203210217224[[#This Row],[Unit \nRequired]])","v":"scfscf"},{"$f":"LOOKUP(Table146135136137138140147154161168175182189196203210217224[[#This Row],[Concatenate Units]],Table43[Concatenate],Table43[Multiply By])","v":1},{"$f":"Table146135136137138140147154161168175182189196203210217224[[#This Row],[Data \n(Raw)]]*Table146135136137138140147154161168175182189196203210217224[[#This Row],[Unit Conversion]]","v":100000},{"$f":"Table146135136137138140147154161168175182189196203210217224[[#This Row],[Unit \nRequired]]","v":"scf"},{"$f":"LOOKUP(Table146135136137138140147154161168175182189196203210217224[[#This Row],[Emission Sub-source]],Table44[Fuel Type],Table44[CO2 Factor \n(kg / Unit)])","v":5.4440000000000002E-2},{"$f":"LOOKUP(Table146135136137138140147154161168175182189196203210217224[[#This Row],[Emission Sub-source]],Table44[Fuel Type],Table44[CH4 Factor \n(g / unit)])","v":1.0300000000000001E-3},{"$f":"(Table146135136137138140147154161168175182189196203210217224[[#This Row],[CH4]]/1000)*25","v":2.5750000000000002E-5},{"$f":"LOOKUP(Table146135136137138140147154161168175182189196203210217224[[#This Row],[Emission Sub-source]],Table44[Fuel Type],Table44[N2O Factor \n(g / unit)])","v":1E-4},{"$f":"(Table146135136137138140147154161168175182189196203210217224[[#This Row],[N2O]]/1000)*298","v":2.9800000000000003E-5},{"$f":"(LOOKUP(Table146135136137138140147154161168175182189196203210217224[[#This Row],[Emission Sub-source]],Table44[Fuel Type],Table44[GWP]))","v":0},{"$f":"Table146135136137138140147154161168175182189196203210217224[[#This Row],[Data \n(Corrected)]]*(LOOKUP(Table146135136137138140147154161168175182189196203210217224[[#This Row],[Emission Sub-source]],Table44[Fuel Type],Table44[Recycled CO2 Factor]))","v":0},{"$f":"Table146135136137138140147154161168175182189196203210217224[[#This Row],[Data \n(Corrected)]]*(LOOKUP(Table146135136137138140147154161168175182189196203210217224[[#This Row],[Emission Sub-source]],Table44[Fuel Type],Table44[Landfill CO2 Factor]))","v":0},{"$f":"Table146135136137138140147154161168175182189196203210217224[[#This Row],[Data \n(Corrected)]]*(LOOKUP(Table146135136137138140147154161168175182189196203210217224[[#This Row],[Emission Sub-source]],Table44[Fuel Type],Table44[Combusted CO2 Factor]))","v":0},{"$f":"((Table146135136137138140147154161168175182189196203210217224[[#This Row],[CO2]]+Table146135136137138140147154161168175182189196203210217224[[#This Row],[CH4 Corrected]]+Table146135136137138140147154161168175182189196203210217224[[#This Row],[N2O Corrected]]+Table146135136137138140147154161168175182189196203210217224[[#This Row],[GWP]]+Table146135136137138140147154161168175182189196203210217224[[#This Row],[Recycled]]+Table146135136137138140147154161168175182189196203210217224[[#This Row],[Landfill]]+Table146135136137138140147154161168175182189196203210217224[[#This Row],[Combusted]])*Table146135136137138140147154161168175182189196203210217224[[#This Row],[Data \n(Corrected)]])/1000","v":5.4495550000000001}]
[]
[null,"EUR - ??"]
[null,"Reporting \nyear","Entity","Location","Scope","Emission Source","Source Pseudonym","Emission Sub-source","Emission Pseudonym","Unit \nRequired","Data \n(Raw)","Unit Reported","Concatenate Units","Unit Conversion","Data \n(Corrected)","Unit\n(Corrected)","CO2","CH4","CH4 Corrected","N2O","N2O Corrected","GWP","Recycled","Landfill","Combusted","tCO2e Emission Equivalent"]
[null,2021,"UAB Camira Fabrics","Lithuania","Scope_1","Stationary",{"$f":"LOOKUP(Table146135136137138140141148155162169176183190197204211218225[[#This Row],[Emission Source]],Table3578[Source],Table3578[Pseudonym])","v":"StationaryUS"},"Natural Gas",{"$f":"LOOKUP(Table146135136137138140141148155162169176183190197204211218225[[#This Row],[Emission Sub-source]],Table125[[Emission ]],Table125[Pseudonym])","v":"NaturalGasUS"},{"$f":"LOOKUP(Table146135136137138140141148155162169176183190197204211218225[[#This Row],[Emission Sub-source]],Table44[Fuel Type],Table44[Unit])","v":"scf"},100000,"scf",{"$f":"CONCATENATE(Table146135136137138140141148155162169176183190197204211218225[[#This Row],[Unit Reported]],Table146135136137138140141148155162169176183190197204211218225[[#This Row],[Unit \nRequired]])","v":"scfscf"},{"$f":"LOOKUP(Table146135136137138140141148155162169176183190197204211218225[[#This Row],[Concatenate Units]],Table43[Concatenate],Table43[Multiply By])","v":1},{"$f":"Table146135136137138140141148155162169176183190197204211218225[[#This Row],[Data \n(Raw)]]*Table146135136137138140141148155162169176183190197204211218225[[#This Row],[Unit Conversion]]","v":100000},{"$f":"Table146135136137138140141148155162169176183190197204211218225[[#This Row],[Unit \nRequired]]","v":"scf"},{"$f":"LOOKUP(Table146135136137138140141148155162169176183190197204211218225[[#This Row],[Emission Sub-source]],Table44[Fuel Type],Table44[CO2 Factor \n(kg / Unit)])","v":5.4440000000000002E-2},{"$f":"LOOKUP(Table146135136137138140141148155162169176183190197204211218225[[#This Row],[Emission Sub-source]],Table44[Fuel Type],Table44[CH4 Factor \n(g / unit)])","v":1.0300000000000001E-3},{"$f":"(Table146135136137138140141148155162169176183190197204211218225[[#This Row],[CH4]]/1000)*25","v":2.5750000000000002E-5},{"$f":"LOOKUP(Table146135136137138140141148155162169176183190197204211218225[[#This Row],[Emission Sub-source]],Table44[Fuel Type],Table44[N2O Factor \n(g / unit)])","v":1E-4},{"$f":"(Table146135136137138140141148155162169176183190197204211218225[[#This Row],[N2O]]/1000)*298","v":2.9800000000000003E-5},{"$f":"(LOOKUP(Table146135136137138140141148155162169176183190197204211218225[[#This Row],[Emission Sub-source]],Table44[Fuel Type],Table44[GWP]))","v":0},{"$f":"Table146135136137138140141148155162169176183190197204211218225[[#This Row],[Data \n(Corrected)]]*(LOOKUP(Table146135136137138140141148155162169176183190197204211218225[[#This Row],[Emission Sub-source]],Table44[Fuel Type],Table44[Recycled CO2 Factor]))","v":0},{"$f":"Table146135136137138140141148155162169176183190197204211218225[[#This Row],[Data \n(Corrected)]]*(LOOKUP(Table146135136137138140141148155162169176183190197204211218225[[#This Row],[Emission Sub-source]],Table44[Fuel Type],Table44[Landfill CO2 Factor]))","v":0},{"$f":"Table146135136137138140141148155162169176183190197204211218225[[#This Row],[Data \n(Corrected)]]*(LOOKUP(Table146135136137138140141148155162169176183190197204211218225[[#This Row],[Emission Sub-source]],Table44[Fuel Type],Table44[Combusted CO2 Factor]))","v":0},{"$f":"((Table146135136137138140141148155162169176183190197204211218225[[#This Row],[CO2]]+Table146135136137138140141148155162169176183190197204211218225[[#This Row],[CH4 Corrected]]+Table146135136137138140141148155162169176183190197204211218225[[#This Row],[N2O Corrected]]+Table146135136137138140141148155162169176183190197204211218225[[#This Row],[GWP]]+Table146135136137138140141148155162169176183190197204211218225[[#This Row],[Recycled]]+Table146135136137138140141148155162169176183190197204211218225[[#This Row],[Landfill]]+Table146135136137138140141148155162169176183190197204211218225[[#This Row],[Combusted]])*Table146135136137138140141148155162169176183190197204211218225[[#This Row],[Data \n(Corrected)]])/1000","v":5.4495550000000001}]
[]
[null,"US - EPA"]
[null,"Reporting \nyear","Entity","Location","Scope","Emission Source","Source Pseudonym","Emission Sub-source","Emission Pseudonym","Unit \nRequired","Data \n(Raw)","Unit Reported","Concatenate Units","Unit Conversion","Data \n(Corrected)","Unit\n(Corrected)","CO2","CH4","CH4 Corrected","N2O","N2O Corrected","GWP","Recycled","Landfill","Combusted","tCO2e Emission Equivalent"]
[null,2021,"Camira Group, Inc","Grand Rapids","Scope_1","Stationary",{"$f":"LOOKUP(Table146135142149156163170177184191198205212219[[#This Row],[Emission Source]],Table3578[Source],Table3578[Pseudonym])","v":"StationaryUS"},"Natural Gas",{"$f":"LOOKUP(Table146135142149156163170177184191198205212219[[#This Row],[Emission Sub-source]],Table125[[Emission ]],Table125[Pseudonym])","v":"NaturalGasUS"},{"$f":"LOOKUP(Table146135142149156163170177184191198205212219[[#This Row],[Emission Sub-source]],Table44[Fuel Type],Table44[Unit])","v":"scf"},100000,"scf",{"$f":"CONCATENATE(Table146135142149156163170177184191198205212219[[#This Row],[Unit Reported]],Table146135142149156163170177184191198205212219[[#This Row],[Unit \nRequired]])","v":"scfscf"},{"$f":"LOOKUP(Table146135142149156163170177184191198205212219[[#This Row],[Concatenate Units]],Table43[Concatenate],Table43[Multiply By])","v":1},{"$f":"Table146135142149156163170177184191198205212219[[#This Row],[Data \n(Raw)]]*Table146135142149156163170177184191198205212219[[#This Row],[Unit Conversion]]","v":100000},{"$f":"Table146135142149156163170177184191198205212219[[#This Row],[Unit \nRequired]]","v":"scf"},{"$f":"LOOKUP(Table146135142149156163170177184191198205212219[[#This Row],[Emission Sub-source]],Table44[Fuel Type],Table44[CO2 Factor \n(kg / Unit)])","v":5.4440000000000002E-2},{"$f":"LOOKUP(Table146135142149156163170177184191198205212219[[#This Row],[Emission Sub-source]],Table44[Fuel Type],Table44[CH4 Factor \n(g / unit)])","v":1.0300000000000001E-3},{"$f":"(Table146135142149156163170177184191198205212219[[#This Row],[CH4]]/1000)*25","v":2.5750000000000002E-5},{"$f":"LOOKUP(Table146135142149156163170177184191198205212219[[#This Row],[Emission Sub-source]],Table44[Fuel Type],Table44[N2O Factor \n(g / unit)])","v":1E-4},{"$f":"(Table146135142149156163170177184191198205212219[[#This Row],[N2O]]/1000)*298","v":2.9800000000000003E-5},{"$f":"(LOOKUP(Table146135142149156163170177184191198205212219[[#This Row],[Emission Sub-source]],Table44[Fuel Type],Table44[GWP]))","v":0},{"$f":"Table146135142149156163170177184191198205212219[[#This Row],[Data \n(Corrected)]]*(LOOKUP(Table146135142149156163170177184191198205212219[[#This Row],[Emission Sub-source]],Table44[Fuel Type],Table44[Recycled CO2 Factor]))","v":0},{"$f":"Table146135142149156163170177184191198205212219[[#This Row],[Data \n(Corrected)]]*(LOOKUP(Table146135142149156163170177184191198205212219[[#This Row],[Emission Sub-source]],Table44[Fuel Type],Table44[Landfill CO2 Factor]))","v":0},{"$f":"Table146135142149156163170177184191198205212219[[#This Row],[Data \n(Corrected)]]*(LOOKUP(Table146135142149156163170177184191198205212219[[#This Row],[Emission Sub-source]],Table44[Fuel Type],Table44[Combusted CO2 Factor]))","v":0},{"$f":"((Table146135142149156163170177184191198205212219[[#This Row],[CO2]]+Table146135142149156163170177184191198205212219[[#This Row],[CH4 Corrected]]+Table146135142149156163170177184191198205212219[[#This Row],[N2O Corrected]]+Table146135142149156163170177184191198205212219[[#This Row],[GWP]]+Table146135142149156163170177184191198205212219[[#This Row],[Recycled]]+Table146135142149156163170177184191198205212219[[#This Row],[Landfill]]+Table146135142149156163170177184191198205212219[[#This Row],[Combusted]])*Table146135142149156163170177184191198205212219[[#This Row],[Data \n(Corrected)]])/1000","v":5.4495550000000001}]

{"sheet":"3.7","index":18,"n_rows":26,"n_cols":26,"rows_kept":26,"cut":false,"hidden":true,"merged":[]}
[]
[null,"Greenhouse Gas Emission Analysis - Employee Commuting"]
[]
[null,"UK - DBEIS/DEFRA"]
[null,"Reporting \nyear","Entity","Location","Scope","Emission Source","Source Pseudonym","Emission Sub-source","Emission Pseudonym","Unit \nRequired","Data \n(Raw)","Unit Reported","Concatenate Units","Unit Conversion","Data \n(Corrected)","Unit\n(Corrected)","CO2","CH4","CH4 Corrected","N2O","N2O Corrected","GWP","Recycled","Landfill","Combusted","tCO2e Emission Equivalent"]
[null,2021,"Camira Fabrics Limited","Mirfield","Scope_1","Stationary",{"$f":"LOOKUP(Table146135136143150157164171178185192199206213220227234[[#This Row],[Emission Source]],Table3578[Source],Table3578[Pseudonym])","v":"StationaryUS"},"Natural Gas",{"$f":"LOOKUP(Table146135136143150157164171178185192199206213220227234[[#This Row],[Emission Sub-source]],Table125[[Emission ]],Table125[Pseudonym])","v":"NaturalGasUS"},{"$f":"LOOKUP(Table146135136143150157164171178185192199206213220227234[[#This Row],[Emission Sub-source]],Table44[Fuel Type],Table44[Unit])","v":"scf"},100000,"scf",{"$f":"CONCATENATE(Table146135136143150157164171178185192199206213220227234[[#This Row],[Unit Reported]],Table146135136143150157164171178185192199206213220227234[[#This Row],[Unit \nRequired]])","v":"scfscf"},{"$f":"LOOKUP(Table146135136143150157164171178185192199206213220227234[[#This Row],[Concatenate Units]],Table43[Concatenate],Table43[Multiply By])","v":1},{"$f":"Table146135136143150157164171178185192199206213220227234[[#This Row],[Data \n(Raw)]]*Table146135136143150157164171178185192199206213220227234[[#This Row],[Unit Conversion]]","v":100000},{"$f":"Table146135136143150157164171178185192199206213220227234[[#This Row],[Unit \nRequired]]","v":"scf"},{"$f":"LOOKUP(Table146135136143150157164171178185192199206213220227234[[#This Row],[Emission Sub-source]],Table44[Fuel Type],Table44[CO2 Factor \n(kg / Unit)])","v":5.4440000000000002E-2},{"$f":"LOOKUP(Table146135136143150157164171178185192199206213220227234[[#This Row],[Emission Sub-source]],Table44[Fuel Type],Table44[CH4 Factor \n(g / unit)])","v":1.0300000000000001E-3},{"$f":"(Table146135136143150157164171178185192199206213220227234[[#This Row],[CH4]]/1000)*25","v":2.5750000000000002E-5},{"$f":"LOOKUP(Table146135136143150157164171178185192199206213220227234[[#This Row],[Emission Sub-source]],Table44[Fuel Type],Table44[N2O Factor \n(g / unit)])","v":1E-4},{"$f":"(Table146135136143150157164171178185192199206213220227234[[#This Row],[N2O]]/1000)*298","v":2.9800000000000003E-5},{"$f":"(LOOKUP(Table146135136143150157164171178185192199206213220227234[[#This Row],[Emission Sub-source]],Table44[Fuel Type],Table44[GWP]))","v":0},{"$f":"Table146135136143150157164171178185192199206213220227234[[#This Row],[Data \n(Corrected)]]*(LOOKUP(Table146135136143150157164171178185192199206213220227234[[#This Row],[Emission Sub-source]],Table44[Fuel Type],Table44[Recycled CO2 Factor]))","v":0},{"$f":"Table146135136143150157164171178185192199206213220227234[[#This Row],[Data \n(Corrected)]]*(LOOKUP(Table146135136143150157164171178185192199206213220227234[[#This Row],[Emission Sub-source]],Table44[Fuel Type],Table44[Landfill CO2 Factor]))","v":0},{"$f":"Table146135136143150157164171178185192199206213220227234[[#This Row],[Data \n(Corrected)]]*(LOOKUP(Table146135136143150157164171178185192199206213220227234[[#This Row],[Emission Sub-source]],Table44[Fuel Type],Table44[Combusted CO2 Factor]))","v":0},{"$f":"((Table146135136143150157164171178185192199206213220227234[[#This Row],[CO2]]+Table146135136143150157164171178185192199206213220227234[[#This Row],[CH4 Corrected]]+Table146135136143150157164171178185192199206213220227234[[#This Row],[N2O Corrected]]+Table146135136143150157164171178185192199206213220227234[[#This Row],[GWP]]+Table146135136143150157164171178185192199206213220227234[[#This Row],[Recycled]]+Table146135136143150157164171178185192199206213220227234[[#This Row],[Landfill]]+Table146135136143150157164171178185192199206213220227234[[#This Row],[Combusted]])*Table146135136143150157164171178185192199206213220227234[[#This Row],[Data \n(Corrected)]])/1000","v":5.4495550000000001}]
[]
[null,"Reporting \nyear","Entity","Location","Scope","Emission Source","Source Pseudonym","Emission Sub-source","Emission Pseudonym","Unit \nRequired","Data \n(Raw)","Unit Reported","Concatenate Units","Unit Conversion","Data \n(Corrected)","Unit\n(Corrected)","CO2","CH4","CH4 Corrected","N2O","N2O Corrected","GWP","Recycled","Landfill","Combusted","tCO2e Emission Equivalent"]
[null,2021,"Camira Fabrics Limited","Meltham","Scope_1","Stationary",{"$f":"LOOKUP(Table146135136137144151158165172179186193200207214221228235[[#This Row],[Emission Source]],Table3578[Source],Table3578[Pseudonym])","v":"StationaryUS"},"Natural Gas",{"$f":"LOOKUP(Table146135136137144151158165172179186193200207214221228235[[#This Row],[Emission Sub-source]],Table125[[Emission ]],Table125[Pseudonym])","v":"NaturalGasUS"},{"$f":"LOOKUP(Table146135136137144151158165172179186193200207214221228235[[#This Row],[Emission Sub-source]],Table44[Fuel Type],Table44[Unit])","v":"scf"},100000,"scf",{"$f":"CONCATENATE(Table146135136137144151158165172179186193200207214221228235[[#This Row],[Unit Reported]],Table146135136137144151158165172179186193200207214221228235[[#This Row],[Unit \nRequired]])","v":"scfscf"},{"$f":"LOOKUP(Table146135136137144151158165172179186193200207214221228235[[#This Row],[Concatenate Units]],Table43[Concatenate],Table43[Multiply By])","v":1},{"$f":"Table146135136137144151158165172179186193200207214221228235[[#This Row],[Data \n(Raw)]]*Table146135136137144151158165172179186193200207214221228235[[#This Row],[Unit Conversion]]","v":100000},{"$f":"Table146135136137144151158165172179186193200207214221228235[[#This Row],[Unit \nRequired]]","v":"scf"},{"$f":"LOOKUP(Table146135136137144151158165172179186193200207214221228235[[#This Row],[Emission Sub-source]],Table44[Fuel Type],Table44[CO2 Factor \n(kg / Unit)])","v":5.4440000000000002E-2},{"$f":"LOOKUP(Table146135136137144151158165172179186193200207214221228235[[#This Row],[Emission Sub-source]],Table44[Fuel Type],Table44[CH4 Factor \n(g / unit)])","v":1.0300000000000001E-3},{"$f":"(Table146135136137144151158165172179186193200207214221228235[[#This Row],[CH4]]/1000)*25","v":2.5750000000000002E-5},{"$f":"LOOKUP(Table146135136137144151158165172179186193200207214221228235[[#This Row],[Emission Sub-source]],Table44[Fuel Type],Table44[N2O Factor \n(g / unit)])","v":1E-4},{"$f":"(Table146135136137144151158165172179186193200207214221228235[[#This Row],[N2O]]/1000)*298","v":2.9800000000000003E-5},{"$f":"(LOOKUP(Table146135136137144151158165172179186193200207214221228235[[#This Row],[Emission Sub-source]],Table44[Fuel Type],Table44[GWP]))","v":0},{"$f":"Table146135136137144151158165172179186193200207214221228235[[#This Row],[Data \n(Corrected)]]*(LOOKUP(Table146135136137144151158165172179186193200207214221228235[[#This Row],[Emission Sub-source]],Table44[Fuel Type],Table44[Recycled CO2 Factor]))","v":0},{"$f":"Table146135136137144151158165172179186193200207214221228235[[#This Row],[Data \n(Corrected)]]*(LOOKUP(Table146135136137144151158165172179186193200207214221228235[[#This Row],[Emission Sub-source]],Table44[Fuel Type],Table44[Landfill CO2 Factor]))","v":0},{"$f":"Table146135136137144151158165172179186193200207214221228235[[#This Row],[Data \n(Corrected)]]*(LOOKUP(Table146135136137144151158165172179186193200207214221228235[[#This Row],[Emission Sub-source]],Table44[Fuel Type],Table44[Combusted CO2 Factor]))","v":0},{"$f":"((Table146135136137144151158165172179186193200207214221228235[[#This Row],[CO2]]+Table146135136137144151158165172179186193200207214221228235[[#This Row],[CH4 Corrected]]+Table146135136137144151158165172179186193200207214221228235[[#This Row],[N2O Corrected]]+Table146135136137144151158165172179186193200207214221228235[[#This Row],[GWP]]+Table146135136137144151158165172179186193200207214221228235[[#This Row],[Recycled]]+Table146135136137144151158165172179186193200207214221228235[[#This Row],[Landfill]]+Table146135136137144151158165172179186193200207214221228235[[#This Row],[Combusted]])*Table146135136137144151158165172179186193200207214221228235[[#This Row],[Data \n(Corrected)]])/1000","v":5.4495550000000001}]
[]
[null,"Reporting \nyear","Entity","Location","Scope","Emission Source","Source Pseudonym","Emission Sub-source","Emission Pseudonym","Unit \nRequired","Data \n(Raw)","Unit Reported","Concatenate Units","Unit Conversion","Data \n(Corrected)","Unit\n(Corrected)","CO2","CH4","CH4 Corrected","N2O","N2O Corrected","GWP","Recycled","Landfill","Combusted","tCO2e Emission Equivalent"]
[null,2021,"Camira Fabrics Limited","Nottingham","Scope_1","Stationary",{"$f":"LOOKUP(Table146135136137138145152159166173180187194201208215222229236[[#This Row],[Emission Source]],Table3578[Source],Table3578[Pseudonym])","v":"StationaryUS"},"Natural Gas",{"$f":"LOOKUP(Table146135136137138145152159166173180187194201208215222229236[[#This Row],[Emission Sub-source]],Table125[[Emission ]],Table125[Pseudonym])","v":"NaturalGasUS"},{"$f":"LOOKUP(Table146135136137138145152159166173180187194201208215222229236[[#This Row],[Emission Sub-source]],Table44[Fuel Type],Table44[Unit])","v":"scf"},100000,"scf",{"$f":"CONCATENATE(Table146135136137138145152159166173180187194201208215222229236[[#This Row],[Unit Reported]],Table146135136137138145152159166173180187194201208215222229236[[#This Row],[Unit \nRequired]])","v":"scfscf"},{"$f":"LOOKUP(Table146135136137138145152159166173180187194201208215222229236[[#This Row],[Concatenate Units]],Table43[Concatenate],Table43[Multiply By])","v":1},{"$f":"Table146135136137138145152159166173180187194201208215222229236[[#This Row],[Data \n(Raw)]]*Table146135136137138145152159166173180187194201208215222229236[[#This Row],[Unit Conversion]]","v":100000},{"$f":"Table146135136137138145152159166173180187194201208215222229236[[#This Row],[Unit \nRequired]]","v":"scf"},{"$f":"LOOKUP(Table146135136137138145152159166173180187194201208215222229236[[#This Row],[Emission Sub-source]],Table44[Fuel Type],Table44[CO2 Factor \n(kg / Unit)])","v":5.4440000000000002E-2},{"$f":"LOOKUP(Table146135136137138145152159166173180187194201208215222229236[[#This Row],[Emission Sub-source]],Table44[Fuel Type],Table44[CH4 Factor \n(g / unit)])","v":1.0300000000000001E-3},{"$f":"(Table146135136137138145152159166173180187194201208215222229236[[#This Row],[CH4]]/1000)*25","v":2.5750000000000002E-5},{"$f":"LOOKUP(Table146135136137138145152159166173180187194201208215222229236[[#This Row],[Emission Sub-source]],Table44[Fuel Type],Table44[N2O Factor \n(g / unit)])","v":1E-4},{"$f":"(Table146135136137138145152159166173180187194201208215222229236[[#This Row],[N2O]]/1000)*298","v":2.9800000000000003E-5},{"$f":"(LOOKUP(Table146135136137138145152159166173180187194201208215222229236[[#This Row],[Emission Sub-source]],Table44[Fuel Type],Table44[GWP]))","v":0},{"$f":"Table146135136137138145152159166173180187194201208215222229236[[#This Row],[Data \n(Corrected)]]*(LOOKUP(Table146135136137138145152159166173180187194201208215222229236[[#This Row],[Emission Sub-source]],Table44[Fuel Type],Table44[Recycled CO2 Factor]))","v":0},{"$f":"Table146135136137138145152159166173180187194201208215222229236[[#This Row],[Data \n(Corrected)]]*(LOOKUP(Table146135136137138145152159166173180187194201208215222229236[[#This Row],[Emission Sub-source]],Table44[Fuel Type],Table44[Landfill CO2 Factor]))","v":0},{"$f":"Table146135136137138145152159166173180187194201208215222229236[[#This Row],[Data \n(Corrected)]]*(LOOKUP(Table146135136137138145152159166173180187194201208215222229236[[#This Row],[Emission Sub-source]],Table44[Fuel Type],Table44[Combusted CO2 Factor]))","v":0},{"$f":"((Table146135136137138145152159166173180187194201208215222229236[[#This Row],[CO2]]+Table146135136137138145152159166173180187194201208215222229236[[#This Row],[CH4 Corrected]]+Table146135136137138145152159166173180187194201208215222229236[[#This Row],[N2O Corrected]]+Table146135136137138145152159166173180187194201208215222229236[[#This Row],[GWP]]+Table146135136137138145152159166173180187194201208215222229236[[#This Row],[Recycled]]+Table146135136137138145152159166173180187194201208215222229236[[#This Row],[Landfill]]+Table146135136137138145152159166173180187194201208215222229236[[#This Row],[Combusted]])*Table146135136137138145152159166173180187194201208215222229236[[#This Row],[Data \n(Corrected)]])/1000","v":5.4495550000000001}]
[]
[null,"Reporting \nyear","Entity","Location","Scope","Emission Source","Source Pseudonym","Emission Sub-source","Emission Pseudonym","Unit \nRequired","Data \n(Raw)","Unit Reported","Concatenate Units","Unit Conversion","Data \n(Corrected)","Unit\n(Corrected)","CO2","CH4","CH4 Corrected","N2O","N2O Corrected","GWP","Recycled","Landfill","Combusted","tCO2e Emission Equivalent"]
[null,2021,"Camira Fabrics Limited","Birkby","Scope_1","Stationary",{"$f":"LOOKUP(Table146135136137138139146153160167174181188195202209216223230237[[#This Row],[Emission Source]],Table3578[Source],Table3578[Pseudonym])","v":"StationaryUS"},"Natural Gas",{"$f":"LOOKUP(Table146135136137138139146153160167174181188195202209216223230237[[#This Row],[Emission Sub-source]],Table125[[Emission ]],Table125[Pseudonym])","v":"NaturalGasUS"},{"$f":"LOOKUP(Table146135136137138139146153160167174181188195202209216223230237[[#This Row],[Emission Sub-source]],Table44[Fuel Type],Table44[Unit])","v":"scf"},100000,"scf",{"$f":"CONCATENATE(Table146135136137138139146153160167174181188195202209216223230237[[#This Row],[Unit Reported]],Table146135136137138139146153160167174181188195202209216223230237[[#This Row],[Unit \nRequired]])","v":"scfscf"},{"$f":"LOOKUP(Table146135136137138139146153160167174181188195202209216223230237[[#This Row],[Concatenate Units]],Table43[Concatenate],Table43[Multiply By])","v":1},{"$f":"Table146135136137138139146153160167174181188195202209216223230237[[#This Row],[Data \n(Raw)]]*Table146135136137138139146153160167174181188195202209216223230237[[#This Row],[Unit Conversion]]","v":100000},{"$f":"Table146135136137138139146153160167174181188195202209216223230237[[#This Row],[Unit \nRequired]]","v":"scf"},{"$f":"LOOKUP(Table146135136137138139146153160167174181188195202209216223230237[[#This Row],[Emission Sub-source]],Table44[Fuel Type],Table44[CO2 Factor \n(kg / Unit)])","v":5.4440000000000002E-2},{"$f":"LOOKUP(Table146135136137138139146153160167174181188195202209216223230237[[#This Row],[Emission Sub-source]],Table44[Fuel Type],Table44[CH4 Factor \n(g / unit)])","v":1.0300000000000001E-3},{"$f":"(Table146135136137138139146153160167174181188195202209216223230237[[#This Row],[CH4]]/1000)*25","v":2.5750000000000002E-5},{"$f":"LOOKUP(Table146135136137138139146153160167174181188195202209216223230237[[#This Row],[Emission Sub-source]],Table44[Fuel Type],Table44[N2O Factor \n(g / unit)])","v":1E-4},{"$f":"(Table146135136137138139146153160167174181188195202209216223230237[[#This Row],[N2O]]/1000)*298","v":2.9800000000000003E-5},{"$f":"(LOOKUP(Table146135136137138139146153160167174181188195202209216223230237[[#This Row],[Emission Sub-source]],Table44[Fuel Type],Table44[GWP]))","v":0},{"$f":"Table146135136137138139146153160167174181188195202209216223230237[[#This Row],[Data \n(Corrected)]]*(LOOKUP(Table146135136137138139146153160167174181188195202209216223230237[[#This Row],[Emission Sub-source]],Table44[Fuel Type],Table44[Recycled CO2 Factor]))","v":0},{"$f":"Table146135136137138139146153160167174181188195202209216223230237[[#This Row],[Data \n(Corrected)]]*(LOOKUP(Table146135136137138139146153160167174181188195202209216223230237[[#This Row],[Emission Sub-source]],Table44[Fuel Type],Table44[Landfill CO2 Factor]))","v":0},{"$f":"Table146135136137138139146153160167174181188195202209216223230237[[#This Row],[Data \n(Corrected)]]*(LOOKUP(Table146135136137138139146153160167174181188195202209216223230237[[#This Row],[Emission Sub-source]],Table44[Fuel Type],Table44[Combusted CO2 Factor]))","v":0},{"$f":"((Table146135136137138139146153160167174181188195202209216223230237[[#This Row],[CO2]]+Table146135136137138139146153160167174181188195202209216223230237[[#This Row],[CH4 Corrected]]+Table146135136137138139146153160167174181188195202209216223230237[[#This Row],[N2O Corrected]]+Table146135136137138139146153160167174181188195202209216223230237[[#This Row],[GWP]]+Table146135136137138139146153160167174181188195202209216223230237[[#This Row],[Recycled]]+Table146135136137138139146153160167174181188195202209216223230237[[#This Row],[Landfill]]+Table146135136137138139146153160167174181188195202209216223230237[[#This Row],[Combusted]])*Table146135136137138139146153160167174181188195202209216223230237[[#This Row],[Data \n(Corrected)]])/1000","v":5.4495550000000001}]
[]
[null,"Reporting \nyear","Entity","Location","Scope","Emission Source","Source Pseudonym","Emission Sub-source","Emission Pseudonym","Unit \nRequired","Data \n(Raw)","Unit Reported","Concatenate Units","Unit Conversion","Data \n(Corrected)","Unit\n(Corrected)","CO2","CH4","CH4 Corrected","N2O","N2O Corrected","GWP","Recycled","Landfill","Combusted","tCO2e Emission Equivalent"]
[null,2021,"Camira Fabrics Limited","Holmfirth","Scope_1","Stationary",{"$f":"LOOKUP(Table146135136137138140147154161168175182189196203210217224231238[[#This Row],[Emission Source]],Table3578[Source],Table3578[Pseudonym])","v":"StationaryUS"},"Natural Gas",{"$f":"LOOKUP(Table146135136137138140147154161168175182189196203210217224231238[[#This Row],[Emission Sub-source]],Table125[[Emission ]],Table125[Pseudonym])","v":"NaturalGasUS"},{"$f":"LOOKUP(Table146135136137138140147154161168175182189196203210217224231238[[#This Row],[Emission Sub-source]],Table44[Fuel Type],Table44[Unit])","v":"scf"},100000,"scf",{"$f":"CONCATENATE(Table146135136137138140147154161168175182189196203210217224231238[[#This Row],[Unit Reported]],Table146135136137138140147154161168175182189196203210217224231238[[#This Row],[Unit \nRequired]])","v":"scfscf"},{"$f":"LOOKUP(Table146135136137138140147154161168175182189196203210217224231238[[#This Row],[Concatenate Units]],Table43[Concatenate],Table43[Multiply By])","v":1},{"$f":"Table146135136137138140147154161168175182189196203210217224231238[[#This Row],[Data \n(Raw)]]*Table146135136137138140147154161168175182189196203210217224231238[[#This Row],[Unit Conversion]]","v":100000},{"$f":"Table146135136137138140147154161168175182189196203210217224231238[[#This Row],[Unit \nRequired]]","v":"scf"},{"$f":"LOOKUP(Table146135136137138140147154161168175182189196203210217224231238[[#This Row],[Emission Sub-source]],Table44[Fuel Type],Table44[CO2 Factor \n(kg / Unit)])","v":5.4440000000000002E-2},{"$f":"LOOKUP(Table146135136137138140147154161168175182189196203210217224231238[[#This Row],[Emission Sub-source]],Table44[Fuel Type],Table44[CH4 Factor \n(g / unit)])","v":1.0300000000000001E-3},{"$f":"(Table146135136137138140147154161168175182189196203210217224231238[[#This Row],[CH4]]/1000)*25","v":2.5750000000000002E-5},{"$f":"LOOKUP(Table146135136137138140147154161168175182189196203210217224231238[[#This Row],[Emission Sub-source]],Table44[Fuel Type],Table44[N2O Factor \n(g / unit)])","v":1E-4},{"$f":"(Table146135136137138140147154161168175182189196203210217224231238[[#This Row],[N2O]]/1000)*298","v":2.9800000000000003E-5},{"$f":"(LOOKUP(Table146135136137138140147154161168175182189196203210217224231238[[#This Row],[Emission Sub-source]],Table44[Fuel Type],Table44[GWP]))","v":0},{"$f":"Table146135136137138140147154161168175182189196203210217224231238[[#This Row],[Data \n(Corrected)]]*(LOOKUP(Table146135136137138140147154161168175182189196203210217224231238[[#This Row],[Emission Sub-source]],Table44[Fuel Type],Table44[Recycled CO2 Factor]))","v":0},{"$f":"Table146135136137138140147154161168175182189196203210217224231238[[#This Row],[Data \n(Corrected)]]*(LOOKUP(Table146135136137138140147154161168175182189196203210217224231238[[#This Row],[Emission Sub-source]],Table44[Fuel Type],Table44[Landfill CO2 Factor]))","v":0},{"$f":"Table146135136137138140147154161168175182189196203210217224231238[[#This Row],[Data \n(Corrected)]]*(LOOKUP(Table146135136137138140147154161168175182189196203210217224231238[[#This Row],[Emission Sub-source]],Table44[Fuel Type],Table44[Combusted CO2 Factor]))","v":0},{"$f":"((Table146135136137138140147154161168175182189196203210217224231238[[#This Row],[CO2]]+Table146135136137138140147154161168175182189196203210217224231238[[#This Row],[CH4 Corrected]]+Table146135136137138140147154161168175182189196203210217224231238[[#This Row],[N2O Corrected]]+Table146135136137138140147154161168175182189196203210217224231238[[#This Row],[GWP]]+Table146135136137138140147154161168175182189196203210217224231238[[#This Row],[Recycled]]+Table146135136137138140147154161168175182189196203210217224231238[[#This Row],[Landfill]]+Table146135136137138140147154161168175182189196203210217224231238[[#This Row],[Combusted]])*Table146135136137138140147154161168175182189196203210217224231238[[#This Row],[Data \n(Corrected)]])/1000","v":5.4495550000000001}]
[]
[null,"EUR - ??"]
[null,"Reporting \nyear","Entity","Location","Scope","Emission Source","Source Pseudonym","Emission Sub-source","Emission Pseudonym","Unit \nRequired","Data \n(Raw)","Unit Reported","Concatenate Units","Unit Conversion","Data \n(Corrected)","Unit\n(Corrected)","CO2","CH4","CH4 Corrected","N2O","N2O Corrected","GWP","Recycled","Landfill","Combusted","tCO2e Emission Equivalent"]
[null,2021,"UAB Camira Fabrics","Lithuania","Scope_1","Stationary",{"$f":"LOOKUP(Table146135136137138140141148155162169176183190197204211218225232239[[#This Row],[Emission Source]],Table3578[Source],Table3578[Pseudonym])","v":"StationaryUS"},"Natural Gas",{"$f":"LOOKUP(Table146135136137138140141148155162169176183190197204211218225232239[[#This Row],[Emission Sub-source]],Table125[[Emission ]],Table125[Pseudonym])","v":"NaturalGasUS"},{"$f":"LOOKUP(Table146135136137138140141148155162169176183190197204211218225232239[[#This Row],[Emission Sub-source]],Table44[Fuel Type],Table44[Unit])","v":"scf"},100000,"scf",{"$f":"CONCATENATE(Table146135136137138140141148155162169176183190197204211218225232239[[#This Row],[Unit Reported]],Table146135136137138140141148155162169176183190197204211218225232239[[#This Row],[Unit \nRequired]])","v":"scfscf"},{"$f":"LOOKUP(Table146135136137138140141148155162169176183190197204211218225232239[[#This Row],[Concatenate Units]],Table43[Concatenate],Table43[Multiply By])","v":1},{"$f":"Table146135136137138140141148155162169176183190197204211218225232239[[#This Row],[Data \n(Raw)]]*Table146135136137138140141148155162169176183190197204211218225232239[[#This Row],[Unit Conversion]]","v":100000},{"$f":"Table146135136137138140141148155162169176183190197204211218225232239[[#This Row],[Unit \nRequired]]","v":"scf"},{"$f":"LOOKUP(Table146135136137138140141148155162169176183190197204211218225232239[[#This Row],[Emission Sub-source]],Table44[Fuel Type],Table44[CO2 Factor \n(kg / Unit)])","v":5.4440000000000002E-2},{"$f":"LOOKUP(Table146135136137138140141148155162169176183190197204211218225232239[[#This Row],[Emission Sub-source]],Table44[Fuel Type],Table44[CH4 Factor \n(g / unit)])","v":1.0300000000000001E-3},{"$f":"(Table146135136137138140141148155162169176183190197204211218225232239[[#This Row],[CH4]]/1000)*25","v":2.5750000000000002E-5},{"$f":"LOOKUP(Table146135136137138140141148155162169176183190197204211218225232239[[#This Row],[Emission Sub-source]],Table44[Fuel Type],Table44[N2O Factor \n(g / unit)])","v":1E-4},{"$f":"(Table146135136137138140141148155162169176183190197204211218225232239[[#This Row],[N2O]]/1000)*298","v":2.9800000000000003E-5},{"$f":"(LOOKUP(Table146135136137138140141148155162169176183190197204211218225232239[[#This Row],[Emission Sub-source]],Table44[Fuel Type],Table44[GWP]))","v":0},{"$f":"Table146135136137138140141148155162169176183190197204211218225232239[[#This Row],[Data \n(Corrected)]]*(LOOKUP(Table146135136137138140141148155162169176183190197204211218225232239[[#This Row],[Emission Sub-source]],Table44[Fuel Type],Table44[Recycled CO2 Factor]))","v":0},{"$f":"Table146135136137138140141148155162169176183190197204211218225232239[[#This Row],[Data \n(Corrected)]]*(LOOKUP(Table146135136137138140141148155162169176183190197204211218225232239[[#This Row],[Emission Sub-source]],Table44[Fuel Type],Table44[Landfill CO2 Factor]))","v":0},{"$f":"Table146135136137138140141148155162169176183190197204211218225232239[[#This Row],[Data \n(Corrected)]]*(LOOKUP(Table146135136137138140141148155162169176183190197204211218225232239[[#This Row],[Emission Sub-source]],Table44[Fuel Type],Table44[Combusted CO2 Factor]))","v":0},{"$f":"((Table146135136137138140141148155162169176183190197204211218225232239[[#This Row],[CO2]]+Table146135136137138140141148155162169176183190197204211218225232239[[#This Row],[CH4 Corrected]]+Table146135136137138140141148155162169176183190197204211218225232239[[#This Row],[N2O Corrected]]+Table146135136137138140141148155162169176183190197204211218225232239[[#This Row],[GWP]]+Table146135136137138140141148155162169176183190197204211218225232239[[#This Row],[Recycled]]+Table146135136137138140141148155162169176183190197204211218225232239[[#This Row],[Landfill]]+Table146135136137138140141148155162169176183190197204211218225232239[[#This Row],[Combusted]])*Table146135136137138140141148155162169176183190197204211218225232239[[#This Row],[Data \n(Corrected)]])/1000","v":5.4495550000000001}]
[]
[null,"US - EPA"]
[null,"Reporting \nyear","Entity","Location","Scope","Emission Source","Source Pseudonym","Emission Sub-source","Emission Pseudonym","Unit \nRequired","Data \n(Raw)","Unit Reported","Concatenate Units","Unit Conversion","Data \n(Corrected)","Unit\n(Corrected)","CO2","CH4","CH4 Corrected","N2O","N2O Corrected","GWP","Recycled","Landfill","Combusted","tCO2e Emission Equivalent"]
[null,2021,"Camira Group, Inc","Grand Rapids","Scope_1","Stationary",{"$f":"LOOKUP(Table146135142149156163170177184191198205212219226233[[#This Row],[Emission Source]],Table3578[Source],Table3578[Pseudonym])","v":"StationaryUS"},"Natural Gas",{"$f":"LOOKUP(Table146135142149156163170177184191198205212219226233[[#This Row],[Emission Sub-source]],Table125[[Emission ]],Table125[Pseudonym])","v":"NaturalGasUS"},{"$f":"LOOKUP(Table146135142149156163170177184191198205212219226233[[#This Row],[Emission Sub-source]],Table44[Fuel Type],Table44[Unit])","v":"scf"},100000,"scf",{"$f":"CONCATENATE(Table146135142149156163170177184191198205212219226233[[#This Row],[Unit Reported]],Table146135142149156163170177184191198205212219226233[[#This Row],[Unit \nRequired]])","v":"scfscf"},{"$f":"LOOKUP(Table146135142149156163170177184191198205212219226233[[#This Row],[Concatenate Units]],Table43[Concatenate],Table43[Multiply By])","v":1},{"$f":"Table146135142149156163170177184191198205212219226233[[#This Row],[Data \n(Raw)]]*Table146135142149156163170177184191198205212219226233[[#This Row],[Unit Conversion]]","v":100000},{"$f":"Table146135142149156163170177184191198205212219226233[[#This Row],[Unit \nRequired]]","v":"scf"},{"$f":"LOOKUP(Table146135142149156163170177184191198205212219226233[[#This Row],[Emission Sub-source]],Table44[Fuel Type],Table44[CO2 Factor \n(kg / Unit)])","v":5.4440000000000002E-2},{"$f":"LOOKUP(Table146135142149156163170177184191198205212219226233[[#This Row],[Emission Sub-source]],Table44[Fuel Type],Table44[CH4 Factor \n(g / unit)])","v":1.0300000000000001E-3},{"$f":"(Table146135142149156163170177184191198205212219226233[[#This Row],[CH4]]/1000)*25","v":2.5750000000000002E-5},{"$f":"LOOKUP(Table146135142149156163170177184191198205212219226233[[#This Row],[Emission Sub-source]],Table44[Fuel Type],Table44[N2O Factor \n(g / unit)])","v":1E-4},{"$f":"(Table146135142149156163170177184191198205212219226233[[#This Row],[N2O]]/1000)*298","v":2.9800000000000003E-5},{"$f":"(LOOKUP(Table146135142149156163170177184191198205212219226233[[#This Row],[Emission Sub-source]],Table44[Fuel Type],Table44[GWP]))","v":0},{"$f":"Table146135142149156163170177184191198205212219226233[[#This Row],[Data \n(Corrected)]]*(LOOKUP(Table146135142149156163170177184191198205212219226233[[#This Row],[Emission Sub-source]],Table44[Fuel Type],Table44[Recycled CO2 Factor]))","v":0},{"$f":"Table146135142149156163170177184191198205212219226233[[#This Row],[Data \n(Corrected)]]*(LOOKUP(Table146135142149156163170177184191198205212219226233[[#This Row],[Emission Sub-source]],Table44[Fuel Type],Table44[Landfill CO2 Factor]))","v":0},{"$f":"Table146135142149156163170177184191198205212219226233[[#This Row],[Data \n(Corrected)]]*(LOOKUP(Table146135142149156163170177184191198205212219226233[[#This Row],[Emission Sub-source]],Table44[Fuel Type],Table44[Combusted CO2 Factor]))","v":0},{"$f":"((Table146135142149156163170177184191198205212219226233[[#This Row],[CO2]]+Table146135142149156163170177184191198205212219226233[[#This Row],[CH4 Corrected]]+Table146135142149156163170177184191198205212219226233[[#This Row],[N2O Corrected]]+Table146135142149156163170177184191198205212219226233[[#This Row],[GWP]]+Table146135142149156163170177184191198205212219226233[[#This Row],[Recycled]]+Table146135142149156163170177184191198205212219226233[[#This Row],[Landfill]]+Table146135142149156163170177184191198205212219226233[[#This Row],[Combusted]])*Table146135142149156163170177184191198205212219226233[[#This Row],[Data \n(Corrected)]])/1000","v":5.4495550000000001}]

{"sheet":"3.9","index":19,"n_rows":26,"n_cols":26,"rows_kept":26,"cut":false,"hidden":true,"merged":[]}
[]
[null,"Greenhouse Gas Emission Analysis - Customer Scope 1 & 2 - Transport"]
[]
[null,"UK - DBEIS/DEFRA"]
[null,"Reporting \nyear","Entity","Location","Scope","Emission Source","Source Pseudonym","Emission Sub-source","Emission Pseudonym","Unit \nRequired","Data \n(Raw)","Unit Reported","Concatenate Units","Unit Conversion","Data \n(Corrected)","Unit\n(Corrected)","CO2","CH4","CH4 Corrected","N2O","N2O Corrected","GWP","Recycled","Landfill","Combusted","tCO2e Emission Equivalent"]
[null,2021,"Camira Fabrics Limited","Mirfield","Scope_1","Stationary",{"$f":"LOOKUP(Table146135136143150157164171178185192199206213220227234241[[#This Row],[Emission Source]],Table3578[Source],Table3578[Pseudonym])","v":"StationaryUS"},"Natural Gas",{"$f":"LOOKUP(Table146135136143150157164171178185192199206213220227234241[[#This Row],[Emission Sub-source]],Table125[[Emission ]],Table125[Pseudonym])","v":"NaturalGasUS"},{"$f":"LOOKUP(Table146135136143150157164171178185192199206213220227234241[[#This Row],[Emission Sub-source]],Table44[Fuel Type],Table44[Unit])","v":"scf"},100000,"scf",{"$f":"CONCATENATE(Table146135136143150157164171178185192199206213220227234241[[#This Row],[Unit Reported]],Table146135136143150157164171178185192199206213220227234241[[#This Row],[Unit \nRequired]])","v":"scfscf"},{"$f":"LOOKUP(Table146135136143150157164171178185192199206213220227234241[[#This Row],[Concatenate Units]],Table43[Concatenate],Table43[Multiply By])","v":1},{"$f":"Table146135136143150157164171178185192199206213220227234241[[#This Row],[Data \n(Raw)]]*Table146135136143150157164171178185192199206213220227234241[[#This Row],[Unit Conversion]]","v":100000},{"$f":"Table146135136143150157164171178185192199206213220227234241[[#This Row],[Unit \nRequired]]","v":"scf"},{"$f":"LOOKUP(Table146135136143150157164171178185192199206213220227234241[[#This Row],[Emission Sub-source]],Table44[Fuel Type],Table44[CO2 Factor \n(kg / Unit)])","v":5.4440000000000002E-2},{"$f":"LOOKUP(Table146135136143150157164171178185192199206213220227234241[[#This Row],[Emission Sub-source]],Table44[Fuel Type],Table44[CH4 Factor \n(g / unit)])","v":1.0300000000000001E-3},{"$f":"(Table146135136143150157164171178185192199206213220227234241[[#This Row],[CH4]]/1000)*25","v":2.5750000000000002E-5},{"$f":"LOOKUP(Table146135136143150157164171178185192199206213220227234241[[#This Row],[Emission Sub-source]],Table44[Fuel Type],Table44[N2O Factor \n(g / unit)])","v":1E-4},{"$f":"(Table146135136143150157164171178185192199206213220227234241[[#This Row],[N2O]]/1000)*298","v":2.9800000000000003E-5},{"$f":"(LOOKUP(Table146135136143150157164171178185192199206213220227234241[[#This Row],[Emission Sub-source]],Table44[Fuel Type],Table44[GWP]))","v":0},{"$f":"Table146135136143150157164171178185192199206213220227234241[[#This Row],[Data \n(Corrected)]]*(LOOKUP(Table146135136143150157164171178185192199206213220227234241[[#This Row],[Emission Sub-source]],Table44[Fuel Type],Table44[Recycled CO2 Factor]))","v":0},{"$f":"Table146135136143150157164171178185192199206213220227234241[[#This Row],[Data \n(Corrected)]]*(LOOKUP(Table146135136143150157164171178185192199206213220227234241[[#This Row],[Emission Sub-source]],Table44[Fuel Type],Table44[Landfill CO2 Factor]))","v":0},{"$f":"Table146135136143150157164171178185192199206213220227234241[[#This Row],[Data \n(Corrected)]]*(LOOKUP(Table146135136143150157164171178185192199206213220227234241[[#This Row],[Emission Sub-source]],Table44[Fuel Type],Table44[Combusted CO2 Factor]))","v":0},{"$f":"((Table146135136143150157164171178185192199206213220227234241[[#This Row],[CO2]]+Table146135136143150157164171178185192199206213220227234241[[#This Row],[CH4 Corrected]]+Table146135136143150157164171178185192199206213220227234241[[#This Row],[N2O Corrected]]+Table146135136143150157164171178185192199206213220227234241[[#This Row],[GWP]]+Table146135136143150157164171178185192199206213220227234241[[#This Row],[Recycled]]+Table146135136143150157164171178185192199206213220227234241[[#This Row],[Landfill]]+Table146135136143150157164171178185192199206213220227234241[[#This Row],[Combusted]])*Table146135136143150157164171178185192199206213220227234241[[#This Row],[Data \n(Corrected)]])/1000","v":5.4495550000000001}]
[]
[null,"Reporting \nyear","Entity","Location","Scope","Emission Source","Source Pseudonym","Emission Sub-source","Emission Pseudonym","Unit \nRequired","Data \n(Raw)","Unit Reported","Concatenate Units","Unit Conversion","Data \n(Corrected)","Unit\n(Corrected)","CO2","CH4","CH4 Corrected","N2O","N2O Corrected","GWP","Recycled","Landfill","Combusted","tCO2e Emission Equivalent"]
[null,2021,"Camira Fabrics Limited","Meltham","Scope_1","Stationary",{"$f":"LOOKUP(Table146135136137144151158165172179186193200207214221228235242[[#This Row],[Emission Source]],Table3578[Source],Table3578[Pseudonym])","v":"StationaryUS"},"Natural Gas",{"$f":"LOOKUP(Table146135136137144151158165172179186193200207214221228235242[[#This Row],[Emission Sub-source]],Table125[[Emission ]],Table125[Pseudonym])","v":"NaturalGasUS"},{"$f":"LOOKUP(Table146135136137144151158165172179186193200207214221228235242[[#This Row],[Emission Sub-source]],Table44[Fuel Type],Table44[Unit])","v":"scf"},100000,"scf",{"$f":"CONCATENATE(Table146135136137144151158165172179186193200207214221228235242[[#This Row],[Unit Reported]],Table146135136137144151158165172179186193200207214221228235242[[#This Row],[Unit \nRequired]])","v":"scfscf"},{"$f":"LOOKUP(Table146135136137144151158165172179186193200207214221228235242[[#This Row],[Concatenate Units]],Table43[Concatenate],Table43[Multiply By])","v":1},{"$f":"Table146135136137144151158165172179186193200207214221228235242[[#This Row],[Data \n(Raw)]]*Table146135136137144151158165172179186193200207214221228235242[[#This Row],[Unit Conversion]]","v":100000},{"$f":"Table146135136137144151158165172179186193200207214221228235242[[#This Row],[Unit \nRequired]]","v":"scf"},{"$f":"LOOKUP(Table146135136137144151158165172179186193200207214221228235242[[#This Row],[Emission Sub-source]],Table44[Fuel Type],Table44[CO2 Factor \n(kg / Unit)])","v":5.4440000000000002E-2},{"$f":"LOOKUP(Table146135136137144151158165172179186193200207214221228235242[[#This Row],[Emission Sub-source]],Table44[Fuel Type],Table44[CH4 Factor \n(g / unit)])","v":1.0300000000000001E-3},{"$f":"(Table146135136137144151158165172179186193200207214221228235242[[#This Row],[CH4]]/1000)*25","v":2.5750000000000002E-5},{"$f":"LOOKUP(Table146135136137144151158165172179186193200207214221228235242[[#This Row],[Emission Sub-source]],Table44[Fuel Type],Table44[N2O Factor \n(g / unit)])","v":1E-4},{"$f":"(Table146135136137144151158165172179186193200207214221228235242[[#This Row],[N2O]]/1000)*298","v":2.9800000000000003E-5},{"$f":"(LOOKUP(Table146135136137144151158165172179186193200207214221228235242[[#This Row],[Emission Sub-source]],Table44[Fuel Type],Table44[GWP]))","v":0},{"$f":"Table146135136137144151158165172179186193200207214221228235242[[#This Row],[Data \n(Corrected)]]*(LOOKUP(Table146135136137144151158165172179186193200207214221228235242[[#This Row],[Emission Sub-source]],Table44[Fuel Type],Table44[Recycled CO2 Factor]))","v":0},{"$f":"Table146135136137144151158165172179186193200207214221228235242[[#This Row],[Data \n(Corrected)]]*(LOOKUP(Table146135136137144151158165172179186193200207214221228235242[[#This Row],[Emission Sub-source]],Table44[Fuel Type],Table44[Landfill CO2 Factor]))","v":0},{"$f":"Table146135136137144151158165172179186193200207214221228235242[[#This Row],[Data \n(Corrected)]]*(LOOKUP(Table146135136137144151158165172179186193200207214221228235242[[#This Row],[Emission Sub-source]],Table44[Fuel Type],Table44[Combusted CO2 Factor]))","v":0},{"$f":"((Table146135136137144151158165172179186193200207214221228235242[[#This Row],[CO2]]+Table146135136137144151158165172179186193200207214221228235242[[#This Row],[CH4 Corrected]]+Table146135136137144151158165172179186193200207214221228235242[[#This Row],[N2O Corrected]]+Table146135136137144151158165172179186193200207214221228235242[[#This Row],[GWP]]+Table146135136137144151158165172179186193200207214221228235242[[#This Row],[Recycled]]+Table146135136137144151158165172179186193200207214221228235242[[#This Row],[Landfill]]+Table146135136137144151158165172179186193200207214221228235242[[#This Row],[Combusted]])*Table146135136137144151158165172179186193200207214221228235242[[#This Row],[Data \n(Corrected)]])/1000","v":5.4495550000000001}]
[]
[null,"Reporting \nyear","Entity","Location","Scope","Emission Source","Source Pseudonym","Emission Sub-source","Emission Pseudonym","Unit \nRequired","Data \n(Raw)","Unit Reported","Concatenate Units","Unit Conversion","Data \n(Corrected)","Unit\n(Corrected)","CO2","CH4","CH4 Corrected","N2O","N2O Corrected","GWP","Recycled","Landfill","Combusted","tCO2e Emission Equivalent"]
[null,2021,"Camira Fabrics Limited","Nottingham","Scope_1","Stationary",{"$f":"LOOKUP(Table146135136137138145152159166173180187194201208215222229236243[[#This Row],[Emission Source]],Table3578[Source],Table3578[Pseudonym])","v":"StationaryUS"},"Natural Gas",{"$f":"LOOKUP(Table146135136137138145152159166173180187194201208215222229236243[[#This Row],[Emission Sub-source]],Table125[[Emission ]],Table125[Pseudonym])","v":"NaturalGasUS"},{"$f":"LOOKUP(Table146135136137138145152159166173180187194201208215222229236243[[#This Row],[Emission Sub-source]],Table44[Fuel Type],Table44[Unit])","v":"scf"},100000,"scf",{"$f":"CONCATENATE(Table146135136137138145152159166173180187194201208215222229236243[[#This Row],[Unit Reported]],Table146135136137138145152159166173180187194201208215222229236243[[#This Row],[Unit \nRequired]])","v":"scfscf"},{"$f":"LOOKUP(Table146135136137138145152159166173180187194201208215222229236243[[#This Row],[Concatenate Units]],Table43[Concatenate],Table43[Multiply By])","v":1},{"$f":"Table146135136137138145152159166173180187194201208215222229236243[[#This Row],[Data \n(Raw)]]*Table146135136137138145152159166173180187194201208215222229236243[[#This Row],[Unit Conversion]]","v":100000},{"$f":"Table146135136137138145152159166173180187194201208215222229236243[[#This Row],[Unit \nRequired]]","v":"scf"},{"$f":"LOOKUP(Table146135136137138145152159166173180187194201208215222229236243[[#This Row],[Emission Sub-source]],Table44[Fuel Type],Table44[CO2 Factor \n(kg / Unit)])","v":5.4440000000000002E-2},{"$f":"LOOKUP(Table146135136137138145152159166173180187194201208215222229236243[[#This Row],[Emission Sub-source]],Table44[Fuel Type],Table44[CH4 Factor \n(g / unit)])","v":1.0300000000000001E-3},{"$f":"(Table146135136137138145152159166173180187194201208215222229236243[[#This Row],[CH4]]/1000)*25","v":2.5750000000000002E-5},{"$f":"LOOKUP(Table146135136137138145152159166173180187194201208215222229236243[[#This Row],[Emission Sub-source]],Table44[Fuel Type],Table44[N2O Factor \n(g / unit)])","v":1E-4},{"$f":"(Table146135136137138145152159166173180187194201208215222229236243[[#This Row],[N2O]]/1000)*298","v":2.9800000000000003E-5},{"$f":"(LOOKUP(Table146135136137138145152159166173180187194201208215222229236243[[#This Row],[Emission Sub-source]],Table44[Fuel Type],Table44[GWP]))","v":0},{"$f":"Table146135136137138145152159166173180187194201208215222229236243[[#This Row],[Data \n(Corrected)]]*(LOOKUP(Table146135136137138145152159166173180187194201208215222229236243[[#This Row],[Emission Sub-source]],Table44[Fuel Type],Table44[Recycled CO2 Factor]))","v":0},{"$f":"Table146135136137138145152159166173180187194201208215222229236243[[#This Row],[Data \n(Corrected)]]*(LOOKUP(Table146135136137138145152159166173180187194201208215222229236243[[#This Row],[Emission Sub-source]],Table44[Fuel Type],Table44[Landfill CO2 Factor]))","v":0},{"$f":"Table146135136137138145152159166173180187194201208215222229236243[[#This Row],[Data \n(Corrected)]]*(LOOKUP(Table146135136137138145152159166173180187194201208215222229236243[[#This Row],[Emission Sub-source]],Table44[Fuel Type],Table44[Combusted CO2 Factor]))","v":0},{"$f":"((Table146135136137138145152159166173180187194201208215222229236243[[#This Row],[CO2]]+Table146135136137138145152159166173180187194201208215222229236243[[#This Row],[CH4 Corrected]]+Table146135136137138145152159166173180187194201208215222229236243[[#This Row],[N2O Corrected]]+Table146135136137138145152159166173180187194201208215222229236243[[#This Row],[GWP]]+Table146135136137138145152159166173180187194201208215222229236243[[#This Row],[Recycled]]+Table146135136137138145152159166173180187194201208215222229236243[[#This Row],[Landfill]]+Table146135136137138145152159166173180187194201208215222229236243[[#This Row],[Combusted]])*Table146135136137138145152159166173180187194201208215222229236243[[#This Row],[Data \n(Corrected)]])/1000","v":5.4495550000000001}]
[]
[null,"Reporting \nyear","Entity","Location","Scope","Emission Source","Source Pseudonym","Emission Sub-source","Emission Pseudonym","Unit \nRequired","Data \n(Raw)","Unit Reported","Concatenate Units","Unit Conversion","Data \n(Corrected)","Unit\n(Corrected)","CO2","CH4","CH4 Corrected","N2O","N2O Corrected","GWP","Recycled","Landfill","Combusted","tCO2e Emission Equivalent"]
[null,2021,"Camira Fabrics Limited","Birkby","Scope_1","Stationary",{"$f":"LOOKUP(Table146135136137138139146153160167174181188195202209216223230237244[[#This Row],[Emission Source]],Table3578[Source],Table3578[Pseudonym])","v":"StationaryUS"},"Natural Gas",{"$f":"LOOKUP(Table146135136137138139146153160167174181188195202209216223230237244[[#This Row],[Emission Sub-source]],Table125[[Emission ]],Table125[Pseudonym])","v":"NaturalGasUS"},{"$f":"LOOKUP(Table146135136137138139146153160167174181188195202209216223230237244[[#This Row],[Emission Sub-source]],Table44[Fuel Type],Table44[Unit])","v":"scf"},100000,"scf",{"$f":"CONCATENATE(Table146135136137138139146153160167174181188195202209216223230237244[[#This Row],[Unit Reported]],Table146135136137138139146153160167174181188195202209216223230237244[[#This Row],[Unit \nRequired]])","v":"scfscf"},{"$f":"LOOKUP(Table146135136137138139146153160167174181188195202209216223230237244[[#This Row],[Concatenate Units]],Table43[Concatenate],Table43[Multiply By])","v":1},{"$f":"Table146135136137138139146153160167174181188195202209216223230237244[[#This Row],[Data \n(Raw)]]*Table146135136137138139146153160167174181188195202209216223230237244[[#This Row],[Unit Conversion]]","v":100000},{"$f":"Table146135136137138139146153160167174181188195202209216223230237244[[#This Row],[Unit \nRequired]]","v":"scf"},{"$f":"LOOKUP(Table146135136137138139146153160167174181188195202209216223230237244[[#This Row],[Emission Sub-source]],Table44[Fuel Type],Table44[CO2 Factor \n(kg / Unit)])","v":5.4440000000000002E-2},{"$f":"LOOKUP(Table146135136137138139146153160167174181188195202209216223230237244[[#This Row],[Emission Sub-source]],Table44[Fuel Type],Table44[CH4 Factor \n(g / unit)])","v":1.0300000000000001E-3},{"$f":"(Table146135136137138139146153160167174181188195202209216223230237244[[#This Row],[CH4]]/1000)*25","v":2.5750000000000002E-5},{"$f":"LOOKUP(Table146135136137138139146153160167174181188195202209216223230237244[[#This Row],[Emission Sub-source]],Table44[Fuel Type],Table44[N2O Factor \n(g / unit)])","v":1E-4},{"$f":"(Table146135136137138139146153160167174181188195202209216223230237244[[#This Row],[N2O]]/1000)*298","v":2.9800000000000003E-5},{"$f":"(LOOKUP(Table146135136137138139146153160167174181188195202209216223230237244[[#This Row],[Emission Sub-source]],Table44[Fuel Type],Table44[GWP]))","v":0},{"$f":"Table146135136137138139146153160167174181188195202209216223230237244[[#This Row],[Data \n(Corrected)]]*(LOOKUP(Table146135136137138139146153160167174181188195202209216223230237244[[#This Row],[Emission Sub-source]],Table44[Fuel Type],Table44[Recycled CO2 Factor]))","v":0},{"$f":"Table146135136137138139146153160167174181188195202209216223230237244[[#This Row],[Data \n(Corrected)]]*(LOOKUP(Table146135136137138139146153160167174181188195202209216223230237244[[#This Row],[Emission Sub-source]],Table44[Fuel Type],Table44[Landfill CO2 Factor]))","v":0},{"$f":"Table146135136137138139146153160167174181188195202209216223230237244[[#This Row],[Data \n(Corrected)]]*(LOOKUP(Table146135136137138139146153160167174181188195202209216223230237244[[#This Row],[Emission Sub-source]],Table44[Fuel Type],Table44[Combusted CO2 Factor]))","v":0},{"$f":"((Table146135136137138139146153160167174181188195202209216223230237244[[#This Row],[CO2]]+Table146135136137138139146153160167174181188195202209216223230237244[[#This Row],[CH4 Corrected]]+Table146135136137138139146153160167174181188195202209216223230237244[[#This Row],[N2O Corrected]]+Table146135136137138139146153160167174181188195202209216223230237244[[#This Row],[GWP]]+Table146135136137138139146153160167174181188195202209216223230237244[[#This Row],[Recycled]]+Table146135136137138139146153160167174181188195202209216223230237244[[#This Row],[Landfill]]+Table146135136137138139146153160167174181188195202209216223230237244[[#This Row],[Combusted]])*Table146135136137138139146153160167174181188195202209216223230237244[[#This Row],[Data \n(Corrected)]])/1000","v":5.4495550000000001}]
[]
[null,"Reporting \nyear","Entity","Location","Scope","Emission Source","Source Pseudonym","Emission Sub-source","Emission Pseudonym","Unit \nRequired","Data \n(Raw)","Unit Reported","Concatenate Units","Unit Conversion","Data \n(Corrected)","Unit\n(Corrected)","CO2","CH4","CH4 Corrected","N2O","N2O Corrected","GWP","Recycled","Landfill","Combusted","tCO2e Emission Equivalent"]
[null,2021,"Camira Fabrics Limited","Holmfirth","Scope_1","Stationary",{"$f":"LOOKUP(Table146135136137138140147154161168175182189196203210217224231238245[[#This Row],[Emission Source]],Table3578[Source],Table3578[Pseudonym])","v":"StationaryUS"},"Natural Gas",{"$f":"LOOKUP(Table146135136137138140147154161168175182189196203210217224231238245[[#This Row],[Emission Sub-source]],Table125[[Emission ]],Table125[Pseudonym])","v":"NaturalGasUS"},{"$f":"LOOKUP(Table146135136137138140147154161168175182189196203210217224231238245[[#This Row],[Emission Sub-source]],Table44[Fuel Type],Table44[Unit])","v":"scf"},100000,"scf",{"$f":"CONCATENATE(Table146135136137138140147154161168175182189196203210217224231238245[[#This Row],[Unit Reported]],Table146135136137138140147154161168175182189196203210217224231238245[[#This Row],[Unit \nRequired]])","v":"scfscf"},{"$f":"LOOKUP(Table146135136137138140147154161168175182189196203210217224231238245[[#This Row],[Concatenate Units]],Table43[Concatenate],Table43[Multiply By])","v":1},{"$f":"Table146135136137138140147154161168175182189196203210217224231238245[[#This Row],[Data \n(Raw)]]*Table146135136137138140147154161168175182189196203210217224231238245[[#This Row],[Unit Conversion]]","v":100000},{"$f":"Table146135136137138140147154161168175182189196203210217224231238245[[#This Row],[Unit \nRequired]]","v":"scf"},{"$f":"LOOKUP(Table146135136137138140147154161168175182189196203210217224231238245[[#This Row],[Emission Sub-source]],Table44[Fuel Type],Table44[CO2 Factor \n(kg / Unit)])","v":5.4440000000000002E-2},{"$f":"LOOKUP(Table146135136137138140147154161168175182189196203210217224231238245[[#This Row],[Emission Sub-source]],Table44[Fuel Type],Table44[CH4 Factor \n(g / unit)])","v":1.0300000000000001E-3},{"$f":"(Table146135136137138140147154161168175182189196203210217224231238245[[#This Row],[CH4]]/1000)*25","v":2.5750000000000002E-5},{"$f":"LOOKUP(Table146135136137138140147154161168175182189196203210217224231238245[[#This Row],[Emission Sub-source]],Table44[Fuel Type],Table44[N2O Factor \n(g / unit)])","v":1E-4},{"$f":"(Table146135136137138140147154161168175182189196203210217224231238245[[#This Row],[N2O]]/1000)*298","v":2.9800000000000003E-5},{"$f":"(LOOKUP(Table146135136137138140147154161168175182189196203210217224231238245[[#This Row],[Emission Sub-source]],Table44[Fuel Type],Table44[GWP]))","v":0},{"$f":"Table146135136137138140147154161168175182189196203210217224231238245[[#This Row],[Data \n(Corrected)]]*(LOOKUP(Table146135136137138140147154161168175182189196203210217224231238245[[#This Row],[Emission Sub-source]],Table44[Fuel Type],Table44[Recycled CO2 Factor]))","v":0},{"$f":"Table146135136137138140147154161168175182189196203210217224231238245[[#This Row],[Data \n(Corrected)]]*(LOOKUP(Table146135136137138140147154161168175182189196203210217224231238245[[#This Row],[Emission Sub-source]],Table44[Fuel Type],Table44[Landfill CO2 Factor]))","v":0},{"$f":"Table146135136137138140147154161168175182189196203210217224231238245[[#This Row],[Data \n(Corrected)]]*(LOOKUP(Table146135136137138140147154161168175182189196203210217224231238245[[#This Row],[Emission Sub-source]],Table44[Fuel Type],Table44[Combusted CO2 Factor]))","v":0},{"$f":"((Table146135136137138140147154161168175182189196203210217224231238245[[#This Row],[CO2]]+Table146135136137138140147154161168175182189196203210217224231238245[[#This Row],[CH4 Corrected]]+Table146135136137138140147154161168175182189196203210217224231238245[[#This Row],[N2O Corrected]]+Table146135136137138140147154161168175182189196203210217224231238245[[#This Row],[GWP]]+Table146135136137138140147154161168175182189196203210217224231238245[[#This Row],[Recycled]]+Table146135136137138140147154161168175182189196203210217224231238245[[#This Row],[Landfill]]+Table146135136137138140147154161168175182189196203210217224231238245[[#This Row],[Combusted]])*Table146135136137138140147154161168175182189196203210217224231238245[[#This Row],[Data \n(Corrected)]])/1000","v":5.4495550000000001}]
[]
[null,"EUR - ??"]
[null,"Reporting \nyear","Entity","Location","Scope","Emission Source","Source Pseudonym","Emission Sub-source","Emission Pseudonym","Unit \nRequired","Data \n(Raw)","Unit Reported","Concatenate Units","Unit Conversion","Data \n(Corrected)","Unit\n(Corrected)","CO2","CH4","CH4 Corrected","N2O","N2O Corrected","GWP","Recycled","Landfill","Combusted","tCO2e Emission Equivalent"]
[null,2021,"UAB Camira Fabrics","Lithuania","Scope_1","Stationary",{"$f":"LOOKUP(Table146135136137138140141148155162169176183190197204211218225232239246[[#This Row],[Emission Source]],Table3578[Source],Table3578[Pseudonym])","v":"StationaryUS"},"Natural Gas",{"$f":"LOOKUP(Table146135136137138140141148155162169176183190197204211218225232239246[[#This Row],[Emission Sub-source]],Table125[[Emission ]],Table125[Pseudonym])","v":"NaturalGasUS"},{"$f":"LOOKUP(Table146135136137138140141148155162169176183190197204211218225232239246[[#This Row],[Emission Sub-source]],Table44[Fuel Type],Table44[Unit])","v":"scf"},100000,"scf",{"$f":"CONCATENATE(Table146135136137138140141148155162169176183190197204211218225232239246[[#This Row],[Unit Reported]],Table146135136137138140141148155162169176183190197204211218225232239246[[#This Row],[Unit \nRequired]])","v":"scfscf"},{"$f":"LOOKUP(Table146135136137138140141148155162169176183190197204211218225232239246[[#This Row],[Concatenate Units]],Table43[Concatenate],Table43[Multiply By])","v":1},{"$f":"Table146135136137138140141148155162169176183190197204211218225232239246[[#This Row],[Data \n(Raw)]]*Table146135136137138140141148155162169176183190197204211218225232239246[[#This Row],[Unit Conversion]]","v":100000},{"$f":"Table146135136137138140141148155162169176183190197204211218225232239246[[#This Row],[Unit \nRequired]]","v":"scf"},{"$f":"LOOKUP(Table146135136137138140141148155162169176183190197204211218225232239246[[#This Row],[Emission Sub-source]],Table44[Fuel Type],Table44[CO2 Factor \n(kg / Unit)])","v":5.4440000000000002E-2},{"$f":"LOOKUP(Table146135136137138140141148155162169176183190197204211218225232239246[[#This Row],[Emission Sub-source]],Table44[Fuel Type],Table44[CH4 Factor \n(g / unit)])","v":1.0300000000000001E-3},{"$f":"(Table146135136137138140141148155162169176183190197204211218225232239246[[#This Row],[CH4]]/1000)*25","v":2.5750000000000002E-5},{"$f":"LOOKUP(Table146135136137138140141148155162169176183190197204211218225232239246[[#This Row],[Emission Sub-source]],Table44[Fuel Type],Table44[N2O Factor \n(g / unit)])","v":1E-4},{"$f":"(Table146135136137138140141148155162169176183190197204211218225232239246[[#This Row],[N2O]]/1000)*298","v":2.9800000000000003E-5},{"$f":"(LOOKUP(Table146135136137138140141148155162169176183190197204211218225232239246[[#This Row],[Emission Sub-source]],Table44[Fuel Type],Table44[GWP]))","v":0},{"$f":"Table146135136137138140141148155162169176183190197204211218225232239246[[#This Row],[Data \n(Corrected)]]*(LOOKUP(Table146135136137138140141148155162169176183190197204211218225232239246[[#This Row],[Emission Sub-source]],Table44[Fuel Type],Table44[Recycled CO2 Factor]))","v":0},{"$f":"Table146135136137138140141148155162169176183190197204211218225232239246[[#This Row],[Data \n(Corrected)]]*(LOOKUP(Table146135136137138140141148155162169176183190197204211218225232239246[[#This Row],[Emission Sub-source]],Table44[Fuel Type],Table44[Landfill CO2 Factor]))","v":0},{"$f":"Table146135136137138140141148155162169176183190197204211218225232239246[[#This Row],[Data \n(Corrected)]]*(LOOKUP(Table146135136137138140141148155162169176183190197204211218225232239246[[#This Row],[Emission Sub-source]],Table44[Fuel Type],Table44[Combusted CO2 Factor]))","v":0},{"$f":"((Table146135136137138140141148155162169176183190197204211218225232239246[[#This Row],[CO2]]+Table146135136137138140141148155162169176183190197204211218225232239246[[#This Row],[CH4 Corrected]]+Table146135136137138140141148155162169176183190197204211218225232239246[[#This Row],[N2O Corrected]]+Table146135136137138140141148155162169176183190197204211218225232239246[[#This Row],[GWP]]+Table146135136137138140141148155162169176183190197204211218225232239246[[#This Row],[Recycled]]+Table146135136137138140141148155162169176183190197204211218225232239246[[#This Row],[Landfill]]+Table146135136137138140141148155162169176183190197204211218225232239246[[#This Row],[Combusted]])*Table146135136137138140141148155162169176183190197204211218225232239246[[#This Row],[Data \n(Corrected)]])/1000","v":5.4495550000000001}]
[]
[null,"US - EPA"]
[null,"Reporting \nyear","Entity","Location","Scope","Emission Source","Source Pseudonym","Emission Sub-source","Emission Pseudonym","Unit \nRequired","Data \n(Raw)","Unit Reported","Concatenate Units","Unit Conversion","Data \n(Corrected)","Unit\n(Corrected)","CO2","CH4","CH4 Corrected","N2O","N2O Corrected","GWP","Recycled","Landfill","Combusted","tCO2e Emission Equivalent"]
[null,2021,"Camira Group, Inc","Grand Rapids","Scope_1","Stationary",{"$f":"LOOKUP(Table146135142149156163170177184191198205212219226233240[[#This Row],[Emission Source]],Table3578[Source],Table3578[Pseudonym])","v":"StationaryUS"},"Natural Gas",{"$f":"LOOKUP(Table146135142149156163170177184191198205212219226233240[[#This Row],[Emission Sub-source]],Table125[[Emission ]],Table125[Pseudonym])","v":"NaturalGasUS"},{"$f":"LOOKUP(Table146135142149156163170177184191198205212219226233240[[#This Row],[Emission Sub-source]],Table44[Fuel Type],Table44[Unit])","v":"scf"},100000,"scf",{"$f":"CONCATENATE(Table146135142149156163170177184191198205212219226233240[[#This Row],[Unit Reported]],Table146135142149156163170177184191198205212219226233240[[#This Row],[Unit \nRequired]])","v":"scfscf"},{"$f":"LOOKUP(Table146135142149156163170177184191198205212219226233240[[#This Row],[Concatenate Units]],Table43[Concatenate],Table43[Multiply By])","v":1},{"$f":"Table146135142149156163170177184191198205212219226233240[[#This Row],[Data \n(Raw)]]*Table146135142149156163170177184191198205212219226233240[[#This Row],[Unit Conversion]]","v":100000},{"$f":"Table146135142149156163170177184191198205212219226233240[[#This Row],[Unit \nRequired]]","v":"scf"},{"$f":"LOOKUP(Table146135142149156163170177184191198205212219226233240[[#This Row],[Emission Sub-source]],Table44[Fuel Type],Table44[CO2 Factor \n(kg / Unit)])","v":5.4440000000000002E-2},{"$f":"LOOKUP(Table146135142149156163170177184191198205212219226233240[[#This Row],[Emission Sub-source]],Table44[Fuel Type],Table44[CH4 Factor \n(g / unit)])","v":1.0300000000000001E-3},{"$f":"(Table146135142149156163170177184191198205212219226233240[[#This Row],[CH4]]/1000)*25","v":2.5750000000000002E-5},{"$f":"LOOKUP(Table146135142149156163170177184191198205212219226233240[[#This Row],[Emission Sub-source]],Table44[Fuel Type],Table44[N2O Factor \n(g / unit)])","v":1E-4},{"$f":"(Table146135142149156163170177184191198205212219226233240[[#This Row],[N2O]]/1000)*298","v":2.9800000000000003E-5},{"$f":"(LOOKUP(Table146135142149156163170177184191198205212219226233240[[#This Row],[Emission Sub-source]],Table44[Fuel Type],Table44[GWP]))","v":0},{"$f":"Table146135142149156163170177184191198205212219226233240[[#This Row],[Data \n(Corrected)]]*(LOOKUP(Table146135142149156163170177184191198205212219226233240[[#This Row],[Emission Sub-source]],Table44[Fuel Type],Table44[Recycled CO2 Factor]))","v":0},{"$f":"Table146135142149156163170177184191198205212219226233240[[#This Row],[Data \n(Corrected)]]*(LOOKUP(Table146135142149156163170177184191198205212219226233240[[#This Row],[Emission Sub-source]],Table44[Fuel Type],Table44[Landfill CO2 Factor]))","v":0},{"$f":"Table146135142149156163170177184191198205212219226233240[[#This Row],[Data \n(Corrected)]]*(LOOKUP(Table146135142149156163170177184191198205212219226233240[[#This Row],[Emission Sub-source]],Table44[Fuel Type],Table44[Combusted CO2 Factor]))","v":0},{"$f":"((Table146135142149156163170177184191198205212219226233240[[#This Row],[CO2]]+Table146135142149156163170177184191198205212219226233240[[#This Row],[CH4 Corrected]]+Table146135142149156163170177184191198205212219226233240[[#This Row],[N2O Corrected]]+Table146135142149156163170177184191198205212219226233240[[#This Row],[GWP]]+Table146135142149156163170177184191198205212219226233240[[#This Row],[Recycled]]+Table146135142149156163170177184191198205212219226233240[[#This Row],[Landfill]]+Table146135142149156163170177184191198205212219226233240[[#This Row],[Combusted]])*Table146135142149156163170177184191198205212219226233240[[#This Row],[Data \n(Corrected)]])/1000","v":5.4495550000000001}]

{"sheet":"3.10","index":20,"n_rows":26,"n_cols":26,"rows_kept":26,"cut":false,"hidden":true,"merged":[]}
[]
[null,"Greenhouse Gas Emission Analysis - Customer Scope 1 & 2 - Energy"]
[]
[null,"UK - DBEIS/DEFRA"]
[null,"Reporting \nyear","Entity","Location","Scope","Emission Source","Source Pseudonym","Emission Sub-source","Emission Pseudonym","Unit \nRequired","Data \n(Raw)","Unit Reported","Concatenate Units","Unit Conversion","Data \n(Corrected)","Unit\n(Corrected)","CO2","CH4","CH4 Corrected","N2O","N2O Corrected","GWP","Recycled","Landfill","Combusted","tCO2e Emission Equivalent"]
[null,2021,"Camira Fabrics Limited","Mirfield","Scope_1","Stationary",{"$f":"LOOKUP(Table146135136143150157164171178185192199206213220227234241248[[#This Row],[Emission Source]],Table3578[Source],Table3578[Pseudonym])","v":"StationaryUS"},"Natural Gas",{"$f":"LOOKUP(Table146135136143150157164171178185192199206213220227234241248[[#This Row],[Emission Sub-source]],Table125[[Emission ]],Table125[Pseudonym])","v":"NaturalGasUS"},{"$f":"LOOKUP(Table146135136143150157164171178185192199206213220227234241248[[#This Row],[Emission Sub-source]],Table44[Fuel Type],Table44[Unit])","v":"scf"},100000,"scf",{"$f":"CONCATENATE(Table146135136143150157164171178185192199206213220227234241248[[#This Row],[Unit Reported]],Table146135136143150157164171178185192199206213220227234241248[[#This Row],[Unit \nRequired]])","v":"scfscf"},{"$f":"LOOKUP(Table146135136143150157164171178185192199206213220227234241248[[#This Row],[Concatenate Units]],Table43[Concatenate],Table43[Multiply By])","v":1},{"$f":"Table146135136143150157164171178185192199206213220227234241248[[#This Row],[Data \n(Raw)]]*Table146135136143150157164171178185192199206213220227234241248[[#This Row],[Unit Conversion]]","v":100000},{"$f":"Table146135136143150157164171178185192199206213220227234241248[[#This Row],[Unit \nRequired]]","v":"scf"},{"$f":"LOOKUP(Table146135136143150157164171178185192199206213220227234241248[[#This Row],[Emission Sub-source]],Table44[Fuel Type],Table44[CO2 Factor \n(kg / Unit)])","v":5.4440000000000002E-2},{"$f":"LOOKUP(Table146135136143150157164171178185192199206213220227234241248[[#This Row],[Emission Sub-source]],Table44[Fuel Type],Table44[CH4 Factor \n(g / unit)])","v":1.0300000000000001E-3},{"$f":"(Table146135136143150157164171178185192199206213220227234241248[[#This Row],[CH4]]/1000)*25","v":2.5750000000000002E-5},{"$f":"LOOKUP(Table146135136143150157164171178185192199206213220227234241248[[#This Row],[Emission Sub-source]],Table44[Fuel Type],Table44[N2O Factor \n(g / unit)])","v":1E-4},{"$f":"(Table146135136143150157164171178185192199206213220227234241248[[#This Row],[N2O]]/1000)*298","v":2.9800000000000003E-5},{"$f":"(LOOKUP(Table146135136143150157164171178185192199206213220227234241248[[#This Row],[Emission Sub-source]],Table44[Fuel Type],Table44[GWP]))","v":0},{"$f":"Table146135136143150157164171178185192199206213220227234241248[[#This Row],[Data \n(Corrected)]]*(LOOKUP(Table146135136143150157164171178185192199206213220227234241248[[#This Row],[Emission Sub-source]],Table44[Fuel Type],Table44[Recycled CO2 Factor]))","v":0},{"$f":"Table146135136143150157164171178185192199206213220227234241248[[#This Row],[Data \n(Corrected)]]*(LOOKUP(Table146135136143150157164171178185192199206213220227234241248[[#This Row],[Emission Sub-source]],Table44[Fuel Type],Table44[Landfill CO2 Factor]))","v":0},{"$f":"Table146135136143150157164171178185192199206213220227234241248[[#This Row],[Data \n(Corrected)]]*(LOOKUP(Table146135136143150157164171178185192199206213220227234241248[[#This Row],[Emission Sub-source]],Table44[Fuel Type],Table44[Combusted CO2 Factor]))","v":0},{"$f":"((Table146135136143150157164171178185192199206213220227234241248[[#This Row],[CO2]]+Table146135136143150157164171178185192199206213220227234241248[[#This Row],[CH4 Corrected]]+Table146135136143150157164171178185192199206213220227234241248[[#This Row],[N2O Corrected]]+Table146135136143150157164171178185192199206213220227234241248[[#This Row],[GWP]]+Table146135136143150157164171178185192199206213220227234241248[[#This Row],[Recycled]]+Table146135136143150157164171178185192199206213220227234241248[[#This Row],[Landfill]]+Table146135136143150157164171178185192199206213220227234241248[[#This Row],[Combusted]])*Table146135136143150157164171178185192199206213220227234241248[[#This Row],[Data \n(Corrected)]])/1000","v":5.4495550000000001}]
[]
[null,"Reporting \nyear","Entity","Location","Scope","Emission Source","Source Pseudonym","Emission Sub-source","Emission Pseudonym","Unit \nRequired","Data \n(Raw)","Unit Reported","Concatenate Units","Unit Conversion","Data \n(Corrected)","Unit\n(Corrected)","CO2","CH4","CH4 Corrected","N2O","N2O Corrected","GWP","Recycled","Landfill","Combusted","tCO2e Emission Equivalent"]
[null,2021,"Camira Fabrics Limited","Meltham","Scope_1","Stationary",{"$f":"LOOKUP(Table146135136137144151158165172179186193200207214221228235242249[[#This Row],[Emission Source]],Table3578[Source],Table3578[Pseudonym])","v":"StationaryUS"},"Natural Gas",{"$f":"LOOKUP(Table146135136137144151158165172179186193200207214221228235242249[[#This Row],[Emission Sub-source]],Table125[[Emission ]],Table125[Pseudonym])","v":"NaturalGasUS"},{"$f":"LOOKUP(Table146135136137144151158165172179186193200207214221228235242249[[#This Row],[Emission Sub-source]],Table44[Fuel Type],Table44[Unit])","v":"scf"},100000,"scf",{"$f":"CONCATENATE(Table146135136137144151158165172179186193200207214221228235242249[[#This Row],[Unit Reported]],Table146135136137144151158165172179186193200207214221228235242249[[#This Row],[Unit \nRequired]])","v":"scfscf"},{"$f":"LOOKUP(Table146135136137144151158165172179186193200207214221228235242249[[#This Row],[Concatenate Units]],Table43[Concatenate],Table43[Multiply By])","v":1},{"$f":"Table146135136137144151158165172179186193200207214221228235242249[[#This Row],[Data \n(Raw)]]*Table146135136137144151158165172179186193200207214221228235242249[[#This Row],[Unit Conversion]]","v":100000},{"$f":"Table146135136137144151158165172179186193200207214221228235242249[[#This Row],[Unit \nRequired]]","v":"scf"},{"$f":"LOOKUP(Table146135136137144151158165172179186193200207214221228235242249[[#This Row],[Emission Sub-source]],Table44[Fuel Type],Table44[CO2 Factor \n(kg / Unit)])","v":5.4440000000000002E-2},{"$f":"LOOKUP(Table146135136137144151158165172179186193200207214221228235242249[[#This Row],[Emission Sub-source]],Table44[Fuel Type],Table44[CH4 Factor \n(g / unit)])","v":1.0300000000000001E-3},{"$f":"(Table146135136137144151158165172179186193200207214221228235242249[[#This Row],[CH4]]/1000)*25","v":2.5750000000000002E-5},{"$f":"LOOKUP(Table146135136137144151158165172179186193200207214221228235242249[[#This Row],[Emission Sub-source]],Table44[Fuel Type],Table44[N2O Factor \n(g / unit)])","v":1E-4},{"$f":"(Table146135136137144151158165172179186193200207214221228235242249[[#This Row],[N2O]]/1000)*298","v":2.9800000000000003E-5},{"$f":"(LOOKUP(Table146135136137144151158165172179186193200207214221228235242249[[#This Row],[Emission Sub-source]],Table44[Fuel Type],Table44[GWP]))","v":0},{"$f":"Table146135136137144151158165172179186193200207214221228235242249[[#This Row],[Data \n(Corrected)]]*(LOOKUP(Table146135136137144151158165172179186193200207214221228235242249[[#This Row],[Emission Sub-source]],Table44[Fuel Type],Table44[Recycled CO2 Factor]))","v":0},{"$f":"Table146135136137144151158165172179186193200207214221228235242249[[#This Row],[Data \n(Corrected)]]*(LOOKUP(Table146135136137144151158165172179186193200207214221228235242249[[#This Row],[Emission Sub-source]],Table44[Fuel Type],Table44[Landfill CO2 Factor]))","v":0},{"$f":"Table146135136137144151158165172179186193200207214221228235242249[[#This Row],[Data \n(Corrected)]]*(LOOKUP(Table146135136137144151158165172179186193200207214221228235242249[[#This Row],[Emission Sub-source]],Table44[Fuel Type],Table44[Combusted CO2 Factor]))","v":0},{"$f":"((Table146135136137144151158165172179186193200207214221228235242249[[#This Row],[CO2]]+Table146135136137144151158165172179186193200207214221228235242249[[#This Row],[CH4 Corrected]]+Table146135136137144151158165172179186193200207214221228235242249[[#This Row],[N2O Corrected]]+Table146135136137144151158165172179186193200207214221228235242249[[#This Row],[GWP]]+Table146135136137144151158165172179186193200207214221228235242249[[#This Row],[Recycled]]+Table146135136137144151158165172179186193200207214221228235242249[[#This Row],[Landfill]]+Table146135136137144151158165172179186193200207214221228235242249[[#This Row],[Combusted]])*Table146135136137144151158165172179186193200207214221228235242249[[#This Row],[Data \n(Corrected)]])/1000","v":5.4495550000000001}]
[]
[null,"Reporting \nyear","Entity","Location","Scope","Emission Source","Source Pseudonym","Emission Sub-source","Emission Pseudonym","Unit \nRequired","Data \n(Raw)","Unit Reported","Concatenate Units","Unit Conversion","Data \n(Corrected)","Unit\n(Corrected)","CO2","CH4","CH4 Corrected","N2O","N2O Corrected","GWP","Recycled","Landfill","Combusted","tCO2e Emission Equivalent"]
[null,2021,"Camira Fabrics Limited","Nottingham","Scope_1","Stationary",{"$f":"LOOKUP(Table146135136137138145152159166173180187194201208215222229236243250[[#This Row],[Emission Source]],Table3578[Source],Table3578[Pseudonym])","v":"StationaryUS"},"Natural Gas",{"$f":"LOOKUP(Table146135136137138145152159166173180187194201208215222229236243250[[#This Row],[Emission Sub-source]],Table125[[Emission ]],Table125[Pseudonym])","v":"NaturalGasUS"},{"$f":"LOOKUP(Table146135136137138145152159166173180187194201208215222229236243250[[#This Row],[Emission Sub-source]],Table44[Fuel Type],Table44[Unit])","v":"scf"},100000,"scf",{"$f":"CONCATENATE(Table146135136137138145152159166173180187194201208215222229236243250[[#This Row],[Unit Reported]],Table146135136137138145152159166173180187194201208215222229236243250[[#This Row],[Unit \nRequired]])","v":"scfscf"},{"$f":"LOOKUP(Table146135136137138145152159166173180187194201208215222229236243250[[#This Row],[Concatenate Units]],Table43[Concatenate],Table43[Multiply By])","v":1},{"$f":"Table146135136137138145152159166173180187194201208215222229236243250[[#This Row],[Data \n(Raw)]]*Table146135136137138145152159166173180187194201208215222229236243250[[#This Row],[Unit Conversion]]","v":100000},{"$f":"Table146135136137138145152159166173180187194201208215222229236243250[[#This Row],[Unit \nRequired]]","v":"scf"},{"$f":"LOOKUP(Table146135136137138145152159166173180187194201208215222229236243250[[#This Row],[Emission Sub-source]],Table44[Fuel Type],Table44[CO2 Factor \n(kg / Unit)])","v":5.4440000000000002E-2},{"$f":"LOOKUP(Table146135136137138145152159166173180187194201208215222229236243250[[#This Row],[Emission Sub-source]],Table44[Fuel Type],Table44[CH4 Factor \n(g / unit)])","v":1.0300000000000001E-3},{"$f":"(Table146135136137138145152159166173180187194201208215222229236243250[[#This Row],[CH4]]/1000)*25","v":2.5750000000000002E-5},{"$f":"LOOKUP(Table146135136137138145152159166173180187194201208215222229236243250[[#This Row],[Emission Sub-source]],Table44[Fuel Type],Table44[N2O Factor \n(g / unit)])","v":1E-4},{"$f":"(Table146135136137138145152159166173180187194201208215222229236243250[[#This Row],[N2O]]/1000)*298","v":2.9800000000000003E-5},{"$f":"(LOOKUP(Table146135136137138145152159166173180187194201208215222229236243250[[#This Row],[Emission Sub-source]],Table44[Fuel Type],Table44[GWP]))","v":0},{"$f":"Table146135136137138145152159166173180187194201208215222229236243250[[#This Row],[Data \n(Corrected)]]*(LOOKUP(Table146135136137138145152159166173180187194201208215222229236243250[[#This Row],[Emission Sub-source]],Table44[Fuel Type],Table44[Recycled CO2 Factor]))","v":0},{"$f":"Table146135136137138145152159166173180187194201208215222229236243250[[#This Row],[Data \n(Corrected)]]*(LOOKUP(Table146135136137138145152159166173180187194201208215222229236243250[[#This Row],[Emission Sub-source]],Table44[Fuel Type],Table44[Landfill CO2 Factor]))","v":0},{"$f":"Table146135136137138145152159166173180187194201208215222229236243250[[#This Row],[Data \n(Corrected)]]*(LOOKUP(Table146135136137138145152159166173180187194201208215222229236243250[[#This Row],[Emission Sub-source]],Table44[Fuel Type],Table44[Combusted CO2 Factor]))","v":0},{"$f":"((Table146135136137138145152159166173180187194201208215222229236243250[[#This Row],[CO2]]+Table146135136137138145152159166173180187194201208215222229236243250[[#This Row],[CH4 Corrected]]+Table146135136137138145152159166173180187194201208215222229236243250[[#This Row],[N2O Corrected]]+Table146135136137138145152159166173180187194201208215222229236243250[[#This Row],[GWP]]+Table146135136137138145152159166173180187194201208215222229236243250[[#This Row],[Recycled]]+Table146135136137138145152159166173180187194201208215222229236243250[[#This Row],[Landfill]]+Table146135136137138145152159166173180187194201208215222229236243250[[#This Row],[Combusted]])*Table146135136137138145152159166173180187194201208215222229236243250[[#This Row],[Data \n(Corrected)]])/1000","v":5.4495550000000001}]
[]
[null,"Reporting \nyear","Entity","Location","Scope","Emission Source","Source Pseudonym","Emission Sub-source","Emission Pseudonym","Unit \nRequired","Data \n(Raw)","Unit Reported","Concatenate Units","Unit Conversion","Data \n(Corrected)","Unit\n(Corrected)","CO2","CH4","CH4 Corrected","N2O","N2O Corrected","GWP","Recycled","Landfill","Combusted","tCO2e Emission Equivalent"]
[null,2021,"Camira Fabrics Limited","Birkby","Scope_1","Stationary",{"$f":"LOOKUP(Table146135136137138139146153160167174181188195202209216223230237244251[[#This Row],[Emission Source]],Table3578[Source],Table3578[Pseudonym])","v":"StationaryUS"},"Natural Gas",{"$f":"LOOKUP(Table146135136137138139146153160167174181188195202209216223230237244251[[#This Row],[Emission Sub-source]],Table125[[Emission ]],Table125[Pseudonym])","v":"NaturalGasUS"},{"$f":"LOOKUP(Table146135136137138139146153160167174181188195202209216223230237244251[[#This Row],[Emission Sub-source]],Table44[Fuel Type],Table44[Unit])","v":"scf"},100000,"scf",{"$f":"CONCATENATE(Table146135136137138139146153160167174181188195202209216223230237244251[[#This Row],[Unit Reported]],Table146135136137138139146153160167174181188195202209216223230237244251[[#This Row],[Unit \nRequired]])","v":"scfscf"},{"$f":"LOOKUP(Table146135136137138139146153160167174181188195202209216223230237244251[[#This Row],[Concatenate Units]],Table43[Concatenate],Table43[Multiply By])","v":1},{"$f":"Table146135136137138139146153160167174181188195202209216223230237244251[[#This Row],[Data \n(Raw)]]*Table146135136137138139146153160167174181188195202209216223230237244251[[#This Row],[Unit Conversion]]","v":100000},{"$f":"Table146135136137138139146153160167174181188195202209216223230237244251[[#This Row],[Unit \nRequired]]","v":"scf"},{"$f":"LOOKUP(Table146135136137138139146153160167174181188195202209216223230237244251[[#This Row],[Emission Sub-source]],Table44[Fuel Type],Table44[CO2 Factor \n(kg / Unit)])","v":5.4440000000000002E-2},{"$f":"LOOKUP(Table146135136137138139146153160167174181188195202209216223230237244251[[#This Row],[Emission Sub-source]],Table44[Fuel Type],Table44[CH4 Factor \n(g / unit)])","v":1.0300000000000001E-3},{"$f":"(Table146135136137138139146153160167174181188195202209216223230237244251[[#This Row],[CH4]]/1000)*25","v":2.5750000000000002E-5},{"$f":"LOOKUP(Table146135136137138139146153160167174181188195202209216223230237244251[[#This Row],[Emission Sub-source]],Table44[Fuel Type],Table44[N2O Factor \n(g / unit)])","v":1E-4},{"$f":"(Table146135136137138139146153160167174181188195202209216223230237244251[[#This Row],[N2O]]/1000)*298","v":2.9800000000000003E-5},{"$f":"(LOOKUP(Table146135136137138139146153160167174181188195202209216223230237244251[[#This Row],[Emission Sub-source]],Table44[Fuel Type],Table44[GWP]))","v":0},{"$f":"Table146135136137138139146153160167174181188195202209216223230237244251[[#This Row],[Data \n(Corrected)]]*(LOOKUP(Table146135136137138139146153160167174181188195202209216223230237244251[[#This Row],[Emission Sub-source]],Table44[Fuel Type],Table44[Recycled CO2 Factor]))","v":0},{"$f":"Table146135136137138139146153160167174181188195202209216223230237244251[[#This Row],[Data \n(Corrected)]]*(LOOKUP(Table146135136137138139146153160167174181188195202209216223230237244251[[#This Row],[Emission Sub-source]],Table44[Fuel Type],Table44[Landfill CO2 Factor]))","v":0},{"$f":"Table146135136137138139146153160167174181188195202209216223230237244251[[#This Row],[Data \n(Corrected)]]*(LOOKUP(Table146135136137138139146153160167174181188195202209216223230237244251[[#This Row],[Emission Sub-source]],Table44[Fuel Type],Table44[Combusted CO2 Factor]))","v":0},{"$f":"((Table146135136137138139146153160167174181188195202209216223230237244251[[#This Row],[CO2]]+Table146135136137138139146153160167174181188195202209216223230237244251[[#This Row],[CH4 Corrected]]+Table146135136137138139146153160167174181188195202209216223230237244251[[#This Row],[N2O Corrected]]+Table146135136137138139146153160167174181188195202209216223230237244251[[#This Row],[GWP]]+Table146135136137138139146153160167174181188195202209216223230237244251[[#This Row],[Recycled]]+Table146135136137138139146153160167174181188195202209216223230237244251[[#This Row],[Landfill]]+Table146135136137138139146153160167174181188195202209216223230237244251[[#This Row],[Combusted]])*Table146135136137138139146153160167174181188195202209216223230237244251[[#This Row],[Data \n(Corrected)]])/1000","v":5.4495550000000001}]
[]
[null,"Reporting \nyear","Entity","Location","Scope","Emission Source","Source Pseudonym","Emission Sub-source","Emission Pseudonym","Unit \nRequired","Data \n(Raw)","Unit Reported","Concatenate Units","Unit Conversion","Data \n(Corrected)","Unit\n(Corrected)","CO2","CH4","CH4 Corrected","N2O","N2O Corrected","GWP","Recycled","Landfill","Combusted","tCO2e Emission Equivalent"]
[null,2021,"Camira Fabrics Limited","Holmfirth","Scope_1","Stationary",{"$f":"LOOKUP(Table146135136137138140147154161168175182189196203210217224231238245252[[#This Row],[Emission Source]],Table3578[Source],Table3578[Pseudonym])","v":"StationaryUS"},"Natural Gas",{"$f":"LOOKUP(Table146135136137138140147154161168175182189196203210217224231238245252[[#This Row],[Emission Sub-source]],Table125[[Emission ]],Table125[Pseudonym])","v":"NaturalGasUS"},{"$f":"LOOKUP(Table146135136137138140147154161168175182189196203210217224231238245252[[#This Row],[Emission Sub-source]],Table44[Fuel Type],Table44[Unit])","v":"scf"},100000,"scf",{"$f":"CONCATENATE(Table146135136137138140147154161168175182189196203210217224231238245252[[#This Row],[Unit Reported]],Table146135136137138140147154161168175182189196203210217224231238245252[[#This Row],[Unit \nRequired]])","v":"scfscf"},{"$f":"LOOKUP(Table146135136137138140147154161168175182189196203210217224231238245252[[#This Row],[Concatenate Units]],Table43[Concatenate],Table43[Multiply By])","v":1},{"$f":"Table146135136137138140147154161168175182189196203210217224231238245252[[#This Row],[Data \n(Raw)]]*Table146135136137138140147154161168175182189196203210217224231238245252[[#This Row],[Unit Conversion]]","v":100000},{"$f":"Table146135136137138140147154161168175182189196203210217224231238245252[[#This Row],[Unit \nRequired]]","v":"scf"},{"$f":"LOOKUP(Table146135136137138140147154161168175182189196203210217224231238245252[[#This Row],[Emission Sub-source]],Table44[Fuel Type],Table44[CO2 Factor \n(kg / Unit)])","v":5.4440000000000002E-2},{"$f":"LOOKUP(Table146135136137138140147154161168175182189196203210217224231238245252[[#This Row],[Emission Sub-source]],Table44[Fuel Type],Table44[CH4 Factor \n(g / unit)])","v":1.0300000000000001E-3},{"$f":"(Table146135136137138140147154161168175182189196203210217224231238245252[[#This Row],[CH4]]/1000)*25","v":2.5750000000000002E-5},{"$f":"LOOKUP(Table146135136137138140147154161168175182189196203210217224231238245252[[#This Row],[Emission Sub-source]],Table44[Fuel Type],Table44[N2O Factor \n(g / unit)])","v":1E-4},{"$f":"(Table146135136137138140147154161168175182189196203210217224231238245252[[#This Row],[N2O]]/1000)*298","v":2.9800000000000003E-5},{"$f":"(LOOKUP(Table146135136137138140147154161168175182189196203210217224231238245252[[#This Row],[Emission Sub-source]],Table44[Fuel Type],Table44[GWP]))","v":0},{"$f":"Table146135136137138140147154161168175182189196203210217224231238245252[[#This Row],[Data \n(Corrected)]]*(LOOKUP(Table146135136137138140147154161168175182189196203210217224231238245252[[#This Row],[Emission Sub-source]],Table44[Fuel Type],Table44[Recycled CO2 Factor]))","v":0},{"$f":"Table146135136137138140147154161168175182189196203210217224231238245252[[#This Row],[Data \n(Corrected)]]*(LOOKUP(Table146135136137138140147154161168175182189196203210217224231238245252[[#This Row],[Emission Sub-source]],Table44[Fuel Type],Table44[Landfill CO2 Factor]))","v":0},{"$f":"Table146135136137138140147154161168175182189196203210217224231238245252[[#This Row],[Data \n(Corrected)]]*(LOOKUP(Table146135136137138140147154161168175182189196203210217224231238245252[[#This Row],[Emission Sub-source]],Table44[Fuel Type],Table44[Combusted CO2 Factor]))","v":0},{"$f":"((Table146135136137138140147154161168175182189196203210217224231238245252[[#This Row],[CO2]]+Table146135136137138140147154161168175182189196203210217224231238245252[[#This Row],[CH4 Corrected]]+Table146135136137138140147154161168175182189196203210217224231238245252[[#This Row],[N2O Corrected]]+Table146135136137138140147154161168175182189196203210217224231238245252[[#This Row],[GWP]]+Table146135136137138140147154161168175182189196203210217224231238245252[[#This Row],[Recycled]]+Table146135136137138140147154161168175182189196203210217224231238245252[[#This Row],[Landfill]]+Table146135136137138140147154161168175182189196203210217224231238245252[[#This Row],[Combusted]])*Table146135136137138140147154161168175182189196203210217224231238245252[[#This Row],[Data \n(Corrected)]])/1000","v":5.4495550000000001}]
[]
[null,"EUR - ??"]
[null,"Reporting \nyear","Entity","Location","Scope","Emission Source","Source Pseudonym","Emission Sub-source","Emission Pseudonym","Unit \nRequired","Data \n(Raw)","Unit Reported","Concatenate Units","Unit Conversion","Data \n(Corrected)","Unit\n(Corrected)","CO2","CH4","CH4 Corrected","N2O","N2O Corrected","GWP","Recycled","Landfill","Combusted","tCO2e Emission Equivalent"]
[null,2021,"UAB Camira Fabrics","Lithuania","Scope_1","Stationary",{"$f":"LOOKUP(Table146135136137138140141148155162169176183190197204211218225232239246253[[#This Row],[Emission Source]],Table3578[Source],Table3578[Pseudonym])","v":"StationaryUS"},"Natural Gas",{"$f":"LOOKUP(Table146135136137138140141148155162169176183190197204211218225232239246253[[#This Row],[Emission Sub-source]],Table125[[Emission ]],Table125[Pseudonym])","v":"NaturalGasUS"},{"$f":"LOOKUP(Table146135136137138140141148155162169176183190197204211218225232239246253[[#This Row],[Emission Sub-source]],Table44[Fuel Type],Table44[Unit])","v":"scf"},100000,"scf",{"$f":"CONCATENATE(Table146135136137138140141148155162169176183190197204211218225232239246253[[#This Row],[Unit Reported]],Table146135136137138140141148155162169176183190197204211218225232239246253[[#This Row],[Unit \nRequired]])","v":"scfscf"},{"$f":"LOOKUP(Table146135136137138140141148155162169176183190197204211218225232239246253[[#This Row],[Concatenate Units]],Table43[Concatenate],Table43[Multiply By])","v":1},{"$f":"Table146135136137138140141148155162169176183190197204211218225232239246253[[#This Row],[Data \n(Raw)]]*Table146135136137138140141148155162169176183190197204211218225232239246253[[#This Row],[Unit Conversion]]","v":100000},{"$f":"Table146135136137138140141148155162169176183190197204211218225232239246253[[#This Row],[Unit \nRequired]]","v":"scf"},{"$f":"LOOKUP(Table146135136137138140141148155162169176183190197204211218225232239246253[[#This Row],[Emission Sub-source]],Table44[Fuel Type],Table44[CO2 Factor \n(kg / Unit)])","v":5.4440000000000002E-2},{"$f":"LOOKUP(Table146135136137138140141148155162169176183190197204211218225232239246253[[#This Row],[Emission Sub-source]],Table44[Fuel Type],Table44[CH4 Factor \n(g / unit)])","v":1.0300000000000001E-3},{"$f":"(Table146135136137138140141148155162169176183190197204211218225232239246253[[#This Row],[CH4]]/1000)*25","v":2.5750000000000002E-5},{"$f":"LOOKUP(Table146135136137138140141148155162169176183190197204211218225232239246253[[#This Row],[Emission Sub-source]],Table44[Fuel Type],Table44[N2O Factor \n(g / unit)])","v":1E-4},{"$f":"(Table146135136137138140141148155162169176183190197204211218225232239246253[[#This Row],[N2O]]/1000)*298","v":2.9800000000000003E-5},{"$f":"(LOOKUP(Table146135136137138140141148155162169176183190197204211218225232239246253[[#This Row],[Emission Sub-source]],Table44[Fuel Type],Table44[GWP]))","v":0},{"$f":"Table146135136137138140141148155162169176183190197204211218225232239246253[[#This Row],[Data \n(Corrected)]]*(LOOKUP(Table146135136137138140141148155162169176183190197204211218225232239246253[[#This Row],[Emission Sub-source]],Table44[Fuel Type],Table44[Recycled CO2 Factor]))","v":0},{"$f":"Table146135136137138140141148155162169176183190197204211218225232239246253[[#This Row],[Data \n(Corrected)]]*(LOOKUP(Table146135136137138140141148155162169176183190197204211218225232239246253[[#This Row],[Emission Sub-source]],Table44[Fuel Type],Table44[Landfill CO2 Factor]))","v":0},{"$f":"Table146135136137138140141148155162169176183190197204211218225232239246253[[#This Row],[Data \n(Corrected)]]*(LOOKUP(Table146135136137138140141148155162169176183190197204211218225232239246253[[#This Row],[Emission Sub-source]],Table44[Fuel Type],Table44[Combusted CO2 Factor]))","v":0},{"$f":"((Table146135136137138140141148155162169176183190197204211218225232239246253[[#This Row],[CO2]]+Table146135136137138140141148155162169176183190197204211218225232239246253[[#This Row],[CH4 Corrected]]+Table146135136137138140141148155162169176183190197204211218225232239246253[[#This Row],[N2O Corrected]]+Table146135136137138140141148155162169176183190197204211218225232239246253[[#This Row],[GWP]]+Table146135136137138140141148155162169176183190197204211218225232239246253[[#This Row],[Recycled]]+Table146135136137138140141148155162169176183190197204211218225232239246253[[#This Row],[Landfill]]+Table146135136137138140141148155162169176183190197204211218225232239246253[[#This Row],[Combusted]])*Table146135136137138140141148155162169176183190197204211218225232239246253[[#This Row],[Data \n(Corrected)]])/1000","v":5.4495550000000001}]
[]
[null,"US - EPA"]
[null,"Reporting \nyear","Entity","Location","Scope","Emission Source","Source Pseudonym","Emission Sub-source","Emission Pseudonym","Unit \nRequired","Data \n(Raw)","Unit Reported","Concatenate Units","Unit Conversion","Data \n(Corrected)","Unit\n(Corrected)","CO2","CH4","CH4 Corrected","N2O","N2O Corrected","GWP","Recycled","Landfill","Combusted","tCO2e Emission Equivalent"]
[null,2021,"Camira Group, Inc","Grand Rapids","Scope_1","Stationary",{"$f":"LOOKUP(Table146135142149156163170177184191198205212219226233240247[[#This Row],[Emission Source]],Table3578[Source],Table3578[Pseudonym])","v":"StationaryUS"},"Natural Gas",{"$f":"LOOKUP(Table146135142149156163170177184191198205212219226233240247[[#This Row],[Emission Sub-source]],Table125[[Emission ]],Table125[Pseudonym])","v":"NaturalGasUS"},{"$f":"LOOKUP(Table146135142149156163170177184191198205212219226233240247[[#This Row],[Emission Sub-source]],Table44[Fuel Type],Table44[Unit])","v":"scf"},100000,"scf",{"$f":"CONCATENATE(Table146135142149156163170177184191198205212219226233240247[[#This Row],[Unit Reported]],Table146135142149156163170177184191198205212219226233240247[[#This Row],[Unit \nRequired]])","v":"scfscf"},{"$f":"LOOKUP(Table146135142149156163170177184191198205212219226233240247[[#This Row],[Concatenate Units]],Table43[Concatenate],Table43[Multiply By])","v":1},{"$f":"Table146135142149156163170177184191198205212219226233240247[[#This Row],[Data \n(Raw)]]*Table146135142149156163170177184191198205212219226233240247[[#This Row],[Unit Conversion]]","v":100000},{"$f":"Table146135142149156163170177184191198205212219226233240247[[#This Row],[Unit \nRequired]]","v":"scf"},{"$f":"LOOKUP(Table146135142149156163170177184191198205212219226233240247[[#This Row],[Emission Sub-source]],Table44[Fuel Type],Table44[CO2 Factor \n(kg / Unit)])","v":5.4440000000000002E-2},{"$f":"LOOKUP(Table146135142149156163170177184191198205212219226233240247[[#This Row],[Emission Sub-source]],Table44[Fuel Type],Table44[CH4 Factor \n(g / unit)])","v":1.0300000000000001E-3},{"$f":"(Table146135142149156163170177184191198205212219226233240247[[#This Row],[CH4]]/1000)*25","v":2.5750000000000002E-5},{"$f":"LOOKUP(Table146135142149156163170177184191198205212219226233240247[[#This Row],[Emission Sub-source]],Table44[Fuel Type],Table44[N2O Factor \n(g / unit)])","v":1E-4},{"$f":"(Table146135142149156163170177184191198205212219226233240247[[#This Row],[N2O]]/1000)*298","v":2.9800000000000003E-5},{"$f":"(LOOKUP(Table146135142149156163170177184191198205212219226233240247[[#This Row],[Emission Sub-source]],Table44[Fuel Type],Table44[GWP]))","v":0},{"$f":"Table146135142149156163170177184191198205212219226233240247[[#This Row],[Data \n(Corrected)]]*(LOOKUP(Table146135142149156163170177184191198205212219226233240247[[#This Row],[Emission Sub-source]],Table44[Fuel Type],Table44[Recycled CO2 Factor]))","v":0},{"$f":"Table146135142149156163170177184191198205212219226233240247[[#This Row],[Data \n(Corrected)]]*(LOOKUP(Table146135142149156163170177184191198205212219226233240247[[#This Row],[Emission Sub-source]],Table44[Fuel Type],Table44[Landfill CO2 Factor]))","v":0},{"$f":"Table146135142149156163170177184191198205212219226233240247[[#This Row],[Data \n(Corrected)]]*(LOOKUP(Table146135142149156163170177184191198205212219226233240247[[#This Row],[Emission Sub-source]],Table44[Fuel Type],Table44[Combusted CO2 Factor]))","v":0},{"$f":"((Table146135142149156163170177184191198205212219226233240247[[#This Row],[CO2]]+Table146135142149156163170177184191198205212219226233240247[[#This Row],[CH4 Corrected]]+Table146135142149156163170177184191198205212219226233240247[[#This Row],[N2O Corrected]]+Table146135142149156163170177184191198205212219226233240247[[#This Row],[GWP]]+Table146135142149156163170177184191198205212219226233240247[[#This Row],[Recycled]]+Table146135142149156163170177184191198205212219226233240247[[#This Row],[Landfill]]+Table146135142149156163170177184191198205212219226233240247[[#This Row],[Combusted]])*Table146135142149156163170177184191198205212219226233240247[[#This Row],[Data \n(Corrected)]])/1000","v":5.4495550000000001}]

{"sheet":"3.11","index":21,"n_rows":26,"n_cols":26,"rows_kept":26,"cut":false,"hidden":true,"merged":[]}
[]
[null,"Greenhouse Gas Emission Analysis - Customer Scope 1 & 2 - Product Use"]
[]
[null,"UK - DBEIS/DEFRA"]
[null,"Reporting \nyear","Entity","Location","Scope","Emission Source","Source Pseudonym","Emission Sub-source","Emission Pseudonym","Unit \nRequired","Data \n(Raw)","Unit Reported","Concatenate Units","Unit Conversion","Data \n(Corrected)","Unit\n(Corrected)","CO2","CH4","CH4 Corrected","N2O","N2O Corrected","GWP","Recycled","Landfill","Combusted","tCO2e Emission Equivalent"]
[null,2021,"Camira Fabrics Limited","Mirfield","Scope_1","Stationary",{"$f":"LOOKUP(Table146135136143150157164171178185192199206213220227234241248255[[#This Row],[Emission Source]],Table3578[Source],Table3578[Pseudonym])","v":"StationaryUS"},"Natural Gas",{"$f":"LOOKUP(Table146135136143150157164171178185192199206213220227234241248255[[#This Row],[Emission Sub-source]],Table125[[Emission ]],Table125[Pseudonym])","v":"NaturalGasUS"},{"$f":"LOOKUP(Table146135136143150157164171178185192199206213220227234241248255[[#This Row],[Emission Sub-source]],Table44[Fuel Type],Table44[Unit])","v":"scf"},100000,"scf",{"$f":"CONCATENATE(Table146135136143150157164171178185192199206213220227234241248255[[#This Row],[Unit Reported]],Table146135136143150157164171178185192199206213220227234241248255[[#This Row],[Unit \nRequired]])","v":"scfscf"},{"$f":"LOOKUP(Table146135136143150157164171178185192199206213220227234241248255[[#This Row],[Concatenate Units]],Table43[Concatenate],Table43[Multiply By])","v":1},{"$f":"Table146135136143150157164171178185192199206213220227234241248255[[#This Row],[Data \n(Raw)]]*Table146135136143150157164171178185192199206213220227234241248255[[#This Row],[Unit Conversion]]","v":100000},{"$f":"Table146135136143150157164171178185192199206213220227234241248255[[#This Row],[Unit \nRequired]]","v":"scf"},{"$f":"LOOKUP(Table146135136143150157164171178185192199206213220227234241248255[[#This Row],[Emission Sub-source]],Table44[Fuel Type],Table44[CO2 Factor \n(kg / Unit)])","v":5.4440000000000002E-2},{"$f":"LOOKUP(Table146135136143150157164171178185192199206213220227234241248255[[#This Row],[Emission Sub-source]],Table44[Fuel Type],Table44[CH4 Factor \n(g / unit)])","v":1.0300000000000001E-3},{"$f":"(Table146135136143150157164171178185192199206213220227234241248255[[#This Row],[CH4]]/1000)*25","v":2.5750000000000002E-5},{"$f":"LOOKUP(Table146135136143150157164171178185192199206213220227234241248255[[#This Row],[Emission Sub-source]],Table44[Fuel Type],Table44[N2O Factor \n(g / unit)])","v":1E-4},{"$f":"(Table146135136143150157164171178185192199206213220227234241248255[[#This Row],[N2O]]/1000)*298","v":2.9800000000000003E-5},{"$f":"(LOOKUP(Table146135136143150157164171178185192199206213220227234241248255[[#This Row],[Emission Sub-source]],Table44[Fuel Type],Table44[GWP]))","v":0},{"$f":"Table146135136143150157164171178185192199206213220227234241248255[[#This Row],[Data \n(Corrected)]]*(LOOKUP(Table146135136143150157164171178185192199206213220227234241248255[[#This Row],[Emission Sub-source]],Table44[Fuel Type],Table44[Recycled CO2 Factor]))","v":0},{"$f":"Table146135136143150157164171178185192199206213220227234241248255[[#This Row],[Data \n(Corrected)]]*(LOOKUP(Table146135136143150157164171178185192199206213220227234241248255[[#This Row],[Emission Sub-source]],Table44[Fuel Type],Table44[Landfill CO2 Factor]))","v":0},{"$f":"Table146135136143150157164171178185192199206213220227234241248255[[#This Row],[Data \n(Corrected)]]*(LOOKUP(Table146135136143150157164171178185192199206213220227234241248255[[#This Row],[Emission Sub-source]],Table44[Fuel Type],Table44[Combusted CO2 Factor]))","v":0},{"$f":"((Table146135136143150157164171178185192199206213220227234241248255[[#This Row],[CO2]]+Table146135136143150157164171178185192199206213220227234241248255[[#This Row],[CH4 Corrected]]+Table146135136143150157164171178185192199206213220227234241248255[[#This Row],[N2O Corrected]]+Table146135136143150157164171178185192199206213220227234241248255[[#This Row],[GWP]]+Table146135136143150157164171178185192199206213220227234241248255[[#This Row],[Recycled]]+Table146135136143150157164171178185192199206213220227234241248255[[#This Row],[Landfill]]+Table146135136143150157164171178185192199206213220227234241248255[[#This Row],[Combusted]])*Table146135136143150157164171178185192199206213220227234241248255[[#This Row],[Data \n(Corrected)]])/1000","v":5.4495550000000001}]
[]
[null,"Reporting \nyear","Entity","Location","Scope","Emission Source","Source Pseudonym","Emission Sub-source","Emission Pseudonym","Unit \nRequired","Data \n(Raw)","Unit Reported","Concatenate Units","Unit Conversion","Data \n(Corrected)","Unit\n(Corrected)","CO2","CH4","CH4 Corrected","N2O","N2O Corrected","GWP","Recycled","Landfill","Combusted","tCO2e Emission Equivalent"]
[null,2021,"Camira Fabrics Limited","Meltham","Scope_1","Stationary",{"$f":"LOOKUP(Table146135136137144151158165172179186193200207214221228235242249256[[#This Row],[Emission Source]],Table3578[Source],Table3578[Pseudonym])","v":"StationaryUS"},"Natural Gas",{"$f":"LOOKUP(Table146135136137144151158165172179186193200207214221228235242249256[[#This Row],[Emission Sub-source]],Table125[[Emission ]],Table125[Pseudonym])","v":"NaturalGasUS"},{"$f":"LOOKUP(Table146135136137144151158165172179186193200207214221228235242249256[[#This Row],[Emission Sub-source]],Table44[Fuel Type],Table44[Unit])","v":"scf"},100000,"scf",{"$f":"CONCATENATE(Table146135136137144151158165172179186193200207214221228235242249256[[#This Row],[Unit Reported]],Table146135136137144151158165172179186193200207214221228235242249256[[#This Row],[Unit \nRequired]])","v":"scfscf"},{"$f":"LOOKUP(Table146135136137144151158165172179186193200207214221228235242249256[[#This Row],[Concatenate Units]],Table43[Concatenate],Table43[Multiply By])","v":1},{"$f":"Table146135136137144151158165172179186193200207214221228235242249256[[#This Row],[Data \n(Raw)]]*Table146135136137144151158165172179186193200207214221228235242249256[[#This Row],[Unit Conversion]]","v":100000},{"$f":"Table146135136137144151158165172179186193200207214221228235242249256[[#This Row],[Unit \nRequired]]","v":"scf"},{"$f":"LOOKUP(Table146135136137144151158165172179186193200207214221228235242249256[[#This Row],[Emission Sub-source]],Table44[Fuel Type],Table44[CO2 Factor \n(kg / Unit)])","v":5.4440000000000002E-2},{"$f":"LOOKUP(Table146135136137144151158165172179186193200207214221228235242249256[[#This Row],[Emission Sub-source]],Table44[Fuel Type],Table44[CH4 Factor \n(g / unit)])","v":1.0300000000000001E-3},{"$f":"(Table146135136137144151158165172179186193200207214221228235242249256[[#This Row],[CH4]]/1000)*25","v":2.5750000000000002E-5},{"$f":"LOOKUP(Table146135136137144151158165172179186193200207214221228235242249256[[#This Row],[Emission Sub-source]],Table44[Fuel Type],Table44[N2O Factor \n(g / unit)])","v":1E-4},{"$f":"(Table146135136137144151158165172179186193200207214221228235242249256[[#This Row],[N2O]]/1000)*298","v":2.9800000000000003E-5},{"$f":"(LOOKUP(Table146135136137144151158165172179186193200207214221228235242249256[[#This Row],[Emission Sub-source]],Table44[Fuel Type],Table44[GWP]))","v":0},{"$f":"Table146135136137144151158165172179186193200207214221228235242249256[[#This Row],[Data \n(Corrected)]]*(LOOKUP(Table146135136137144151158165172179186193200207214221228235242249256[[#This Row],[Emission Sub-source]],Table44[Fuel Type],Table44[Recycled CO2 Factor]))","v":0},{"$f":"Table146135136137144151158165172179186193200207214221228235242249256[[#This Row],[Data \n(Corrected)]]*(LOOKUP(Table146135136137144151158165172179186193200207214221228235242249256[[#This Row],[Emission Sub-source]],Table44[Fuel Type],Table44[Landfill CO2 Factor]))","v":0},{"$f":"Table146135136137144151158165172179186193200207214221228235242249256[[#This Row],[Data \n(Corrected)]]*(LOOKUP(Table146135136137144151158165172179186193200207214221228235242249256[[#This Row],[Emission Sub-source]],Table44[Fuel Type],Table44[Combusted CO2 Factor]))","v":0},{"$f":"((Table146135136137144151158165172179186193200207214221228235242249256[[#This Row],[CO2]]+Table146135136137144151158165172179186193200207214221228235242249256[[#This Row],[CH4 Corrected]]+Table146135136137144151158165172179186193200207214221228235242249256[[#This Row],[N2O Corrected]]+Table146135136137144151158165172179186193200207214221228235242249256[[#This Row],[GWP]]+Table146135136137144151158165172179186193200207214221228235242249256[[#This Row],[Recycled]]+Table146135136137144151158165172179186193200207214221228235242249256[[#This Row],[Landfill]]+Table146135136137144151158165172179186193200207214221228235242249256[[#This Row],[Combusted]])*Table146135136137144151158165172179186193200207214221228235242249256[[#This Row],[Data \n(Corrected)]])/1000","v":5.4495550000000001}]
[]
[null,"Reporting \nyear","Entity","Location","Scope","Emission Source","Source Pseudonym","Emission Sub-source","Emission Pseudonym","Unit \nRequired","Data \n(Raw)","Unit Reported","Concatenate Units","Unit Conversion","Data \n(Corrected)","Unit\n(Corrected)","CO2","CH4","CH4 Corrected","N2O","N2O Corrected","GWP","Recycled","Landfill","Combusted","tCO2e Emission Equivalent"]
[null,2021,"Camira Fabrics Limited","Nottingham","Scope_1","Stationary",{"$f":"LOOKUP(Table146135136137138145152159166173180187194201208215222229236243250257[[#This Row],[Emission Source]],Table3578[Source],Table3578[Pseudonym])","v":"StationaryUS"},"Natural Gas",{"$f":"LOOKUP(Table146135136137138145152159166173180187194201208215222229236243250257[[#This Row],[Emission Sub-source]],Table125[[Emission ]],Table125[Pseudonym])","v":"NaturalGasUS"},{"$f":"LOOKUP(Table146135136137138145152159166173180187194201208215222229236243250257[[#This Row],[Emission Sub-source]],Table44[Fuel Type],Table44[Unit])","v":"scf"},100000,"scf",{"$f":"CONCATENATE(Table146135136137138145152159166173180187194201208215222229236243250257[[#This Row],[Unit Reported]],Table146135136137138145152159166173180187194201208215222229236243250257[[#This Row],[Unit \nRequired]])","v":"scfscf"},{"$f":"LOOKUP(Table146135136137138145152159166173180187194201208215222229236243250257[[#This Row],[Concatenate Units]],Table43[Concatenate],Table43[Multiply By])","v":1},{"$f":"Table146135136137138145152159166173180187194201208215222229236243250257[[#This Row],[Data \n(Raw)]]*Table146135136137138145152159166173180187194201208215222229236243250257[[#This Row],[Unit Conversion]]","v":100000},{"$f":"Table146135136137138145152159166173180187194201208215222229236243250257[[#This Row],[Unit \nRequired]]","v":"scf"},{"$f":"LOOKUP(Table146135136137138145152159166173180187194201208215222229236243250257[[#This Row],[Emission Sub-source]],Table44[Fuel Type],Table44[CO2 Factor \n(kg / Unit)])","v":5.4440000000000002E-2},{"$f":"LOOKUP(Table146135136137138145152159166173180187194201208215222229236243250257[[#This Row],[Emission Sub-source]],Table44[Fuel Type],Table44[CH4 Factor \n(g / unit)])","v":1.0300000000000001E-3},{"$f":"(Table146135136137138145152159166173180187194201208215222229236243250257[[#This Row],[CH4]]/1000)*25","v":2.5750000000000002E-5},{"$f":"LOOKUP(Table146135136137138145152159166173180187194201208215222229236243250257[[#This Row],[Emission Sub-source]],Table44[Fuel Type],Table44[N2O Factor \n(g / unit)])","v":1E-4},{"$f":"(Table146135136137138145152159166173180187194201208215222229236243250257[[#This Row],[N2O]]/1000)*298","v":2.9800000000000003E-5},{"$f":"(LOOKUP(Table146135136137138145152159166173180187194201208215222229236243250257[[#This Row],[Emission Sub-source]],Table44[Fuel Type],Table44[GWP]))","v":0},{"$f":"Table146135136137138145152159166173180187194201208215222229236243250257[[#This Row],[Data \n(Corrected)]]*(LOOKUP(Table146135136137138145152159166173180187194201208215222229236243250257[[#This Row],[Emission Sub-source]],Table44[Fuel Type],Table44[Recycled CO2 Factor]))","v":0},{"$f":"Table146135136137138145152159166173180187194201208215222229236243250257[[#This Row],[Data \n(Corrected)]]*(LOOKUP(Table146135136137138145152159166173180187194201208215222229236243250257[[#This Row],[Emission Sub-source]],Table44[Fuel Type],Table44[Landfill CO2 Factor]))","v":0},{"$f":"Table146135136137138145152159166173180187194201208215222229236243250257[[#This Row],[Data \n(Corrected)]]*(LOOKUP(Table146135136137138145152159166173180187194201208215222229236243250257[[#This Row],[Emission Sub-source]],Table44[Fuel Type],Table44[Combusted CO2 Factor]))","v":0},{"$f":"((Table146135136137138145152159166173180187194201208215222229236243250257[[#This Row],[CO2]]+Table146135136137138145152159166173180187194201208215222229236243250257[[#This Row],[CH4 Corrected]]+Table146135136137138145152159166173180187194201208215222229236243250257[[#This Row],[N2O Corrected]]+Table146135136137138145152159166173180187194201208215222229236243250257[[#This Row],[GWP]]+Table146135136137138145152159166173180187194201208215222229236243250257[[#This Row],[Recycled]]+Table146135136137138145152159166173180187194201208215222229236243250257[[#This Row],[Landfill]]+Table146135136137138145152159166173180187194201208215222229236243250257[[#This Row],[Combusted]])*Table146135136137138145152159166173180187194201208215222229236243250257[[#This Row],[Data \n(Corrected)]])/1000","v":5.4495550000000001}]
[]
[null,"Reporting \nyear","Entity","Location","Scope","Emission Source","Source Pseudonym","Emission Sub-source","Emission Pseudonym","Unit \nRequired","Data \n(Raw)","Unit Reported","Concatenate Units","Unit Conversion","Data \n(Corrected)","Unit\n(Corrected)","CO2","CH4","CH4 Corrected","N2O","N2O Corrected","GWP","Recycled","Landfill","Combusted","tCO2e Emission Equivalent"]
[null,2021,"Camira Fabrics Limited","Birkby","Scope_1","Stationary",{"$f":"LOOKUP(Table146135136137138139146153160167174181188195202209216223230237244251258[[#This Row],[Emission Source]],Table3578[Source],Table3578[Pseudonym])","v":"StationaryUS"},"Natural Gas",{"$f":"LOOKUP(Table146135136137138139146153160167174181188195202209216223230237244251258[[#This Row],[Emission Sub-source]],Table125[[Emission ]],Table125[Pseudonym])","v":"NaturalGasUS"},{"$f":"LOOKUP(Table146135136137138139146153160167174181188195202209216223230237244251258[[#This Row],[Emission Sub-source]],Table44[Fuel Type],Table44[Unit])","v":"scf"},100000,"scf",{"$f":"CONCATENATE(Table146135136137138139146153160167174181188195202209216223230237244251258[[#This Row],[Unit Reported]],Table146135136137138139146153160167174181188195202209216223230237244251258[[#This Row],[Unit \nRequired]])","v":"scfscf"},{"$f":"LOOKUP(Table146135136137138139146153160167174181188195202209216223230237244251258[[#This Row],[Concatenate Units]],Table43[Concatenate],Table43[Multiply By])","v":1},{"$f":"Table146135136137138139146153160167174181188195202209216223230237244251258[[#This Row],[Data \n(Raw)]]*Table146135136137138139146153160167174181188195202209216223230237244251258[[#This Row],[Unit Conversion]]","v":100000},{"$f":"Table146135136137138139146153160167174181188195202209216223230237244251258[[#This Row],[Unit \nRequired]]","v":"scf"},{"$f":"LOOKUP(Table146135136137138139146153160167174181188195202209216223230237244251258[[#This Row],[Emission Sub-source]],Table44[Fuel Type],Table44[CO2 Factor \n(kg / Unit)])","v":5.4440000000000002E-2},{"$f":"LOOKUP(Table146135136137138139146153160167174181188195202209216223230237244251258[[#This Row],[Emission Sub-source]],Table44[Fuel Type],Table44[CH4 Factor \n(g / unit)])","v":1.0300000000000001E-3},{"$f":"(Table146135136137138139146153160167174181188195202209216223230237244251258[[#This Row],[CH4]]/1000)*25","v":2.5750000000000002E-5},{"$f":"LOOKUP(Table146135136137138139146153160167174181188195202209216223230237244251258[[#This Row],[Emission Sub-source]],Table44[Fuel Type],Table44[N2O Factor \n(g / unit)])","v":1E-4},{"$f":"(Table146135136137138139146153160167174181188195202209216223230237244251258[[#This Row],[N2O]]/1000)*298","v":2.9800000000000003E-5},{"$f":"(LOOKUP(Table146135136137138139146153160167174181188195202209216223230237244251258[[#This Row],[Emission Sub-source]],Table44[Fuel Type],Table44[GWP]))","v":0},{"$f":"Table146135136137138139146153160167174181188195202209216223230237244251258[[#This Row],[Data \n(Corrected)]]*(LOOKUP(Table146135136137138139146153160167174181188195202209216223230237244251258[[#This Row],[Emission Sub-source]],Table44[Fuel Type],Table44[Recycled CO2 Factor]))","v":0},{"$f":"Table146135136137138139146153160167174181188195202209216223230237244251258[[#This Row],[Data \n(Corrected)]]*(LOOKUP(Table146135136137138139146153160167174181188195202209216223230237244251258[[#This Row],[Emission Sub-source]],Table44[Fuel Type],Table44[Landfill CO2 Factor]))","v":0},{"$f":"Table146135136137138139146153160167174181188195202209216223230237244251258[[#This Row],[Data \n(Corrected)]]*(LOOKUP(Table146135136137138139146153160167174181188195202209216223230237244251258[[#This Row],[Emission Sub-source]],Table44[Fuel Type],Table44[Combusted CO2 Factor]))","v":0},{"$f":"((Table146135136137138139146153160167174181188195202209216223230237244251258[[#This Row],[CO2]]+Table146135136137138139146153160167174181188195202209216223230237244251258[[#This Row],[CH4 Corrected]]+Table146135136137138139146153160167174181188195202209216223230237244251258[[#This Row],[N2O Corrected]]+Table146135136137138139146153160167174181188195202209216223230237244251258[[#This Row],[GWP]]+Table146135136137138139146153160167174181188195202209216223230237244251258[[#This Row],[Recycled]]+Table146135136137138139146153160167174181188195202209216223230237244251258[[#This Row],[Landfill]]+Table146135136137138139146153160167174181188195202209216223230237244251258[[#This Row],[Combusted]])*Table146135136137138139146153160167174181188195202209216223230237244251258[[#This Row],[Data \n(Corrected)]])/1000","v":5.4495550000000001}]
[]
[null,"Reporting \nyear","Entity","Location","Scope","Emission Source","Source Pseudonym","Emission Sub-source","Emission Pseudonym","Unit \nRequired","Data \n(Raw)","Unit Reported","Concatenate Units","Unit Conversion","Data \n(Corrected)","Unit\n(Corrected)","CO2","CH4","CH4 Corrected","N2O","N2O Corrected","GWP","Recycled","Landfill","Combusted","tCO2e Emission Equivalent"]
[null,2021,"Camira Fabrics Limited","Holmfirth","Scope_1","Stationary",{"$f":"LOOKUP(Table146135136137138140147154161168175182189196203210217224231238245252259[[#This Row],[Emission Source]],Table3578[Source],Table3578[Pseudonym])","v":"StationaryUS"},"Natural Gas",{"$f":"LOOKUP(Table146135136137138140147154161168175182189196203210217224231238245252259[[#This Row],[Emission Sub-source]],Table125[[Emission ]],Table125[Pseudonym])","v":"NaturalGasUS"},{"$f":"LOOKUP(Table146135136137138140147154161168175182189196203210217224231238245252259[[#This Row],[Emission Sub-source]],Table44[Fuel Type],Table44[Unit])","v":"scf"},100000,"scf",{"$f":"CONCATENATE(Table146135136137138140147154161168175182189196203210217224231238245252259[[#This Row],[Unit Reported]],Table146135136137138140147154161168175182189196203210217224231238245252259[[#This Row],[Unit \nRequired]])","v":"scfscf"},{"$f":"LOOKUP(Table146135136137138140147154161168175182189196203210217224231238245252259[[#This Row],[Concatenate Units]],Table43[Concatenate],Table43[Multiply By])","v":1},{"$f":"Table146135136137138140147154161168175182189196203210217224231238245252259[[#This Row],[Data \n(Raw)]]*Table146135136137138140147154161168175182189196203210217224231238245252259[[#This Row],[Unit Conversion]]","v":100000},{"$f":"Table146135136137138140147154161168175182189196203210217224231238245252259[[#This Row],[Unit \nRequired]]","v":"scf"},{"$f":"LOOKUP(Table146135136137138140147154161168175182189196203210217224231238245252259[[#This Row],[Emission Sub-source]],Table44[Fuel Type],Table44[CO2 Factor \n(kg / Unit)])","v":5.4440000000000002E-2},{"$f":"LOOKUP(Table146135136137138140147154161168175182189196203210217224231238245252259[[#This Row],[Emission Sub-source]],Table44[Fuel Type],Table44[CH4 Factor \n(g / unit)])","v":1.0300000000000001E-3},{"$f":"(Table146135136137138140147154161168175182189196203210217224231238245252259[[#This Row],[CH4]]/1000)*25","v":2.5750000000000002E-5},{"$f":"LOOKUP(Table146135136137138140147154161168175182189196203210217224231238245252259[[#This Row],[Emission Sub-source]],Table44[Fuel Type],Table44[N2O Factor \n(g / unit)])","v":1E-4},{"$f":"(Table146135136137138140147154161168175182189196203210217224231238245252259[[#This Row],[N2O]]/1000)*298","v":2.9800000000000003E-5},{"$f":"(LOOKUP(Table146135136137138140147154161168175182189196203210217224231238245252259[[#This Row],[Emission Sub-source]],Table44[Fuel Type],Table44[GWP]))","v":0},{"$f":"Table146135136137138140147154161168175182189196203210217224231238245252259[[#This Row],[Data \n(Corrected)]]*(LOOKUP(Table146135136137138140147154161168175182189196203210217224231238245252259[[#This Row],[Emission Sub-source]],Table44[Fuel Type],Table44[Recycled CO2 Factor]))","v":0},{"$f":"Table146135136137138140147154161168175182189196203210217224231238245252259[[#This Row],[Data \n(Corrected)]]*(LOOKUP(Table146135136137138140147154161168175182189196203210217224231238245252259[[#This Row],[Emission Sub-source]],Table44[Fuel Type],Table44[Landfill CO2 Factor]))","v":0},{"$f":"Table146135136137138140147154161168175182189196203210217224231238245252259[[#This Row],[Data \n(Corrected)]]*(LOOKUP(Table146135136137138140147154161168175182189196203210217224231238245252259[[#This Row],[Emission Sub-source]],Table44[Fuel Type],Table44[Combusted CO2 Factor]))","v":0},{"$f":"((Table146135136137138140147154161168175182189196203210217224231238245252259[[#This Row],[CO2]]+Table146135136137138140147154161168175182189196203210217224231238245252259[[#This Row],[CH4 Corrected]]+Table146135136137138140147154161168175182189196203210217224231238245252259[[#This Row],[N2O Corrected]]+Table146135136137138140147154161168175182189196203210217224231238245252259[[#This Row],[GWP]]+Table146135136137138140147154161168175182189196203210217224231238245252259[[#This Row],[Recycled]]+Table146135136137138140147154161168175182189196203210217224231238245252259[[#This Row],[Landfill]]+Table146135136137138140147154161168175182189196203210217224231238245252259[[#This Row],[Combusted]])*Table146135136137138140147154161168175182189196203210217224231238245252259[[#This Row],[Data \n(Corrected)]])/1000","v":5.4495550000000001}]
[]
[null,"EUR - ??"]
[null,"Reporting \nyear","Entity","Location","Scope","Emission Source","Source Pseudonym","Emission Sub-source","Emission Pseudonym","Unit \nRequired","Data \n(Raw)","Unit Reported","Concatenate Units","Unit Conversion","Data \n(Corrected)","Unit\n(Corrected)","CO2","CH4","CH4 Corrected","N2O","N2O Corrected","GWP","Recycled","Landfill","Combusted","tCO2e Emission Equivalent"]
[null,2021,"UAB Camira Fabrics","Lithuania","Scope_1","Stationary",{"$f":"LOOKUP(Table146135136137138140141148155162169176183190197204211218225232239246253260[[#This Row],[Emission Source]],Table3578[Source],Table3578[Pseudonym])","v":"StationaryUS"},"Natural Gas",{"$f":"LOOKUP(Table146135136137138140141148155162169176183190197204211218225232239246253260[[#This Row],[Emission Sub-source]],Table125[[Emission ]],Table125[Pseudonym])","v":"NaturalGasUS"},{"$f":"LOOKUP(Table146135136137138140141148155162169176183190197204211218225232239246253260[[#This Row],[Emission Sub-source]],Table44[Fuel Type],Table44[Unit])","v":"scf"},100000,"scf",{"$f":"CONCATENATE(Table146135136137138140141148155162169176183190197204211218225232239246253260[[#This Row],[Unit Reported]],Table146135136137138140141148155162169176183190197204211218225232239246253260[[#This Row],[Unit \nRequired]])","v":"scfscf"},{"$f":"LOOKUP(Table146135136137138140141148155162169176183190197204211218225232239246253260[[#This Row],[Concatenate Units]],Table43[Concatenate],Table43[Multiply By])","v":1},{"$f":"Table146135136137138140141148155162169176183190197204211218225232239246253260[[#This Row],[Data \n(Raw)]]*Table146135136137138140141148155162169176183190197204211218225232239246253260[[#This Row],[Unit Conversion]]","v":100000},{"$f":"Table146135136137138140141148155162169176183190197204211218225232239246253260[[#This Row],[Unit \nRequired]]","v":"scf"},{"$f":"LOOKUP(Table146135136137138140141148155162169176183190197204211218225232239246253260[[#This Row],[Emission Sub-source]],Table44[Fuel Type],Table44[CO2 Factor \n(kg / Unit)])","v":5.4440000000000002E-2},{"$f":"LOOKUP(Table146135136137138140141148155162169176183190197204211218225232239246253260[[#This Row],[Emission Sub-source]],Table44[Fuel Type],Table44[CH4 Factor \n(g / unit)])","v":1.0300000000000001E-3},{"$f":"(Table146135136137138140141148155162169176183190197204211218225232239246253260[[#This Row],[CH4]]/1000)*25","v":2.5750000000000002E-5},{"$f":"LOOKUP(Table146135136137138140141148155162169176183190197204211218225232239246253260[[#This Row],[Emission Sub-source]],Table44[Fuel Type],Table44[N2O Factor \n(g / unit)])","v":1E-4},{"$f":"(Table146135136137138140141148155162169176183190197204211218225232239246253260[[#This Row],[N2O]]/1000)*298","v":2.9800000000000003E-5},{"$f":"(LOOKUP(Table146135136137138140141148155162169176183190197204211218225232239246253260[[#This Row],[Emission Sub-source]],Table44[Fuel Type],Table44[GWP]))","v":0},{"$f":"Table146135136137138140141148155162169176183190197204211218225232239246253260[[#This Row],[Data \n(Corrected)]]*(LOOKUP(Table146135136137138140141148155162169176183190197204211218225232239246253260[[#This Row],[Emission Sub-source]],Table44[Fuel Type],Table44[Recycled CO2 Factor]))","v":0},{"$f":"Table146135136137138140141148155162169176183190197204211218225232239246253260[[#This Row],[Data \n(Corrected)]]*(LOOKUP(Table146135136137138140141148155162169176183190197204211218225232239246253260[[#This Row],[Emission Sub-source]],Table44[Fuel Type],Table44[Landfill CO2 Factor]))","v":0},{"$f":"Table146135136137138140141148155162169176183190197204211218225232239246253260[[#This Row],[Data \n(Corrected)]]*(LOOKUP(Table146135136137138140141148155162169176183190197204211218225232239246253260[[#This Row],[Emission Sub-source]],Table44[Fuel Type],Table44[Combusted CO2 Factor]))","v":0},{"$f":"((Table146135136137138140141148155162169176183190197204211218225232239246253260[[#This Row],[CO2]]+Table146135136137138140141148155162169176183190197204211218225232239246253260[[#This Row],[CH4 Corrected]]+Table146135136137138140141148155162169176183190197204211218225232239246253260[[#This Row],[N2O Corrected]]+Table146135136137138140141148155162169176183190197204211218225232239246253260[[#This Row],[GWP]]+Table146135136137138140141148155162169176183190197204211218225232239246253260[[#This Row],[Recycled]]+Table146135136137138140141148155162169176183190197204211218225232239246253260[[#This Row],[Landfill]]+Table146135136137138140141148155162169176183190197204211218225232239246253260[[#This Row],[Combusted]])*Table146135136137138140141148155162169176183190197204211218225232239246253260[[#This Row],[Data \n(Corrected)]])/1000","v":5.4495550000000001}]
[]
[null,"US - EPA"]
[null,"Reporting \nyear","Entity","Location","Scope","Emission Source","Source Pseudonym","Emission Sub-source","Emission Pseudonym","Unit \nRequired","Data \n(Raw)","Unit Reported","Concatenate Units","Unit Conversion","Data \n(Corrected)","Unit\n(Corrected)","CO2","CH4","CH4 Corrected","N2O","N2O Corrected","GWP","Recycled","Landfill","Combusted","tCO2e Emission Equivalent"]
[null,2021,"Camira Group, Inc","Grand Rapids","Scope_1","Stationary",{"$f":"LOOKUP(Table146135142149156163170177184191198205212219226233240247254[[#This Row],[Emission Source]],Table3578[Source],Table3578[Pseudonym])","v":"StationaryUS"},"Natural Gas",{"$f":"LOOKUP(Table146135142149156163170177184191198205212219226233240247254[[#This Row],[Emission Sub-source]],Table125[[Emission ]],Table125[Pseudonym])","v":"NaturalGasUS"},{"$f":"LOOKUP(Table146135142149156163170177184191198205212219226233240247254[[#This Row],[Emission Sub-source]],Table44[Fuel Type],Table44[Unit])","v":"scf"},100000,"scf",{"$f":"CONCATENATE(Table146135142149156163170177184191198205212219226233240247254[[#This Row],[Unit Reported]],Table146135142149156163170177184191198205212219226233240247254[[#This Row],[Unit \nRequired]])","v":"scfscf"},{"$f":"LOOKUP(Table146135142149156163170177184191198205212219226233240247254[[#This Row],[Concatenate Units]],Table43[Concatenate],Table43[Multiply By])","v":1},{"$f":"Table146135142149156163170177184191198205212219226233240247254[[#This Row],[Data \n(Raw)]]*Table146135142149156163170177184191198205212219226233240247254[[#This Row],[Unit Conversion]]","v":100000},{"$f":"Table146135142149156163170177184191198205212219226233240247254[[#This Row],[Unit \nRequired]]","v":"scf"},{"$f":"LOOKUP(Table146135142149156163170177184191198205212219226233240247254[[#This Row],[Emission Sub-source]],Table44[Fuel Type],Table44[CO2 Factor \n(kg / Unit)])","v":5.4440000000000002E-2},{"$f":"LOOKUP(Table146135142149156163170177184191198205212219226233240247254[[#This Row],[Emission Sub-source]],Table44[Fuel Type],Table44[CH4 Factor \n(g / unit)])","v":1.0300000000000001E-3},{"$f":"(Table146135142149156163170177184191198205212219226233240247254[[#This Row],[CH4]]/1000)*25","v":2.5750000000000002E-5},{"$f":"LOOKUP(Table146135142149156163170177184191198205212219226233240247254[[#This Row],[Emission Sub-source]],Table44[Fuel Type],Table44[N2O Factor \n(g / unit)])","v":1E-4},{"$f":"(Table146135142149156163170177184191198205212219226233240247254[[#This Row],[N2O]]/1000)*298","v":2.9800000000000003E-5},{"$f":"(LOOKUP(Table146135142149156163170177184191198205212219226233240247254[[#This Row],[Emission Sub-source]],Table44[Fuel Type],Table44[GWP]))","v":0},{"$f":"Table146135142149156163170177184191198205212219226233240247254[[#This Row],[Data \n(Corrected)]]*(LOOKUP(Table146135142149156163170177184191198205212219226233240247254[[#This Row],[Emission Sub-source]],Table44[Fuel Type],Table44[Recycled CO2 Factor]))","v":0},{"$f":"Table146135142149156163170177184191198205212219226233240247254[[#This Row],[Data \n(Corrected)]]*(LOOKUP(Table146135142149156163170177184191198205212219226233240247254[[#This Row],[Emission Sub-source]],Table44[Fuel Type],Table44[Landfill CO2 Factor]))","v":0},{"$f":"Table146135142149156163170177184191198205212219226233240247254[[#This Row],[Data \n(Corrected)]]*(LOOKUP(Table146135142149156163170177184191198205212219226233240247254[[#This Row],[Emission Sub-source]],Table44[Fuel Type],Table44[Combusted CO2 Factor]))","v":0},{"$f":"((Table146135142149156163170177184191198205212219226233240247254[[#This Row],[CO2]]+Table146135142149156163170177184191198205212219226233240247254[[#This Row],[CH4 Corrected]]+Table146135142149156163170177184191198205212219226233240247254[[#This Row],[N2O Corrected]]+Table146135142149156163170177184191198205212219226233240247254[[#This Row],[GWP]]+Table146135142149156163170177184191198205212219226233240247254[[#This Row],[Recycled]]+Table146135142149156163170177184191198205212219226233240247254[[#This Row],[Landfill]]+Table146135142149156163170177184191198205212219226233240247254[[#This Row],[Combusted]])*Table146135142149156163170177184191198205212219226233240247254[[#This Row],[Data \n(Corrected)]])/1000","v":5.4495550000000001}]

{"sheet":"3.12","index":22,"n_rows":26,"n_cols":26,"rows_kept":26,"cut":false,"hidden":true,"merged":[]}
[]
[null,"Greenhouse Gas Emission Analysis - Customer Scope 1 & 2 - Product Waste"]
[]
[null,"UK - DBEIS/DEFRA"]
[null,"Reporting \nyear","Entity","Location","Scope","Emission Source","Source Pseudonym","Emission Sub-source","Emission Pseudonym","Unit \nRequired","Data \n(Raw)","Unit Reported","Concatenate Units","Unit Conversion","Data \n(Corrected)","Unit\n(Corrected)","CO2","CH4","CH4 Corrected","N2O","N2O Corrected","GWP","Recycled","Landfill","Combusted","tCO2e Emission Equivalent"]
[null,2021,"Camira Fabrics Limited","Mirfield","Scope_1","Stationary",{"$f":"LOOKUP(Table146135136143150157164171178185192199206213220227234241248255262[[#This Row],[Emission Source]],Table3578[Source],Table3578[Pseudonym])","v":"StationaryUS"},"Natural Gas",{"$f":"LOOKUP(Table146135136143150157164171178185192199206213220227234241248255262[[#This Row],[Emission Sub-source]],Table125[[Emission ]],Table125[Pseudonym])","v":"NaturalGasUS"},{"$f":"LOOKUP(Table146135136143150157164171178185192199206213220227234241248255262[[#This Row],[Emission Sub-source]],Table44[Fuel Type],Table44[Unit])","v":"scf"},100000,"scf",{"$f":"CONCATENATE(Table146135136143150157164171178185192199206213220227234241248255262[[#This Row],[Unit Reported]],Table146135136143150157164171178185192199206213220227234241248255262[[#This Row],[Unit \nRequired]])","v":"scfscf"},{"$f":"LOOKUP(Table146135136143150157164171178185192199206213220227234241248255262[[#This Row],[Concatenate Units]],Table43[Concatenate],Table43[Multiply By])","v":1},{"$f":"Table146135136143150157164171178185192199206213220227234241248255262[[#This Row],[Data \n(Raw)]]*Table146135136143150157164171178185192199206213220227234241248255262[[#This Row],[Unit Conversion]]","v":100000},{"$f":"Table146135136143150157164171178185192199206213220227234241248255262[[#This Row],[Unit \nRequired]]","v":"scf"},{"$f":"LOOKUP(Table146135136143150157164171178185192199206213220227234241248255262[[#This Row],[Emission Sub-source]],Table44[Fuel Type],Table44[CO2 Factor \n(kg / Unit)])","v":5.4440000000000002E-2},{"$f":"LOOKUP(Table146135136143150157164171178185192199206213220227234241248255262[[#This Row],[Emission Sub-source]],Table44[Fuel Type],Table44[CH4 Factor \n(g / unit)])","v":1.0300000000000001E-3},{"$f":"(Table146135136143150157164171178185192199206213220227234241248255262[[#This Row],[CH4]]/1000)*25","v":2.5750000000000002E-5},{"$f":"LOOKUP(Table146135136143150157164171178185192199206213220227234241248255262[[#This Row],[Emission Sub-source]],Table44[Fuel Type],Table44[N2O Factor \n(g / unit)])","v":1E-4},{"$f":"(Table146135136143150157164171178185192199206213220227234241248255262[[#This Row],[N2O]]/1000)*298","v":2.9800000000000003E-5},{"$f":"(LOOKUP(Table146135136143150157164171178185192199206213220227234241248255262[[#This Row],[Emission Sub-source]],Table44[Fuel Type],Table44[GWP]))","v":0},{"$f":"Table146135136143150157164171178185192199206213220227234241248255262[[#This Row],[Data \n(Corrected)]]*(LOOKUP(Table146135136143150157164171178185192199206213220227234241248255262[[#This Row],[Emission Sub-source]],Table44[Fuel Type],Table44[Recycled CO2 Factor]))","v":0},{"$f":"Table146135136143150157164171178185192199206213220227234241248255262[[#This Row],[Data \n(Corrected)]]*(LOOKUP(Table146135136143150157164171178185192199206213220227234241248255262[[#This Row],[Emission Sub-source]],Table44[Fuel Type],Table44[Landfill CO2 Factor]))","v":0},{"$f":"Table146135136143150157164171178185192199206213220227234241248255262[[#This Row],[Data \n(Corrected)]]*(LOOKUP(Table146135136143150157164171178185192199206213220227234241248255262[[#This Row],[Emission Sub-source]],Table44[Fuel Type],Table44[Combusted CO2 Factor]))","v":0},{"$f":"((Table146135136143150157164171178185192199206213220227234241248255262[[#This Row],[CO2]]+Table146135136143150157164171178185192199206213220227234241248255262[[#This Row],[CH4 Corrected]]+Table146135136143150157164171178185192199206213220227234241248255262[[#This Row],[N2O Corrected]]+Table146135136143150157164171178185192199206213220227234241248255262[[#This Row],[GWP]]+Table146135136143150157164171178185192199206213220227234241248255262[[#This Row],[Recycled]]+Table146135136143150157164171178185192199206213220227234241248255262[[#This Row],[Landfill]]+Table146135136143150157164171178185192199206213220227234241248255262[[#This Row],[Combusted]])*Table146135136143150157164171178185192199206213220227234241248255262[[#This Row],[Data \n(Corrected)]])/1000","v":5.4495550000000001}]
[]
[null,"Reporting \nyear","Entity","Location","Scope","Emission Source","Source Pseudonym","Emission Sub-source","Emission Pseudonym","Unit \nRequired","Data \n(Raw)","Unit Reported","Concatenate Units","Unit Conversion","Data \n(Corrected)","Unit\n(Corrected)","CO2","CH4","CH4 Corrected","N2O","N2O Corrected","GWP","Recycled","Landfill","Combusted","tCO2e Emission Equivalent"]
[null,2021,"Camira Fabrics Limited","Meltham","Scope_1","Stationary",{"$f":"LOOKUP(Table146135136137144151158165172179186193200207214221228235242249256263[[#This Row],[Emission Source]],Table3578[Source],Table3578[Pseudonym])","v":"StationaryUS"},"Natural Gas",{"$f":"LOOKUP(Table146135136137144151158165172179186193200207214221228235242249256263[[#This Row],[Emission Sub-source]],Table125[[Emission ]],Table125[Pseudonym])","v":"NaturalGasUS"},{"$f":"LOOKUP(Table146135136137144151158165172179186193200207214221228235242249256263[[#This Row],[Emission Sub-source]],Table44[Fuel Type],Table44[Unit])","v":"scf"},100000,"scf",{"$f":"CONCATENATE(Table146135136137144151158165172179186193200207214221228235242249256263[[#This Row],[Unit Reported]],Table146135136137144151158165172179186193200207214221228235242249256263[[#This Row],[Unit \nRequired]])","v":"scfscf"},{"$f":"LOOKUP(Table146135136137144151158165172179186193200207214221228235242249256263[[#This Row],[Concatenate Units]],Table43[Concatenate],Table43[Multiply By])","v":1},{"$f":"Table146135136137144151158165172179186193200207214221228235242249256263[[#This Row],[Data \n(Raw)]]*Table146135136137144151158165172179186193200207214221228235242249256263[[#This Row],[Unit Conversion]]","v":100000},{"$f":"Table146135136137144151158165172179186193200207214221228235242249256263[[#This Row],[Unit \nRequired]]","v":"scf"},{"$f":"LOOKUP(Table146135136137144151158165172179186193200207214221228235242249256263[[#This Row],[Emission Sub-source]],Table44[Fuel Type],Table44[CO2 Factor \n(kg / Unit)])","v":5.4440000000000002E-2},{"$f":"LOOKUP(Table146135136137144151158165172179186193200207214221228235242249256263[[#This Row],[Emission Sub-source]],Table44[Fuel Type],Table44[CH4 Factor \n(g / unit)])","v":1.0300000000000001E-3},{"$f":"(Table146135136137144151158165172179186193200207214221228235242249256263[[#This Row],[CH4]]/1000)*25","v":2.5750000000000002E-5},{"$f":"LOOKUP(Table146135136137144151158165172179186193200207214221228235242249256263[[#This Row],[Emission Sub-source]],Table44[Fuel Type],Table44[N2O Factor \n(g / unit)])","v":1E-4},{"$f":"(Table146135136137144151158165172179186193200207214221228235242249256263[[#This Row],[N2O]]/1000)*298","v":2.9800000000000003E-5},{"$f":"(LOOKUP(Table146135136137144151158165172179186193200207214221228235242249256263[[#This Row],[Emission Sub-source]],Table44[Fuel Type],Table44[GWP]))","v":0},{"$f":"Table146135136137144151158165172179186193200207214221228235242249256263[[#This Row],[Data \n(Corrected)]]*(LOOKUP(Table146135136137144151158165172179186193200207214221228235242249256263[[#This Row],[Emission Sub-source]],Table44[Fuel Type],Table44[Recycled CO2 Factor]))","v":0},{"$f":"Table146135136137144151158165172179186193200207214221228235242249256263[[#This Row],[Data \n(Corrected)]]*(LOOKUP(Table146135136137144151158165172179186193200207214221228235242249256263[[#This Row],[Emission Sub-source]],Table44[Fuel Type],Table44[Landfill CO2 Factor]))","v":0},{"$f":"Table146135136137144151158165172179186193200207214221228235242249256263[[#This Row],[Data \n(Corrected)]]*(LOOKUP(Table146135136137144151158165172179186193200207214221228235242249256263[[#This Row],[Emission Sub-source]],Table44[Fuel Type],Table44[Combusted CO2 Factor]))","v":0},{"$f":"((Table146135136137144151158165172179186193200207214221228235242249256263[[#This Row],[CO2]]+Table146135136137144151158165172179186193200207214221228235242249256263[[#This Row],[CH4 Corrected]]+Table146135136137144151158165172179186193200207214221228235242249256263[[#This Row],[N2O Corrected]]+Table146135136137144151158165172179186193200207214221228235242249256263[[#This Row],[GWP]]+Table146135136137144151158165172179186193200207214221228235242249256263[[#This Row],[Recycled]]+Table146135136137144151158165172179186193200207214221228235242249256263[[#This Row],[Landfill]]+Table146135136137144151158165172179186193200207214221228235242249256263[[#This Row],[Combusted]])*Table146135136137144151158165172179186193200207214221228235242249256263[[#This Row],[Data \n(Corrected)]])/1000","v":5.4495550000000001}]
[]
[null,"Reporting \nyear","Entity","Location","Scope","Emission Source","Source Pseudonym","Emission Sub-source","Emission Pseudonym","Unit \nRequired","Data \n(Raw)","Unit Reported","Concatenate Units","Unit Conversion","Data \n(Corrected)","Unit\n(Corrected)","CO2","CH4","CH4 Corrected","N2O","N2O Corrected","GWP","Recycled","Landfill","Combusted","tCO2e Emission Equivalent"]
[null,2021,"Camira Fabrics Limited","Nottingham","Scope_1","Stationary",{"$f":"LOOKUP(Table146135136137138145152159166173180187194201208215222229236243250257264[[#This Row],[Emission Source]],Table3578[Source],Table3578[Pseudonym])","v":"StationaryUS"},"Natural Gas",{"$f":"LOOKUP(Table146135136137138145152159166173180187194201208215222229236243250257264[[#This Row],[Emission Sub-source]],Table125[[Emission ]],Table125[Pseudonym])","v":"NaturalGasUS"},{"$f":"LOOKUP(Table146135136137138145152159166173180187194201208215222229236243250257264[[#This Row],[Emission Sub-source]],Table44[Fuel Type],Table44[Unit])","v":"scf"},100000,"scf",{"$f":"CONCATENATE(Table146135136137138145152159166173180187194201208215222229236243250257264[[#This Row],[Unit Reported]],Table146135136137138145152159166173180187194201208215222229236243250257264[[#This Row],[Unit \nRequired]])","v":"scfscf"},{"$f":"LOOKUP(Table146135136137138145152159166173180187194201208215222229236243250257264[[#This Row],[Concatenate Units]],Table43[Concatenate],Table43[Multiply By])","v":1},{"$f":"Table146135136137138145152159166173180187194201208215222229236243250257264[[#This Row],[Data \n(Raw)]]*Table146135136137138145152159166173180187194201208215222229236243250257264[[#This Row],[Unit Conversion]]","v":100000},{"$f":"Table146135136137138145152159166173180187194201208215222229236243250257264[[#This Row],[Unit \nRequired]]","v":"scf"},{"$f":"LOOKUP(Table146135136137138145152159166173180187194201208215222229236243250257264[[#This Row],[Emission Sub-source]],Table44[Fuel Type],Table44[CO2 Factor \n(kg / Unit)])","v":5.4440000000000002E-2},{"$f":"LOOKUP(Table146135136137138145152159166173180187194201208215222229236243250257264[[#This Row],[Emission Sub-source]],Table44[Fuel Type],Table44[CH4 Factor \n(g / unit)])","v":1.0300000000000001E-3},{"$f":"(Table146135136137138145152159166173180187194201208215222229236243250257264[[#This Row],[CH4]]/1000)*25","v":2.5750000000000002E-5},{"$f":"LOOKUP(Table146135136137138145152159166173180187194201208215222229236243250257264[[#This Row],[Emission Sub-source]],Table44[Fuel Type],Table44[N2O Factor \n(g / unit)])","v":1E-4},{"$f":"(Table146135136137138145152159166173180187194201208215222229236243250257264[[#This Row],[N2O]]/1000)*298","v":2.9800000000000003E-5},{"$f":"(LOOKUP(Table146135136137138145152159166173180187194201208215222229236243250257264[[#This Row],[Emission Sub-source]],Table44[Fuel Type],Table44[GWP]))","v":0},{"$f":"Table146135136137138145152159166173180187194201208215222229236243250257264[[#This Row],[Data \n(Corrected)]]*(LOOKUP(Table146135136137138145152159166173180187194201208215222229236243250257264[[#This Row],[Emission Sub-source]],Table44[Fuel Type],Table44[Recycled CO2 Factor]))","v":0},{"$f":"Table146135136137138145152159166173180187194201208215222229236243250257264[[#This Row],[Data \n(Corrected)]]*(LOOKUP(Table146135136137138145152159166173180187194201208215222229236243250257264[[#This Row],[Emission Sub-source]],Table44[Fuel Type],Table44[Landfill CO2 Factor]))","v":0},{"$f":"Table146135136137138145152159166173180187194201208215222229236243250257264[[#This Row],[Data \n(Corrected)]]*(LOOKUP(Table146135136137138145152159166173180187194201208215222229236243250257264[[#This Row],[Emission Sub-source]],Table44[Fuel Type],Table44[Combusted CO2 Factor]))","v":0},{"$f":"((Table146135136137138145152159166173180187194201208215222229236243250257264[[#This Row],[CO2]]+Table146135136137138145152159166173180187194201208215222229236243250257264[[#This Row],[CH4 Corrected]]+Table146135136137138145152159166173180187194201208215222229236243250257264[[#This Row],[N2O Corrected]]+Table146135136137138145152159166173180187194201208215222229236243250257264[[#This Row],[GWP]]+Table146135136137138145152159166173180187194201208215222229236243250257264[[#This Row],[Recycled]]+Table146135136137138145152159166173180187194201208215222229236243250257264[[#This Row],[Landfill]]+Table146135136137138145152159166173180187194201208215222229236243250257264[[#This Row],[Combusted]])*Table146135136137138145152159166173180187194201208215222229236243250257264[[#This Row],[Data \n(Corrected)]])/1000","v":5.4495550000000001}]
[]
[null,"Reporting \nyear","Entity","Location","Scope","Emission Source","Source Pseudonym","Emission Sub-source","Emission Pseudonym","Unit \nRequired","Data \n(Raw)","Unit Reported","Concatenate Units","Unit Conversion","Data \n(Corrected)","Unit\n(Corrected)","CO2","CH4","CH4 Corrected","N2O","N2O Corrected","GWP","Recycled","Landfill","Combusted","tCO2e Emission Equivalent"]
[null,2021,"Camira Fabrics Limited","Birkby","Scope_1","Stationary",{"$f":"LOOKUP(Table146135136137138139146153160167174181188195202209216223230237244251258265[[#This Row],[Emission Source]],Table3578[Source],Table3578[Pseudonym])","v":"StationaryUS"},"Natural Gas",{"$f":"LOOKUP(Table146135136137138139146153160167174181188195202209216223230237244251258265[[#This Row],[Emission Sub-source]],Table125[[Emission ]],Table125[Pseudonym])","v":"NaturalGasUS"},{"$f":"LOOKUP(Table146135136137138139146153160167174181188195202209216223230237244251258265[[#This Row],[Emission Sub-source]],Table44[Fuel Type],Table44[Unit])","v":"scf"},100000,"scf",{"$f":"CONCATENATE(Table146135136137138139146153160167174181188195202209216223230237244251258265[[#This Row],[Unit Reported]],Table146135136137138139146153160167174181188195202209216223230237244251258265[[#This Row],[Unit \nRequired]])","v":"scfscf"},{"$f":"LOOKUP(Table146135136137138139146153160167174181188195202209216223230237244251258265[[#This Row],[Concatenate Units]],Table43[Concatenate],Table43[Multiply By])","v":1},{"$f":"Table146135136137138139146153160167174181188195202209216223230237244251258265[[#This Row],[Data \n(Raw)]]*Table146135136137138139146153160167174181188195202209216223230237244251258265[[#This Row],[Unit Conversion]]","v":100000},{"$f":"Table146135136137138139146153160167174181188195202209216223230237244251258265[[#This Row],[Unit \nRequired]]","v":"scf"},{"$f":"LOOKUP(Table146135136137138139146153160167174181188195202209216223230237244251258265[[#This Row],[Emission Sub-source]],Table44[Fuel Type],Table44[CO2 Factor \n(kg / Unit)])","v":5.4440000000000002E-2},{"$f":"LOOKUP(Table146135136137138139146153160167174181188195202209216223230237244251258265[[#This Row],[Emission Sub-source]],Table44[Fuel Type],Table44[CH4 Factor \n(g / unit)])","v":1.0300000000000001E-3},{"$f":"(Table146135136137138139146153160167174181188195202209216223230237244251258265[[#This Row],[CH4]]/1000)*25","v":2.5750000000000002E-5},{"$f":"LOOKUP(Table146135136137138139146153160167174181188195202209216223230237244251258265[[#This Row],[Emission Sub-source]],Table44[Fuel Type],Table44[N2O Factor \n(g / unit)])","v":1E-4},{"$f":"(Table146135136137138139146153160167174181188195202209216223230237244251258265[[#This Row],[N2O]]/1000)*298","v":2.9800000000000003E-5},{"$f":"(LOOKUP(Table146135136137138139146153160167174181188195202209216223230237244251258265[[#This Row],[Emission Sub-source]],Table44[Fuel Type],Table44[GWP]))","v":0},{"$f":"Table146135136137138139146153160167174181188195202209216223230237244251258265[[#This Row],[Data \n(Corrected)]]*(LOOKUP(Table146135136137138139146153160167174181188195202209216223230237244251258265[[#This Row],[Emission Sub-source]],Table44[Fuel Type],Table44[Recycled CO2 Factor]))","v":0},{"$f":"Table146135136137138139146153160167174181188195202209216223230237244251258265[[#This Row],[Data \n(Corrected)]]*(LOOKUP(Table146135136137138139146153160167174181188195202209216223230237244251258265[[#This Row],[Emission Sub-source]],Table44[Fuel Type],Table44[Landfill CO2 Factor]))","v":0},{"$f":"Table146135136137138139146153160167174181188195202209216223230237244251258265[[#This Row],[Data \n(Corrected)]]*(LOOKUP(Table146135136137138139146153160167174181188195202209216223230237244251258265[[#This Row],[Emission Sub-source]],Table44[Fuel Type],Table44[Combusted CO2 Factor]))","v":0},{"$f":"((Table146135136137138139146153160167174181188195202209216223230237244251258265[[#This Row],[CO2]]+Table146135136137138139146153160167174181188195202209216223230237244251258265[[#This Row],[CH4 Corrected]]+Table146135136137138139146153160167174181188195202209216223230237244251258265[[#This Row],[N2O Corrected]]+Table146135136137138139146153160167174181188195202209216223230237244251258265[[#This Row],[GWP]]+Table146135136137138139146153160167174181188195202209216223230237244251258265[[#This Row],[Recycled]]+Table146135136137138139146153160167174181188195202209216223230237244251258265[[#This Row],[Landfill]]+Table146135136137138139146153160167174181188195202209216223230237244251258265[[#This Row],[Combusted]])*Table146135136137138139146153160167174181188195202209216223230237244251258265[[#This Row],[Data \n(Corrected)]])/1000","v":5.4495550000000001}]
[]
[null,"Reporting \nyear","Entity","Location","Scope","Emission Source","Source Pseudonym","Emission Sub-source","Emission Pseudonym","Unit \nRequired","Data \n(Raw)","Unit Reported","Concatenate Units","Unit Conversion","Data \n(Corrected)","Unit\n(Corrected)","CO2","CH4","CH4 Corrected","N2O","N2O Corrected","GWP","Recycled","Landfill","Combusted","tCO2e Emission Equivalent"]
[null,2021,"Camira Fabrics Limited","Holmfirth","Scope_1","Stationary",{"$f":"LOOKUP(Table146135136137138140147154161168175182189196203210217224231238245252259266[[#This Row],[Emission Source]],Table3578[Source],Table3578[Pseudonym])","v":"StationaryUS"},"Natural Gas",{"$f":"LOOKUP(Table146135136137138140147154161168175182189196203210217224231238245252259266[[#This Row],[Emission Sub-source]],Table125[[Emission ]],Table125[Pseudonym])","v":"NaturalGasUS"},{"$f":"LOOKUP(Table146135136137138140147154161168175182189196203210217224231238245252259266[[#This Row],[Emission Sub-source]],Table44[Fuel Type],Table44[Unit])","v":"scf"},100000,"scf",{"$f":"CONCATENATE(Table146135136137138140147154161168175182189196203210217224231238245252259266[[#This Row],[Unit Reported]],Table146135136137138140147154161168175182189196203210217224231238245252259266[[#This Row],[Unit \nRequired]])","v":"scfscf"},{"$f":"LOOKUP(Table146135136137138140147154161168175182189196203210217224231238245252259266[[#This Row],[Concatenate Units]],Table43[Concatenate],Table43[Multiply By])","v":1},{"$f":"Table146135136137138140147154161168175182189196203210217224231238245252259266[[#This Row],[Data \n(Raw)]]*Table146135136137138140147154161168175182189196203210217224231238245252259266[[#This Row],[Unit Conversion]]","v":100000},{"$f":"Table146135136137138140147154161168175182189196203210217224231238245252259266[[#This Row],[Unit \nRequired]]","v":"scf"},{"$f":"LOOKUP(Table146135136137138140147154161168175182189196203210217224231238245252259266[[#This Row],[Emission Sub-source]],Table44[Fuel Type],Table44[CO2 Factor \n(kg / Unit)])","v":5.4440000000000002E-2},{"$f":"LOOKUP(Table146135136137138140147154161168175182189196203210217224231238245252259266[[#This Row],[Emission Sub-source]],Table44[Fuel Type],Table44[CH4 Factor \n(g / unit)])","v":1.0300000000000001E-3},{"$f":"(Table146135136137138140147154161168175182189196203210217224231238245252259266[[#This Row],[CH4]]/1000)*25","v":2.5750000000000002E-5},{"$f":"LOOKUP(Table146135136137138140147154161168175182189196203210217224231238245252259266[[#This Row],[Emission Sub-source]],Table44[Fuel Type],Table44[N2O Factor \n(g / unit)])","v":1E-4},{"$f":"(Table146135136137138140147154161168175182189196203210217224231238245252259266[[#This Row],[N2O]]/1000)*298","v":2.9800000000000003E-5},{"$f":"(LOOKUP(Table146135136137138140147154161168175182189196203210217224231238245252259266[[#This Row],[Emission Sub-source]],Table44[Fuel Type],Table44[GWP]))","v":0},{"$f":"Table146135136137138140147154161168175182189196203210217224231238245252259266[[#This Row],[Data \n(Corrected)]]*(LOOKUP(Table146135136137138140147154161168175182189196203210217224231238245252259266[[#This Row],[Emission Sub-source]],Table44[Fuel Type],Table44[Recycled CO2 Factor]))","v":0},{"$f":"Table146135136137138140147154161168175182189196203210217224231238245252259266[[#This Row],[Data \n(Corrected)]]*(LOOKUP(Table146135136137138140147154161168175182189196203210217224231238245252259266[[#This Row],[Emission Sub-source]],Table44[Fuel Type],Table44[Landfill CO2 Factor]))","v":0},{"$f":"Table146135136137138140147154161168175182189196203210217224231238245252259266[[#This Row],[Data \n(Corrected)]]*(LOOKUP(Table146135136137138140147154161168175182189196203210217224231238245252259266[[#This Row],[Emission Sub-source]],Table44[Fuel Type],Table44[Combusted CO2 Factor]))","v":0},{"$f":"((Table146135136137138140147154161168175182189196203210217224231238245252259266[[#This Row],[CO2]]+Table146135136137138140147154161168175182189196203210217224231238245252259266[[#This Row],[CH4 Corrected]]+Table146135136137138140147154161168175182189196203210217224231238245252259266[[#This Row],[N2O Corrected]]+Table146135136137138140147154161168175182189196203210217224231238245252259266[[#This Row],[GWP]]+Table146135136137138140147154161168175182189196203210217224231238245252259266[[#This Row],[Recycled]]+Table146135136137138140147154161168175182189196203210217224231238245252259266[[#This Row],[Landfill]]+Table146135136137138140147154161168175182189196203210217224231238245252259266[[#This Row],[Combusted]])*Table146135136137138140147154161168175182189196203210217224231238245252259266[[#This Row],[Data \n(Corrected)]])/1000","v":5.4495550000000001}]
[]
[null,"EUR - ??"]
[null,"Reporting \nyear","Entity","Location","Scope","Emission Source","Source Pseudonym","Emission Sub-source","Emission Pseudonym","Unit \nRequired","Data \n(Raw)","Unit Reported","Concatenate Units","Unit Conversion","Data \n(Corrected)","Unit\n(Corrected)","CO2","CH4","CH4 Corrected","N2O","N2O Corrected","GWP","Recycled","Landfill","Combusted","tCO2e Emission Equivalent"]
[null,2021,"UAB Camira Fabrics","Lithuania","Scope_1","Stationary",{"$f":"LOOKUP(Table146135136137138140141148155162169176183190197204211218225232239246253260267[[#This Row],[Emission Source]],Table3578[Source],Table3578[Pseudonym])","v":"StationaryUS"},"Natural Gas",{"$f":"LOOKUP(Table146135136137138140141148155162169176183190197204211218225232239246253260267[[#This Row],[Emission Sub-source]],Table125[[Emission ]],Table125[Pseudonym])","v":"NaturalGasUS"},{"$f":"LOOKUP(Table146135136137138140141148155162169176183190197204211218225232239246253260267[[#This Row],[Emission Sub-source]],Table44[Fuel Type],Table44[Unit])","v":"scf"},100000,"scf",{"$f":"CONCATENATE(Table146135136137138140141148155162169176183190197204211218225232239246253260267[[#This Row],[Unit Reported]],Table146135136137138140141148155162169176183190197204211218225232239246253260267[[#This Row],[Unit \nRequired]])","v":"scfscf"},{"$f":"LOOKUP(Table146135136137138140141148155162169176183190197204211218225232239246253260267[[#This Row],[Concatenate Units]],Table43[Concatenate],Table43[Multiply By])","v":1},{"$f":"Table146135136137138140141148155162169176183190197204211218225232239246253260267[[#This Row],[Data \n(Raw)]]*Table146135136137138140141148155162169176183190197204211218225232239246253260267[[#This Row],[Unit Conversion]]","v":100000},{"$f":"Table146135136137138140141148155162169176183190197204211218225232239246253260267[[#This Row],[Unit \nRequired]]","v":"scf"},{"$f":"LOOKUP(Table146135136137138140141148155162169176183190197204211218225232239246253260267[[#This Row],[Emission Sub-source]],Table44[Fuel Type],Table44[CO2 Factor \n(kg / Unit)])","v":5.4440000000000002E-2},{"$f":"LOOKUP(Table146135136137138140141148155162169176183190197204211218225232239246253260267[[#This Row],[Emission Sub-source]],Table44[Fuel Type],Table44[CH4 Factor \n(g / unit)])","v":1.0300000000000001E-3},{"$f":"(Table146135136137138140141148155162169176183190197204211218225232239246253260267[[#This Row],[CH4]]/1000)*25","v":2.5750000000000002E-5},{"$f":"LOOKUP(Table146135136137138140141148155162169176183190197204211218225232239246253260267[[#This Row],[Emission Sub-source]],Table44[Fuel Type],Table44[N2O Factor \n(g / unit)])","v":1E-4},{"$f":"(Table146135136137138140141148155162169176183190197204211218225232239246253260267[[#This Row],[N2O]]/1000)*298","v":2.9800000000000003E-5},{"$f":"(LOOKUP(Table146135136137138140141148155162169176183190197204211218225232239246253260267[[#This Row],[Emission Sub-source]],Table44[Fuel Type],Table44[GWP]))","v":0},{"$f":"Table146135136137138140141148155162169176183190197204211218225232239246253260267[[#This Row],[Data \n(Corrected)]]*(LOOKUP(Table146135136137138140141148155162169176183190197204211218225232239246253260267[[#This Row],[Emission Sub-source]],Table44[Fuel Type],Table44[Recycled CO2 Factor]))","v":0},{"$f":"Table146135136137138140141148155162169176183190197204211218225232239246253260267[[#This Row],[Data \n(Corrected)]]*(LOOKUP(Table146135136137138140141148155162169176183190197204211218225232239246253260267[[#This Row],[Emission Sub-source]],Table44[Fuel Type],Table44[Landfill CO2 Factor]))","v":0},{"$f":"Table146135136137138140141148155162169176183190197204211218225232239246253260267[[#This Row],[Data \n(Corrected)]]*(LOOKUP(Table146135136137138140141148155162169176183190197204211218225232239246253260267[[#This Row],[Emission Sub-source]],Table44[Fuel Type],Table44[Combusted CO2 Factor]))","v":0},{"$f":"((Table146135136137138140141148155162169176183190197204211218225232239246253260267[[#This Row],[CO2]]+Table146135136137138140141148155162169176183190197204211218225232239246253260267[[#This Row],[CH4 Corrected]]+Table146135136137138140141148155162169176183190197204211218225232239246253260267[[#This Row],[N2O Corrected]]+Table146135136137138140141148155162169176183190197204211218225232239246253260267[[#This Row],[GWP]]+Table146135136137138140141148155162169176183190197204211218225232239246253260267[[#This Row],[Recycled]]+Table146135136137138140141148155162169176183190197204211218225232239246253260267[[#This Row],[Landfill]]+Table146135136137138140141148155162169176183190197204211218225232239246253260267[[#This Row],[Combusted]])*Table146135136137138140141148155162169176183190197204211218225232239246253260267[[#This Row],[Data \n(Corrected)]])/1000","v":5.4495550000000001}]
[]
[null,"US - EPA"]
[null,"Reporting \nyear","Entity","Location","Scope","Emission Source","Source Pseudonym","Emission Sub-source","Emission Pseudonym","Unit \nRequired","Data \n(Raw)","Unit Reported","Concatenate Units","Unit Conversion","Data \n(Corrected)","Unit\n(Corrected)","CO2","CH4","CH4 Corrected","N2O","N2O Corrected","GWP","Recycled","Landfill","Combusted","tCO2e Emission Equivalent"]
[null,2021,"Camira Group, Inc","Grand Rapids","Scope_1","Stationary",{"$f":"LOOKUP(Table146135142149156163170177184191198205212219226233240247254261[[#This Row],[Emission Source]],Table3578[Source],Table3578[Pseudonym])","v":"StationaryUS"},"Natural Gas",{"$f":"LOOKUP(Table146135142149156163170177184191198205212219226233240247254261[[#This Row],[Emission Sub-source]],Table125[[Emission ]],Table125[Pseudonym])","v":"NaturalGasUS"},{"$f":"LOOKUP(Table146135142149156163170177184191198205212219226233240247254261[[#This Row],[Emission Sub-source]],Table44[Fuel Type],Table44[Unit])","v":"scf"},100000,"scf",{"$f":"CONCATENATE(Table146135142149156163170177184191198205212219226233240247254261[[#This Row],[Unit Reported]],Table146135142149156163170177184191198205212219226233240247254261[[#This Row],[Unit \nRequired]])","v":"scfscf"},{"$f":"LOOKUP(Table146135142149156163170177184191198205212219226233240247254261[[#This Row],[Concatenate Units]],Table43[Concatenate],Table43[Multiply By])","v":1},{"$f":"Table146135142149156163170177184191198205212219226233240247254261[[#This Row],[Data \n(Raw)]]*Table146135142149156163170177184191198205212219226233240247254261[[#This Row],[Unit Conversion]]","v":100000},{"$f":"Table146135142149156163170177184191198205212219226233240247254261[[#This Row],[Unit \nRequired]]","v":"scf"},{"$f":"LOOKUP(Table146135142149156163170177184191198205212219226233240247254261[[#This Row],[Emission Sub-source]],Table44[Fuel Type],Table44[CO2 Factor \n(kg / Unit)])","v":5.4440000000000002E-2},{"$f":"LOOKUP(Table146135142149156163170177184191198205212219226233240247254261[[#This Row],[Emission Sub-source]],Table44[Fuel Type],Table44[CH4 Factor \n(g / unit)])","v":1.0300000000000001E-3},{"$f":"(Table146135142149156163170177184191198205212219226233240247254261[[#This Row],[CH4]]/1000)*25","v":2.5750000000000002E-5},{"$f":"LOOKUP(Table146135142149156163170177184191198205212219226233240247254261[[#This Row],[Emission Sub-source]],Table44[Fuel Type],Table44[N2O Factor \n(g / unit)])","v":1E-4},{"$f":"(Table146135142149156163170177184191198205212219226233240247254261[[#This Row],[N2O]]/1000)*298","v":2.9800000000000003E-5},{"$f":"(LOOKUP(Table146135142149156163170177184191198205212219226233240247254261[[#This Row],[Emission Sub-source]],Table44[Fuel Type],Table44[GWP]))","v":0},{"$f":"Table146135142149156163170177184191198205212219226233240247254261[[#This Row],[Data \n(Corrected)]]*(LOOKUP(Table146135142149156163170177184191198205212219226233240247254261[[#This Row],[Emission Sub-source]],Table44[Fuel Type],Table44[Recycled CO2 Factor]))","v":0},{"$f":"Table146135142149156163170177184191198205212219226233240247254261[[#This Row],[Data \n(Corrected)]]*(LOOKUP(Table146135142149156163170177184191198205212219226233240247254261[[#This Row],[Emission Sub-source]],Table44[Fuel Type],Table44[Landfill CO2 Factor]))","v":0},{"$f":"Table146135142149156163170177184191198205212219226233240247254261[[#This Row],[Data \n(Corrected)]]*(LOOKUP(Table146135142149156163170177184191198205212219226233240247254261[[#This Row],[Emission Sub-source]],Table44[Fuel Type],Table44[Combusted CO2 Factor]))","v":0},{"$f":"((Table146135142149156163170177184191198205212219226233240247254261[[#This Row],[CO2]]+Table146135142149156163170177184191198205212219226233240247254261[[#This Row],[CH4 Corrected]]+Table146135142149156163170177184191198205212219226233240247254261[[#This Row],[N2O Corrected]]+Table146135142149156163170177184191198205212219226233240247254261[[#This Row],[GWP]]+Table146135142149156163170177184191198205212219226233240247254261[[#This Row],[Recycled]]+Table146135142149156163170177184191198205212219226233240247254261[[#This Row],[Landfill]]+Table146135142149156163170177184191198205212219226233240247254261[[#This Row],[Combusted]])*Table146135142149156163170177184191198205212219226233240247254261[[#This Row],[Data \n(Corrected)]])/1000","v":5.4495550000000001}]

{"sheet":"3.13","index":23,"n_rows":26,"n_cols":26,"rows_kept":26,"cut":false,"hidden":true,"merged":[]}
[]
[null,"Greenhouse Gas Emission Analysis - Customer Scope 1 & 2 - Leased Asset"]
[]
[null,"UK - DBEIS/DEFRA"]
[null,"Reporting \nyear","Entity","Location","Scope","Emission Source","Source Pseudonym","Emission Sub-source","Emission Pseudonym","Unit \nRequired","Data \n(Raw)","Unit Reported","Concatenate Units","Unit Conversion","Data \n(Corrected)","Unit\n(Corrected)","CO2","CH4","CH4 Corrected","N2O","N2O Corrected","GWP","Recycled","Landfill","Combusted","tCO2e Emission Equivalent"]
[null,2021,"Camira Fabrics Limited","Mirfield","Scope_1","Stationary",{"$f":"LOOKUP(Table146135136143150157164171178185192199206213220227234241248255262269[[#This Row],[Emission Source]],Table3578[Source],Table3578[Pseudonym])","v":"StationaryUS"},"Natural Gas",{"$f":"LOOKUP(Table146135136143150157164171178185192199206213220227234241248255262269[[#This Row],[Emission Sub-source]],Table125[[Emission ]],Table125[Pseudonym])","v":"NaturalGasUS"},{"$f":"LOOKUP(Table146135136143150157164171178185192199206213220227234241248255262269[[#This Row],[Emission Sub-source]],Table44[Fuel Type],Table44[Unit])","v":"scf"},100000,"scf",{"$f":"CONCATENATE(Table146135136143150157164171178185192199206213220227234241248255262269[[#This Row],[Unit Reported]],Table146135136143150157164171178185192199206213220227234241248255262269[[#This Row],[Unit \nRequired]])","v":"scfscf"},{"$f":"LOOKUP(Table146135136143150157164171178185192199206213220227234241248255262269[[#This Row],[Concatenate Units]],Table43[Concatenate],Table43[Multiply By])","v":1},{"$f":"Table146135136143150157164171178185192199206213220227234241248255262269[[#This Row],[Data \n(Raw)]]*Table146135136143150157164171178185192199206213220227234241248255262269[[#This Row],[Unit Conversion]]","v":100000},{"$f":"Table146135136143150157164171178185192199206213220227234241248255262269[[#This Row],[Unit \nRequired]]","v":"scf"},{"$f":"LOOKUP(Table146135136143150157164171178185192199206213220227234241248255262269[[#This Row],[Emission Sub-source]],Table44[Fuel Type],Table44[CO2 Factor \n(kg / Unit)])","v":5.4440000000000002E-2},{"$f":"LOOKUP(Table146135136143150157164171178185192199206213220227234241248255262269[[#This Row],[Emission Sub-source]],Table44[Fuel Type],Table44[CH4 Factor \n(g / unit)])","v":1.0300000000000001E-3},{"$f":"(Table146135136143150157164171178185192199206213220227234241248255262269[[#This Row],[CH4]]/1000)*25","v":2.5750000000000002E-5},{"$f":"LOOKUP(Table146135136143150157164171178185192199206213220227234241248255262269[[#This Row],[Emission Sub-source]],Table44[Fuel Type],Table44[N2O Factor \n(g / unit)])","v":1E-4},{"$f":"(Table146135136143150157164171178185192199206213220227234241248255262269[[#This Row],[N2O]]/1000)*298","v":2.9800000000000003E-5},{"$f":"(LOOKUP(Table146135136143150157164171178185192199206213220227234241248255262269[[#This Row],[Emission Sub-source]],Table44[Fuel Type],Table44[GWP]))","v":0},{"$f":"Table146135136143150157164171178185192199206213220227234241248255262269[[#This Row],[Data \n(Corrected)]]*(LOOKUP(Table146135136143150157164171178185192199206213220227234241248255262269[[#This Row],[Emission Sub-source]],Table44[Fuel Type],Table44[Recycled CO2 Factor]))","v":0},{"$f":"Table146135136143150157164171178185192199206213220227234241248255262269[[#This Row],[Data \n(Corrected)]]*(LOOKUP(Table146135136143150157164171178185192199206213220227234241248255262269[[#This Row],[Emission Sub-source]],Table44[Fuel Type],Table44[Landfill CO2 Factor]))","v":0},{"$f":"Table146135136143150157164171178185192199206213220227234241248255262269[[#This Row],[Data \n(Corrected)]]*(LOOKUP(Table146135136143150157164171178185192199206213220227234241248255262269[[#This Row],[Emission Sub-source]],Table44[Fuel Type],Table44[Combusted CO2 Factor]))","v":0},{"$f":"((Table146135136143150157164171178185192199206213220227234241248255262269[[#This Row],[CO2]]+Table146135136143150157164171178185192199206213220227234241248255262269[[#This Row],[CH4 Corrected]]+Table146135136143150157164171178185192199206213220227234241248255262269[[#This Row],[N2O Corrected]]+Table146135136143150157164171178185192199206213220227234241248255262269[[#This Row],[GWP]]+Table146135136143150157164171178185192199206213220227234241248255262269[[#This Row],[Recycled]]+Table146135136143150157164171178185192199206213220227234241248255262269[[#This Row],[Landfill]]+Table146135136143150157164171178185192199206213220227234241248255262269[[#This Row],[Combusted]])*Table146135136143150157164171178185192199206213220227234241248255262269[[#This Row],[Data \n(Corrected)]])/1000","v":5.4495550000000001}]
[]
[null,"Reporting \nyear","Entity","Location","Scope","Emission Source","Source Pseudonym","Emission Sub-source","Emission Pseudonym","Unit \nRequired","Data \n(Raw)","Unit Reported","Concatenate Units","Unit Conversion","Data \n(Corrected)","Unit\n(Corrected)","CO2","CH4","CH4 Corrected","N2O","N2O Corrected","GWP","Recycled","Landfill","Combusted","tCO2e Emission Equivalent"]
[null,2021,"Camira Fabrics Limited","Meltham","Scope_1","Stationary",{"$f":"LOOKUP(Table146135136137144151158165172179186193200207214221228235242249256263270[[#This Row],[Emission Source]],Table3578[Source],Table3578[Pseudonym])","v":"StationaryUS"},"Natural Gas",{"$f":"LOOKUP(Table146135136137144151158165172179186193200207214221228235242249256263270[[#This Row],[Emission Sub-source]],Table125[[Emission ]],Table125[Pseudonym])","v":"NaturalGasUS"},{"$f":"LOOKUP(Table146135136137144151158165172179186193200207214221228235242249256263270[[#This Row],[Emission Sub-source]],Table44[Fuel Type],Table44[Unit])","v":"scf"},100000,"scf",{"$f":"CONCATENATE(Table146135136137144151158165172179186193200207214221228235242249256263270[[#This Row],[Unit Reported]],Table146135136137144151158165172179186193200207214221228235242249256263270[[#This Row],[Unit \nRequired]])","v":"scfscf"},{"$f":"LOOKUP(Table146135136137144151158165172179186193200207214221228235242249256263270[[#This Row],[Concatenate Units]],Table43[Concatenate],Table43[Multiply By])","v":1},{"$f":"Table146135136137144151158165172179186193200207214221228235242249256263270[[#This Row],[Data \n(Raw)]]*Table146135136137144151158165172179186193200207214221228235242249256263270[[#This Row],[Unit Conversion]]","v":100000},{"$f":"Table146135136137144151158165172179186193200207214221228235242249256263270[[#This Row],[Unit \nRequired]]","v":"scf"},{"$f":"LOOKUP(Table146135136137144151158165172179186193200207214221228235242249256263270[[#This Row],[Emission Sub-source]],Table44[Fuel Type],Table44[CO2 Factor \n(kg / Unit)])","v":5.4440000000000002E-2},{"$f":"LOOKUP(Table146135136137144151158165172179186193200207214221228235242249256263270[[#This Row],[Emission Sub-source]],Table44[Fuel Type],Table44[CH4 Factor \n(g / unit)])","v":1.0300000000000001E-3},{"$f":"(Table146135136137144151158165172179186193200207214221228235242249256263270[[#This Row],[CH4]]/1000)*25","v":2.5750000000000002E-5},{"$f":"LOOKUP(Table146135136137144151158165172179186193200207214221228235242249256263270[[#This Row],[Emission Sub-source]],Table44[Fuel Type],Table44[N2O Factor \n(g / unit)])","v":1E-4},{"$f":"(Table146135136137144151158165172179186193200207214221228235242249256263270[[#This Row],[N2O]]/1000)*298","v":2.9800000000000003E-5},{"$f":"(LOOKUP(Table146135136137144151158165172179186193200207214221228235242249256263270[[#This Row],[Emission Sub-source]],Table44[Fuel Type],Table44[GWP]))","v":0},{"$f":"Table146135136137144151158165172179186193200207214221228235242249256263270[[#This Row],[Data \n(Corrected)]]*(LOOKUP(Table146135136137144151158165172179186193200207214221228235242249256263270[[#This Row],[Emission Sub-source]],Table44[Fuel Type],Table44[Recycled CO2 Factor]))","v":0},{"$f":"Table146135136137144151158165172179186193200207214221228235242249256263270[[#This Row],[Data \n(Corrected)]]*(LOOKUP(Table146135136137144151158165172179186193200207214221228235242249256263270[[#This Row],[Emission Sub-source]],Table44[Fuel Type],Table44[Landfill CO2 Factor]))","v":0},{"$f":"Table146135136137144151158165172179186193200207214221228235242249256263270[[#This Row],[Data \n(Corrected)]]*(LOOKUP(Table146135136137144151158165172179186193200207214221228235242249256263270[[#This Row],[Emission Sub-source]],Table44[Fuel Type],Table44[Combusted CO2 Factor]))","v":0},{"$f":"((Table146135136137144151158165172179186193200207214221228235242249256263270[[#This Row],[CO2]]+Table146135136137144151158165172179186193200207214221228235242249256263270[[#This Row],[CH4 Corrected]]+Table146135136137144151158165172179186193200207214221228235242249256263270[[#This Row],[N2O Corrected]]+Table146135136137144151158165172179186193200207214221228235242249256263270[[#This Row],[GWP]]+Table146135136137144151158165172179186193200207214221228235242249256263270[[#This Row],[Recycled]]+Table146135136137144151158165172179186193200207214221228235242249256263270[[#This Row],[Landfill]]+Table146135136137144151158165172179186193200207214221228235242249256263270[[#This Row],[Combusted]])*Table146135136137144151158165172179186193200207214221228235242249256263270[[#This Row],[Data \n(Corrected)]])/1000","v":5.4495550000000001}]
[]
[null,"Reporting \nyear","Entity","Location","Scope","Emission Source","Source Pseudonym","Emission Sub-source","Emission Pseudonym","Unit \nRequired","Data \n(Raw)","Unit Reported","Concatenate Units","Unit Conversion","Data \n(Corrected)","Unit\n(Corrected)","CO2","CH4","CH4 Corrected","N2O","N2O Corrected","GWP","Recycled","Landfill","Combusted","tCO2e Emission Equivalent"]
[null,2021,"Camira Fabrics Limited","Nottingham","Scope_1","Stationary",{"$f":"LOOKUP(Table146135136137138145152159166173180187194201208215222229236243250257264271[[#This Row],[Emission Source]],Table3578[Source],Table3578[Pseudonym])","v":"StationaryUS"},"Natural Gas",{"$f":"LOOKUP(Table146135136137138145152159166173180187194201208215222229236243250257264271[[#This Row],[Emission Sub-source]],Table125[[Emission ]],Table125[Pseudonym])","v":"NaturalGasUS"},{"$f":"LOOKUP(Table146135136137138145152159166173180187194201208215222229236243250257264271[[#This Row],[Emission Sub-source]],Table44[Fuel Type],Table44[Unit])","v":"scf"},100000,"scf",{"$f":"CONCATENATE(Table146135136137138145152159166173180187194201208215222229236243250257264271[[#This Row],[Unit Reported]],Table146135136137138145152159166173180187194201208215222229236243250257264271[[#This Row],[Unit \nRequired]])","v":"scfscf"},{"$f":"LOOKUP(Table146135136137138145152159166173180187194201208215222229236243250257264271[[#This Row],[Concatenate Units]],Table43[Concatenate],Table43[Multiply By])","v":1},{"$f":"Table146135136137138145152159166173180187194201208215222229236243250257264271[[#This Row],[Data \n(Raw)]]*Table146135136137138145152159166173180187194201208215222229236243250257264271[[#This Row],[Unit Conversion]]","v":100000},{"$f":"Table146135136137138145152159166173180187194201208215222229236243250257264271[[#This Row],[Unit \nRequired]]","v":"scf"},{"$f":"LOOKUP(Table146135136137138145152159166173180187194201208215222229236243250257264271[[#This Row],[Emission Sub-source]],Table44[Fuel Type],Table44[CO2 Factor \n(kg / Unit)])","v":5.4440000000000002E-2},{"$f":"LOOKUP(Table146135136137138145152159166173180187194201208215222229236243250257264271[[#This Row],[Emission Sub-source]],Table44[Fuel Type],Table44[CH4 Factor \n(g / unit)])","v":1.0300000000000001E-3},{"$f":"(Table146135136137138145152159166173180187194201208215222229236243250257264271[[#This Row],[CH4]]/1000)*25","v":2.5750000000000002E-5},{"$f":"LOOKUP(Table146135136137138145152159166173180187194201208215222229236243250257264271[[#This Row],[Emission Sub-source]],Table44[Fuel Type],Table44[N2O Factor \n(g / unit)])","v":1E-4},{"$f":"(Table146135136137138145152159166173180187194201208215222229236243250257264271[[#This Row],[N2O]]/1000)*298","v":2.9800000000000003E-5},{"$f":"(LOOKUP(Table146135136137138145152159166173180187194201208215222229236243250257264271[[#This Row],[Emission Sub-source]],Table44[Fuel Type],Table44[GWP]))","v":0},{"$f":"Table146135136137138145152159166173180187194201208215222229236243250257264271[[#This Row],[Data \n(Corrected)]]*(LOOKUP(Table146135136137138145152159166173180187194201208215222229236243250257264271[[#This Row],[Emission Sub-source]],Table44[Fuel Type],Table44[Recycled CO2 Factor]))","v":0},{"$f":"Table146135136137138145152159166173180187194201208215222229236243250257264271[[#This Row],[Data \n(Corrected)]]*(LOOKUP(Table146135136137138145152159166173180187194201208215222229236243250257264271[[#This Row],[Emission Sub-source]],Table44[Fuel Type],Table44[Landfill CO2 Factor]))","v":0},{"$f":"Table146135136137138145152159166173180187194201208215222229236243250257264271[[#This Row],[Data \n(Corrected)]]*(LOOKUP(Table146135136137138145152159166173180187194201208215222229236243250257264271[[#This Row],[Emission Sub-source]],Table44[Fuel Type],Table44[Combusted CO2 Factor]))","v":0},{"$f":"((Table146135136137138145152159166173180187194201208215222229236243250257264271[[#This Row],[CO2]]+Table146135136137138145152159166173180187194201208215222229236243250257264271[[#This Row],[CH4 Corrected]]+Table146135136137138145152159166173180187194201208215222229236243250257264271[[#This Row],[N2O Corrected]]+Table146135136137138145152159166173180187194201208215222229236243250257264271[[#This Row],[GWP]]+Table146135136137138145152159166173180187194201208215222229236243250257264271[[#This Row],[Recycled]]+Table146135136137138145152159166173180187194201208215222229236243250257264271[[#This Row],[Landfill]]+Table146135136137138145152159166173180187194201208215222229236243250257264271[[#This Row],[Combusted]])*Table146135136137138145152159166173180187194201208215222229236243250257264271[[#This Row],[Data \n(Corrected)]])/1000","v":5.4495550000000001}]
[]
[null,"Reporting \nyear","Entity","Location","Scope","Emission Source","Source Pseudonym","Emission Sub-source","Emission Pseudonym","Unit \nRequired","Data \n(Raw)","Unit Reported","Concatenate Units","Unit Conversion","Data \n(Corrected)","Unit\n(Corrected)","CO2","CH4","CH4 Corrected","N2O","N2O Corrected","GWP","Recycled","Landfill","Combusted","tCO2e Emission Equivalent"]
[null,2021,"Camira Fabrics Limited","Birkby","Scope_1","Stationary",{"$f":"LOOKUP(Table146135136137138139146153160167174181188195202209216223230237244251258265272[[#This Row],[Emission Source]],Table3578[Source],Table3578[Pseudonym])","v":"StationaryUS"},"Natural Gas",{"$f":"LOOKUP(Table146135136137138139146153160167174181188195202209216223230237244251258265272[[#This Row],[Emission Sub-source]],Table125[[Emission ]],Table125[Pseudonym])","v":"NaturalGasUS"},{"$f":"LOOKUP(Table146135136137138139146153160167174181188195202209216223230237244251258265272[[#This Row],[Emission Sub-source]],Table44[Fuel Type],Table44[Unit])","v":"scf"},100000,"scf",{"$f":"CONCATENATE(Table146135136137138139146153160167174181188195202209216223230237244251258265272[[#This Row],[Unit Reported]],Table146135136137138139146153160167174181188195202209216223230237244251258265272[[#This Row],[Unit \nRequired]])","v":"scfscf"},{"$f":"LOOKUP(Table146135136137138139146153160167174181188195202209216223230237244251258265272[[#This Row],[Concatenate Units]],Table43[Concatenate],Table43[Multiply By])","v":1},{"$f":"Table146135136137138139146153160167174181188195202209216223230237244251258265272[[#This Row],[Data \n(Raw)]]*Table146135136137138139146153160167174181188195202209216223230237244251258265272[[#This Row],[Unit Conversion]]","v":100000},{"$f":"Table146135136137138139146153160167174181188195202209216223230237244251258265272[[#This Row],[Unit \nRequired]]","v":"scf"},{"$f":"LOOKUP(Table146135136137138139146153160167174181188195202209216223230237244251258265272[[#This Row],[Emission Sub-source]],Table44[Fuel Type],Table44[CO2 Factor \n(kg / Unit)])","v":5.4440000000000002E-2},{"$f":"LOOKUP(Table146135136137138139146153160167174181188195202209216223230237244251258265272[[#This Row],[Emission Sub-source]],Table44[Fuel Type],Table44[CH4 Factor \n(g / unit)])","v":1.0300000000000001E-3},{"$f":"(Table146135136137138139146153160167174181188195202209216223230237244251258265272[[#This Row],[CH4]]/1000)*25","v":2.5750000000000002E-5},{"$f":"LOOKUP(Table146135136137138139146153160167174181188195202209216223230237244251258265272[[#This Row],[Emission Sub-source]],Table44[Fuel Type],Table44[N2O Factor \n(g / unit)])","v":1E-4},{"$f":"(Table146135136137138139146153160167174181188195202209216223230237244251258265272[[#This Row],[N2O]]/1000)*298","v":2.9800000000000003E-5},{"$f":"(LOOKUP(Table146135136137138139146153160167174181188195202209216223230237244251258265272[[#This Row],[Emission Sub-source]],Table44[Fuel Type],Table44[GWP]))","v":0},{"$f":"Table146135136137138139146153160167174181188195202209216223230237244251258265272[[#This Row],[Data \n(Corrected)]]*(LOOKUP(Table146135136137138139146153160167174181188195202209216223230237244251258265272[[#This Row],[Emission Sub-source]],Table44[Fuel Type],Table44[Recycled CO2 Factor]))","v":0},{"$f":"Table146135136137138139146153160167174181188195202209216223230237244251258265272[[#This Row],[Data \n(Corrected)]]*(LOOKUP(Table146135136137138139146153160167174181188195202209216223230237244251258265272[[#This Row],[Emission Sub-source]],Table44[Fuel Type],Table44[Landfill CO2 Factor]))","v":0},{"$f":"Table146135136137138139146153160167174181188195202209216223230237244251258265272[[#This Row],[Data \n(Corrected)]]*(LOOKUP(Table146135136137138139146153160167174181188195202209216223230237244251258265272[[#This Row],[Emission Sub-source]],Table44[Fuel Type],Table44[Combusted CO2 Factor]))","v":0},{"$f":"((Table146135136137138139146153160167174181188195202209216223230237244251258265272[[#This Row],[CO2]]+Table146135136137138139146153160167174181188195202209216223230237244251258265272[[#This Row],[CH4 Corrected]]+Table146135136137138139146153160167174181188195202209216223230237244251258265272[[#This Row],[N2O Corrected]]+Table146135136137138139146153160167174181188195202209216223230237244251258265272[[#This Row],[GWP]]+Table146135136137138139146153160167174181188195202209216223230237244251258265272[[#This Row],[Recycled]]+Table146135136137138139146153160167174181188195202209216223230237244251258265272[[#This Row],[Landfill]]+Table146135136137138139146153160167174181188195202209216223230237244251258265272[[#This Row],[Combusted]])*Table146135136137138139146153160167174181188195202209216223230237244251258265272[[#This Row],[Data \n(Corrected)]])/1000","v":5.4495550000000001}]
[]
[null,"Reporting \nyear","Entity","Location","Scope","Emission Source","Source Pseudonym","Emission Sub-source","Emission Pseudonym","Unit \nRequired","Data \n(Raw)","Unit Reported","Concatenate Units","Unit Conversion","Data \n(Corrected)","Unit\n(Corrected)","CO2","CH4","CH4 Corrected","N2O","N2O Corrected","GWP","Recycled","Landfill","Combusted","tCO2e Emission Equivalent"]
[null,2021,"Camira Fabrics Limited","Holmfirth","Scope_1","Stationary",{"$f":"LOOKUP(Table146135136137138140147154161168175182189196203210217224231238245252259266273[[#This Row],[Emission Source]],Table3578[Source],Table3578[Pseudonym])","v":"StationaryUS"},"Natural Gas",{"$f":"LOOKUP(Table146135136137138140147154161168175182189196203210217224231238245252259266273[[#This Row],[Emission Sub-source]],Table125[[Emission ]],Table125[Pseudonym])","v":"NaturalGasUS"},{"$f":"LOOKUP(Table146135136137138140147154161168175182189196203210217224231238245252259266273[[#This Row],[Emission Sub-source]],Table44[Fuel Type],Table44[Unit])","v":"scf"},100000,"scf",{"$f":"CONCATENATE(Table146135136137138140147154161168175182189196203210217224231238245252259266273[[#This Row],[Unit Reported]],Table146135136137138140147154161168175182189196203210217224231238245252259266273[[#This Row],[Unit \nRequired]])","v":"scfscf"},{"$f":"LOOKUP(Table146135136137138140147154161168175182189196203210217224231238245252259266273[[#This Row],[Concatenate Units]],Table43[Concatenate],Table43[Multiply By])","v":1},{"$f":"Table146135136137138140147154161168175182189196203210217224231238245252259266273[[#This Row],[Data \n(Raw)]]*Table146135136137138140147154161168175182189196203210217224231238245252259266273[[#This Row],[Unit Conversion]]","v":100000},{"$f":"Table146135136137138140147154161168175182189196203210217224231238245252259266273[[#This Row],[Unit \nRequired]]","v":"scf"},{"$f":"LOOKUP(Table146135136137138140147154161168175182189196203210217224231238245252259266273[[#This Row],[Emission Sub-source]],Table44[Fuel Type],Table44[CO2 Factor \n(kg / Unit)])","v":5.4440000000000002E-2},{"$f":"LOOKUP(Table146135136137138140147154161168175182189196203210217224231238245252259266273[[#This Row],[Emission Sub-source]],Table44[Fuel Type],Table44[CH4 Factor \n(g / unit)])","v":1.0300000000000001E-3},{"$f":"(Table146135136137138140147154161168175182189196203210217224231238245252259266273[[#This Row],[CH4]]/1000)*25","v":2.5750000000000002E-5},{"$f":"LOOKUP(Table146135136137138140147154161168175182189196203210217224231238245252259266273[[#This Row],[Emission Sub-source]],Table44[Fuel Type],Table44[N2O Factor \n(g / unit)])","v":1E-4},{"$f":"(Table146135136137138140147154161168175182189196203210217224231238245252259266273[[#This Row],[N2O]]/1000)*298","v":2.9800000000000003E-5},{"$f":"(LOOKUP(Table146135136137138140147154161168175182189196203210217224231238245252259266273[[#This Row],[Emission Sub-source]],Table44[Fuel Type],Table44[GWP]))","v":0},{"$f":"Table146135136137138140147154161168175182189196203210217224231238245252259266273[[#This Row],[Data \n(Corrected)]]*(LOOKUP(Table146135136137138140147154161168175182189196203210217224231238245252259266273[[#This Row],[Emission Sub-source]],Table44[Fuel Type],Table44[Recycled CO2 Factor]))","v":0},{"$f":"Table146135136137138140147154161168175182189196203210217224231238245252259266273[[#This Row],[Data \n(Corrected)]]*(LOOKUP(Table146135136137138140147154161168175182189196203210217224231238245252259266273[[#This Row],[Emission Sub-source]],Table44[Fuel Type],Table44[Landfill CO2 Factor]))","v":0},{"$f":"Table146135136137138140147154161168175182189196203210217224231238245252259266273[[#This Row],[Data \n(Corrected)]]*(LOOKUP(Table146135136137138140147154161168175182189196203210217224231238245252259266273[[#This Row],[Emission Sub-source]],Table44[Fuel Type],Table44[Combusted CO2 Factor]))","v":0},{"$f":"((Table146135136137138140147154161168175182189196203210217224231238245252259266273[[#This Row],[CO2]]+Table146135136137138140147154161168175182189196203210217224231238245252259266273[[#This Row],[CH4 Corrected]]+Table146135136137138140147154161168175182189196203210217224231238245252259266273[[#This Row],[N2O Corrected]]+Table146135136137138140147154161168175182189196203210217224231238245252259266273[[#This Row],[GWP]]+Table146135136137138140147154161168175182189196203210217224231238245252259266273[[#This Row],[Recycled]]+Table146135136137138140147154161168175182189196203210217224231238245252259266273[[#This Row],[Landfill]]+Table146135136137138140147154161168175182189196203210217224231238245252259266273[[#This Row],[Combusted]])*Table146135136137138140147154161168175182189196203210217224231238245252259266273[[#This Row],[Data \n(Corrected)]])/1000","v":5.4495550000000001}]
[]
[null,"EUR - ??"]
[null,"Reporting \nyear","Entity","Location","Scope","Emission Source","Source Pseudonym","Emission Sub-source","Emission Pseudonym","Unit \nRequired","Data \n(Raw)","Unit Reported","Concatenate Units","Unit Conversion","Data \n(Corrected)","Unit\n(Corrected)","CO2","CH4","CH4 Corrected","N2O","N2O Corrected","GWP","Recycled","Landfill","Combusted","tCO2e Emission Equivalent"]
[null,2021,"UAB Camira Fabrics","Lithuania","Scope_1","Stationary",{"$f":"LOOKUP(Table146135136137138140141148155162169176183190197204211218225232239246253260267274[[#This Row],[Emission Source]],Table3578[Source],Table3578[Pseudonym])","v":"StationaryUS"},"Natural Gas",{"$f":"LOOKUP(Table146135136137138140141148155162169176183190197204211218225232239246253260267274[[#This Row],[Emission Sub-source]],Table125[[Emission ]],Table125[Pseudonym])","v":"NaturalGasUS"},{"$f":"LOOKUP(Table146135136137138140141148155162169176183190197204211218225232239246253260267274[[#This Row],[Emission Sub-source]],Table44[Fuel Type],Table44[Unit])","v":"scf"},100000,"scf",{"$f":"CONCATENATE(Table146135136137138140141148155162169176183190197204211218225232239246253260267274[[#This Row],[Unit Reported]],Table146135136137138140141148155162169176183190197204211218225232239246253260267274[[#This Row],[Unit \nRequired]])","v":"scfscf"},{"$f":"LOOKUP(Table146135136137138140141148155162169176183190197204211218225232239246253260267274[[#This Row],[Concatenate Units]],Table43[Concatenate],Table43[Multiply By])","v":1},{"$f":"Table146135136137138140141148155162169176183190197204211218225232239246253260267274[[#This Row],[Data \n(Raw)]]*Table146135136137138140141148155162169176183190197204211218225232239246253260267274[[#This Row],[Unit Conversion]]","v":100000},{"$f":"Table146135136137138140141148155162169176183190197204211218225232239246253260267274[[#This Row],[Unit \nRequired]]","v":"scf"},{"$f":"LOOKUP(Table146135136137138140141148155162169176183190197204211218225232239246253260267274[[#This Row],[Emission Sub-source]],Table44[Fuel Type],Table44[CO2 Factor \n(kg / Unit)])","v":5.4440000000000002E-2},{"$f":"LOOKUP(Table146135136137138140141148155162169176183190197204211218225232239246253260267274[[#This Row],[Emission Sub-source]],Table44[Fuel Type],Table44[CH4 Factor \n(g / unit)])","v":1.0300000000000001E-3},{"$f":"(Table146135136137138140141148155162169176183190197204211218225232239246253260267274[[#This Row],[CH4]]/1000)*25","v":2.5750000000000002E-5},{"$f":"LOOKUP(Table146135136137138140141148155162169176183190197204211218225232239246253260267274[[#This Row],[Emission Sub-source]],Table44[Fuel Type],Table44[N2O Factor \n(g / unit)])","v":1E-4},{"$f":"(Table146135136137138140141148155162169176183190197204211218225232239246253260267274[[#This Row],[N2O]]/1000)*298","v":2.9800000000000003E-5},{"$f":"(LOOKUP(Table146135136137138140141148155162169176183190197204211218225232239246253260267274[[#This Row],[Emission Sub-source]],Table44[Fuel Type],Table44[GWP]))","v":0},{"$f":"Table146135136137138140141148155162169176183190197204211218225232239246253260267274[[#This Row],[Data \n(Corrected)]]*(LOOKUP(Table146135136137138140141148155162169176183190197204211218225232239246253260267274[[#This Row],[Emission Sub-source]],Table44[Fuel Type],Table44[Recycled CO2 Factor]))","v":0},{"$f":"Table146135136137138140141148155162169176183190197204211218225232239246253260267274[[#This Row],[Data \n(Corrected)]]*(LOOKUP(Table146135136137138140141148155162169176183190197204211218225232239246253260267274[[#This Row],[Emission Sub-source]],Table44[Fuel Type],Table44[Landfill CO2 Factor]))","v":0},{"$f":"Table146135136137138140141148155162169176183190197204211218225232239246253260267274[[#This Row],[Data \n(Corrected)]]*(LOOKUP(Table146135136137138140141148155162169176183190197204211218225232239246253260267274[[#This Row],[Emission Sub-source]],Table44[Fuel Type],Table44[Combusted CO2 Factor]))","v":0},{"$f":"((Table146135136137138140141148155162169176183190197204211218225232239246253260267274[[#This Row],[CO2]]+Table146135136137138140141148155162169176183190197204211218225232239246253260267274[[#This Row],[CH4 Corrected]]+Table146135136137138140141148155162169176183190197204211218225232239246253260267274[[#This Row],[N2O Corrected]]+Table146135136137138140141148155162169176183190197204211218225232239246253260267274[[#This Row],[GWP]]+Table146135136137138140141148155162169176183190197204211218225232239246253260267274[[#This Row],[Recycled]]+Table146135136137138140141148155162169176183190197204211218225232239246253260267274[[#This Row],[Landfill]]+Table146135136137138140141148155162169176183190197204211218225232239246253260267274[[#This Row],[Combusted]])*Table146135136137138140141148155162169176183190197204211218225232239246253260267274[[#This Row],[Data \n(Corrected)]])/1000","v":5.4495550000000001}]
[]
[null,"US - EPA"]
[null,"Reporting \nyear","Entity","Location","Scope","Emission Source","Source Pseudonym","Emission Sub-source","Emission Pseudonym","Unit \nRequired","Data \n(Raw)","Unit Reported","Concatenate Units","Unit Conversion","Data \n(Corrected)","Unit\n(Corrected)","CO2","CH4","CH4 Corrected","N2O","N2O Corrected","GWP","Recycled","Landfill","Combusted","tCO2e Emission Equivalent"]
[null,2021,"Camira Group, Inc","Grand Rapids","Scope_1","Stationary",{"$f":"LOOKUP(Table146135142149156163170177184191198205212219226233240247254261268[[#This Row],[Emission Source]],Table3578[Source],Table3578[Pseudonym])","v":"StationaryUS"},"Natural Gas",{"$f":"LOOKUP(Table146135142149156163170177184191198205212219226233240247254261268[[#This Row],[Emission Sub-source]],Table125[[Emission ]],Table125[Pseudonym])","v":"NaturalGasUS"},{"$f":"LOOKUP(Table146135142149156163170177184191198205212219226233240247254261268[[#This Row],[Emission Sub-source]],Table44[Fuel Type],Table44[Unit])","v":"scf"},100000,"scf",{"$f":"CONCATENATE(Table146135142149156163170177184191198205212219226233240247254261268[[#This Row],[Unit Reported]],Table146135142149156163170177184191198205212219226233240247254261268[[#This Row],[Unit \nRequired]])","v":"scfscf"},{"$f":"LOOKUP(Table146135142149156163170177184191198205212219226233240247254261268[[#This Row],[Concatenate Units]],Table43[Concatenate],Table43[Multiply By])","v":1},{"$f":"Table146135142149156163170177184191198205212219226233240247254261268[[#This Row],[Data \n(Raw)]]*Table146135142149156163170177184191198205212219226233240247254261268[[#This Row],[Unit Conversion]]","v":100000},{"$f":"Table146135142149156163170177184191198205212219226233240247254261268[[#This Row],[Unit \nRequired]]","v":"scf"},{"$f":"LOOKUP(Table146135142149156163170177184191198205212219226233240247254261268[[#This Row],[Emission Sub-source]],Table44[Fuel Type],Table44[CO2 Factor \n(kg / Unit)])","v":5.4440000000000002E-2},{"$f":"LOOKUP(Table146135142149156163170177184191198205212219226233240247254261268[[#This Row],[Emission Sub-source]],Table44[Fuel Type],Table44[CH4 Factor \n(g / unit)])","v":1.0300000000000001E-3},{"$f":"(Table146135142149156163170177184191198205212219226233240247254261268[[#This Row],[CH4]]/1000)*25","v":2.5750000000000002E-5},{"$f":"LOOKUP(Table146135142149156163170177184191198205212219226233240247254261268[[#This Row],[Emission Sub-source]],Table44[Fuel Type],Table44[N2O Factor \n(g / unit)])","v":1E-4},{"$f":"(Table146135142149156163170177184191198205212219226233240247254261268[[#This Row],[N2O]]/1000)*298","v":2.9800000000000003E-5},{"$f":"(LOOKUP(Table146135142149156163170177184191198205212219226233240247254261268[[#This Row],[Emission Sub-source]],Table44[Fuel Type],Table44[GWP]))","v":0},{"$f":"Table146135142149156163170177184191198205212219226233240247254261268[[#This Row],[Data \n(Corrected)]]*(LOOKUP(Table146135142149156163170177184191198205212219226233240247254261268[[#This Row],[Emission Sub-source]],Table44[Fuel Type],Table44[Recycled CO2 Factor]))","v":0},{"$f":"Table146135142149156163170177184191198205212219226233240247254261268[[#This Row],[Data \n(Corrected)]]*(LOOKUP(Table146135142149156163170177184191198205212219226233240247254261268[[#This Row],[Emission Sub-source]],Table44[Fuel Type],Table44[Landfill CO2 Factor]))","v":0},{"$f":"Table146135142149156163170177184191198205212219226233240247254261268[[#This Row],[Data \n(Corrected)]]*(LOOKUP(Table146135142149156163170177184191198205212219226233240247254261268[[#This Row],[Emission Sub-source]],Table44[Fuel Type],Table44[Combusted CO2 Factor]))","v":0},{"$f":"((Table146135142149156163170177184191198205212219226233240247254261268[[#This Row],[CO2]]+Table146135142149156163170177184191198205212219226233240247254261268[[#This Row],[CH4 Corrected]]+Table146135142149156163170177184191198205212219226233240247254261268[[#This Row],[N2O Corrected]]+Table146135142149156163170177184191198205212219226233240247254261268[[#This Row],[GWP]]+Table146135142149156163170177184191198205212219226233240247254261268[[#This Row],[Recycled]]+Table146135142149156163170177184191198205212219226233240247254261268[[#This Row],[Landfill]]+Table146135142149156163170177184191198205212219226233240247254261268[[#This Row],[Combusted]])*Table146135142149156163170177184191198205212219226233240247254261268[[#This Row],[Data \n(Corrected)]])/1000","v":5.4495550000000001}]

{"sheet":"3.14","index":24,"n_rows":26,"n_cols":26,"rows_kept":26,"cut":false,"hidden":true,"merged":[]}
[]
[null,"Greenhouse Gas Emission Analysis - Customer Scope 1 & 2 - Franchise"]
[]
[null,"UK - DBEIS/DEFRA"]
[null,"Reporting \nyear","Entity","Location","Scope","Emission Source","Source Pseudonym","Emission Sub-source","Emission Pseudonym","Unit \nRequired","Data \n(Raw)","Unit Reported","Concatenate Units","Unit Conversion","Data \n(Corrected)","Unit\n(Corrected)","CO2","CH4","CH4 Corrected","N2O","N2O Corrected","GWP","Recycled","Landfill","Combusted","tCO2e Emission Equivalent"]
[null,2021,"Camira Fabrics Limited","Mirfield","Scope_1","Stationary",{"$f":"LOOKUP(Table146135136143150157164171178185192199206213220227234241248255262269276[[#This Row],[Emission Source]],Table3578[Source],Table3578[Pseudonym])","v":"StationaryUS"},"Natural Gas",{"$f":"LOOKUP(Table146135136143150157164171178185192199206213220227234241248255262269276[[#This Row],[Emission Sub-source]],Table125[[Emission ]],Table125[Pseudonym])","v":"NaturalGasUS"},{"$f":"LOOKUP(Table146135136143150157164171178185192199206213220227234241248255262269276[[#This Row],[Emission Sub-source]],Table44[Fuel Type],Table44[Unit])","v":"scf"},100000,"scf",{"$f":"CONCATENATE(Table146135136143150157164171178185192199206213220227234241248255262269276[[#This Row],[Unit Reported]],Table146135136143150157164171178185192199206213220227234241248255262269276[[#This Row],[Unit \nRequired]])","v":"scfscf"},{"$f":"LOOKUP(Table146135136143150157164171178185192199206213220227234241248255262269276[[#This Row],[Concatenate Units]],Table43[Concatenate],Table43[Multiply By])","v":1},{"$f":"Table146135136143150157164171178185192199206213220227234241248255262269276[[#This Row],[Data \n(Raw)]]*Table146135136143150157164171178185192199206213220227234241248255262269276[[#This Row],[Unit Conversion]]","v":100000},{"$f":"Table146135136143150157164171178185192199206213220227234241248255262269276[[#This Row],[Unit \nRequired]]","v":"scf"},{"$f":"LOOKUP(Table146135136143150157164171178185192199206213220227234241248255262269276[[#This Row],[Emission Sub-source]],Table44[Fuel Type],Table44[CO2 Factor \n(kg / Unit)])","v":5.4440000000000002E-2},{"$f":"LOOKUP(Table146135136143150157164171178185192199206213220227234241248255262269276[[#This Row],[Emission Sub-source]],Table44[Fuel Type],Table44[CH4 Factor \n(g / unit)])","v":1.0300000000000001E-3},{"$f":"(Table146135136143150157164171178185192199206213220227234241248255262269276[[#This Row],[CH4]]/1000)*25","v":2.5750000000000002E-5},{"$f":"LOOKUP(Table146135136143150157164171178185192199206213220227234241248255262269276[[#This Row],[Emission Sub-source]],Table44[Fuel Type],Table44[N2O Factor \n(g / unit)])","v":1E-4},{"$f":"(Table146135136143150157164171178185192199206213220227234241248255262269276[[#This Row],[N2O]]/1000)*298","v":2.9800000000000003E-5},{"$f":"(LOOKUP(Table146135136143150157164171178185192199206213220227234241248255262269276[[#This Row],[Emission Sub-source]],Table44[Fuel Type],Table44[GWP]))","v":0},{"$f":"Table146135136143150157164171178185192199206213220227234241248255262269276[[#This Row],[Data \n(Corrected)]]*(LOOKUP(Table146135136143150157164171178185192199206213220227234241248255262269276[[#This Row],[Emission Sub-source]],Table44[Fuel Type],Table44[Recycled CO2 Factor]))","v":0},{"$f":"Table146135136143150157164171178185192199206213220227234241248255262269276[[#This Row],[Data \n(Corrected)]]*(LOOKUP(Table146135136143150157164171178185192199206213220227234241248255262269276[[#This Row],[Emission Sub-source]],Table44[Fuel Type],Table44[Landfill CO2 Factor]))","v":0},{"$f":"Table146135136143150157164171178185192199206213220227234241248255262269276[[#This Row],[Data \n(Corrected)]]*(LOOKUP(Table146135136143150157164171178185192199206213220227234241248255262269276[[#This Row],[Emission Sub-source]],Table44[Fuel Type],Table44[Combusted CO2 Factor]))","v":0},{"$f":"((Table146135136143150157164171178185192199206213220227234241248255262269276[[#This Row],[CO2]]+Table146135136143150157164171178185192199206213220227234241248255262269276[[#This Row],[CH4 Corrected]]+Table146135136143150157164171178185192199206213220227234241248255262269276[[#This Row],[N2O Corrected]]+Table146135136143150157164171178185192199206213220227234241248255262269276[[#This Row],[GWP]]+Table146135136143150157164171178185192199206213220227234241248255262269276[[#This Row],[Recycled]]+Table146135136143150157164171178185192199206213220227234241248255262269276[[#This Row],[Landfill]]+Table146135136143150157164171178185192199206213220227234241248255262269276[[#This Row],[Combusted]])*Table146135136143150157164171178185192199206213220227234241248255262269276[[#This Row],[Data \n(Corrected)]])/1000","v":5.4495550000000001}]
[]
[null,"Reporting \nyear","Entity","Location","Scope","Emission Source","Source Pseudonym","Emission Sub-source","Emission Pseudonym","Unit \nRequired","Data \n(Raw)","Unit Reported","Concatenate Units","Unit Conversion","Data \n(Corrected)","Unit\n(Corrected)","CO2","CH4","CH4 Corrected","N2O","N2O Corrected","GWP","Recycled","Landfill","Combusted","tCO2e Emission Equivalent"]
[null,2021,"Camira Fabrics Limited","Meltham","Scope_1","Stationary",{"$f":"LOOKUP(Table146135136137144151158165172179186193200207214221228235242249256263270277[[#This Row],[Emission Source]],Table3578[Source],Table3578[Pseudonym])","v":"StationaryUS"},"Natural Gas",{"$f":"LOOKUP(Table146135136137144151158165172179186193200207214221228235242249256263270277[[#This Row],[Emission Sub-source]],Table125[[Emission ]],Table125[Pseudonym])","v":"NaturalGasUS"},{"$f":"LOOKUP(Table146135136137144151158165172179186193200207214221228235242249256263270277[[#This Row],[Emission Sub-source]],Table44[Fuel Type],Table44[Unit])","v":"scf"},100000,"scf",{"$f":"CONCATENATE(Table146135136137144151158165172179186193200207214221228235242249256263270277[[#This Row],[Unit Reported]],Table146135136137144151158165172179186193200207214221228235242249256263270277[[#This Row],[Unit \nRequired]])","v":"scfscf"},{"$f":"LOOKUP(Table146135136137144151158165172179186193200207214221228235242249256263270277[[#This Row],[Concatenate Units]],Table43[Concatenate],Table43[Multiply By])","v":1},{"$f":"Table146135136137144151158165172179186193200207214221228235242249256263270277[[#This Row],[Data \n(Raw)]]*Table146135136137144151158165172179186193200207214221228235242249256263270277[[#This Row],[Unit Conversion]]","v":100000},{"$f":"Table146135136137144151158165172179186193200207214221228235242249256263270277[[#This Row],[Unit \nRequired]]","v":"scf"},{"$f":"LOOKUP(Table146135136137144151158165172179186193200207214221228235242249256263270277[[#This Row],[Emission Sub-source]],Table44[Fuel Type],Table44[CO2 Factor \n(kg / Unit)])","v":5.4440000000000002E-2},{"$f":"LOOKUP(Table146135136137144151158165172179186193200207214221228235242249256263270277[[#This Row],[Emission Sub-source]],Table44[Fuel Type],Table44[CH4 Factor \n(g / unit)])","v":1.0300000000000001E-3},{"$f":"(Table146135136137144151158165172179186193200207214221228235242249256263270277[[#This Row],[CH4]]/1000)*25","v":2.5750000000000002E-5},{"$f":"LOOKUP(Table146135136137144151158165172179186193200207214221228235242249256263270277[[#This Row],[Emission Sub-source]],Table44[Fuel Type],Table44[N2O Factor \n(g / unit)])","v":1E-4},{"$f":"(Table146135136137144151158165172179186193200207214221228235242249256263270277[[#This Row],[N2O]]/1000)*298","v":2.9800000000000003E-5},{"$f":"(LOOKUP(Table146135136137144151158165172179186193200207214221228235242249256263270277[[#This Row],[Emission Sub-source]],Table44[Fuel Type],Table44[GWP]))","v":0},{"$f":"Table146135136137144151158165172179186193200207214221228235242249256263270277[[#This Row],[Data \n(Corrected)]]*(LOOKUP(Table146135136137144151158165172179186193200207214221228235242249256263270277[[#This Row],[Emission Sub-source]],Table44[Fuel Type],Table44[Recycled CO2 Factor]))","v":0},{"$f":"Table146135136137144151158165172179186193200207214221228235242249256263270277[[#This Row],[Data \n(Corrected)]]*(LOOKUP(Table146135136137144151158165172179186193200207214221228235242249256263270277[[#This Row],[Emission Sub-source]],Table44[Fuel Type],Table44[Landfill CO2 Factor]))","v":0},{"$f":"Table146135136137144151158165172179186193200207214221228235242249256263270277[[#This Row],[Data \n(Corrected)]]*(LOOKUP(Table146135136137144151158165172179186193200207214221228235242249256263270277[[#This Row],[Emission Sub-source]],Table44[Fuel Type],Table44[Combusted CO2 Factor]))","v":0},{"$f":"((Table146135136137144151158165172179186193200207214221228235242249256263270277[[#This Row],[CO2]]+Table146135136137144151158165172179186193200207214221228235242249256263270277[[#This Row],[CH4 Corrected]]+Table146135136137144151158165172179186193200207214221228235242249256263270277[[#This Row],[N2O Corrected]]+Table146135136137144151158165172179186193200207214221228235242249256263270277[[#This Row],[GWP]]+Table146135136137144151158165172179186193200207214221228235242249256263270277[[#This Row],[Recycled]]+Table146135136137144151158165172179186193200207214221228235242249256263270277[[#This Row],[Landfill]]+Table146135136137144151158165172179186193200207214221228235242249256263270277[[#This Row],[Combusted]])*Table146135136137144151158165172179186193200207214221228235242249256263270277[[#This Row],[Data \n(Corrected)]])/1000","v":5.4495550000000001}]
[]
[null,"Reporting \nyear","Entity","Location","Scope","Emission Source","Source Pseudonym","Emission Sub-source","Emission Pseudonym","Unit \nRequired","Data \n(Raw)","Unit Reported","Concatenate Units","Unit Conversion","Data \n(Corrected)","Unit\n(Corrected)","CO2","CH4","CH4 Corrected","N2O","N2O Corrected","GWP","Recycled","Landfill","Combusted","tCO2e Emission Equivalent"]
[null,2021,"Camira Fabrics Limited","Nottingham","Scope_1","Stationary",{"$f":"LOOKUP(Table146135136137138145152159166173180187194201208215222229236243250257264271278[[#This Row],[Emission Source]],Table3578[Source],Table3578[Pseudonym])","v":"StationaryUS"},"Natural Gas",{"$f":"LOOKUP(Table146135136137138145152159166173180187194201208215222229236243250257264271278[[#This Row],[Emission Sub-source]],Table125[[Emission ]],Table125[Pseudonym])","v":"NaturalGasUS"},{"$f":"LOOKUP(Table146135136137138145152159166173180187194201208215222229236243250257264271278[[#This Row],[Emission Sub-source]],Table44[Fuel Type],Table44[Unit])","v":"scf"},100000,"scf",{"$f":"CONCATENATE(Table146135136137138145152159166173180187194201208215222229236243250257264271278[[#This Row],[Unit Reported]],Table146135136137138145152159166173180187194201208215222229236243250257264271278[[#This Row],[Unit \nRequired]])","v":"scfscf"},{"$f":"LOOKUP(Table146135136137138145152159166173180187194201208215222229236243250257264271278[[#This Row],[Concatenate Units]],Table43[Concatenate],Table43[Multiply By])","v":1},{"$f":"Table146135136137138145152159166173180187194201208215222229236243250257264271278[[#This Row],[Data \n(Raw)]]*Table146135136137138145152159166173180187194201208215222229236243250257264271278[[#This Row],[Unit Conversion]]","v":100000},{"$f":"Table146135136137138145152159166173180187194201208215222229236243250257264271278[[#This Row],[Unit \nRequired]]","v":"scf"},{"$f":"LOOKUP(Table146135136137138145152159166173180187194201208215222229236243250257264271278[[#This Row],[Emission Sub-source]],Table44[Fuel Type],Table44[CO2 Factor \n(kg / Unit)])","v":5.4440000000000002E-2},{"$f":"LOOKUP(Table146135136137138145152159166173180187194201208215222229236243250257264271278[[#This Row],[Emission Sub-source]],Table44[Fuel Type],Table44[CH4 Factor \n(g / unit)])","v":1.0300000000000001E-3},{"$f":"(Table146135136137138145152159166173180187194201208215222229236243250257264271278[[#This Row],[CH4]]/1000)*25","v":2.5750000000000002E-5},{"$f":"LOOKUP(Table146135136137138145152159166173180187194201208215222229236243250257264271278[[#This Row],[Emission Sub-source]],Table44[Fuel Type],Table44[N2O Factor \n(g / unit)])","v":1E-4},{"$f":"(Table146135136137138145152159166173180187194201208215222229236243250257264271278[[#This Row],[N2O]]/1000)*298","v":2.9800000000000003E-5},{"$f":"(LOOKUP(Table146135136137138145152159166173180187194201208215222229236243250257264271278[[#This Row],[Emission Sub-source]],Table44[Fuel Type],Table44[GWP]))","v":0},{"$f":"Table146135136137138145152159166173180187194201208215222229236243250257264271278[[#This Row],[Data \n(Corrected)]]*(LOOKUP(Table146135136137138145152159166173180187194201208215222229236243250257264271278[[#This Row],[Emission Sub-source]],Table44[Fuel Type],Table44[Recycled CO2 Factor]))","v":0},{"$f":"Table146135136137138145152159166173180187194201208215222229236243250257264271278[[#This Row],[Data \n(Corrected)]]*(LOOKUP(Table146135136137138145152159166173180187194201208215222229236243250257264271278[[#This Row],[Emission Sub-source]],Table44[Fuel Type],Table44[Landfill CO2 Factor]))","v":0},{"$f":"Table146135136137138145152159166173180187194201208215222229236243250257264271278[[#This Row],[Data \n(Corrected)]]*(LOOKUP(Table146135136137138145152159166173180187194201208215222229236243250257264271278[[#This Row],[Emission Sub-source]],Table44[Fuel Type],Table44[Combusted CO2 Factor]))","v":0},{"$f":"((Table146135136137138145152159166173180187194201208215222229236243250257264271278[[#This Row],[CO2]]+Table146135136137138145152159166173180187194201208215222229236243250257264271278[[#This Row],[CH4 Corrected]]+Table146135136137138145152159166173180187194201208215222229236243250257264271278[[#This Row],[N2O Corrected]]+Table146135136137138145152159166173180187194201208215222229236243250257264271278[[#This Row],[GWP]]+Table146135136137138145152159166173180187194201208215222229236243250257264271278[[#This Row],[Recycled]]+Table146135136137138145152159166173180187194201208215222229236243250257264271278[[#This Row],[Landfill]]+Table146135136137138145152159166173180187194201208215222229236243250257264271278[[#This Row],[Combusted]])*Table146135136137138145152159166173180187194201208215222229236243250257264271278[[#This Row],[Data \n(Corrected)]])/1000","v":5.4495550000000001}]
[]
[null,"Reporting \nyear","Entity","Location","Scope","Emission Source","Source Pseudonym","Emission Sub-source","Emission Pseudonym","Unit \nRequired","Data \n(Raw)","Unit Reported","Concatenate Units","Unit Conversion","Data \n(Corrected)","Unit\n(Corrected)","CO2","CH4","CH4 Corrected","N2O","N2O Corrected","GWP","Recycled","Landfill","Combusted","tCO2e Emission Equivalent"]
[null,2021,"Camira Fabrics Limited","Birkby","Scope_1","Stationary",{"$f":"LOOKUP(Table146135136137138139146153160167174181188195202209216223230237244251258265272279[[#This Row],[Emission Source]],Table3578[Source],Table3578[Pseudonym])","v":"StationaryUS"},"Natural Gas",{"$f":"LOOKUP(Table146135136137138139146153160167174181188195202209216223230237244251258265272279[[#This Row],[Emission Sub-source]],Table125[[Emission ]],Table125[Pseudonym])","v":"NaturalGasUS"},{"$f":"LOOKUP(Table146135136137138139146153160167174181188195202209216223230237244251258265272279[[#This Row],[Emission Sub-source]],Table44[Fuel Type],Table44[Unit])","v":"scf"},100000,"scf",{"$f":"CONCATENATE(Table146135136137138139146153160167174181188195202209216223230237244251258265272279[[#This Row],[Unit Reported]],Table146135136137138139146153160167174181188195202209216223230237244251258265272279[[#This Row],[Unit \nRequired]])","v":"scfscf"},{"$f":"LOOKUP(Table146135136137138139146153160167174181188195202209216223230237244251258265272279[[#This Row],[Concatenate Units]],Table43[Concatenate],Table43[Multiply By])","v":1},{"$f":"Table146135136137138139146153160167174181188195202209216223230237244251258265272279[[#This Row],[Data \n(Raw)]]*Table146135136137138139146153160167174181188195202209216223230237244251258265272279[[#This Row],[Unit Conversion]]","v":100000},{"$f":"Table146135136137138139146153160167174181188195202209216223230237244251258265272279[[#This Row],[Unit \nRequired]]","v":"scf"},{"$f":"LOOKUP(Table146135136137138139146153160167174181188195202209216223230237244251258265272279[[#This Row],[Emission Sub-source]],Table44[Fuel Type],Table44[CO2 Factor \n(kg / Unit)])","v":5.4440000000000002E-2},{"$f":"LOOKUP(Table146135136137138139146153160167174181188195202209216223230237244251258265272279[[#This Row],[Emission Sub-source]],Table44[Fuel Type],Table44[CH4 Factor \n(g / unit)])","v":1.0300000000000001E-3},{"$f":"(Table146135136137138139146153160167174181188195202209216223230237244251258265272279[[#This Row],[CH4]]/1000)*25","v":2.5750000000000002E-5},{"$f":"LOOKUP(Table146135136137138139146153160167174181188195202209216223230237244251258265272279[[#This Row],[Emission Sub-source]],Table44[Fuel Type],Table44[N2O Factor \n(g / unit)])","v":1E-4},{"$f":"(Table146135136137138139146153160167174181188195202209216223230237244251258265272279[[#This Row],[N2O]]/1000)*298","v":2.9800000000000003E-5},{"$f":"(LOOKUP(Table146135136137138139146153160167174181188195202209216223230237244251258265272279[[#This Row],[Emission Sub-source]],Table44[Fuel Type],Table44[GWP]))","v":0},{"$f":"Table146135136137138139146153160167174181188195202209216223230237244251258265272279[[#This Row],[Data \n(Corrected)]]*(LOOKUP(Table146135136137138139146153160167174181188195202209216223230237244251258265272279[[#This Row],[Emission Sub-source]],Table44[Fuel Type],Table44[Recycled CO2 Factor]))","v":0},{"$f":"Table146135136137138139146153160167174181188195202209216223230237244251258265272279[[#This Row],[Data \n(Corrected)]]*(LOOKUP(Table146135136137138139146153160167174181188195202209216223230237244251258265272279[[#This Row],[Emission Sub-source]],Table44[Fuel Type],Table44[Landfill CO2 Factor]))","v":0},{"$f":"Table146135136137138139146153160167174181188195202209216223230237244251258265272279[[#This Row],[Data \n(Corrected)]]*(LOOKUP(Table146135136137138139146153160167174181188195202209216223230237244251258265272279[[#This Row],[Emission Sub-source]],Table44[Fuel Type],Table44[Combusted CO2 Factor]))","v":0},{"$f":"((Table146135136137138139146153160167174181188195202209216223230237244251258265272279[[#This Row],[CO2]]+Table146135136137138139146153160167174181188195202209216223230237244251258265272279[[#This Row],[CH4 Corrected]]+Table146135136137138139146153160167174181188195202209216223230237244251258265272279[[#This Row],[N2O Corrected]]+Table146135136137138139146153160167174181188195202209216223230237244251258265272279[[#This Row],[GWP]]+Table146135136137138139146153160167174181188195202209216223230237244251258265272279[[#This Row],[Recycled]]+Table146135136137138139146153160167174181188195202209216223230237244251258265272279[[#This Row],[Landfill]]+Table146135136137138139146153160167174181188195202209216223230237244251258265272279[[#This Row],[Combusted]])*Table146135136137138139146153160167174181188195202209216223230237244251258265272279[[#This Row],[Data \n(Corrected)]])/1000","v":5.4495550000000001}]
[]
[null,"Reporting \nyear","Entity","Location","Scope","Emission Source","Source Pseudonym","Emission Sub-source","Emission Pseudonym","Unit \nRequired","Data \n(Raw)","Unit Reported","Concatenate Units","Unit Conversion","Data \n(Corrected)","Unit\n(Corrected)","CO2","CH4","CH4 Corrected","N2O","N2O Corrected","GWP","Recycled","Landfill","Combusted","tCO2e Emission Equivalent"]
[null,2021,"Camira Fabrics Limited","Holmfirth","Scope_1","Stationary",{"$f":"LOOKUP(Table146135136137138140147154161168175182189196203210217224231238245252259266273280[[#This Row],[Emission Source]],Table3578[Source],Table3578[Pseudonym])","v":"StationaryUS"},"Natural Gas",{"$f":"LOOKUP(Table146135136137138140147154161168175182189196203210217224231238245252259266273280[[#This Row],[Emission Sub-source]],Table125[[Emission ]],Table125[Pseudonym])","v":"NaturalGasUS"},{"$f":"LOOKUP(Table146135136137138140147154161168175182189196203210217224231238245252259266273280[[#This Row],[Emission Sub-source]],Table44[Fuel Type],Table44[Unit])","v":"scf"},100000,"scf",{"$f":"CONCATENATE(Table146135136137138140147154161168175182189196203210217224231238245252259266273280[[#This Row],[Unit Reported]],Table146135136137138140147154161168175182189196203210217224231238245252259266273280[[#This Row],[Unit \nRequired]])","v":"scfscf"},{"$f":"LOOKUP(Table146135136137138140147154161168175182189196203210217224231238245252259266273280[[#This Row],[Concatenate Units]],Table43[Concatenate],Table43[Multiply By])","v":1},{"$f":"Table146135136137138140147154161168175182189196203210217224231238245252259266273280[[#This Row],[Data \n(Raw)]]*Table146135136137138140147154161168175182189196203210217224231238245252259266273280[[#This Row],[Unit Conversion]]","v":100000},{"$f":"Table146135136137138140147154161168175182189196203210217224231238245252259266273280[[#This Row],[Unit \nRequired]]","v":"scf"},{"$f":"LOOKUP(Table146135136137138140147154161168175182189196203210217224231238245252259266273280[[#This Row],[Emission Sub-source]],Table44[Fuel Type],Table44[CO2 Factor \n(kg / Unit)])","v":5.4440000000000002E-2},{"$f":"LOOKUP(Table146135136137138140147154161168175182189196203210217224231238245252259266273280[[#This Row],[Emission Sub-source]],Table44[Fuel Type],Table44[CH4 Factor \n(g / unit)])","v":1.0300000000000001E-3},{"$f":"(Table146135136137138140147154161168175182189196203210217224231238245252259266273280[[#This Row],[CH4]]/1000)*25","v":2.5750000000000002E-5},{"$f":"LOOKUP(Table146135136137138140147154161168175182189196203210217224231238245252259266273280[[#This Row],[Emission Sub-source]],Table44[Fuel Type],Table44[N2O Factor \n(g / unit)])","v":1E-4},{"$f":"(Table146135136137138140147154161168175182189196203210217224231238245252259266273280[[#This Row],[N2O]]/1000)*298","v":2.9800000000000003E-5},{"$f":"(LOOKUP(Table146135136137138140147154161168175182189196203210217224231238245252259266273280[[#This Row],[Emission Sub-source]],Table44[Fuel Type],Table44[GWP]))","v":0},{"$f":"Table146135136137138140147154161168175182189196203210217224231238245252259266273280[[#This Row],[Data \n(Corrected)]]*(LOOKUP(Table146135136137138140147154161168175182189196203210217224231238245252259266273280[[#This Row],[Emission Sub-source]],Table44[Fuel Type],Table44[Recycled CO2 Factor]))","v":0},{"$f":"Table146135136137138140147154161168175182189196203210217224231238245252259266273280[[#This Row],[Data \n(Corrected)]]*(LOOKUP(Table146135136137138140147154161168175182189196203210217224231238245252259266273280[[#This Row],[Emission Sub-source]],Table44[Fuel Type],Table44[Landfill CO2 Factor]))","v":0},{"$f":"Table146135136137138140147154161168175182189196203210217224231238245252259266273280[[#This Row],[Data \n(Corrected)]]*(LOOKUP(Table146135136137138140147154161168175182189196203210217224231238245252259266273280[[#This Row],[Emission Sub-source]],Table44[Fuel Type],Table44[Combusted CO2 Factor]))","v":0},{"$f":"((Table146135136137138140147154161168175182189196203210217224231238245252259266273280[[#This Row],[CO2]]+Table146135136137138140147154161168175182189196203210217224231238245252259266273280[[#This Row],[CH4 Corrected]]+Table146135136137138140147154161168175182189196203210217224231238245252259266273280[[#This Row],[N2O Corrected]]+Table146135136137138140147154161168175182189196203210217224231238245252259266273280[[#This Row],[GWP]]+Table146135136137138140147154161168175182189196203210217224231238245252259266273280[[#This Row],[Recycled]]+Table146135136137138140147154161168175182189196203210217224231238245252259266273280[[#This Row],[Landfill]]+Table146135136137138140147154161168175182189196203210217224231238245252259266273280[[#This Row],[Combusted]])*Table146135136137138140147154161168175182189196203210217224231238245252259266273280[[#This Row],[Data \n(Corrected)]])/1000","v":5.4495550000000001}]
[]
[null,"EUR - ??"]
[null,"Reporting \nyear","Entity","Location","Scope","Emission Source","Source Pseudonym","Emission Sub-source","Emission Pseudonym","Unit \nRequired","Data \n(Raw)","Unit Reported","Concatenate Units","Unit Conversion","Data \n(Corrected)","Unit\n(Corrected)","CO2","CH4","CH4 Corrected","N2O","N2O Corrected","GWP","Recycled","Landfill","Combusted","tCO2e Emission Equivalent"]
[null,2021,"UAB Camira Fabrics","Lithuania","Scope_1","Stationary",{"$f":"LOOKUP(Table146135136137138140141148155162169176183190197204211218225232239246253260267274281[[#This Row],[Emission Source]],Table3578[Source],Table3578[Pseudonym])","v":"StationaryUS"},"Natural Gas",{"$f":"LOOKUP(Table146135136137138140141148155162169176183190197204211218225232239246253260267274281[[#This Row],[Emission Sub-source]],Table125[[Emission ]],Table125[Pseudonym])","v":"NaturalGasUS"},{"$f":"LOOKUP(Table146135136137138140141148155162169176183190197204211218225232239246253260267274281[[#This Row],[Emission Sub-source]],Table44[Fuel Type],Table44[Unit])","v":"scf"},100000,"scf",{"$f":"CONCATENATE(Table146135136137138140141148155162169176183190197204211218225232239246253260267274281[[#This Row],[Unit Reported]],Table146135136137138140141148155162169176183190197204211218225232239246253260267274281[[#This Row],[Unit \nRequired]])","v":"scfscf"},{"$f":"LOOKUP(Table146135136137138140141148155162169176183190197204211218225232239246253260267274281[[#This Row],[Concatenate Units]],Table43[Concatenate],Table43[Multiply By])","v":1},{"$f":"Table146135136137138140141148155162169176183190197204211218225232239246253260267274281[[#This Row],[Data \n(Raw)]]*Table146135136137138140141148155162169176183190197204211218225232239246253260267274281[[#This Row],[Unit Conversion]]","v":100000},{"$f":"Table146135136137138140141148155162169176183190197204211218225232239246253260267274281[[#This Row],[Unit \nRequired]]","v":"scf"},{"$f":"LOOKUP(Table146135136137138140141148155162169176183190197204211218225232239246253260267274281[[#This Row],[Emission Sub-source]],Table44[Fuel Type],Table44[CO2 Factor \n(kg / Unit)])","v":5.4440000000000002E-2},{"$f":"LOOKUP(Table146135136137138140141148155162169176183190197204211218225232239246253260267274281[[#This Row],[Emission Sub-source]],Table44[Fuel Type],Table44[CH4 Factor \n(g / unit)])","v":1.0300000000000001E-3},{"$f":"(Table146135136137138140141148155162169176183190197204211218225232239246253260267274281[[#This Row],[CH4]]/1000)*25","v":2.5750000000000002E-5},{"$f":"LOOKUP(Table146135136137138140141148155162169176183190197204211218225232239246253260267274281[[#This Row],[Emission Sub-source]],Table44[Fuel Type],Table44[N2O Factor \n(g / unit)])","v":1E-4},{"$f":"(Table146135136137138140141148155162169176183190197204211218225232239246253260267274281[[#This Row],[N2O]]/1000)*298","v":2.9800000000000003E-5},{"$f":"(LOOKUP(Table146135136137138140141148155162169176183190197204211218225232239246253260267274281[[#This Row],[Emission Sub-source]],Table44[Fuel Type],Table44[GWP]))","v":0},{"$f":"Table146135136137138140141148155162169176183190197204211218225232239246253260267274281[[#This Row],[Data \n(Corrected)]]*(LOOKUP(Table146135136137138140141148155162169176183190197204211218225232239246253260267274281[[#This Row],[Emission Sub-source]],Table44[Fuel Type],Table44[Recycled CO2 Factor]))","v":0},{"$f":"Table146135136137138140141148155162169176183190197204211218225232239246253260267274281[[#This Row],[Data \n(Corrected)]]*(LOOKUP(Table146135136137138140141148155162169176183190197204211218225232239246253260267274281[[#This Row],[Emission Sub-source]],Table44[Fuel Type],Table44[Landfill CO2 Factor]))","v":0},{"$f":"Table146135136137138140141148155162169176183190197204211218225232239246253260267274281[[#This Row],[Data \n(Corrected)]]*(LOOKUP(Table146135136137138140141148155162169176183190197204211218225232239246253260267274281[[#This Row],[Emission Sub-source]],Table44[Fuel Type],Table44[Combusted CO2 Factor]))","v":0},{"$f":"((Table146135136137138140141148155162169176183190197204211218225232239246253260267274281[[#This Row],[CO2]]+Table146135136137138140141148155162169176183190197204211218225232239246253260267274281[[#This Row],[CH4 Corrected]]+Table146135136137138140141148155162169176183190197204211218225232239246253260267274281[[#This Row],[N2O Corrected]]+Table146135136137138140141148155162169176183190197204211218225232239246253260267274281[[#This Row],[GWP]]+Table146135136137138140141148155162169176183190197204211218225232239246253260267274281[[#This Row],[Recycled]]+Table146135136137138140141148155162169176183190197204211218225232239246253260267274281[[#This Row],[Landfill]]+Table146135136137138140141148155162169176183190197204211218225232239246253260267274281[[#This Row],[Combusted]])*Table146135136137138140141148155162169176183190197204211218225232239246253260267274281[[#This Row],[Data \n(Corrected)]])/1000","v":5.4495550000000001}]
[]
[null,"US - EPA"]
[null,"Reporting \nyear","Entity","Location","Scope","Emission Source","Source Pseudonym","Emission Sub-source","Emission Pseudonym","Unit \nRequired","Data \n(Raw)","Unit Reported","Concatenate Units","Unit Conversion","Data \n(Corrected)","Unit\n(Corrected)","CO2","CH4","CH4 Corrected","N2O","N2O Corrected","GWP","Recycled","Landfill","Combusted","tCO2e Emission Equivalent"]
[null,2021,"Camira Group, Inc","Grand Rapids","Scope_1","Stationary",{"$f":"LOOKUP(Table146135142149156163170177184191198205212219226233240247254261268275[[#This Row],[Emission Source]],Table3578[Source],Table3578[Pseudonym])","v":"StationaryUS"},"Natural Gas",{"$f":"LOOKUP(Table146135142149156163170177184191198205212219226233240247254261268275[[#This Row],[Emission Sub-source]],Table125[[Emission ]],Table125[Pseudonym])","v":"NaturalGasUS"},{"$f":"LOOKUP(Table146135142149156163170177184191198205212219226233240247254261268275[[#This Row],[Emission Sub-source]],Table44[Fuel Type],Table44[Unit])","v":"scf"},100000,"scf",{"$f":"CONCATENATE(Table146135142149156163170177184191198205212219226233240247254261268275[[#This Row],[Unit Reported]],Table146135142149156163170177184191198205212219226233240247254261268275[[#This Row],[Unit \nRequired]])","v":"scfscf"},{"$f":"LOOKUP(Table146135142149156163170177184191198205212219226233240247254261268275[[#This Row],[Concatenate Units]],Table43[Concatenate],Table43[Multiply By])","v":1},{"$f":"Table146135142149156163170177184191198205212219226233240247254261268275[[#This Row],[Data \n(Raw)]]*Table146135142149156163170177184191198205212219226233240247254261268275[[#This Row],[Unit Conversion]]","v":100000},{"$f":"Table146135142149156163170177184191198205212219226233240247254261268275[[#This Row],[Unit \nRequired]]","v":"scf"},{"$f":"LOOKUP(Table146135142149156163170177184191198205212219226233240247254261268275[[#This Row],[Emission Sub-source]],Table44[Fuel Type],Table44[CO2 Factor \n(kg / Unit)])","v":5.4440000000000002E-2},{"$f":"LOOKUP(Table146135142149156163170177184191198205212219226233240247254261268275[[#This Row],[Emission Sub-source]],Table44[Fuel Type],Table44[CH4 Factor \n(g / unit)])","v":1.0300000000000001E-3},{"$f":"(Table146135142149156163170177184191198205212219226233240247254261268275[[#This Row],[CH4]]/1000)*25","v":2.5750000000000002E-5},{"$f":"LOOKUP(Table146135142149156163170177184191198205212219226233240247254261268275[[#This Row],[Emission Sub-source]],Table44[Fuel Type],Table44[N2O Factor \n(g / unit)])","v":1E-4},{"$f":"(Table146135142149156163170177184191198205212219226233240247254261268275[[#This Row],[N2O]]/1000)*298","v":2.9800000000000003E-5},{"$f":"(LOOKUP(Table146135142149156163170177184191198205212219226233240247254261268275[[#This Row],[Emission Sub-source]],Table44[Fuel Type],Table44[GWP]))","v":0},{"$f":"Table146135142149156163170177184191198205212219226233240247254261268275[[#This Row],[Data \n(Corrected)]]*(LOOKUP(Table146135142149156163170177184191198205212219226233240247254261268275[[#This Row],[Emission Sub-source]],Table44[Fuel Type],Table44[Recycled CO2 Factor]))","v":0},{"$f":"Table146135142149156163170177184191198205212219226233240247254261268275[[#This Row],[Data \n(Corrected)]]*(LOOKUP(Table146135142149156163170177184191198205212219226233240247254261268275[[#This Row],[Emission Sub-source]],Table44[Fuel Type],Table44[Landfill CO2 Factor]))","v":0},{"$f":"Table146135142149156163170177184191198205212219226233240247254261268275[[#This Row],[Data \n(Corrected)]]*(LOOKUP(Table146135142149156163170177184191198205212219226233240247254261268275[[#This Row],[Emission Sub-source]],Table44[Fuel Type],Table44[Combusted CO2 Factor]))","v":0},{"$f":"((Table146135142149156163170177184191198205212219226233240247254261268275[[#This Row],[CO2]]+Table146135142149156163170177184191198205212219226233240247254261268275[[#This Row],[CH4 Corrected]]+Table146135142149156163170177184191198205212219226233240247254261268275[[#This Row],[N2O Corrected]]+Table146135142149156163170177184191198205212219226233240247254261268275[[#This Row],[GWP]]+Table146135142149156163170177184191198205212219226233240247254261268275[[#This Row],[Recycled]]+Table146135142149156163170177184191198205212219226233240247254261268275[[#This Row],[Landfill]]+Table146135142149156163170177184191198205212219226233240247254261268275[[#This Row],[Combusted]])*Table146135142149156163170177184191198205212219226233240247254261268275[[#This Row],[Data \n(Corrected)]])/1000","v":5.4495550000000001}]

{"sheet":"3.15","index":25,"n_rows":26,"n_cols":26,"rows_kept":26,"cut":false,"hidden":true,"merged":[]}
[]
[null,"Greenhouse Gas Emission Analysis - Customer Scope 1 & 2 - Investment"]
[]
[null,"UK - DBEIS/DEFRA"]
[null,"Reporting \nyear","Entity","Location","Scope","Emission Source","Source Pseudonym","Emission Sub-source","Emission Pseudonym","Unit \nRequired","Data \n(Raw)","Unit Reported","Concatenate Units","Unit Conversion","Data \n(Corrected)","Unit\n(Corrected)","CO2","CH4","CH4 Corrected","N2O","N2O Corrected","GWP","Recycled","Landfill","Combusted","tCO2e Emission Equivalent"]
[null,2021,"Camira Fabrics Limited","Mirfield","Scope_1","Stationary",{"$f":"LOOKUP(Table146135136143150157164171178185192199206213220227234241248255262269276283[[#This Row],[Emission Source]],Table3578[Source],Table3578[Pseudonym])","v":"StationaryUS"},"Natural Gas",{"$f":"LOOKUP(Table146135136143150157164171178185192199206213220227234241248255262269276283[[#This Row],[Emission Sub-source]],Table125[[Emission ]],Table125[Pseudonym])","v":"NaturalGasUS"},{"$f":"LOOKUP(Table146135136143150157164171178185192199206213220227234241248255262269276283[[#This Row],[Emission Sub-source]],Table44[Fuel Type],Table44[Unit])","v":"scf"},100000,"scf",{"$f":"CONCATENATE(Table146135136143150157164171178185192199206213220227234241248255262269276283[[#This Row],[Unit Reported]],Table146135136143150157164171178185192199206213220227234241248255262269276283[[#This Row],[Unit \nRequired]])","v":"scfscf"},{"$f":"LOOKUP(Table146135136143150157164171178185192199206213220227234241248255262269276283[[#This Row],[Concatenate Units]],Table43[Concatenate],Table43[Multiply By])","v":1},{"$f":"Table146135136143150157164171178185192199206213220227234241248255262269276283[[#This Row],[Data \n(Raw)]]*Table146135136143150157164171178185192199206213220227234241248255262269276283[[#This Row],[Unit Conversion]]","v":100000},{"$f":"Table146135136143150157164171178185192199206213220227234241248255262269276283[[#This Row],[Unit \nRequired]]","v":"scf"},{"$f":"LOOKUP(Table146135136143150157164171178185192199206213220227234241248255262269276283[[#This Row],[Emission Sub-source]],Table44[Fuel Type],Table44[CO2 Factor \n(kg / Unit)])","v":5.4440000000000002E-2},{"$f":"LOOKUP(Table146135136143150157164171178185192199206213220227234241248255262269276283[[#This Row],[Emission Sub-source]],Table44[Fuel Type],Table44[CH4 Factor \n(g / unit)])","v":1.0300000000000001E-3},{"$f":"(Table146135136143150157164171178185192199206213220227234241248255262269276283[[#This Row],[CH4]]/1000)*25","v":2.5750000000000002E-5},{"$f":"LOOKUP(Table146135136143150157164171178185192199206213220227234241248255262269276283[[#This Row],[Emission Sub-source]],Table44[Fuel Type],Table44[N2O Factor \n(g / unit)])","v":1E-4},{"$f":"(Table146135136143150157164171178185192199206213220227234241248255262269276283[[#This Row],[N2O]]/1000)*298","v":2.9800000000000003E-5},{"$f":"(LOOKUP(Table146135136143150157164171178185192199206213220227234241248255262269276283[[#This Row],[Emission Sub-source]],Table44[Fuel Type],Table44[GWP]))","v":0},{"$f":"Table146135136143150157164171178185192199206213220227234241248255262269276283[[#This Row],[Data \n(Corrected)]]*(LOOKUP(Table146135136143150157164171178185192199206213220227234241248255262269276283[[#This Row],[Emission Sub-source]],Table44[Fuel Type],Table44[Recycled CO2 Factor]))","v":0},{"$f":"Table146135136143150157164171178185192199206213220227234241248255262269276283[[#This Row],[Data \n(Corrected)]]*(LOOKUP(Table146135136143150157164171178185192199206213220227234241248255262269276283[[#This Row],[Emission Sub-source]],Table44[Fuel Type],Table44[Landfill CO2 Factor]))","v":0},{"$f":"Table146135136143150157164171178185192199206213220227234241248255262269276283[[#This Row],[Data \n(Corrected)]]*(LOOKUP(Table146135136143150157164171178185192199206213220227234241248255262269276283[[#This Row],[Emission Sub-source]],Table44[Fuel Type],Table44[Combusted CO2 Factor]))","v":0},{"$f":"((Table146135136143150157164171178185192199206213220227234241248255262269276283[[#This Row],[CO2]]+Table146135136143150157164171178185192199206213220227234241248255262269276283[[#This Row],[CH4 Corrected]]+Table146135136143150157164171178185192199206213220227234241248255262269276283[[#This Row],[N2O Corrected]]+Table146135136143150157164171178185192199206213220227234241248255262269276283[[#This Row],[GWP]]+Table146135136143150157164171178185192199206213220227234241248255262269276283[[#This Row],[Recycled]]+Table146135136143150157164171178185192199206213220227234241248255262269276283[[#This Row],[Landfill]]+Table146135136143150157164171178185192199206213220227234241248255262269276283[[#This Row],[Combusted]])*Table146135136143150157164171178185192199206213220227234241248255262269276283[[#This Row],[Data \n(Corrected)]])/1000","v":5.4495550000000001}]
[]
[null,"Reporting \nyear","Entity","Location","Scope","Emission Source","Source Pseudonym","Emission Sub-source","Emission Pseudonym","Unit \nRequired","Data \n(Raw)","Unit Reported","Concatenate Units","Unit Conversion","Data \n(Corrected)","Unit\n(Corrected)","CO2","CH4","CH4 Corrected","N2O","N2O Corrected","GWP","Recycled","Landfill","Combusted","tCO2e Emission Equivalent"]
[null,2021,"Camira Fabrics Limited","Meltham","Scope_1","Stationary",{"$f":"LOOKUP(Table146135136137144151158165172179186193200207214221228235242249256263270277284[[#This Row],[Emission Source]],Table3578[Source],Table3578[Pseudonym])","v":"StationaryUS"},"Natural Gas",{"$f":"LOOKUP(Table146135136137144151158165172179186193200207214221228235242249256263270277284[[#This Row],[Emission Sub-source]],Table125[[Emission ]],Table125[Pseudonym])","v":"NaturalGasUS"},{"$f":"LOOKUP(Table146135136137144151158165172179186193200207214221228235242249256263270277284[[#This Row],[Emission Sub-source]],Table44[Fuel Type],Table44[Unit])","v":"scf"},100000,"scf",{"$f":"CONCATENATE(Table146135136137144151158165172179186193200207214221228235242249256263270277284[[#This Row],[Unit Reported]],Table146135136137144151158165172179186193200207214221228235242249256263270277284[[#This Row],[Unit \nRequired]])","v":"scfscf"},{"$f":"LOOKUP(Table146135136137144151158165172179186193200207214221228235242249256263270277284[[#This Row],[Concatenate Units]],Table43[Concatenate],Table43[Multiply By])","v":1},{"$f":"Table146135136137144151158165172179186193200207214221228235242249256263270277284[[#This Row],[Data \n(Raw)]]*Table146135136137144151158165172179186193200207214221228235242249256263270277284[[#This Row],[Unit Conversion]]","v":100000},{"$f":"Table146135136137144151158165172179186193200207214221228235242249256263270277284[[#This Row],[Unit \nRequired]]","v":"scf"},{"$f":"LOOKUP(Table146135136137144151158165172179186193200207214221228235242249256263270277284[[#This Row],[Emission Sub-source]],Table44[Fuel Type],Table44[CO2 Factor \n(kg / Unit)])","v":5.4440000000000002E-2},{"$f":"LOOKUP(Table146135136137144151158165172179186193200207214221228235242249256263270277284[[#This Row],[Emission Sub-source]],Table44[Fuel Type],Table44[CH4 Factor \n(g / unit)])","v":1.0300000000000001E-3},{"$f":"(Table146135136137144151158165172179186193200207214221228235242249256263270277284[[#This Row],[CH4]]/1000)*25","v":2.5750000000000002E-5},{"$f":"LOOKUP(Table146135136137144151158165172179186193200207214221228235242249256263270277284[[#This Row],[Emission Sub-source]],Table44[Fuel Type],Table44[N2O Factor \n(g / unit)])","v":1E-4},{"$f":"(Table146135136137144151158165172179186193200207214221228235242249256263270277284[[#This Row],[N2O]]/1000)*298","v":2.9800000000000003E-5},{"$f":"(LOOKUP(Table146135136137144151158165172179186193200207214221228235242249256263270277284[[#This Row],[Emission Sub-source]],Table44[Fuel Type],Table44[GWP]))","v":0},{"$f":"Table146135136137144151158165172179186193200207214221228235242249256263270277284[[#This Row],[Data \n(Corrected)]]*(LOOKUP(Table146135136137144151158165172179186193200207214221228235242249256263270277284[[#This Row],[Emission Sub-source]],Table44[Fuel Type],Table44[Recycled CO2 Factor]))","v":0},{"$f":"Table146135136137144151158165172179186193200207214221228235242249256263270277284[[#This Row],[Data \n(Corrected)]]*(LOOKUP(Table146135136137144151158165172179186193200207214221228235242249256263270277284[[#This Row],[Emission Sub-source]],Table44[Fuel Type],Table44[Landfill CO2 Factor]))","v":0},{"$f":"Table146135136137144151158165172179186193200207214221228235242249256263270277284[[#This Row],[Data \n(Corrected)]]*(LOOKUP(Table146135136137144151158165172179186193200207214221228235242249256263270277284[[#This Row],[Emission Sub-source]],Table44[Fuel Type],Table44[Combusted CO2 Factor]))","v":0},{"$f":"((Table146135136137144151158165172179186193200207214221228235242249256263270277284[[#This Row],[CO2]]+Table146135136137144151158165172179186193200207214221228235242249256263270277284[[#This Row],[CH4 Corrected]]+Table146135136137144151158165172179186193200207214221228235242249256263270277284[[#This Row],[N2O Corrected]]+Table146135136137144151158165172179186193200207214221228235242249256263270277284[[#This Row],[GWP]]+Table146135136137144151158165172179186193200207214221228235242249256263270277284[[#This Row],[Recycled]]+Table146135136137144151158165172179186193200207214221228235242249256263270277284[[#This Row],[Landfill]]+Table146135136137144151158165172179186193200207214221228235242249256263270277284[[#This Row],[Combusted]])*Table146135136137144151158165172179186193200207214221228235242249256263270277284[[#This Row],[Data \n(Corrected)]])/1000","v":5.4495550000000001}]
[]
[null,"Reporting \nyear","Entity","Location","Scope","Emission Source","Source Pseudonym","Emission Sub-source","Emission Pseudonym","Unit \nRequired","Data \n(Raw)","Unit Reported","Concatenate Units","Unit Conversion","Data \n(Corrected)","Unit\n(Corrected)","CO2","CH4","CH4 Corrected","N2O","N2O Corrected","GWP","Recycled","Landfill","Combusted","tCO2e Emission Equivalent"]
[null,2021,"Camira Fabrics Limited","Nottingham","Scope_1","Stationary",{"$f":"LOOKUP(Table146135136137138145152159166173180187194201208215222229236243250257264271278285[[#This Row],[Emission Source]],Table3578[Source],Table3578[Pseudonym])","v":"StationaryUS"},"Natural Gas",{"$f":"LOOKUP(Table146135136137138145152159166173180187194201208215222229236243250257264271278285[[#This Row],[Emission Sub-source]],Table125[[Emission ]],Table125[Pseudonym])","v":"NaturalGasUS"},{"$f":"LOOKUP(Table146135136137138145152159166173180187194201208215222229236243250257264271278285[[#This Row],[Emission Sub-source]],Table44[Fuel Type],Table44[Unit])","v":"scf"},100000,"scf",{"$f":"CONCATENATE(Table146135136137138145152159166173180187194201208215222229236243250257264271278285[[#This Row],[Unit Reported]],Table146135136137138145152159166173180187194201208215222229236243250257264271278285[[#This Row],[Unit \nRequired]])","v":"scfscf"},{"$f":"LOOKUP(Table146135136137138145152159166173180187194201208215222229236243250257264271278285[[#This Row],[Concatenate Units]],Table43[Concatenate],Table43[Multiply By])","v":1},{"$f":"Table146135136137138145152159166173180187194201208215222229236243250257264271278285[[#This Row],[Data \n(Raw)]]*Table146135136137138145152159166173180187194201208215222229236243250257264271278285[[#This Row],[Unit Conversion]]","v":100000},{"$f":"Table146135136137138145152159166173180187194201208215222229236243250257264271278285[[#This Row],[Unit \nRequired]]","v":"scf"},{"$f":"LOOKUP(Table146135136137138145152159166173180187194201208215222229236243250257264271278285[[#This Row],[Emission Sub-source]],Table44[Fuel Type],Table44[CO2 Factor \n(kg / Unit)])","v":5.4440000000000002E-2},{"$f":"LOOKUP(Table146135136137138145152159166173180187194201208215222229236243250257264271278285[[#This Row],[Emission Sub-source]],Table44[Fuel Type],Table44[CH4 Factor \n(g / unit)])","v":1.0300000000000001E-3},{"$f":"(Table146135136137138145152159166173180187194201208215222229236243250257264271278285[[#This Row],[CH4]]/1000)*25","v":2.5750000000000002E-5},{"$f":"LOOKUP(Table146135136137138145152159166173180187194201208215222229236243250257264271278285[[#This Row],[Emission Sub-source]],Table44[Fuel Type],Table44[N2O Factor \n(g / unit)])","v":1E-4},{"$f":"(Table146135136137138145152159166173180187194201208215222229236243250257264271278285[[#This Row],[N2O]]/1000)*298","v":2.9800000000000003E-5},{"$f":"(LOOKUP(Table146135136137138145152159166173180187194201208215222229236243250257264271278285[[#This Row],[Emission Sub-source]],Table44[Fuel Type],Table44[GWP]))","v":0},{"$f":"Table146135136137138145152159166173180187194201208215222229236243250257264271278285[[#This Row],[Data \n(Corrected)]]*(LOOKUP(Table146135136137138145152159166173180187194201208215222229236243250257264271278285[[#This Row],[Emission Sub-source]],Table44[Fuel Type],Table44[Recycled CO2 Factor]))","v":0},{"$f":"Table146135136137138145152159166173180187194201208215222229236243250257264271278285[[#This Row],[Data \n(Corrected)]]*(LOOKUP(Table146135136137138145152159166173180187194201208215222229236243250257264271278285[[#This Row],[Emission Sub-source]],Table44[Fuel Type],Table44[Landfill CO2 Factor]))","v":0},{"$f":"Table146135136137138145152159166173180187194201208215222229236243250257264271278285[[#This Row],[Data \n(Corrected)]]*(LOOKUP(Table146135136137138145152159166173180187194201208215222229236243250257264271278285[[#This Row],[Emission Sub-source]],Table44[Fuel Type],Table44[Combusted CO2 Factor]))","v":0},{"$f":"((Table146135136137138145152159166173180187194201208215222229236243250257264271278285[[#This Row],[CO2]]+Table146135136137138145152159166173180187194201208215222229236243250257264271278285[[#This Row],[CH4 Corrected]]+Table146135136137138145152159166173180187194201208215222229236243250257264271278285[[#This Row],[N2O Corrected]]+Table146135136137138145152159166173180187194201208215222229236243250257264271278285[[#This Row],[GWP]]+Table146135136137138145152159166173180187194201208215222229236243250257264271278285[[#This Row],[Recycled]]+Table146135136137138145152159166173180187194201208215222229236243250257264271278285[[#This Row],[Landfill]]+Table146135136137138145152159166173180187194201208215222229236243250257264271278285[[#This Row],[Combusted]])*Table146135136137138145152159166173180187194201208215222229236243250257264271278285[[#This Row],[Data \n(Corrected)]])/1000","v":5.4495550000000001}]
[]
[null,"Reporting \nyear","Entity","Location","Scope","Emission Source","Source Pseudonym","Emission Sub-source","Emission Pseudonym","Unit \nRequired","Data \n(Raw)","Unit Reported","Concatenate Units","Unit Conversion","Data \n(Corrected)","Unit\n(Corrected)","CO2","CH4","CH4 Corrected","N2O","N2O Corrected","GWP","Recycled","Landfill","Combusted","tCO2e Emission Equivalent"]
[null,2021,"Camira Fabrics Limited","Birkby","Scope_1","Stationary",{"$f":"LOOKUP(Table146135136137138139146153160167174181188195202209216223230237244251258265272279286[[#This Row],[Emission Source]],Table3578[Source],Table3578[Pseudonym])","v":"StationaryUS"},"Natural Gas",{"$f":"LOOKUP(Table146135136137138139146153160167174181188195202209216223230237244251258265272279286[[#This Row],[Emission Sub-source]],Table125[[Emission ]],Table125[Pseudonym])","v":"NaturalGasUS"},{"$f":"LOOKUP(Table146135136137138139146153160167174181188195202209216223230237244251258265272279286[[#This Row],[Emission Sub-source]],Table44[Fuel Type],Table44[Unit])","v":"scf"},100000,"scf",{"$f":"CONCATENATE(Table146135136137138139146153160167174181188195202209216223230237244251258265272279286[[#This Row],[Unit Reported]],Table146135136137138139146153160167174181188195202209216223230237244251258265272279286[[#This Row],[Unit \nRequired]])","v":"scfscf"},{"$f":"LOOKUP(Table146135136137138139146153160167174181188195202209216223230237244251258265272279286[[#This Row],[Concatenate Units]],Table43[Concatenate],Table43[Multiply By])","v":1},{"$f":"Table146135136137138139146153160167174181188195202209216223230237244251258265272279286[[#This Row],[Data \n(Raw)]]*Table146135136137138139146153160167174181188195202209216223230237244251258265272279286[[#This Row],[Unit Conversion]]","v":100000},{"$f":"Table146135136137138139146153160167174181188195202209216223230237244251258265272279286[[#This Row],[Unit \nRequired]]","v":"scf"},{"$f":"LOOKUP(Table146135136137138139146153160167174181188195202209216223230237244251258265272279286[[#This Row],[Emission Sub-source]],Table44[Fuel Type],Table44[CO2 Factor \n(kg / Unit)])","v":5.4440000000000002E-2},{"$f":"LOOKUP(Table146135136137138139146153160167174181188195202209216223230237244251258265272279286[[#This Row],[Emission Sub-source]],Table44[Fuel Type],Table44[CH4 Factor \n(g / unit)])","v":1.0300000000000001E-3},{"$f":"(Table146135136137138139146153160167174181188195202209216223230237244251258265272279286[[#This Row],[CH4]]/1000)*25","v":2.5750000000000002E-5},{"$f":"LOOKUP(Table146135136137138139146153160167174181188195202209216223230237244251258265272279286[[#This Row],[Emission Sub-source]],Table44[Fuel Type],Table44[N2O Factor \n(g / unit)])","v":1E-4},{"$f":"(Table146135136137138139146153160167174181188195202209216223230237244251258265272279286[[#This Row],[N2O]]/1000)*298","v":2.9800000000000003E-5},{"$f":"(LOOKUP(Table146135136137138139146153160167174181188195202209216223230237244251258265272279286[[#This Row],[Emission Sub-source]],Table44[Fuel Type],Table44[GWP]))","v":0},{"$f":"Table146135136137138139146153160167174181188195202209216223230237244251258265272279286[[#This Row],[Data \n(Corrected)]]*(LOOKUP(Table146135136137138139146153160167174181188195202209216223230237244251258265272279286[[#This Row],[Emission Sub-source]],Table44[Fuel Type],Table44[Recycled CO2 Factor]))","v":0},{"$f":"Table146135136137138139146153160167174181188195202209216223230237244251258265272279286[[#This Row],[Data \n(Corrected)]]*(LOOKUP(Table146135136137138139146153160167174181188195202209216223230237244251258265272279286[[#This Row],[Emission Sub-source]],Table44[Fuel Type],Table44[Landfill CO2 Factor]))","v":0},{"$f":"Table146135136137138139146153160167174181188195202209216223230237244251258265272279286[[#This Row],[Data \n(Corrected)]]*(LOOKUP(Table146135136137138139146153160167174181188195202209216223230237244251258265272279286[[#This Row],[Emission Sub-source]],Table44[Fuel Type],Table44[Combusted CO2 Factor]))","v":0},{"$f":"((Table146135136137138139146153160167174181188195202209216223230237244251258265272279286[[#This Row],[CO2]]+Table146135136137138139146153160167174181188195202209216223230237244251258265272279286[[#This Row],[CH4 Corrected]]+Table146135136137138139146153160167174181188195202209216223230237244251258265272279286[[#This Row],[N2O Corrected]]+Table146135136137138139146153160167174181188195202209216223230237244251258265272279286[[#This Row],[GWP]]+Table146135136137138139146153160167174181188195202209216223230237244251258265272279286[[#This Row],[Recycled]]+Table146135136137138139146153160167174181188195202209216223230237244251258265272279286[[#This Row],[Landfill]]+Table146135136137138139146153160167174181188195202209216223230237244251258265272279286[[#This Row],[Combusted]])*Table146135136137138139146153160167174181188195202209216223230237244251258265272279286[[#This Row],[Data \n(Corrected)]])/1000","v":5.4495550000000001}]
[]
[null,"Reporting \nyear","Entity","Location","Scope","Emission Source","Source Pseudonym","Emission Sub-source","Emission Pseudonym","Unit \nRequired","Data \n(Raw)","Unit Reported","Concatenate Units","Unit Conversion","Data \n(Corrected)","Unit\n(Corrected)","CO2","CH4","CH4 Corrected","N2O","N2O Corrected","GWP","Recycled","Landfill","Combusted","tCO2e Emission Equivalent"]
[null,2021,"Camira Fabrics Limited","Holmfirth","Scope_1","Stationary",{"$f":"LOOKUP(Table146135136137138140147154161168175182189196203210217224231238245252259266273280287[[#This Row],[Emission Source]],Table3578[Source],Table3578[Pseudonym])","v":"StationaryUS"},"Natural Gas",{"$f":"LOOKUP(Table146135136137138140147154161168175182189196203210217224231238245252259266273280287[[#This Row],[Emission Sub-source]],Table125[[Emission ]],Table125[Pseudonym])","v":"NaturalGasUS"},{"$f":"LOOKUP(Table146135136137138140147154161168175182189196203210217224231238245252259266273280287[[#This Row],[Emission Sub-source]],Table44[Fuel Type],Table44[Unit])","v":"scf"},100000,"scf",{"$f":"CONCATENATE(Table146135136137138140147154161168175182189196203210217224231238245252259266273280287[[#This Row],[Unit Reported]],Table146135136137138140147154161168175182189196203210217224231238245252259266273280287[[#This Row],[Unit \nRequired]])","v":"scfscf"},{"$f":"LOOKUP(Table146135136137138140147154161168175182189196203210217224231238245252259266273280287[[#This Row],[Concatenate Units]],Table43[Concatenate],Table43[Multiply By])","v":1},{"$f":"Table146135136137138140147154161168175182189196203210217224231238245252259266273280287[[#This Row],[Data \n(Raw)]]*Table146135136137138140147154161168175182189196203210217224231238245252259266273280287[[#This Row],[Unit Conversion]]","v":100000},{"$f":"Table146135136137138140147154161168175182189196203210217224231238245252259266273280287[[#This Row],[Unit \nRequired]]","v":"scf"},{"$f":"LOOKUP(Table146135136137138140147154161168175182189196203210217224231238245252259266273280287[[#This Row],[Emission Sub-source]],Table44[Fuel Type],Table44[CO2 Factor \n(kg / Unit)])","v":5.4440000000000002E-2},{"$f":"LOOKUP(Table146135136137138140147154161168175182189196203210217224231238245252259266273280287[[#This Row],[Emission Sub-source]],Table44[Fuel Type],Table44[CH4 Factor \n(g / unit)])","v":1.0300000000000001E-3},{"$f":"(Table146135136137138140147154161168175182189196203210217224231238245252259266273280287[[#This Row],[CH4]]/1000)*25","v":2.5750000000000002E-5},{"$f":"LOOKUP(Table146135136137138140147154161168175182189196203210217224231238245252259266273280287[[#This Row],[Emission Sub-source]],Table44[Fuel Type],Table44[N2O Factor \n(g / unit)])","v":1E-4},{"$f":"(Table146135136137138140147154161168175182189196203210217224231238245252259266273280287[[#This Row],[N2O]]/1000)*298","v":2.9800000000000003E-5},{"$f":"(LOOKUP(Table146135136137138140147154161168175182189196203210217224231238245252259266273280287[[#This Row],[Emission Sub-source]],Table44[Fuel Type],Table44[GWP]))","v":0},{"$f":"Table146135136137138140147154161168175182189196203210217224231238245252259266273280287[[#This Row],[Data \n(Corrected)]]*(LOOKUP(Table146135136137138140147154161168175182189196203210217224231238245252259266273280287[[#This Row],[Emission Sub-source]],Table44[Fuel Type],Table44[Recycled CO2 Factor]))","v":0},{"$f":"Table146135136137138140147154161168175182189196203210217224231238245252259266273280287[[#This Row],[Data \n(Corrected)]]*(LOOKUP(Table146135136137138140147154161168175182189196203210217224231238245252259266273280287[[#This Row],[Emission Sub-source]],Table44[Fuel Type],Table44[Landfill CO2 Factor]))","v":0},{"$f":"Table146135136137138140147154161168175182189196203210217224231238245252259266273280287[[#This Row],[Data \n(Corrected)]]*(LOOKUP(Table146135136137138140147154161168175182189196203210217224231238245252259266273280287[[#This Row],[Emission Sub-source]],Table44[Fuel Type],Table44[Combusted CO2 Factor]))","v":0},{"$f":"((Table146135136137138140147154161168175182189196203210217224231238245252259266273280287[[#This Row],[CO2]]+Table146135136137138140147154161168175182189196203210217224231238245252259266273280287[[#This Row],[CH4 Corrected]]+Table146135136137138140147154161168175182189196203210217224231238245252259266273280287[[#This Row],[N2O Corrected]]+Table146135136137138140147154161168175182189196203210217224231238245252259266273280287[[#This Row],[GWP]]+Table146135136137138140147154161168175182189196203210217224231238245252259266273280287[[#This Row],[Recycled]]+Table146135136137138140147154161168175182189196203210217224231238245252259266273280287[[#This Row],[Landfill]]+Table146135136137138140147154161168175182189196203210217224231238245252259266273280287[[#This Row],[Combusted]])*Table146135136137138140147154161168175182189196203210217224231238245252259266273280287[[#This Row],[Data \n(Corrected)]])/1000","v":5.4495550000000001}]
[]
[null,"EUR - ??"]
[null,"Reporting \nyear","Entity","Location","Scope","Emission Source","Source Pseudonym","Emission Sub-source","Emission Pseudonym","Unit \nRequired","Data \n(Raw)","Unit Reported","Concatenate Units","Unit Conversion","Data \n(Corrected)","Unit\n(Corrected)","CO2","CH4","CH4 Corrected","N2O","N2O Corrected","GWP","Recycled","Landfill","Combusted","tCO2e Emission Equivalent"]
[null,2021,"UAB Camira Fabrics","Lithuania","Scope_1","Stationary",{"$f":"LOOKUP(Table146135136137138140141148155162169176183190197204211218225232239246253260267274281288[[#This Row],[Emission Source]],Table3578[Source],Table3578[Pseudonym])","v":"StationaryUS"},"Natural Gas",{"$f":"LOOKUP(Table146135136137138140141148155162169176183190197204211218225232239246253260267274281288[[#This Row],[Emission Sub-source]],Table125[[Emission ]],Table125[Pseudonym])","v":"NaturalGasUS"},{"$f":"LOOKUP(Table146135136137138140141148155162169176183190197204211218225232239246253260267274281288[[#This Row],[Emission Sub-source]],Table44[Fuel Type],Table44[Unit])","v":"scf"},100000,"scf",{"$f":"CONCATENATE(Table146135136137138140141148155162169176183190197204211218225232239246253260267274281288[[#This Row],[Unit Reported]],Table146135136137138140141148155162169176183190197204211218225232239246253260267274281288[[#This Row],[Unit \nRequired]])","v":"scfscf"},{"$f":"LOOKUP(Table146135136137138140141148155162169176183190197204211218225232239246253260267274281288[[#This Row],[Concatenate Units]],Table43[Concatenate],Table43[Multiply By])","v":1},{"$f":"Table146135136137138140141148155162169176183190197204211218225232239246253260267274281288[[#This Row],[Data \n(Raw)]]*Table146135136137138140141148155162169176183190197204211218225232239246253260267274281288[[#This Row],[Unit Conversion]]","v":100000},{"$f":"Table146135136137138140141148155162169176183190197204211218225232239246253260267274281288[[#This Row],[Unit \nRequired]]","v":"scf"},{"$f":"LOOKUP(Table146135136137138140141148155162169176183190197204211218225232239246253260267274281288[[#This Row],[Emission Sub-source]],Table44[Fuel Type],Table44[CO2 Factor \n(kg / Unit)])","v":5.4440000000000002E-2},{"$f":"LOOKUP(Table146135136137138140141148155162169176183190197204211218225232239246253260267274281288[[#This Row],[Emission Sub-source]],Table44[Fuel Type],Table44[CH4 Factor \n(g / unit)])","v":1.0300000000000001E-3},{"$f":"(Table146135136137138140141148155162169176183190197204211218225232239246253260267274281288[[#This Row],[CH4]]/1000)*25","v":2.5750000000000002E-5},{"$f":"LOOKUP(Table146135136137138140141148155162169176183190197204211218225232239246253260267274281288[[#This Row],[Emission Sub-source]],Table44[Fuel Type],Table44[N2O Factor \n(g / unit)])","v":1E-4},{"$f":"(Table146135136137138140141148155162169176183190197204211218225232239246253260267274281288[[#This Row],[N2O]]/1000)*298","v":2.9800000000000003E-5},{"$f":"(LOOKUP(Table146135136137138140141148155162169176183190197204211218225232239246253260267274281288[[#This Row],[Emission Sub-source]],Table44[Fuel Type],Table44[GWP]))","v":0},{"$f":"Table146135136137138140141148155162169176183190197204211218225232239246253260267274281288[[#This Row],[Data \n(Corrected)]]*(LOOKUP(Table146135136137138140141148155162169176183190197204211218225232239246253260267274281288[[#This Row],[Emission Sub-source]],Table44[Fuel Type],Table44[Recycled CO2 Factor]))","v":0},{"$f":"Table146135136137138140141148155162169176183190197204211218225232239246253260267274281288[[#This Row],[Data \n(Corrected)]]*(LOOKUP(Table146135136137138140141148155162169176183190197204211218225232239246253260267274281288[[#This Row],[Emission Sub-source]],Table44[Fuel Type],Table44[Landfill CO2 Factor]))","v":0},{"$f":"Table146135136137138140141148155162169176183190197204211218225232239246253260267274281288[[#This Row],[Data \n(Corrected)]]*(LOOKUP(Table146135136137138140141148155162169176183190197204211218225232239246253260267274281288[[#This Row],[Emission Sub-source]],Table44[Fuel Type],Table44[Combusted CO2 Factor]))","v":0},{"$f":"((Table146135136137138140141148155162169176183190197204211218225232239246253260267274281288[[#This Row],[CO2]]+Table146135136137138140141148155162169176183190197204211218225232239246253260267274281288[[#This Row],[CH4 Corrected]]+Table146135136137138140141148155162169176183190197204211218225232239246253260267274281288[[#This Row],[N2O Corrected]]+Table146135136137138140141148155162169176183190197204211218225232239246253260267274281288[[#This Row],[GWP]]+Table146135136137138140141148155162169176183190197204211218225232239246253260267274281288[[#This Row],[Recycled]]+Table146135136137138140141148155162169176183190197204211218225232239246253260267274281288[[#This Row],[Landfill]]+Table146135136137138140141148155162169176183190197204211218225232239246253260267274281288[[#This Row],[Combusted]])*Table146135136137138140141148155162169176183190197204211218225232239246253260267274281288[[#This Row],[Data \n(Corrected)]])/1000","v":5.4495550000000001}]
[]
[null,"US - EPA"]
[null,"Reporting \nyear","Entity","Location","Scope","Emission Source","Source Pseudonym","Emission Sub-source","Emission Pseudonym","Unit \nRequired","Data \n(Raw)","Unit Reported","Concatenate Units","Unit Conversion","Data \n(Corrected)","Unit\n(Corrected)","CO2","CH4","CH4 Corrected","N2O","N2O Corrected","GWP","Recycled","Landfill","Combusted","tCO2e Emission Equivalent"]
[null,2021,"Camira Group, Inc","Grand Rapids","Scope_1","Stationary",{"$f":"LOOKUP(Table146135142149156163170177184191198205212219226233240247254261268275282[[#This Row],[Emission Source]],Table3578[Source],Table3578[Pseudonym])","v":"StationaryUS"},"Natural Gas",{"$f":"LOOKUP(Table146135142149156163170177184191198205212219226233240247254261268275282[[#This Row],[Emission Sub-source]],Table125[[Emission ]],Table125[Pseudonym])","v":"NaturalGasUS"},{"$f":"LOOKUP(Table146135142149156163170177184191198205212219226233240247254261268275282[[#This Row],[Emission Sub-source]],Table44[Fuel Type],Table44[Unit])","v":"scf"},100000,"scf",{"$f":"CONCATENATE(Table146135142149156163170177184191198205212219226233240247254261268275282[[#This Row],[Unit Reported]],Table146135142149156163170177184191198205212219226233240247254261268275282[[#This Row],[Unit \nRequired]])","v":"scfscf"},{"$f":"LOOKUP(Table146135142149156163170177184191198205212219226233240247254261268275282[[#This Row],[Concatenate Units]],Table43[Concatenate],Table43[Multiply By])","v":1},{"$f":"Table146135142149156163170177184191198205212219226233240247254261268275282[[#This Row],[Data \n(Raw)]]*Table146135142149156163170177184191198205212219226233240247254261268275282[[#This Row],[Unit Conversion]]","v":100000},{"$f":"Table146135142149156163170177184191198205212219226233240247254261268275282[[#This Row],[Unit \nRequired]]","v":"scf"},{"$f":"LOOKUP(Table146135142149156163170177184191198205212219226233240247254261268275282[[#This Row],[Emission Sub-source]],Table44[Fuel Type],Table44[CO2 Factor \n(kg / Unit)])","v":5.4440000000000002E-2},{"$f":"LOOKUP(Table146135142149156163170177184191198205212219226233240247254261268275282[[#This Row],[Emission Sub-source]],Table44[Fuel Type],Table44[CH4 Factor \n(g / unit)])","v":1.0300000000000001E-3},{"$f":"(Table146135142149156163170177184191198205212219226233240247254261268275282[[#This Row],[CH4]]/1000)*25","v":2.5750000000000002E-5},{"$f":"LOOKUP(Table146135142149156163170177184191198205212219226233240247254261268275282[[#This Row],[Emission Sub-source]],Table44[Fuel Type],Table44[N2O Factor \n(g / unit)])","v":1E-4},{"$f":"(Table146135142149156163170177184191198205212219226233240247254261268275282[[#This Row],[N2O]]/1000)*298","v":2.9800000000000003E-5},{"$f":"(LOOKUP(Table146135142149156163170177184191198205212219226233240247254261268275282[[#This Row],[Emission Sub-source]],Table44[Fuel Type],Table44[GWP]))","v":0},{"$f":"Table146135142149156163170177184191198205212219226233240247254261268275282[[#This Row],[Data \n(Corrected)]]*(LOOKUP(Table146135142149156163170177184191198205212219226233240247254261268275282[[#This Row],[Emission Sub-source]],Table44[Fuel Type],Table44[Recycled CO2 Factor]))","v":0},{"$f":"Table146135142149156163170177184191198205212219226233240247254261268275282[[#This Row],[Data \n(Corrected)]]*(LOOKUP(Table146135142149156163170177184191198205212219226233240247254261268275282[[#This Row],[Emission Sub-source]],Table44[Fuel Type],Table44[Landfill CO2 Factor]))","v":0},{"$f":"Table146135142149156163170177184191198205212219226233240247254261268275282[[#This Row],[Data \n(Corrected)]]*(LOOKUP(Table146135142149156163170177184191198205212219226233240247254261268275282[[#This Row],[Emission Sub-source]],Table44[Fuel Type],Table44[Combusted CO2 Factor]))","v":0},{"$f":"((Table146135142149156163170177184191198205212219226233240247254261268275282[[#This Row],[CO2]]+Table146135142149156163170177184191198205212219226233240247254261268275282[[#This Row],[CH4 Corrected]]+Table146135142149156163170177184191198205212219226233240247254261268275282[[#This Row],[N2O Corrected]]+Table146135142149156163170177184191198205212219226233240247254261268275282[[#This Row],[GWP]]+Table146135142149156163170177184191198205212219226233240247254261268275282[[#This Row],[Recycled]]+Table146135142149156163170177184191198205212219226233240247254261268275282[[#This Row],[Landfill]]+Table146135142149156163170177184191198205212219226233240247254261268275282[[#This Row],[Combusted]])*Table146135142149156163170177184191198205212219226233240247254261268275282[[#This Row],[Data \n(Corrected)]])/1000","v":5.4495550000000001}]

{"sheet":"GHG Analysis","index":26,"n_rows":5,"n_cols":18,"rows_kept":5,"cut":false,"hidden":true,"merged":[]}
[]
[null,"Greenhouse Gas Emission Analysis - UK Sites"]
[]
[null,"Reporting \nyear","Relationship","Entity","Location","SECR Reporting?","Authority","Scope","Emission Source","Calculation 1","Emission Sub-source","Unit \nRequired","Unit Reported","Data","Conversion factor \n(Unit Reported to Unit Required)","Consumption \n(kWh)","Conversion factor \n(co2e)","Emission calculation \n(tco2e)"]
[null,2021,"Direct","Camira Transport Fabrics Limited","Turkey","Yes","DBEIS/DEFRA","Scope2","Mobile",{"$f":"LOOKUP(Table1[[#This Row],[Emission Source]],#REF!,#REF!)","v":{"$error":"#REF!"}},"Petrol","Calculate a lookup based on subsource",null,10,{"$f":"IF(Table1[[#This Row],[SECR Reporting?]]=\"Yes\",(LOOKUP(Table1[[#This Row],[Emission Sub-source]],#REF!,#REF!)),1)","v":{"$error":"#REF!"}},{"$f":"IF(Table1[[#This Row],[Data]]=\" \",0,(Table1[[#This Row],[Data]]*Table1[[#This Row],[Conversion factor \n(Unit Reported to Unit Required)]]))","v":{"$error":"#REF!"}},null,"k x j"]

{"sheet":"List - SoA","index":27,"n_rows":17,"n_cols":18,"rows_kept":17,"cut":false,"hidden":true,"merged":[]}
[null,"Entity",null,"Location",null,"Authority",null,"Choice",null,"Currency",null,"Production",null,"Stationary",null,"Mobile",null,"Relevance"]
[null,"Camira Fabrics Limited",null,"Birkby",null,"DBEIS/DEFRA",null,"Yes",null,"GBP",null,"m",null,"Natural Gas",null,"Company owned or leased",null,"Relevant, calculated"]
[null,"Camira Transport Fabrics Limited",null,"Holmfirth",null,"EPA",null,"No",null,"EUR",null,"kg",null,"Distillate Fuel Oil No. 2",null,"Diesel",null,"Relevant, not yet calculated"]
[null,"Camira Yarns Limited",null,"London",null,null,null,"Unsure",null,"USD",null,"unit",null,"Residual Fuel Oil No. 6",null,"Residual Fuel Oil",null,"Relevant, not calculated, justification provided"]
[null,"Holmfirth Dyers Limited",null,"Meltham",null,null,null,null,null,"AUD",null,null,null,"Kerosene",null,"Aviation Gasoline",null,"Not relevant, calculated"]
[null,"UAB Camira Fabrics",null,"Mirfield",null,null,null,null,null,"CNY",null,null,null,"Liquefied Petroleum Gases (LPG)",null,"Kerosene-Type Jet Fuel",null,"Not relevant, justification provided"]
[null,"Camira Fabrics GmbH",null,"Nottingham",null,null,null,null,null,null,null,null,null,"Anthracite Coal",null,"Liquefied Petroleum Gases (LPG)",null,"Not evaluated"]
[null,"Camira Fabrics Turkey\nTekstil Limited Sirketi",null,"Denmark",null,null,null,null,null,null,null,null,null,"Bituminous Coal",null,"Ethanol (100%)"]
[null,"Camira Group, Inc",null,"Germany",null,null,null,null,null,null,null,null,null,"Sub-bituminous Coal",null,"Biodiesel (100%)"]
[null,"Luna Textiles, Inc",null,"Lithuania",null,null,null,null,null,null,null,null,null,"Lignite Coal",null,"Liquefied Natural Gas (LNG)"]
[null,"Camira Fabrics (Shanghai) Limited",null,"Turkey",null,null,null,null,null,null,null,null,null,"Mixed (Electric Power Sector)",null,"Compressed Natural Gas (CNG)"]
[null,"Camira Group Pty Limited",null,"Chicago",null,null,null,null,null,null,null,null,null,"Coal Coke",null,"Not applicable"]
[null,null,null,"Grand Rapids",null,null,null,null,null,null,null,null,null,"Wood and Wood Residuals"]
[null,null,null,"Australia",null,null,null,null,null,null,null,null,null,"Landfill Gas"]
[null,null,null,"New Zealand",null,null,null,null,null,null,null,null,null,"Not applicable"]
[null,null,null,"Shanghai"]
[null,null,null,"San Francisco"]

{"sheet":"3.6","index":28,"n_rows":32,"n_cols":29,"rows_kept":32,"cut":false,"hidden":false,"merged":[[22,27,24,27],[22,28,24,28],[4,27,5,28],[6,28,7,28],[9,28,10,28],[12,28,13,28],[15,28,16,28],[20,27,21,28]]}
[]
[null,"Greenhouse Gas Emission Analysis - Employee Business Travel"]
[]
[null,"UK - DBEIS/DEFRA"]
[null,"Reporting \nyear","Entity","Location","Scope","Sub-scope","Source Pseudonym","Emission Source","Emission Pseudonym","Unit \nRequired","Data Raw","Unit Reported","Concatenate Units","Unit Conversion (SECR)","Data Corrected","Unit Corrected","CO2","CH4","Spare1","N2O","Spare2","Spare3","Spare4","Spare5","Spare6","tCO2e Emission Equivalent",null,"Workbook links"]
[null,2021,"Camira Fabrics Limited","Mirfield",{"$f":"\"Scope_3\"","v":"Scope_3"},{"$f":"\"Employee Business Travel\"","v":"Employee Business Travel"},{"$f":"LOOKUP(Table146135136143330[[#This Row],[Sub-scope]],Table357841[Source],Table357841[Pseudonym])","v":"EmployeeTravelUK"},"Petrol Car- Average",{"$f":"LOOKUP(Table146135136143330[[#This Row],[Emission Source]],Table125292[[Emission ]],Table125292[Pseudonym])","v":"EmployeeTravlUK"},{"$f":"LOOKUP(Table146135136143330[[#This Row],[Emission Source]],Table44300[Fuel Type],Table44300[Unit])","v":"mile"},840,"mile",{"$f":"CONCATENATE(Table146135136143330[[#This Row],[Unit Reported]],Table146135136143330[[#This Row],[Unit \nRequired]])","v":"milemile"},{"$f":"LOOKUP(Table146135136143330[[#This Row],[Concatenate Units]],Table43299[Concatenate],Table43299[Multiply By])","v":1},{"$f":"IFERROR(Table146135136143330[[#This Row],[Data Raw]]*Table146135136143330[[#This Row],[Unit Conversion (SECR)]],0)","v":840},{"$f":"IFERROR(Table146135136143330[[#This Row],[Unit \nRequired]],\"\")","v":"mile"},{"$f":"LOOKUP(Table146135136143330[[#This Row],[Emission Source]],Table44300[Fuel Type],Table44300[CO2 Factor \n(kg / Unit)])","v":0.27944000000000002},{"$f":"LOOKUP(Table146135136143330[[#This Row],[Emission Source]],Table44300[Fuel Type],Table44300[CH4 Factor \n(g / unit)])","v":5.1000000000000004E-4},null,{"$f":"LOOKUP(Table146135136143330[[#This Row],[Emission Source]],Table44300[Fuel Type],Table44300[N2O Factor \n(g / unit)])","v":5.8E-4},null,{"$f":"(LOOKUP(Table146135136143330[[#This Row],[Emission Source]],Table44[Fuel Type],Table44[GWP]))","v":0},{"$f":"Table146135136143330[[#This Row],[Data Corrected]]*(LOOKUP(Table146135136143330[[#This Row],[Emission Source]],Table44[Fuel Type],Table44[Recycled CO2 Factor]))","v":0},{"$f":"Table146135136143330[[#This Row],[Data Corrected]]*(LOOKUP(Table146135136143330[[#This Row],[Emission Source]],Table44[Fuel Type],Table44[Landfill CO2 Factor]))","v":0},{"$f":"Table146135136143330[[#This Row],[Data Corrected]]*(LOOKUP(Table146135136143330[[#This Row],[Emission Source]],Table44[Fuel Type],Table44[Combusted CO2 Factor]))","v":0},{"$f":"IFERROR(((Table146135136143330[[#This Row],[CO2]]+Table146135136143330[[#This Row],[Spare1]]+Table146135136143330[[#This Row],[Spare2]]+Table146135136143330[[#This Row],[Spare3]]+Table146135136143330[[#This Row],[Spare4]]+Table146135136143330[[#This Row],[Spare5]]+Table146135136143330[[#This Row],[Spare6]])*Table146135136143330[[#This Row],[Data Corrected]])/1000,0)","v":0.23472960000000001}]
[null,2021,"Camira Fabrics Limited","Mirfield","Scope_3","Employee Business Travel",{"$f":"LOOKUP(Table146135136143330[[#This Row],[Sub-scope]],Table357841[Source],Table357841[Pseudonym])","v":"EmployeeTravelUK"},"Diesel Car- Average",{"$f":"LOOKUP(Table146135136143330[[#This Row],[Emission Source]],Table125292[[Emission ]],Table125292[Pseudonym])","v":"EmployeeTravlUK"},{"$f":"LOOKUP(Table146135136143330[[#This Row],[Emission Source]],Table44300[Fuel Type],Table44300[Unit])","v":"mile"},1460,"mile",{"$f":"CONCATENATE(Table146135136143330[[#This Row],[Unit Reported]],Table146135136143330[[#This Row],[Unit \nRequired]])","v":"milemile"},{"$f":"LOOKUP(Table146135136143330[[#This Row],[Concatenate Units]],Table43299[Concatenate],Table43299[Multiply By])","v":1},{"$f":"IFERROR(Table146135136143330[[#This Row],[Data Raw]]*Table146135136143330[[#This Row],[Unit Conversion (SECR)]],0)","v":1460},{"$f":"IFERROR(Table146135136143330[[#This Row],[Unit \nRequired]],\"\")","v":"mile"},{"$f":"LOOKUP(Table146135136143330[[#This Row],[Emission Source]],Table44300[Fuel Type],Table44300[CO2 Factor \n(kg / Unit)])","v":0.26804},{"$f":"LOOKUP(Table146135136143330[[#This Row],[Emission Source]],Table44300[Fuel Type],Table44300[CH4 Factor \n(g / unit)])","v":1.0000000000000001E-5},null,{"$f":"LOOKUP(Table146135136143330[[#This Row],[Emission Source]],Table44300[Fuel Type],Table44300[N2O Factor \n(g / unit)])","v":3.0300000000000001E-3},null,{"$f":"(LOOKUP(Table146135136143330[[#This Row],[Emission Source]],Table44[Fuel Type],Table44[GWP]))","v":0},{"$f":"Table146135136143330[[#This Row],[Data Corrected]]*(LOOKUP(Table146135136143330[[#This Row],[Emission Source]],Table44[Fuel Type],Table44[Recycled CO2 Factor]))","v":0},{"$f":"Table146135136143330[[#This Row],[Data Corrected]]*(LOOKUP(Table146135136143330[[#This Row],[Emission Source]],Table44[Fuel Type],Table44[Landfill CO2 Factor]))","v":0},{"$f":"Table146135136143330[[#This Row],[Data Corrected]]*(LOOKUP(Table146135136143330[[#This Row],[Emission Source]],Table44[Fuel Type],Table44[Combusted CO2 Factor]))","v":0},{"$f":"IFERROR(((Table146135136143330[[#This Row],[CO2]]+Table146135136143330[[#This Row],[Spare1]]+Table146135136143330[[#This Row],[Spare2]]+Table146135136143330[[#This Row],[Spare3]]+Table146135136143330[[#This Row],[Spare4]]+Table146135136143330[[#This Row],[Spare5]]+Table146135136143330[[#This Row],[Spare6]])*Table146135136143330[[#This Row],[Data Corrected]])/1000,0)","v":0.39133839999999998},null,null,"GHG Reporting Process"]
[null,null,null,null,null,null,null,null,null,null,null,null,null,null,null,null,null,null,null,null,null,null,null,null,null,{"$f":"SUM(Table146135136143330[tCO2e Emission Equivalent])","v":0.62606799999999996}]
[null,"Reporting \nyear","Entity","Location","Scope","Sub-scope","Source Pseudonym","Emission Source","Emission Pseudonym","Unit \nRequired","Data Raw","Unit Reported","Concatenate Units","Unit Conversion (SECR)","Data Corrected","Unit Corrected","CO2","CH4","Spare1","N2O","Spare2","Spare3","Spare4","Spare5","Spare6","tCO2e Emission Equivalent"]
[null,2021,"Camira Fabrics Limited","Meltham",{"$f":"\"Scope_3\"","v":"Scope_3"},{"$f":"\"Employee Business Travel\"","v":"Employee Business Travel"},{"$f":"LOOKUP(Table146135136143330340[[#This Row],[Sub-scope]],Table357841[Source],Table357841[Pseudonym])","v":"EmployeeTravelUK"},"Diesel Car- Average",{"$f":"LOOKUP(Table146135136143330340[[#This Row],[Emission Source]],Table125292[[Emission ]],Table125292[Pseudonym])","v":"EmployeeTravlUK"},{"$f":"LOOKUP(Table146135136143330340[[#This Row],[Emission Source]],Table44300[Fuel Type],Table44300[Unit])","v":"mile"},1348,"mile",{"$f":"CONCATENATE(Table146135136143330340[[#This Row],[Unit Reported]],Table146135136143330340[[#This Row],[Unit \nRequired]])","v":"milemile"},{"$f":"LOOKUP(Table146135136143330340[[#This Row],[Concatenate Units]],Table43299[Concatenate],Table43299[Multiply By])","v":1},{"$f":"IFERROR(Table146135136143330340[[#This Row],[Data Raw]]*Table146135136143330340[[#This Row],[Unit Conversion (SECR)]],0)","v":1348},{"$f":"IFERROR(Table146135136143330340[[#This Row],[Unit \nRequired]],\"\")","v":"mile"},{"$f":"LOOKUP(Table146135136143330340[[#This Row],[Emission Source]],Table44300[Fuel Type],Table44300[CO2 Factor \n(kg / Unit)])","v":0.26804},{"$f":"LOOKUP(Table146135136143330340[[#This Row],[Emission Source]],Table44300[Fuel Type],Table44300[CH4 Factor \n(g / unit)])","v":1.0000000000000001E-5},null,{"$f":"LOOKUP(Table146135136143330340[[#This Row],[Emission Source]],Table44300[Fuel Type],Table44300[N2O Factor \n(g / unit)])","v":3.0300000000000001E-3},null,{"$f":"(LOOKUP(Table146135136143330340[[#This Row],[Emission Source]],Table44[Fuel Type],Table44[GWP]))","v":0},{"$f":"Table146135136143330340[[#This Row],[Data Corrected]]*(LOOKUP(Table146135136143330340[[#This Row],[Emission Source]],Table44[Fuel Type],Table44[Recycled CO2 Factor]))","v":0},{"$f":"Table146135136143330340[[#This Row],[Data Corrected]]*(LOOKUP(Table146135136143330340[[#This Row],[Emission Source]],Table44[Fuel Type],Table44[Landfill CO2 Factor]))","v":0},{"$f":"Table146135136143330340[[#This Row],[Data Corrected]]*(LOOKUP(Table146135136143330340[[#This Row],[Emission Source]],Table44[Fuel Type],Table44[Combusted CO2 Factor]))","v":0},{"$f":"IFERROR(((Table146135136143330340[[#This Row],[CO2]]+Table146135136143330340[[#This Row],[Spare1]]+Table146135136143330340[[#This Row],[Spare2]]+Table146135136143330340[[#This Row],[Spare3]]+Table146135136143330340[[#This Row],[Spare4]]+Table146135136143330340[[#This Row],[Spare5]]+Table146135136143330340[[#This Row],[Spare6]])*Table146135136143330340[[#This Row],[Data Corrected]])/1000,0)","v":0.36131792000000001},null,null,"GHG \nQuestionnaire"]
[null,2021,"Camira Fabrics Limited","Meltham",{"$f":"\"Scope_3\"","v":"Scope_3"},{"$f":"\"Employee Business Travel\"","v":"Employee Business Travel"},{"$f":"LOOKUP(Table146135136143330340[[#This Row],[Sub-scope]],Table357841[Source],Table357841[Pseudonym])","v":"EmployeeTravelUK"},"Petrol Car- Average",{"$f":"LOOKUP(Table146135136143330340[[#This Row],[Emission Source]],Table125292[[Emission ]],Table125292[Pseudonym])","v":"EmployeeTravlUK"},{"$f":"LOOKUP(Table146135136143330340[[#This Row],[Emission Source]],Table44300[Fuel Type],Table44300[Unit])","v":"mile"},936,"mile",{"$f":"CONCATENATE(Table146135136143330340[[#This Row],[Unit Reported]],Table146135136143330340[[#This Row],[Unit \nRequired]])","v":"milemile"},{"$f":"LOOKUP(Table146135136143330340[[#This Row],[Concatenate Units]],Table43299[Concatenate],Table43299[Multiply By])","v":1},{"$f":"IFERROR(Table146135136143330340[[#This Row],[Data Raw]]*Table146135136143330340[[#This Row],[Unit Conversion (SECR)]],0)","v":936},{"$f":"IFERROR(Table146135136143330340[[#This Row],[Unit \nRequired]],\"\")","v":"mile"},{"$f":"LOOKUP(Table146135136143330340[[#This Row],[Emission Source]],Table44300[Fuel Type],Table44300[CO2 Factor \n(kg / Unit)])","v":0.27944000000000002},{"$f":"LOOKUP(Table146135136143330340[[#This Row],[Emission Source]],Table44300[Fuel Type],Table44300[CH4 Factor \n(g / unit)])","v":5.1000000000000004E-4},null,{"$f":"LOOKUP(Table146135136143330340[[#This Row],[Emission Source]],Table44300[Fuel Type],Table44300[N2O Factor \n(g / unit)])","v":5.8E-4},null,{"$f":"(LOOKUP(Table146135136143330340[[#This Row],[Emission Source]],Table44[Fuel Type],Table44[GWP]))","v":0},{"$f":"Table146135136143330340[[#This Row],[Data Corrected]]*(LOOKUP(Table146135136143330340[[#This Row],[Emission Source]],Table44[Fuel Type],Table44[Recycled CO2 Factor]))","v":0},{"$f":"Table146135136143330340[[#This Row],[Data Corrected]]*(LOOKUP(Table146135136143330340[[#This Row],[Emission Source]],Table44[Fuel Type],Table44[Landfill CO2 Factor]))","v":0},{"$f":"Table146135136143330340[[#This Row],[Data Corrected]]*(LOOKUP(Table146135136143330340[[#This Row],[Emission Source]],Table44[Fuel Type],Table44[Combusted CO2 Factor]))","v":0},{"$f":"IFERROR(((Table146135136143330340[[#This Row],[CO2]]+Table146135136143330340[[#This Row],[Spare1]]+Table146135136143330340[[#This Row],[Spare2]]+Table146135136143330340[[#This Row],[Spare3]]+Table146135136143330340[[#This Row],[Spare4]]+Table146135136143330340[[#This Row],[Spare5]]+Table146135136143330340[[#This Row],[Spare6]])*Table146135136143330340[[#This Row],[Data Corrected]])/1000,0)","v":0.26155584000000004}]
[null,null,null,null,null,null,null,null,null,null,null,null,null,null,null,null,null,null,null,null,null,null,null,null,null,{"$f":"SUM(Table146135136143330340[tCO2e Emission Equivalent])","v":0.62287376000000005}]
[null,"Reporting \nyear","Entity","Location","Scope","Sub-scope","Source Pseudonym","Emission Source","Emission Pseudonym","Unit \nRequired","Data Raw","Unit Reported","Concatenate Units","Unit Conversion (SECR)","Data Corrected","Unit Corrected","CO2","CH4","Spare1","N2O","Spare2","Spare3","Spare4","Spare5","Spare6","tCO2e Emission Equivalent",null,null,"GHG Statement \nof Applicability"]
[null,2021,"Camira Fabrics Limited","Nottingham",{"$f":"\"Scope_3\"","v":"Scope_3"},{"$f":"\"Employee Business Travel\"","v":"Employee Business Travel"},{"$f":"LOOKUP(Table146135136143330341[[#This Row],[Sub-scope]],Table357841[Source],Table357841[Pseudonym])","v":"EmployeeTravelUK"},"Petrol Car- Average",{"$f":"LOOKUP(Table146135136143330341[[#This Row],[Emission Source]],Table125292[[Emission ]],Table125292[Pseudonym])","v":"EmployeeTravlUK"},{"$f":"LOOKUP(Table146135136143330341[[#This Row],[Emission Source]],Table44300[Fuel Type],Table44300[Unit])","v":"mile"},0,"mile",{"$f":"CONCATENATE(Table146135136143330341[[#This Row],[Unit Reported]],Table146135136143330341[[#This Row],[Unit \nRequired]])","v":"milemile"},{"$f":"LOOKUP(Table146135136143330341[[#This Row],[Concatenate Units]],Table43299[Concatenate],Table43299[Multiply By])","v":1},{"$f":"IFERROR(Table146135136143330341[[#This Row],[Data Raw]]*Table146135136143330341[[#This Row],[Unit Conversion (SECR)]],0)","v":0},{"$f":"IFERROR(Table146135136143330341[[#This Row],[Unit \nRequired]],\"\")","v":"mile"},{"$f":"LOOKUP(Table146135136143330341[[#This Row],[Emission Source]],Table44300[Fuel Type],Table44300[CO2 Factor \n(kg / Unit)])","v":0.27944000000000002},{"$f":"LOOKUP(Table146135136143330341[[#This Row],[Emission Source]],Table44300[Fuel Type],Table44300[CH4 Factor \n(g / unit)])","v":5.1000000000000004E-4},null,{"$f":"LOOKUP(Table146135136143330341[[#This Row],[Emission Source]],Table44300[Fuel Type],Table44300[N2O Factor \n(g / unit)])","v":5.8E-4},null,{"$f":"(LOOKUP(Table146135136143330341[[#This Row],[Emission Source]],Table44[Fuel Type],Table44[GWP]))","v":0},{"$f":"Table146135136143330341[[#This Row],[Data Corrected]]*(LOOKUP(Table146135136143330341[[#This Row],[Emission Source]],Table44[Fuel Type],Table44[Recycled CO2 Factor]))","v":0},{"$f":"Table146135136143330341[[#This Row],[Data Corrected]]*(LOOKUP(Table146135136143330341[[#This Row],[Emission Source]],Table44[Fuel Type],Table44[Landfill CO2 Factor]))","v":0},{"$f":"Table146135136143330341[[#This Row],[Data Corrected]]*(LOOKUP(Table146135136143330341[[#This Row],[Emission Source]],Table44[Fuel Type],Table44[Combusted CO2 Factor]))","v":0},{"$f":"IFERROR(((Table146135136143330341[[#This Row],[CO2]]+Table146135136143330341[[#This Row],[Spare1]]+Table146135136143330341[[#This Row],[Spare2]]+Table146135136143330341[[#This Row],[Spare3]]+Table146135136143330341[[#This Row],[Spare4]]+Table146135136143330341[[#This Row],[Spare5]]+Table146135136143330341[[#This Row],[Spare6]])*Table146135136143330341[[#This Row],[Data Corrected]])/1000,0)","v":0}]
[null,null,null,null,null,null,null,null,null,null,null,null,null,null,null,null,null,null,null,null,null,null,null,null,null,{"$f":"SUM(Table146135136143330341[tCO2e Emission Equivalent])","v":0}]
[null,"Reporting \nyear","Entity","Location","Scope","Sub-scope","Source Pseudonym","Emission Source","Emission Pseudonym","Unit \nRequired","Data Raw","Unit Reported","Concatenate Units","Unit Conversion (SECR)","Data Corrected","Unit Corrected","CO2","CH4","Spare1","N2O","Spare2","Spare3","Spare4","Spare5","Spare6","tCO2e Emission Equivalent",null,null,"GHG Summary \nReport"]
[null,2021,"Camira Yarns Limited","Birkby",{"$f":"\"Scope_3\"","v":"Scope_3"},{"$f":"\"Employee Business Travel\"","v":"Employee Business Travel"},{"$f":"LOOKUP(Table146135136143330342[[#This Row],[Sub-scope]],Table357841[Source],Table357841[Pseudonym])","v":"EmployeeTravelUK"},"Petrol Car- Average",{"$f":"LOOKUP(Table146135136143330342[[#This Row],[Emission Source]],Table125292[[Emission ]],Table125292[Pseudonym])","v":"EmployeeTravlUK"},{"$f":"LOOKUP(Table146135136143330342[[#This Row],[Emission Source]],Table44300[Fuel Type],Table44300[Unit])","v":"mile"},176,"mile",{"$f":"CONCATENATE(Table146135136143330342[[#This Row],[Unit Reported]],Table146135136143330342[[#This Row],[Unit \nRequired]])","v":"milemile"},{"$f":"LOOKUP(Table146135136143330342[[#This Row],[Concatenate Units]],Table43299[Concatenate],Table43299[Multiply By])","v":1},{"$f":"IFERROR(Table146135136143330342[[#This Row],[Data Raw]]*Table146135136143330342[[#This Row],[Unit Conversion (SECR)]],0)","v":176},{"$f":"IFERROR(Table146135136143330342[[#This Row],[Unit \nRequired]],\"\")","v":"mile"},{"$f":"LOOKUP(Table146135136143330342[[#This Row],[Emission Source]],Table44300[Fuel Type],Table44300[CO2 Factor \n(kg / Unit)])","v":0.27944000000000002},{"$f":"LOOKUP(Table146135136143330342[[#This Row],[Emission Source]],Table44300[Fuel Type],Table44300[CH4 Factor \n(g / unit)])","v":5.1000000000000004E-4},null,{"$f":"LOOKUP(Table146135136143330342[[#This Row],[Emission Source]],Table44300[Fuel Type],Table44300[N2O Factor \n(g / unit)])","v":5.8E-4},null,{"$f":"(LOOKUP(Table146135136143330342[[#This Row],[Emission Source]],Table44[Fuel Type],Table44[GWP]))","v":0},{"$f":"Table146135136143330342[[#This Row],[Data Corrected]]*(LOOKUP(Table146135136143330342[[#This Row],[Emission Source]],Table44[Fuel Type],Table44[Recycled CO2 Factor]))","v":0},{"$f":"Table146135136143330342[[#This Row],[Data Corrected]]*(LOOKUP(Table146135136143330342[[#This Row],[Emission Source]],Table44[Fuel Type],Table44[Landfill CO2 Factor]))","v":0},{"$f":"Table146135136143330342[[#This Row],[Data Corrected]]*(LOOKUP(Table146135136143330342[[#This Row],[Emission Source]],Table44[Fuel Type],Table44[Combusted CO2 Factor]))","v":0},{"$f":"IFERROR(((Table146135136143330342[[#This Row],[CO2]]+Table146135136143330342[[#This Row],[Spare1]]+Table146135136143330342[[#This Row],[Spare2]]+Table146135136143330342[[#This Row],[Spare3]]+Table146135136143330342[[#This Row],[Spare4]]+Table146135136143330342[[#This Row],[Spare5]]+Table146135136143330342[[#This Row],[Spare6]])*Table146135136143330342[[#This Row],[Data Corrected]])/1000,0)","v":4.918144E-2}]
[null,2021,"Camira Yarns Limited","Birkby",{"$f":"\"Scope_3\"","v":"Scope_3"},{"$f":"\"Employee Business Travel\"","v":"Employee Business Travel"},{"$f":"LOOKUP(Table146135136143330342[[#This Row],[Sub-scope]],Table357841[Source],Table357841[Pseudonym])","v":"EmployeeTravelUK"},"Diesel Car- Average",{"$f":"LOOKUP(Table146135136143330342[[#This Row],[Emission Source]],Table125292[[Emission ]],Table125292[Pseudonym])","v":"EmployeeTravlUK"},{"$f":"LOOKUP(Table146135136143330342[[#This Row],[Emission Source]],Table44300[Fuel Type],Table44300[Unit])","v":"mile"},708,"mile",{"$f":"CONCATENATE(Table146135136143330342[[#This Row],[Unit Reported]],Table146135136143330342[[#This Row],[Unit \nRequired]])","v":"milemile"},{"$f":"LOOKUP(Table146135136143330342[[#This Row],[Concatenate Units]],Table43299[Concatenate],Table43299[Multiply By])","v":1},{"$f":"IFERROR(Table146135136143330342[[#This Row],[Data Raw]]*Table146135136143330342[[#This Row],[Unit Conversion (SECR)]],0)","v":708},{"$f":"IFERROR(Table146135136143330342[[#This Row],[Unit \nRequired]],\"\")","v":"mile"},{"$f":"LOOKUP(Table146135136143330342[[#This Row],[Emission Source]],Table44300[Fuel Type],Table44300[CO2 Factor \n(kg / Unit)])","v":0.26804},{"$f":"LOOKUP(Table146135136143330342[[#This Row],[Emission Source]],Table44300[Fuel Type],Table44300[CH4 Factor \n(g / unit)])","v":1.0000000000000001E-5},null,{"$f":"LOOKUP(Table146135136143330342[[#This Row],[Emission Source]],Table44300[Fuel Type],Table44300[N2O Factor \n(g / unit)])","v":3.0300000000000001E-3},null,{"$f":"(LOOKUP(Table146135136143330342[[#This Row],[Emission Source]],Table44[Fuel Type],Table44[GWP]))","v":0},{"$f":"Table146135136143330342[[#This Row],[Data Corrected]]*(LOOKUP(Table146135136143330342[[#This Row],[Emission Source]],Table44[Fuel Type],Table44[Recycled CO2 Factor]))","v":0},{"$f":"Table146135136143330342[[#This Row],[Data Corrected]]*(LOOKUP(Table146135136143330342[[#This Row],[Emission Source]],Table44[Fuel Type],Table44[Landfill CO2 Factor]))","v":0},{"$f":"Table146135136143330342[[#This Row],[Data Corrected]]*(LOOKUP(Table146135136143330342[[#This Row],[Emission Source]],Table44[Fuel Type],Table44[Combusted CO2 Factor]))","v":0},{"$f":"IFERROR(((Table146135136143330342[[#This Row],[CO2]]+Table146135136143330342[[#This Row],[Spare1]]+Table146135136143330342[[#This Row],[Spare2]]+Table146135136143330342[[#This Row],[Spare3]]+Table146135136143330342[[#This Row],[Spare4]]+Table146135136143330342[[#This Row],[Spare5]]+Table146135136143330342[[#This Row],[Spare6]])*Table146135136143330342[[#This Row],[Data Corrected]])/1000,0)","v":0.18977231999999999}]
[null,null,null,null,null,null,null,null,null,null,null,null,null,null,null,null,null,null,null,null,null,null,null,null,null,{"$f":"SUM(Table146135136143330342[tCO2e Emission Equivalent])","v":0.23895375999999999}]
[null,"Reporting \nyear","Entity","Location","Scope","Sub-scope","Source Pseudonym","Emission Source","Emission Pseudonym","Unit \nRequired","Data Raw","Unit Reported","Concatenate Units","Unit Conversion (SECR)","Data Corrected","Unit Corrected","CO2","CH4","Spare1","N2O","Spare2","Spare3","Spare4","Spare5","Spare6","tCO2e Emission Equivalent"]
[null,2021,"Holmfirth Dyers Limited","Holmfirth",{"$f":"\"Scope_3\"","v":"Scope_3"},{"$f":"\"Employee Business Travel\"","v":"Employee Business Travel"},{"$f":"LOOKUP(Table146135136143330343[[#This Row],[Sub-scope]],Table357841[Source],Table357841[Pseudonym])","v":"EmployeeTravelUK"},"Petrol Car- Average",{"$f":"LOOKUP(Table146135136143330343[[#This Row],[Emission Source]],Table125292[[Emission ]],Table125292[Pseudonym])","v":"EmployeeTravlUK"},{"$f":"LOOKUP(Table146135136143330343[[#This Row],[Emission Source]],Table44300[Fuel Type],Table44300[Unit])","v":"mile"},0,"mile",{"$f":"CONCATENATE(Table146135136143330343[[#This Row],[Unit Reported]],Table146135136143330343[[#This Row],[Unit \nRequired]])","v":"milemile"},{"$f":"LOOKUP(Table146135136143330343[[#This Row],[Concatenate Units]],Table43299[Concatenate],Table43299[Multiply By])","v":1},{"$f":"IFERROR(Table146135136143330343[[#This Row],[Data Raw]]*Table146135136143330343[[#This Row],[Unit Conversion (SECR)]],0)","v":0},{"$f":"IFERROR(Table146135136143330343[[#This Row],[Unit \nRequired]],\"\")","v":"mile"},{"$f":"LOOKUP(Table146135136143330343[[#This Row],[Emission Source]],Table44300[Fuel Type],Table44300[CO2 Factor \n(kg / Unit)])","v":0.27944000000000002},{"$f":"LOOKUP(Table146135136143330343[[#This Row],[Emission Source]],Table44300[Fuel Type],Table44300[CH4 Factor \n(g / unit)])","v":5.1000000000000004E-4},null,{"$f":"LOOKUP(Table146135136143330343[[#This Row],[Emission Source]],Table44300[Fuel Type],Table44300[N2O Factor \n(g / unit)])","v":5.8E-4},null,{"$f":"(LOOKUP(Table146135136143330343[[#This Row],[Emission Source]],Table44[Fuel Type],Table44[GWP]))","v":0},{"$f":"Table146135136143330343[[#This Row],[Data Corrected]]*(LOOKUP(Table146135136143330343[[#This Row],[Emission Source]],Table44[Fuel Type],Table44[Recycled CO2 Factor]))","v":0},{"$f":"Table146135136143330343[[#This Row],[Data Corrected]]*(LOOKUP(Table146135136143330343[[#This Row],[Emission Source]],Table44[Fuel Type],Table44[Landfill CO2 Factor]))","v":0},{"$f":"Table146135136143330343[[#This Row],[Data Corrected]]*(LOOKUP(Table146135136143330343[[#This Row],[Emission Source]],Table44[Fuel Type],Table44[Combusted CO2 Factor]))","v":0},{"$f":"IFERROR(((Table146135136143330343[[#This Row],[CO2]]+Table146135136143330343[[#This Row],[Spare1]]+Table146135136143330343[[#This Row],[Spare2]]+Table146135136143330343[[#This Row],[Spare3]]+Table146135136143330343[[#This Row],[Spare4]]+Table146135136143330343[[#This Row],[Spare5]]+Table146135136143330343[[#This Row],[Spare6]])*Table146135136143330343[[#This Row],[Data Corrected]])/1000,0)","v":0},null,"Scope Emissions"]
[null,null,null,null,null,null,null,null,null,null,null,null,null,null,null,null,null,null,null,null,null,null,null,null,null,{"$f":"SUM(Table146135136143330343[tCO2e Emission Equivalent])","v":0}]
[null,"EUR",null,null,null,null,null,null,null,null,null,null,null,null,null,null,null,null,null,null,null,null,null,null,null,null,null,"tCO2e",{"$f":"SUM(Z8+Z12+Z15+Z19+Z22+Z28+Z32)","v":2.33757036}]
[null,"Reporting \nyear","Entity","Location","Scope","Sub-scope","Source Pseudonym","Emission Source","Emission Pseudonym","Unit \nRequired","Data Raw","Unit Reported","Concatenate Units","Unit Conversion (SECR)","Data Corrected","Unit Corrected","CO2","CH4","Spare1","N2O","Spare2","Spare3","Spare4","Spare5","Spare6","tCO2e Emission Equivalent"]
[null,2021,"UAB Camira Fabrics","Lithuania",{"$f":"\"Scope_3\"","v":"Scope_3"},{"$f":"\"Employee Business Travel\"","v":"Employee Business Travel"},{"$f":"LOOKUP(Table146135136143330344[[#This Row],[Sub-scope]],Table357841[Source],Table357841[Pseudonym])","v":"EmployeeTravelUK"},"Diesel Car- Average",{"$f":"LOOKUP(Table146135136143330344[[#This Row],[Emission Source]],Table125292[[Emission ]],Table125292[Pseudonym])","v":"EmployeeTravlUK"},{"$f":"LOOKUP(Table146135136143330344[[#This Row],[Emission Source]],Table44300[Fuel Type],Table44300[Unit])","v":"mile"},252,"mile",{"$f":"CONCATENATE(Table146135136143330344[[#This Row],[Unit Reported]],Table146135136143330344[[#This Row],[Unit \nRequired]])","v":"milemile"},{"$f":"LOOKUP(Table146135136143330344[[#This Row],[Concatenate Units]],Table43299[Concatenate],Table43299[Multiply By])","v":1},{"$f":"IFERROR(Table146135136143330344[[#This Row],[Data Raw]]*Table146135136143330344[[#This Row],[Unit Conversion (SECR)]],0)","v":252},{"$f":"IFERROR(Table146135136143330344[[#This Row],[Unit \nRequired]],\"\")","v":"mile"},{"$f":"LOOKUP(Table146135136143330344[[#This Row],[Emission Source]],Table44300[Fuel Type],Table44300[CO2 Factor \n(kg / Unit)])","v":0.26804},{"$f":"LOOKUP(Table146135136143330344[[#This Row],[Emission Source]],Table44300[Fuel Type],Table44300[CH4 Factor \n(g / unit)])","v":1.0000000000000001E-5},null,{"$f":"LOOKUP(Table146135136143330344[[#This Row],[Emission Source]],Table44300[Fuel Type],Table44300[N2O Factor \n(g / unit)])","v":3.0300000000000001E-3},null,{"$f":"(LOOKUP(Table146135136143330344[[#This Row],[Emission Source]],Table44[Fuel Type],Table44[GWP]))","v":0},{"$f":"Table146135136143330344[[#This Row],[Data Corrected]]*(LOOKUP(Table146135136143330344[[#This Row],[Emission Source]],Table44[Fuel Type],Table44[Recycled CO2 Factor]))","v":0},{"$f":"Table146135136143330344[[#This Row],[Data Corrected]]*(LOOKUP(Table146135136143330344[[#This Row],[Emission Source]],Table44[Fuel Type],Table44[Landfill CO2 Factor]))","v":0},{"$f":"Table146135136143330344[[#This Row],[Data Corrected]]*(LOOKUP(Table146135136143330344[[#This Row],[Emission Source]],Table44[Fuel Type],Table44[Combusted CO2 Factor]))","v":0},{"$f":"IFERROR(((Table146135136143330344[[#This Row],[CO2]]+Table146135136143330344[[#This Row],[Spare1]]+Table146135136143330344[[#This Row],[Spare2]]+Table146135136143330344[[#This Row],[Spare3]]+Table146135136143330344[[#This Row],[Spare4]]+Table146135136143330344[[#This Row],[Spare5]]+Table146135136143330344[[#This Row],[Spare6]])*Table146135136143330344[[#This Row],[Data Corrected]])/1000,0)","v":6.7546080000000008E-2}]
[null,2021,"UAB Camira Fabrics","Lithuania",{"$f":"\"Scope_3\"","v":"Scope_3"},{"$f":"\"Employee Business Travel\"","v":"Employee Business Travel"},{"$f":"LOOKUP(Table146135136143330344[[#This Row],[Sub-scope]],Table357841[Source],Table357841[Pseudonym])","v":"EmployeeTravelUK"},"Petrol Car- Average",{"$f":"LOOKUP(Table146135136143330344[[#This Row],[Emission Source]],Table125292[[Emission ]],Table125292[Pseudonym])","v":"EmployeeTravlUK"},{"$f":"LOOKUP(Table146135136143330344[[#This Row],[Emission Source]],Table44300[Fuel Type],Table44300[Unit])","v":"mile"},296,"mile",{"$f":"CONCATENATE(Table146135136143330344[[#This Row],[Unit Reported]],Table146135136143330344[[#This Row],[Unit \nRequired]])","v":"milemile"},{"$f":"LOOKUP(Table146135136143330344[[#This Row],[Concatenate Units]],Table43299[Concatenate],Table43299[Multiply By])","v":1},{"$f":"IFERROR(Table146135136143330344[[#This Row],[Data Raw]]*Table146135136143330344[[#This Row],[Unit Conversion (SECR)]],0)","v":296},{"$f":"IFERROR(Table146135136143330344[[#This Row],[Unit \nRequired]],\"\")","v":"mile"},{"$f":"LOOKUP(Table146135136143330344[[#This Row],[Emission Source]],Table44300[Fuel Type],Table44300[CO2 Factor \n(kg / Unit)])","v":0.27944000000000002},{"$f":"LOOKUP(Table146135136143330344[[#This Row],[Emission Source]],Table44300[Fuel Type],Table44300[CH4 Factor \n(g / unit)])","v":5.1000000000000004E-4},null,{"$f":"LOOKUP(Table146135136143330344[[#This Row],[Emission Source]],Table44300[Fuel Type],Table44300[N2O Factor \n(g / unit)])","v":5.8E-4},null,{"$f":"(LOOKUP(Table146135136143330344[[#This Row],[Emission Source]],Table44[Fuel Type],Table44[GWP]))","v":0},{"$f":"Table146135136143330344[[#This Row],[Data Corrected]]*(LOOKUP(Table146135136143330344[[#This Row],[Emission Source]],Table44[Fuel Type],Table44[Recycled CO2 Factor]))","v":0},{"$f":"Table146135136143330344[[#This Row],[Data Corrected]]*(LOOKUP(Table146135136143330344[[#This Row],[Emission Source]],Table44[Fuel Type],Table44[Landfill CO2 Factor]))","v":0},{"$f":"Table146135136143330344[[#This Row],[Data Corrected]]*(LOOKUP(Table146135136143330344[[#This Row],[Emission Source]],Table44[Fuel Type],Table44[Combusted CO2 Factor]))","v":0},{"$f":"IFERROR(((Table146135136143330344[[#This Row],[CO2]]+Table146135136143330344[[#This Row],[Spare1]]+Table146135136143330344[[#This Row],[Spare2]]+Table146135136143330344[[#This Row],[Spare3]]+Table146135136143330344[[#This Row],[Spare4]]+Table146135136143330344[[#This Row],[Spare5]]+Table146135136143330344[[#This Row],[Spare6]])*Table146135136143330344[[#This Row],[Data Corrected]])/1000,0)","v":8.2714240000000008E-2}]
[null,2021,"UAB Camira Fabrics","Lithuania",{"$f":"\"Scope_3\"","v":"Scope_3"},{"$f":"\"Employee Business Travel\"","v":"Employee Business Travel"},{"$f":"LOOKUP(Table146135136143330344[[#This Row],[Sub-scope]],Table357841[Source],Table357841[Pseudonym])","v":"EmployeeTravelUK"},"LPG Car- Average",{"$f":"LOOKUP(Table146135136143330344[[#This Row],[Emission Source]],Table125292[[Emission ]],Table125292[Pseudonym])","v":"EmployeeTravlUK"},{"$f":"LOOKUP(Table146135136143330344[[#This Row],[Emission Source]],Table44300[Fuel Type],Table44300[Unit])","v":"mile"},211,"mile",{"$f":"CONCATENATE(Table146135136143330344[[#This Row],[Unit Reported]],Table146135136143330344[[#This Row],[Unit \nRequired]])","v":"milemile"},{"$f":"LOOKUP(Table146135136143330344[[#This Row],[Concatenate Units]],Table43299[Concatenate],Table43299[Multiply By])","v":1},{"$f":"IFERROR(Table146135136143330344[[#This Row],[Data Raw]]*Table146135136143330344[[#This Row],[Unit Conversion (SECR)]],0)","v":211},{"$f":"IFERROR(Table146135136143330344[[#This Row],[Unit \nRequired]],\"\")","v":"mile"},{"$f":"LOOKUP(Table146135136143330344[[#This Row],[Emission Source]],Table44300[Fuel Type],Table44300[CO2 Factor \n(kg / Unit)])","v":0.31835999999999998},{"$f":"LOOKUP(Table146135136143330344[[#This Row],[Emission Source]],Table44300[Fuel Type],Table44300[CH4 Factor \n(g / unit)])","v":8.0000000000000007E-5},null,{"$f":"LOOKUP(Table146135136143330344[[#This Row],[Emission Source]],Table44300[Fuel Type],Table44300[N2O Factor \n(g / unit)])","v":6.4999999999999997E-4},null,{"$f":"(LOOKUP(Table146135136143330344[[#This Row],[Emission Source]],Table44[Fuel Type],Table44[GWP]))","v":0},{"$f":"Table146135136143330344[[#This Row],[Data Corrected]]*(LOOKUP(Table146135136143330344[[#This Row],[Emission Source]],Table44[Fuel Type],Table44[Recycled CO2 Factor]))","v":0},{"$f":"Table146135136143330344[[#This Row],[Data Corrected]]*(LOOKUP(Table146135136143330344[[#This Row],[Emission Source]],Table44[Fuel Type],Table44[Landfill CO2 Factor]))","v":0},{"$f":"Table146135136143330344[[#This Row],[Data Corrected]]*(LOOKUP(Table146135136143330344[[#This Row],[Emission Source]],Table44[Fuel Type],Table44[Combusted CO2 Factor]))","v":0},{"$f":"IFERROR(((Table146135136143330344[[#This Row],[CO2]]+Table146135136143330344[[#This Row],[Spare1]]+Table146135136143330344[[#This Row],[Spare2]]+Table146135136143330344[[#This Row],[Spare3]]+Table146135136143330344[[#This Row],[Spare4]]+Table146135136143330344[[#This Row],[Spare5]]+Table146135136143330344[[#This Row],[Spare6]])*Table146135136143330344[[#This Row],[Data Corrected]])/1000,0)","v":6.7173959999999991E-2}]
[null,null,null,null,null,null,null,null,null,null,null,null,null,null,null,null,null,null,null,null,null,null,null,null,null,{"$f":"SUM(Table146135136143330344[tCO2e Emission Equivalent])","v":0.21743427999999998}]
[null,"US - EPA"]
[null,"Reporting \nyear","Entity","Location","Scope","Sub-scope","Source Pseudonym","Emission Source","Emission Pseudonym","Unit \nRequired","Data Raw","Unit Reported","Concatenate Units","Unit Conversion","Data Corrected","Unit Corrected","CO2","CH4","CH4 Corrected","N2O","N2O Corrected","GWP","Recycled","Landfill","Combusted","tCO2e Emission Equivalent"]
[null,2021,"Camira Group, Inc","Grand Rapids",{"$f":"\"Scope_3\"","v":"Scope_3"},{"$f":"\"Employee Business Travel\"","v":"Employee Business Travel"},{"$f":"LOOKUP(Table146135142329[[#This Row],[Sub-scope]],Table3578[Source],Table3578[Pseudonym])","v":"EmployeeTravelUS"},"Passenger Car",{"$f":"LOOKUP(Table146135142329[[#This Row],[Emission Source]],Table125[[Emission ]],Table125[Pseudonym])","v":"BusinessTravUS"},{"$f":"LOOKUP(Table146135142329[[#This Row],[Emission Source]],Table44[Fuel Type],Table44[Unit])","v":"mile"},1840,"mile",{"$f":"CONCATENATE(Table146135142329[[#This Row],[Unit Reported]],Table146135142329[[#This Row],[Unit \nRequired]])","v":"milemile"},{"$f":"LOOKUP(Table146135142329[[#This Row],[Concatenate Units]],Table43[Concatenate],Table43[Multiply By])","v":1},{"$f":"IFERROR(Table146135142329[[#This Row],[Data Raw]]*Table146135142329[[#This Row],[Unit Conversion]],0)","v":1840},{"$f":"IFERROR(Table146135142329[[#This Row],[Unit \nRequired]],\"\")","v":"mile"},{"$f":"LOOKUP(Table146135142329[[#This Row],[Emission Source]],Table44[Fuel Type],Table44[CO2 Factor \n(kg / Unit)])","v":0.34100000000000003},{"$f":"LOOKUP(Table146135142329[[#This Row],[Emission Source]],Table44[Fuel Type],Table44[CH4 Factor \n(g / unit)])","v":8.9999999999999993E-3},{"$f":"(Table146135142329[[#This Row],[CH4]]/1000)*25","v":2.2499999999999997E-4},{"$f":"LOOKUP(Table146135142329[[#This Row],[Emission Source]],Table44[Fuel Type],Table44[N2O Factor \n(g / unit)])","v":8.0000000000000002E-3},{"$f":"(Table146135142329[[#This Row],[N2O]]/1000)*298","v":2.3839999999999998E-3},{"$f":"(LOOKUP(Table146135142329[[#This Row],[Emission Source]],Table44[Fuel Type],Table44[GWP]))","v":0},{"$f":"Table146135142329[[#This Row],[Data Corrected]]*(LOOKUP(Table146135142329[[#This Row],[Emission Source]],Table44[Fuel Type],Table44[Recycled CO2 Factor]))","v":0},{"$f":"Table146135142329[[#This Row],[Data Corrected]]*(LOOKUP(Table146135142329[[#This Row],[Emission Source]],Table44[Fuel Type],Table44[Landfill CO2 Factor]))","v":0},{"$f":"Table146135142329[[#This Row],[Data Corrected]]*(LOOKUP(Table146135142329[[#This Row],[Emission Source]],Table44[Fuel Type],Table44[Combusted CO2 Factor]))","v":0},{"$f":"IFERROR(((Table146135142329[[#This Row],[CO2]]+Table146135142329[[#This Row],[CH4 Corrected]]+Table146135142329[[#This Row],[N2O Corrected]]+Table146135142329[[#This Row],[GWP]]+Table146135142329[[#This Row],[Recycled]]+Table146135142329[[#This Row],[Landfill]]+Table146135142329[[#This Row],[Combusted]])*Table146135142329[[#This Row],[Data Corrected]])/1000,0)","v":0.63224055999999995}]
[null,null,null,null,null,null,null,null,null,null,null,null,null,null,null,null,null,null,null,null,null,null,null,null,null,{"$f":"SUM(Table146135142329[tCO2e Emission Equivalent])","v":0.63224055999999995}]

{"sheet":"Analysis List - US","index":29,"n_rows":263,"n_cols":84,"rows_kept":263,"cut":false,"hidden":true,"merged":[]}
[null,"Relationship",null,"Entity",null,"Location",null,"Scopes",null,"Scope_1","Scope_2","Scope_3",null,"Source","Pseudonym",null,"Stationary","Mobile Vehicle Fuel","Mobile Road Vehicle","Mobile Non-Road Vehicle","Fugitive",null,"ElectricityUS",null,"Emission ","Pseudonym",null,"NaturalGasUS",null,"ElecUS",null,"MobileVehicleFuelUS",null,"MobileRoadVehicleUS",null,"MobileNonRoadVehicleUS",null,"FugitiveUS",null,"Scope 2 emissions",null,"Measure",null,"Unit - production",null,"Unit - currency",null,"Authority",null,null,null,null,null,null,null,null,null,null,null,"Reporting",null,"Relevance",null,"Purchases","CapitalSpend","SupplierFuel","SupplierTransport","SupplierWaste","EmployeeTravel","EmployeeCommute","SupplierLease","CustomerTransport","CustomerProcessing","CustomerUse","Endoflife","CustomerLease","Franchises","Investments",null,null,null,"BusinessTravel",null,"BusinessTrav"]
[null,"Direct",null,"Camira Group, Inc",null,"Chicago",null,"Scope_1",null,"Stationary","Electricity","Purchased Goods & Services",null,"Aviation Gasoline","AviationGasolineUS",null,"Natural Gas","Petrol","Petrol Car 1984-93","Residual Fuel Oil Boat","HFC-23",null,"AKGD (ASCC Alaska Grid)",null,"AKGD (ASCC Alaska Grid)","ElecUS",null,"scf",null,"kWh",null,"gallon",null,"mile",null,"mile",null,"lb",null,"Electricity",null,"litres",null,"m",null,"GBP",null,"DBEIS/DEFRA",null,null,null,null,null,null,null,null,null,null,null,"Yes",null,"Relevant, calculated",null,"Stationary","Stationary","Stationary","Van - Average Unknown Fuel","Open-loop waste treatment","Domestic Air Travel","Car","Stationary","Van - Average Unknown Fuel","Stationary","Stationary","Stationary","Stationary","Stationary","Stationary",null,null,null,"Passenger Car",null,"mile"]
[null,"Supplier",null,"Luna Textiles, Inc",null,"Grand Rapids",null,"Scope_2",null,"Mobile Vehicle Fuel",null,"Capital Goods",null,"Biodiesel (100%)","BiodieselUS",null,"Distillate Fuel Oil No. 2","Diesel","Petrol Car 1994","Gasoline (2 stroke) Boat","HFC-32",null,"AKMS (ASCC Miscellaneous)",null,"AKMS (ASCC Miscellaneous)","ElecUS",null,"mmBtu",null,null,null,"mile",null,"gallon",null,"gallon",null,"kg",null,"Steam",null,"tonnes",null,"kg",null,"EUR",null,"EPA",null,null,null,null,null,null,null,null,null,null,null,"No",null,"Relevant, not yet calculated",null,"Mobile","Mobile","Mobile","HGV - All Average Laden","Closed-loop waste treatment","Short-haul Air Travel","Motorbike","Mobile","HGV - All Average Laden","Mobile","Mobile","Mobile","Mobile","Mobile","Mobile",null,null,null,"Light-Duty Truck"]
[null,"Employee",null,null,null,"San Francisco",null,"Scope_3",null,"Mobile Road Vehicle",null,"Supplier Fuel & Energy Related Activities",null,"Capital Goods","CapitalSpendUS",null,"Residual Fuel Oil No. 6","Residual Fuel Oil","Petrol Car 1995","Gasoline (4 stroke) Boat","HFC-41",null,"AZNM (WECC Southwest)",null,"Aviation Gasoline","MobileVehicleFuelUS",null,"Dth",null,null,null,null,null,null,null,null,null,null,null,"None",null,"kWh",null,null,null,"USD",null,null,null,null,null,null,null,null,null,null,null,null,null,"In Progress",null,"Not relevant, calculated",null,"Fugitive","Fugitive","Fugitive","Domestic Air Travel","Combustion waste treatment","Long-haul Air Travel","Taxi","Fugitive","Domestic Air Travel","Fugitive","Fugitive","Fugitive","Fugitive","Fugitive","Fugitive",null,null,null,"Motorcycle"]
[null,"Customer",null,null,null,null,null,null,null,"Mobile Non-Road Vehicle",null,"Supplier Transportation & Distribution",null,"Compressed Natural Gas (CNG)","CNGUS",null,"Kerosene","Aviation Gasoline","Petrol Car 1996","Diesel Boat","HFC-125",null,"CAMX (WECC California)",null,"Aviation Gasoline Aircraft","MobileNonRoadVehicleUS",null,"therm",null,null,null,null,null,null,null,null,null,null,null,null,null,"kg",null,null,null,"AUD",null,null,null,null,null,null,null,null,null,null,null,null,null,"Unsure",null,"Not relevant, explanation provided",null,"Process","Process","Process","Short-haul Air Travel","Landfill waste treatment","Ferry","Bus","Process","Short-haul Air Travel","Process","Process","Process","Process","Process","Process",null,null,null,"Intercity Rail - Northeast Corridor"]
[null,null,null,null,null,null,null,null,null,"Fugitive",null,"Supplier Waste Generated in Operations",null,"Customer Processing of Sold Products","CustomerProcessingUS",null,"Liquefied Petroleum Gases (LPG)","Kerosene-Type Jet Fuel","Petrol Car 1997","Diesel Locomotive","HFC-134",null,"ERCT (ERCOT All)",null,"AZNM (WECC Southwest)","ElecUS",null,"ccf",null,null,null,null,null,null,null,null,null,null,null,null,null,"miles",null,null,null,"CNY",null,null,null,null,null,null,null,null,null,null,null,null,null,null,null,"Not evaluated",null,"Electricity","Electricity","Electricity","Long-haul Air Travel","Composting","Car","Rail","Electricity","Long-haul Air Travel","Electricity","Electricity","Electricity","Electricity","Electricity","Electricity",null,null,null,"Intercity Rail - Other Routes"]
[null,null,null,null,null,null,null,null,null,null,null,"Employee Business Travel",null,"Customer Transportation & Distribution","CustomerTransportUS",null,"Anthracite Coal","Liquefied Petroleum Gases (LPG)","Petrol Car 1998","Jet Fuel Aircraft","HFC-134a",null,"FRCC (FRCC All)",null,"Biodiesel (100%)","MobileVehicleFuelUS",null,"Mcf",null,null,null,null,null,null,null,null,null,null,null,null,null,"kilometers",null,null,null,null,null,null,null,null,null,null,null,null,null,null,null,null,null,null,null,null,null,"Steam","Steam","Steam","Rail",null,"Motorbike",null,"Steam","Rail","Steam","Steam","Steam","Steam","Steam","Steam",null,null,null,"Intercity Rail - National Average"]
[null,null,null,null,null,null,null,null,null,null,null,"Employee Commuting",null,"Customer Use of Sold Products","CustomerUseUS",null,"Bituminous Coal","Ethanol (100%)","Petrol Car 1999","Aviation Gasoline Aircraft","HFC-143",null,"HIMS (HICC Miscellaneous)",null,"Biodiesel Bus","MobileRoadVehicleUS",null,"m3",null,null,null,null,null,null,null,null,null,null,null,null,null,"cubic meters",null,null,null,null,null,null,null,null,null,null,null,null,null,null,null,null,null,null,null,null,null,"Purchased Goods & Services","Purchased Goods & Services","Transmission & distribution losses (electricity, steam, heating & cooling)","Sea tanker - Crude",null,"Taxi",null,null,"Sea tanker - Crude",null,null,"Open-loop waste treatment",null,null,null,null,null,null,"Commuter Rail"]
[null,null,null,null,null,null,null,null,null,null,null,"Leased Assets from Supplier",null,"Diesel","DieselUS",null,"Sub-bituminous Coal","Biodiesel (100%)","Petrol Car 2000","Gasoline (2 stroke) Agricultural Equipment","HFC-143a",null,"HIOA (HICC Oahu)",null,"Biodiesel Car","MobileRoadVehicleUS",null,"kWh",null,null,null,null,null,null,null,null,null,null,null,null,null,null,null,null,null,null,null,null,null,null,null,null,null,null,null,null,null,null,null,null,null,null,null,"Capital Goods","Capital Goods"," ","Sea tanker - Products",null,"Bus",null,null,"Sea tanker - Products",null,null,"Closed-loop waste treatment",null,null,null,null,null,null,"Transit Rail (i.e. Subway, Tram)"]
[null,null,null,null,null,null,null,null,null,null,null,"Customer Transportation & Distribution",null,"Electricity","ElectricityUS",null,"Lignite Coal","Liquefied Natural Gas (LNG)","Petrol Car 2001","Gasoline (4 stroke) Agricultural Equipment","HFC-152",null,"MROE (MRO East)",null,"Biodiesel HGV","MobileRoadVehicleUS",null,null,null,null,null,null,null,null,null,null,null,null,null,null,null,null,null,null,null,null,null,null,null,null,null,null,null,null,null,null,null,null,null,null,null,null,null,"Supplier Fuel & Energy Related Activities","Supplier Fuel & Energy Related Activities"," ","Sea tanker - Chemicals",null,"Rail",null,null,"Sea tanker - Chemicals",null,null,"Combustion waste treatment",null,null,null,null,null,null,"Bus"]
[null,null,null,null,null,null,null,null,null,null,null,"Customer Processing of Sold Products",null,"Employee Business Travel","EmployeeTravelUS",null,"Mixed (Electric Power Sector)","Compressed Natural Gas (CNG)","Petrol Car 2002","Diesel Agricultural Equipment","HFC-152a",null,"MROW (MRO West)",null,"Biodiesel Truck","MobileRoadVehicleUS",null,null,null,null,null,null,null,null,null,null,null,null,null,null,null,null,null,null,null,null,null,null,null,null,null,null,null,null,null,null,null,null,null,null,null,null,null,"Supplier Transportation & Distribution","Supplier Transportation & Distribution"," ","Sea tanker - LNG",null,null,null,null,"Sea tanker - LNG",null,null,"Landfill waste treatment",null,null,null,null,null,null,"Short Haul (< 300 miles)"]
[null,null,null,null,null,null,null,null,null,null,null,"Customer Use of Sold Products",null,"Employee Commuting","EmployeeCommuteUS",null,"Coal Coke",null,"Petrol Car 2003","LPG Agricultural Equipment","HFC-161",null,"NEWE (NPCC New England)",null,"Biodiesel Van","MobileRoadVehicleUS",null,null,null,null,null,null,null,null,null,null,null,null,null,null,null,null,null,null,null,null,null,null,null,null,null,null,null,null,null,null,null,null,null,null,null,null,null,"Supplier Waste Generated in Operations","Supplier Waste Generated in Operations"," ","Sea tanker - LPG",null,null,null,null,"Sea tanker - LPG",null,null,"Composting",null,null,null,null,null,null,"Medium Haul (>= 300 miles, < 2300 miles)"]
[null,null,null,null,null,null,null,null,null,null,null,"End-of-Life Treatment of Sold Products",null,"End-of-Life Treatment of Sold Products","EndoflifeUS",null,"Wood and Wood Residuals",null,"Petrol Car 2004","Gasoline Agricultural Off-road","HFC-227ea",null,"NWPP (WECC Northwest)",null,"Bus","BusinessTravUS",null,null,null,null,null,null,null,null,null,null,null,null,null,null,null,null,null,null,null,null,null,null,null,null,null,null,null,null,null,null,null,null,null,null,null,null,null,"Employee Business Travel","Employee Business Travel"," ","Cargo ship - Bulk carrier",null,null,null,null,"Cargo ship - Bulk carrier",null,null,null,null,null,null,null,null,null,"Long Haul (>= 2300 miles)"]
[null,null,null,null,null,null,null,null,null,null,null,"Leased Assets to Customer",null,"Ethanol (100%)","EthanolUS",null,"Landfill Gas",null,"Petrol Car 2005","Diesel Agricultural Off-road","HFC-236cb",null,"NYCW (NPCC NYC/Westchester)",null,"CAMX (WECC California)","ElecUS",null,null,null,null,null,null,null,null,null,null,null,null,null,null,null,null,null,null,null,null,null,null,null,null,null,null,null,null,null,null,null,null,null,null,null,null,null,"Employee Commuting","Employee Commuting"," ","Cargo ship - General",null,null,null,null,"Cargo ship - General"]
[null,null,null,null,null,null,null,null,null,null,null,"Franchises",null,"Franchises","FranchisesUS",null,null,null,"Petrol Car 2006","Gasoline (2 stroke) Construction Equipment","HFC-236ea",null,"NYLI (NPCC Long Island)",null,"CNG Bus","MobileRoadVehicleUS",null,null,null,null,null,null,null,null,null,null,null,null,null,null,null,null,null,null,null,null,null,null,null,null,null,null,null,null,null,null,null,null,null,null,null,null,null,"Leased Assets from Supplier","Leased Assets from Supplier"," ","Cargo ship - Container",null,null,null,null,"Cargo ship - Container"]
[null,null,null,null,null,null,null,null,null,null,null,"Investments",null,"Fugitive","FugitiveUS",null,null,null,"Petrol Car 2007","Gasoline (4 stroke) Construction Equipment","HFC-236fa",null,"NYUP (NPCC Upstate NY)",null,"CNG Car","MobileRoadVehicleUS",null,null,null,null,null,null,null,null,null,null,null,null,null,null,null,null,null,null,null,null,null,null,null,null,null,null,null,null,null,null,null,null,null,null,null,null,null,null,null,null,"Cargo ship - Vehicles",null,null,null,null,"Cargo ship - Vehicles"]
[null,null,null,null,null,null,null,null,null,null,null,null,null,"Investments","InvestmentsUS",null,null,null,"Petrol Car 2008","Diesel Construction Equipment","HFC-245ca",null,"PRMS (Puerto Rico Miscellaneous)",null,"CNG HGV","MobileRoadVehicleUS",null,null,null,null,null,null,null,null,null,null,null,null,null,null,null,null,null,null,null,null,null,null,null,null,null,null,null,null,null,null,null,null,null,null,null,null,null,null,null,null,"Cargo ship - RoRo",null,null,null,null,"Cargo ship - RoRo"]
[null,null,null,null,null,null,null,null,null,null,null,null,null,"Kerosene-Type Jet Fuel","KeroseneTypeJetFuelUS",null,null,null,"Petrol Car 2009","LPG Construction Equipment","HFC-245fa",null,"RFCE (RFC East)",null,"CNG Truck","MobileRoadVehicleUS",null,null,null,null,null,null,null,null,null,null,null,null,null,null,null,null,null,null,null,null,null,null,null,null,null,null,null,null,null,null,null,null,null,null,null,null,null,null,null,null,"Cargo ship - RoPax",null,null,null,null,"Cargo ship - RoPax"]
[null,null,null,null,null,null,null,null,null,null,null,null,null,"Leased Assets from Supplier","SupplierLeaseUS",null,null,null,"Petrol Car 2010","Gasoline Construction Off-road","HFC-365mfc",null,"RFCM (RFC Michigan)",null,"CNG Van","MobileRoadVehicleUS",null,null,null,null,null,null,null,null,null,null,null,null,null,null,null,null,null,null,null,null,null,null,null,null,null,null,null,null,null,null,null,null,null,null,null,null,null,null,null,null,"Cargo ship - Refrigerated",null,null,null,null,"Cargo ship - Refrigerated"]
[null,null,null,null,null,null,null,null,null,null,null,null,null,"Leased Assets to Customer","CustomerLeaseUS",null,null,null,"Petrol Car 2011","Diesel Construction Off-road","HFC-43-10mee",null,"RFCW (RFC West)",null,"Commuter Rail","BusinessTravUS"]
[null,null,null,null,null,null,null,null,null,null,null,null,null,"Liquefied Natural Gas (LNG)","LNGUS",null,null,null,"Petrol Car 2012","Gasoline (2 stroke) Garden Equipment","R-401A",null,"RMPA (WECC Rockies)",null,"Compressed Natural Gas (CNG)","MobileVehicleFuelUS"]
[null,null,null,null,null,null,null,null,null,null,null,null,null,"Liquefied Petroleum Gases (LPG)","LPGUS",null,null,null,"Petrol Car 2013","Gasoline (4 stroke) Garden Equipment","R-401B",null,"SPNO (SPP North)",null,"Diesel","MobileVehicleFuelUS"]
[null,null,null,null,null,null,null,null,null,null,null,null,null,"Mobile","MobileUS",null,null,null,"Petrol Car 2014","Diesel Garden Equipment","R-401C",null,"SPSO (SPP South)",null,"Diesel Agricultural Equipment","MobileNonRoadVehicleUS"]
[null,null,null,null,null,null,null,null,null,null,null,null,null,"Mobile Non-Road Vehicle","MobileNRVUS",null,null,null,"Petrol Car 2015","LPG Garden Equipment","R-402A",null,"SRMV (SERC Mississippi Valley)",null,"Diesel Agricultural Off-road","MobileNonRoadVehicleUS"]
[null,null,null,null,null,null,null,null,null,null,null,null,null,"Mobile Road Vehicle","MobileRVUS",null,null,null,"Petrol Car 2016","Gasoline Airport Equipment","R-402B",null,"SRMW (SERC Midwest)",null,"Diesel Airport Equipment","MobileNonRoadVehicleUS"]
[null,null,null,null,null,null,null,null,null,null,null,null,null,"Mobile Vehicle Fuel","MobileVFUS",null,null,null,"Petrol Car 2017","Diesel Airport Equipment","R-403B",null,"SRSO (SERC South)",null,"Diesel Boat","MobileNonRoadVehicleUS"]
[null,null,null,null,null,null,null,null,null,null,null,null,null,"Petrol","PetrolUS",null,null,null,"Petrol Car 2018","LPG Airport Equipment","R-404A",null,"SRTV (SERC Tennessee Valley)",null,"Diesel Car 1960-1982","MobileRoadVehicleUS"]
[null,null,null,null,null,null,null,null,null,null,null,null,null,"Process","ProcessUS",null,null,null,"Petrol Van 1987-93","Gasoline (2 stroke) Commercial Equipment","R-406A",null,"SRVC (SERC Virginia/Carolina)",null,"Diesel Car 1983-1995","MobileRoadVehicleUS"]
[null,null,null,null,null,null,null,null,null,null,null,null,null,"Purchased Goods & Services","PurchasesUS",null,null,null,"Petrol Van 1994","Gasoline (4 stroke) Commercial Equipment","R-407A",null,null,null,"Diesel Car 1996-2006","MobileRoadVehicleUS"]
[null,null,null,null,null,null,null,null,null,null,null,null,null,"Residual Fuel Oil","ResidualFuelOilUS",null,null,null,"Petrol Van 1995","Diesel Commercial Equipment","R-407B",null,null,null,"Diesel Car 2007-2018","MobileRoadVehicleUS"]
[null,null,null,null,null,null,null,null,null,null,null,null,null,"Stationary","StationaryUS",null,null,null,"Petrol Van 1996","LPG Commercial Equipment","R-407C",null,null,null,"Diesel Commercial Equipment","MobileNonRoadVehicleUS"]
[null,null,null,null,null,null,null,null,null,null,null,null,null,"Steam","SteamUS",null,null,null,"Petrol Van 1997","Gasoline (2 stroke) Logging Equipment","R-407D",null,null,null,"Diesel Construction Equipment","MobileNonRoadVehicleUS"]
[null,null,null,null,null,null,null,null,null,null,null,null,null,"Supplier Fuel & Energy Related Activities","SupplierFuelUS",null,null,null,"Petrol Van 1998","Gasoline (4 stroke) Logging Equipment","R-407E",null,null,null,"Diesel Construction Off-road","MobileNonRoadVehicleUS"]
[null,null,null,null,null,null,null,null,null,null,null,null,null,"Supplier Transportation & Distribution","SupplierTransportUS",null,null,null,"Petrol Van 1999","Diesel Logging Equipment","R-408A",null,null,null,"Diesel Garden Equipment","MobileNonRoadVehicleUS"]
[null,null,null,null,null,null,null,null,null,null,null,null,null,"Supplier Waste Generated in Operations","SupplierWasteUS",null,null,null,"Petrol Van 2000","Gasoline Railroad Equipment","R-409A",null,null,null,"Diesel HGV 1960-2006","MobileRoadVehicleUS"]
[null,null,null,null,null,null,null,null,null,null,null,null,null,null,null,null,null,null,"Petrol Van 2001","Diesel Railroad Equipment","R-410A",null,null,null,"Diesel HGV 2007-2018","MobileRoadVehicleUS"]
[null,null,null,null,null,null,null,null,null,null,null,null,null,null,null,null,null,null,"Petrol Van 2002","LPG Railroad Equipment","R-410B",null,null,null,"Diesel Locomotive","MobileNonRoadVehicleUS"]
[null,null,null,null,null,null,null,null,null,null,null,null,null,null,null,null,null,null,"Petrol Van 2003","Gasoline (2 stroke) Recreational Equipment","R-411A",null,null,null,"Diesel Logging Equipment","MobileNonRoadVehicleUS"]
[null,null,null,null,null,null,null,null,null,null,null,null,null,null,null,null,null,null,"Petrol Van 2004","Gasoline (4 stroke) Recreational Equipment","R-411B",null,null,null,"Diesel Railroad Equipment","MobileNonRoadVehicleUS"]
[null,null,null,null,null,null,null,null,null,null,null,null,null,null,null,null,null,null,"Petrol Van 2005","Diesel Recreational Equipment","R-413A",null,null,null,"Diesel Recreational Equipment","MobileNonRoadVehicleUS"]
[null,null,null,null,null,null,null,null,null,null,null,null,null,null,null,null,null,null,"Petrol Van 2006","LPG Recreational Equipment","R-414A",null,null,null,"Diesel Van 1960-1982","MobileRoadVehicleUS"]
[null,null,null,null,null,null,null,null,null,null,null,null,null,null,null,null,null,null,"Petrol Van 2007",null,"R-414B",null,null,null,"Diesel Van 1983-1995","MobileRoadVehicleUS"]
[null,null,null,null,null,null,null,null,null,null,null,null,null,null,null,null,null,null,"Petrol Van 2008",null,"R-417A",null,null,null,"Diesel Van 1996-2006","MobileRoadVehicleUS"]
[null,null,null,null,null,null,null,null,null,null,null,null,null,null,null,null,null,null,"Petrol Van 2009",null,"R-422A",null,null,null,"Diesel Van 2007-2018","MobileRoadVehicleUS"]
[null,null,null,null,null,null,null,null,null,null,null,null,null,null,null,null,null,null,"Petrol Van 2010",null,"R-422D",null,null,null,"ERCT (ERCOT All)","ElecUS"]
[null,null,null,null,null,null,null,null,null,null,null,null,null,null,null,null,null,null,"Petrol Van 2011",null,"R-423A",null,null,null,"Ethanol (100%)","MobileVehicleFuelUS"]
[null,null,null,null,null,null,null,null,null,null,null,null,null,null,null,null,null,null,"Petrol Van 2012",null,"R-424A",null,null,null,"Ethanol Bus","MobileRoadVehicleUS"]
[null,null,null,null,null,null,null,null,null,null,null,null,null,null,null,null,null,null,"Petrol Van 2013",null,"R-426A",null,null,null,"Ethanol Car","MobileRoadVehicleUS"]
[null,null,null,null,null,null,null,null,null,null,null,null,null,null,null,null,null,null,"Petrol Van 2014",null,"R-428A",null,null,null,"Ethanol HGV","MobileRoadVehicleUS"]
[null,null,null,null,null,null,null,null,null,null,null,null,null,null,null,null,null,null,"Petrol Van 2015",null,"R-434A",null,null,null,"Ethanol Van","MobileRoadVehicleUS"]
[null,null,null,null,null,null,null,null,null,null,null,null,null,null,null,null,null,null,"Petrol Van 2016",null,"R-500",null,null,null,"FRCC (FRCC All)","ElecUS"]
[null,null,null,null,null,null,null,null,null,null,null,null,null,null,null,null,null,null,"Petrol Van 2017",null,"R-502",null,null,null,"Gasoline (2 stroke) Agricultural Equipment","MobileNonRoadVehicleUS"]
[null,null,null,null,null,null,null,null,null,null,null,null,null,null,null,null,null,null,"Petrol Van 2018",null,"R-504",null,null,null,"Gasoline (2 stroke) Boat","MobileNonRoadVehicleUS"]
[null,null,null,null,null,null,null,null,null,null,null,null,null,null,null,null,null,null,"Petrol HGV 1985-86",null,"R-507",null,null,null,"Gasoline (2 stroke) Commercial Equipment","MobileNonRoadVehicleUS"]
[null,null,null,null,null,null,null,null,null,null,null,null,null,null,null,null,null,null,"Petrol HGV 1987",null,"R-508A",null,null,null,"Gasoline (2 stroke) Construction Equipment","MobileNonRoadVehicleUS"]
[null,null,null,null,null,null,null,null,null,null,null,null,null,null,null,null,null,null,"Petrol HGV 1988-1989",null,"R-508B",null,null,null,"Gasoline (2 stroke) Garden Equipment","MobileNonRoadVehicleUS"]
[null,null,null,null,null,null,null,null,null,null,null,null,null,null,null,null,null,null,"Petrol HGV 1990-1995",null,null,null,null,null,"Gasoline (2 stroke) Logging Equipment","MobileNonRoadVehicleUS"]
[null,null,null,null,null,null,null,null,null,null,null,null,null,null,null,null,null,null,"Petrol HGV 1996",null,null,null,null,null,"Gasoline (2 stroke) Recreational Equipment","MobileNonRoadVehicleUS"]
[null,null,null,null,null,null,null,null,null,null,null,null,null,null,null,null,null,null,"Petrol HGV 1997",null,null,null,null,null,"Gasoline (4 stroke) Agricultural Equipment","MobileNonRoadVehicleUS"]
[null,null,null,null,null,null,null,null,null,null,null,null,null,null,null,null,null,null,"Petrol HGV 1998",null,null,null,null,null,"Gasoline (4 stroke) Boat","MobileNonRoadVehicleUS"]
[null,null,null,null,null,null,null,null,null,null,null,null,null,null,null,null,null,null,"Petrol HGV 1999",null,null,null,null,null,"Gasoline (4 stroke) Commercial Equipment","MobileNonRoadVehicleUS"]
[null,null,null,null,null,null,null,null,null,null,null,null,null,null,null,null,null,null,"Petrol HGV 2000",null,null,null,null,null,"Gasoline (4 stroke) Construction Equipment","MobileNonRoadVehicleUS"]
[null,null,null,null,null,null,null,null,null,null,null,null,null,null,null,null,null,null,"Petrol HGV 2001",null,null,null,null,null,"Gasoline (4 stroke) Garden Equipment","MobileNonRoadVehicleUS"]
[null,null,null,null,null,null,null,null,null,null,null,null,null,null,null,null,null,null,"Petrol HGV 2002",null,null,null,null,null,"Gasoline (4 stroke) Logging Equipment","MobileNonRoadVehicleUS"]
[null,null,null,null,null,null,null,null,null,null,null,null,null,null,null,null,null,null,"Petrol HGV 2003",null,null,null,null,null,"Gasoline (4 stroke) Recreational Equipment","MobileNonRoadVehicleUS"]
[null,null,null,null,null,null,null,null,null,null,null,null,null,null,null,null,null,null,"Petrol HGV 2004",null,null,null,null,null,"Gasoline Agricultural Off-road","MobileNonRoadVehicleUS"]
[null,null,null,null,null,null,null,null,null,null,null,null,null,null,null,null,null,null,"Petrol HGV 2005",null,null,null,null,null,"Gasoline Airport Equipment","MobileNonRoadVehicleUS"]
[null,null,null,null,null,null,null,null,null,null,null,null,null,null,null,null,null,null,"Petrol HGV 2006",null,null,null,null,null,"Gasoline Construction Off-road","MobileNonRoadVehicleUS"]
[null,null,null,null,null,null,null,null,null,null,null,null,null,null,null,null,null,null,"Petrol HGV 2007",null,null,null,null,null,"Gasoline Railroad Equipment","MobileNonRoadVehicleUS"]
[null,null,null,null,null,null,null,null,null,null,null,null,null,null,null,null,null,null,"Petrol HGV 2008",null,null,null,null,null,"HFC-125","FugUS"]
[null,null,null,null,null,null,null,null,null,null,null,null,null,null,null,null,null,null,"Petrol HGV 2009",null,null,null,null,null,"HFC-134","FugUS"]
[null,null,null,null,null,null,null,null,null,null,null,null,null,null,null,null,null,null,"Petrol HGV 2010",null,null,null,null,null,"HFC-134a","FugUS"]
[null,null,null,null,null,null,null,null,null,null,null,null,null,null,null,null,null,null,"Petrol HGV 2011",null,null,null,null,null,"HFC-143","FugUS"]
[null,null,null,null,null,null,null,null,null,null,null,null,null,null,null,null,null,null,"Petrol HGV 2012",null,null,null,null,null,"HFC-143a","FugUS"]
[null,null,null,null,null,null,null,null,null,null,null,null,null,null,null,null,null,null,"Petrol HGV 2013",null,null,null,null,null,"HFC-152","FugUS"]
[null,null,null,null,null,null,null,null,null,null,null,null,null,null,null,null,null,null,"Petrol HGV 2014",null,null,null,null,null,"HFC-152a","FugUS"]
[null,null,null,null,null,null,null,null,null,null,null,null,null,null,null,null,null,null,"Petrol HGV 2015",null,null,null,null,null,"HFC-161","FugUS"]
[null,null,null,null,null,null,null,null,null,null,null,null,null,null,null,null,null,null,"Petrol HGV 2016",null,null,null,null,null,"HFC-227ea","FugUS"]
[null,null,null,null,null,null,null,null,null,null,null,null,null,null,null,null,null,null,"Petrol HGV 2017",null,null,null,null,null,"HFC-23","FugUS"]
[null,null,null,null,null,null,null,null,null,null,null,null,null,null,null,null,null,null,"Petrol HGV 2018",null,null,null,null,null,"HFC-236cb","FugUS"]
[null,null,null,null,null,null,null,null,null,null,null,null,null,null,null,null,null,null,"Petrol Motorbike 1960-1995",null,null,null,null,null,"HFC-236ea","FugUS"]
[null,null,null,null,null,null,null,null,null,null,null,null,null,null,null,null,null,null,"Petrol Motorbike 1996-2018",null,null,null,null,null,"HFC-236fa","FugUS"]
[null,null,null,null,null,null,null,null,null,null,null,null,null,null,null,null,null,null,"Diesel Car 1960-1982",null,null,null,null,null,"HFC-245ca","FugUS"]
[null,null,null,null,null,null,null,null,null,null,null,null,null,null,null,null,null,null,"Diesel Car 1983-1995",null,null,null,null,null,"HFC-245fa","FugUS"]
[null,null,null,null,null,null,null,null,null,null,null,null,null,null,null,null,null,null,"Diesel Car 1996-2006",null,null,null,null,null,"HFC-32","FugUS"]
[null,null,null,null,null,null,null,null,null,null,null,null,null,null,null,null,null,null,"Diesel Car 2007-2018",null,null,null,null,null,"HFC-365mfc","FugUS"]
[null,null,null,null,null,null,null,null,null,null,null,null,null,null,null,null,null,null,"Diesel Van 1960-1982",null,null,null,null,null,"HFC-41","FugUS"]
[null,null,null,null,null,null,null,null,null,null,null,null,null,null,null,null,null,null,"Diesel Van 1983-1995",null,null,null,null,null,"HFC-43-10mee","FugUS"]
[null,null,null,null,null,null,null,null,null,null,null,null,null,null,null,null,null,null,"Diesel Van 1996-2006",null,null,null,null,null,"HIMS (HICC Miscellaneous)","ElecUS"]
[null,null,null,null,null,null,null,null,null,null,null,null,null,null,null,null,null,null,"Diesel Van 2007-2018",null,null,null,null,null,"HIOA (HICC Oahu)","ElecUS"]
[null,null,null,null,null,null,null,null,null,null,null,null,null,null,null,null,null,null,"Diesel HGV 1960-2006",null,null,null,null,null,"Intercity Rail - National Average","BusinessTravUS"]
[null,null,null,null,null,null,null,null,null,null,null,null,null,null,null,null,null,null,"Diesel HGV 2007-2018",null,null,null,null,null,"Intercity Rail - Northeast Corridor","BusinessTravUS"]
[null,null,null,null,null,null,null,null,null,null,null,null,null,null,null,null,null,null,"Methanol Car",null,null,null,null,null,"Intercity Rail - Other Routes","BusinessTravUS"]
[null,null,null,null,null,null,null,null,null,null,null,null,null,null,null,null,null,null,"Ethanol Car",null,null,null,null,null,"Jet Fuel Aircraft","MobileNonRoadVehicleUS"]
[null,null,null,null,null,null,null,null,null,null,null,null,null,null,null,null,null,null,"CNG Car",null,null,null,null,null,"Kerosene-Type Jet Fuel","MobileVehicleFuelUS"]
[null,null,null,null,null,null,null,null,null,null,null,null,null,null,null,null,null,null,"LPG Car",null,null,null,null,null,"Light-Duty Truck","BusinessTravUS"]
[null,null,null,null,null,null,null,null,null,null,null,null,null,null,null,null,null,null,"Biodiesel Car",null,null,null,null,null,"Liquefied Natural Gas (LNG)","MobileVehicleFuelUS"]
[null,null,null,null,null,null,null,null,null,null,null,null,null,null,null,null,null,null,"Ethanol Van",null,null,null,null,null,"Liquefied Petroleum Gases (LPG)","MobileVehicleFuelUS"]
[null,null,null,null,null,null,null,null,null,null,null,null,null,null,null,null,null,null,"CNG Van",null,null,null,null,null,"LNG Bus","MobileRoadVehicleUS"]
[null,null,null,null,null,null,null,null,null,null,null,null,null,null,null,null,null,null,"LPG Van",null,null,null,null,null,"LNG HGV","MobileRoadVehicleUS"]
[null,null,null,null,null,null,null,null,null,null,null,null,null,null,null,null,null,null,"LNG Van",null,null,null,null,null,"LNG Truck","MobileRoadVehicleUS"]
[null,null,null,null,null,null,null,null,null,null,null,null,null,null,null,null,null,null,"Biodiesel Van",null,null,null,null,null,"LNG Van","MobileRoadVehicleUS"]
[null,null,null,null,null,null,null,null,null,null,null,null,null,null,null,null,null,null,"CNG Truck",null,null,null,null,null,"Long Haul (>= 2300 miles)","BusinessTravUS"]
[null,null,null,null,null,null,null,null,null,null,null,null,null,null,null,null,null,null,"LPG Truck",null,null,null,null,null,"LPG Agricultural Equipment","MobileNonRoadVehicleUS"]
[null,null,null,null,null,null,null,null,null,null,null,null,null,null,null,null,null,null,"LNG Truck",null,null,null,null,null,"LPG Airport Equipment","MobileNonRoadVehicleUS"]
[null,null,null,null,null,null,null,null,null,null,null,null,null,null,null,null,null,null,"Biodiesel Truck",null,null,null,null,null,"LPG Bus","MobileRoadVehicleUS"]
[null,null,null,null,null,null,null,null,null,null,null,null,null,null,null,null,null,null,"Methanol HGV",null,null,null,null,null,"LPG Car","MobileRoadVehicleUS"]
[null,null,null,null,null,null,null,null,null,null,null,null,null,null,null,null,null,null,"Ethanol HGV",null,null,null,null,null,"LPG Commercial Equipment","MobileNonRoadVehicleUS"]
[null,null,null,null,null,null,null,null,null,null,null,null,null,null,null,null,null,null,"CNG HGV",null,null,null,null,null,"LPG Construction Equipment","MobileNonRoadVehicleUS"]
[null,null,null,null,null,null,null,null,null,null,null,null,null,null,null,null,null,null,"LPG HGV",null,null,null,null,null,"LPG Garden Equipment","MobileNonRoadVehicleUS"]
[null,null,null,null,null,null,null,null,null,null,null,null,null,null,null,null,null,null,"LNG HGV",null,null,null,null,null,"LPG HGV","MobileRoadVehicleUS"]
[null,null,null,null,null,null,null,null,null,null,null,null,null,null,null,null,null,null,"Biodiesel HGV",null,null,null,null,null,"LPG Railroad Equipment","MobileNonRoadVehicleUS"]
[null,null,null,null,null,null,null,null,null,null,null,null,null,null,null,null,null,null,"Methanol Bus",null,null,null,null,null,"LPG Recreational Equipment","MobileNonRoadVehicleUS"]
[null,null,null,null,null,null,null,null,null,null,null,null,null,null,null,null,null,null,"Ethanol Bus",null,null,null,null,null,"LPG Truck","MobileRoadVehicleUS"]
[null,null,null,null,null,null,null,null,null,null,null,null,null,null,null,null,null,null,"CNG Bus",null,null,null,null,null,"LPG Van","MobileRoadVehicleUS"]
[null,null,null,null,null,null,null,null,null,null,null,null,null,null,null,null,null,null,"LPG Bus",null,null,null,null,null,"Medium Haul (>= 300 miles, < 2300 miles)","BusinessTravUS"]
[null,null,null,null,null,null,null,null,null,null,null,null,null,null,null,null,null,null,"LNG Bus",null,null,null,null,null,"Methanol Bus","MobileRoadVehicleUS"]
[null,null,null,null,null,null,null,null,null,null,null,null,null,null,null,null,null,null,"Biodiesel Bus",null,null,null,null,null,"Methanol Car","MobileRoadVehicleUS"]
[null,null,null,null,null,null,null,null,null,null,null,null,null,null,null,null,null,null,null,null,null,null,null,null,"Methanol HGV","MobileRoadVehicleUS"]
[null,null,null,null,null,null,null,null,null,null,null,null,null,null,null,null,null,null,null,null,null,null,null,null,"Motorcycle","BusinessTravUS"]
[null,null,null,null,null,null,null,null,null,null,null,null,null,null,null,null,null,null,null,null,null,null,null,null,"MROE (MRO East)","ElecUS"]
[null,null,null,null,null,null,null,null,null,null,null,null,null,null,null,null,null,null,null,null,null,null,null,null,"MROW (MRO West)","ElecUS"]
[null,null,null,null,null,null,null,null,null,null,null,null,null,null,null,null,null,null,null,null,null,null,null,null,"Natural Gas","NaturalGasUS"]
[null,null,null,null,null,null,null,null,null,null,null,null,null,null,null,null,null,null,null,null,null,null,null,null,"NEWE (NPCC New England)","ElecUS"]
[null,null,null,null,null,null,null,null,null,null,null,null,null,null,null,null,null,null,null,null,null,null,null,null,"NWPP (WECC Northwest)","ElecUS"]
[null,null,null,null,null,null,null,null,null,null,null,null,null,null,null,null,null,null,null,null,null,null,null,null,"NYCW (NPCC NYC/Westchester)","ElecUS"]
[null,null,null,null,null,null,null,null,null,null,null,null,null,null,null,null,null,null,null,null,null,null,null,null,"NYLI (NPCC Long Island)","ElecUS"]
[null,null,null,null,null,null,null,null,null,null,null,null,null,null,null,null,null,null,null,null,null,null,null,null,"NYUP (NPCC Upstate NY)","ElecUS"]
[null,null,null,null,null,null,null,null,null,null,null,null,null,null,null,null,null,null,null,null,null,null,null,null,"Passenger Car","BusinessTravUS"]
[null,null,null,null,null,null,null,null,null,null,null,null,null,null,null,null,null,null,null,null,null,null,null,null,"Petrol","MobileVehicleFuelUS"]
[null,null,null,null,null,null,null,null,null,null,null,null,null,null,null,null,null,null,null,null,null,null,null,null,"Petrol Car 1984-93","MobileRoadVehicleUS"]
[null,null,null,null,null,null,null,null,null,null,null,null,null,null,null,null,null,null,null,null,null,null,null,null,"Petrol Car 1994","MobileRoadVehicleUS"]
[null,null,null,null,null,null,null,null,null,null,null,null,null,null,null,null,null,null,null,null,null,null,null,null,"Petrol Car 1995","MobileRoadVehicleUS"]
[null,null,null,null,null,null,null,null,null,null,null,null,null,null,null,null,null,null,null,null,null,null,null,null,"Petrol Car 1996","MobileRoadVehicleUS"]
[null,null,null,null,null,null,null,null,null,null,null,null,null,null,null,null,null,null,null,null,null,null,null,null,"Petrol Car 1997","MobileRoadVehicleUS"]
[null,null,null,null,null,null,null,null,null,null,null,null,null,null,null,null,null,null,null,null,null,null,null,null,"Petrol Car 1998","MobileRoadVehicleUS"]
[null,null,null,null,null,null,null,null,null,null,null,null,null,null,null,null,null,null,null,null,null,null,null,null,"Petrol Car 1999","MobileRoadVehicleUS"]
[null,null,null,null,null,null,null,null,null,null,null,null,null,null,null,null,null,null,null,null,null,null,null,null,"Petrol Car 2000","MobileRoadVehicleUS"]
[null,null,null,null,null,null,null,null,null,null,null,null,null,null,null,null,null,null,null,null,null,null,null,null,"Petrol Car 2001","MobileRoadVehicleUS"]
[null,null,null,null,null,null,null,null,null,null,null,null,null,null,null,null,null,null,null,null,null,null,null,null,"Petrol Car 2002","MobileRoadVehicleUS"]
[null,null,null,null,null,null,null,null,null,null,null,null,null,null,null,null,null,null,null,null,null,null,null,null,"Petrol Car 2003","MobileRoadVehicleUS"]
[null,null,null,null,null,null,null,null,null,null,null,null,null,null,null,null,null,null,null,null,null,null,null,null,"Petrol Car 2004","MobileRoadVehicleUS"]
[null,null,null,null,null,null,null,null,null,null,null,null,null,null,null,null,null,null,null,null,null,null,null,null,"Petrol Car 2005","MobileRoadVehicleUS"]
[null,null,null,null,null,null,null,null,null,null,null,null,null,null,null,null,null,null,null,null,null,null,null,null,"Petrol Car 2006","MobileRoadVehicleUS"]
[null,null,null,null,null,null,null,null,null,null,null,null,null,null,null,null,null,null,null,null,null,null,null,null,"Petrol Car 2007","MobileRoadVehicleUS"]
[null,null,null,null,null,null,null,null,null,null,null,null,null,null,null,null,null,null,null,null,null,null,null,null,"Petrol Car 2008","MobileRoadVehicleUS"]
[null,null,null,null,null,null,null,null,null,null,null,null,null,null,null,null,null,null,null,null,null,null,null,null,"Petrol Car 2009","MobileRoadVehicleUS"]
[null,null,null,null,null,null,null,null,null,null,null,null,null,null,null,null,null,null,null,null,null,null,null,null,"Petrol Car 2010","MobileRoadVehicleUS"]
[null,null,null,null,null,null,null,null,null,null,null,null,null,null,null,null,null,null,null,null,null,null,null,null,"Petrol Car 2011","MobileRoadVehicleUS"]
[null,null,null,null,null,null,null,null,null,null,null,null,null,null,null,null,null,null,null,null,null,null,null,null,"Petrol Car 2012","MobileRoadVehicleUS"]
[null,null,null,null,null,null,null,null,null,null,null,null,null,null,null,null,null,null,null,null,null,null,null,null,"Petrol Car 2013","MobileRoadVehicleUS"]
[null,null,null,null,null,null,null,null,null,null,null,null,null,null,null,null,null,null,null,null,null,null,null,null,"Petrol Car 2014","MobileRoadVehicleUS"]
[null,null,null,null,null,null,null,null,null,null,null,null,null,null,null,null,null,null,null,null,null,null,null,null,"Petrol Car 2015","MobileRoadVehicleUS"]
[null,null,null,null,null,null,null,null,null,null,null,null,null,null,null,null,null,null,null,null,null,null,null,null,"Petrol Car 2016","MobileRoadVehicleUS"]
[null,null,null,null,null,null,null,null,null,null,null,null,null,null,null,null,null,null,null,null,null,null,null,null,"Petrol Car 2017","MobileRoadVehicleUS"]
[null,null,null,null,null,null,null,null,null,null,null,null,null,null,null,null,null,null,null,null,null,null,null,null,"Petrol Car 2018","MobileRoadVehicleUS"]
[null,null,null,null,null,null,null,null,null,null,null,null,null,null,null,null,null,null,null,null,null,null,null,null,"Petrol HGV 1985-86","MobileRoadVehicleUS"]
[null,null,null,null,null,null,null,null,null,null,null,null,null,null,null,null,null,null,null,null,null,null,null,null,"Petrol HGV 1987","MobileRoadVehicleUS"]
[null,null,null,null,null,null,null,null,null,null,null,null,null,null,null,null,null,null,null,null,null,null,null,null,"Petrol HGV 1988-1989","MobileRoadVehicleUS"]
[null,null,null,null,null,null,null,null,null,null,null,null,null,null,null,null,null,null,null,null,null,null,null,null,"Petrol HGV 1990-1995","MobileRoadVehicleUS"]
[null,null,null,null,null,null,null,null,null,null,null,null,null,null,null,null,null,null,null,null,null,null,null,null,"Petrol HGV 1996","MobileRoadVehicleUS"]
[null,null,null,null,null,null,null,null,null,null,null,null,null,null,null,null,null,null,null,null,null,null,null,null,"Petrol HGV 1997","MobileRoadVehicleUS"]
[null,null,null,null,null,null,null,null,null,null,null,null,null,null,null,null,null,null,null,null,null,null,null,null,"Petrol HGV 1998","MobileRoadVehicleUS"]
[null,null,null,null,null,null,null,null,null,null,null,null,null,null,null,null,null,null,null,null,null,null,null,null,"Petrol HGV 1999","MobileRoadVehicleUS"]
[null,null,null,null,null,null,null,null,null,null,null,null,null,null,null,null,null,null,null,null,null,null,null,null,"Petrol HGV 2000","MobileRoadVehicleUS"]
[null,null,null,null,null,null,null,null,null,null,null,null,null,null,null,null,null,null,null,null,null,null,null,null,"Petrol HGV 2001","MobileRoadVehicleUS"]
[null,null,null,null,null,null,null,null,null,null,null,null,null,null,null,null,null,null,null,null,null,null,null,null,"Petrol HGV 2002","MobileRoadVehicleUS"]
[null,null,null,null,null,null,null,null,null,null,null,null,null,null,null,null,null,null,null,null,null,null,null,null,"Petrol HGV 2003","MobileRoadVehicleUS"]
[null,null,null,null,null,null,null,null,null,null,null,null,null,null,null,null,null,null,null,null,null,null,null,null,"Petrol HGV 2004","MobileRoadVehicleUS"]
[null,null,null,null,null,null,null,null,null,null,null,null,null,null,null,null,null,null,null,null,null,null,null,null,"Petrol HGV 2005","MobileRoadVehicleUS"]
[null,null,null,null,null,null,null,null,null,null,null,null,null,null,null,null,null,null,null,null,null,null,null,null,"Petrol HGV 2006","MobileRoadVehicleUS"]
[null,null,null,null,null,null,null,null,null,null,null,null,null,null,null,null,null,null,null,null,null,null,null,null,"Petrol HGV 2007","MobileRoadVehicleUS"]
[null,null,null,null,null,null,null,null,null,null,null,null,null,null,null,null,null,null,null,null,null,null,null,null,"Petrol HGV 2008","MobileRoadVehicleUS"]
[null,null,null,null,null,null,null,null,null,null,null,null,null,null,null,null,null,null,null,null,null,null,null,null,"Petrol HGV 2009","MobileRoadVehicleUS"]
[null,null,null,null,null,null,null,null,null,null,null,null,null,null,null,null,null,null,null,null,null,null,null,null,"Petrol HGV 2010","MobileRoadVehicleUS"]
[null,null,null,null,null,null,null,null,null,null,null,null,null,null,null,null,null,null,null,null,null,null,null,null,"Petrol HGV 2011","MobileRoadVehicleUS"]
[null,null,null,null,null,null,null,null,null,null,null,null,null,null,null,null,null,null,null,null,null,null,null,null,"Petrol HGV 2012","MobileRoadVehicleUS"]
[null,null,null,null,null,null,null,null,null,null,null,null,null,null,null,null,null,null,null,null,null,null,null,null,"Petrol HGV 2013","MobileRoadVehicleUS"]
[null,null,null,null,null,null,null,null,null,null,null,null,null,null,null,null,null,null,null,null,null,null,null,null,"Petrol HGV 2014","MobileRoadVehicleUS"]
[null,null,null,null,null,null,null,null,null,null,null,null,null,null,null,null,null,null,null,null,null,null,null,null,"Petrol HGV 2015","MobileRoadVehicleUS"]
[null,null,null,null,null,null,null,null,null,null,null,null,null,null,null,null,null,null,null,null,null,null,null,null,"Petrol HGV 2016","MobileRoadVehicleUS"]
[null,null,null,null,null,null,null,null,null,null,null,null,null,null,null,null,null,null,null,null,null,null,null,null,"Petrol HGV 2017","MobileRoadVehicleUS"]
[null,null,null,null,null,null,null,null,null,null,null,null,null,null,null,null,null,null,null,null,null,null,null,null,"Petrol HGV 2018","MobileRoadVehicleUS"]
[null,null,null,null,null,null,null,null,null,null,null,null,null,null,null,null,null,null,null,null,null,null,null,null,"Petrol Motorbike 1960-1995","MobileRoadVehicleUS"]
[null,null,null,null,null,null,null,null,null,null,null,null,null,null,null,null,null,null,null,null,null,null,null,null,"Petrol Motorbike 1996-2018","MobileRoadVehicleUS"]
[null,null,null,null,null,null,null,null,null,null,null,null,null,null,null,null,null,null,null,null,null,null,null,null,"Petrol Van 1987-93","MobileRoadVehicleUS"]
[null,null,null,null,null,null,null,null,null,null,null,null,null,null,null,null,null,null,null,null,null,null,null,null,"Petrol Van 1994","MobileRoadVehicleUS"]
[null,null,null,null,null,null,null,null,null,null,null,null,null,null,null,null,null,null,null,null,null,null,null,null,"Petrol Van 1995","MobileRoadVehicleUS"]
[null,null,null,null,null,null,null,null,null,null,null,null,null,null,null,null,null,null,null,null,null,null,null,null,"Petrol Van 1996","MobileRoadVehicleUS"]
[null,null,null,null,null,null,null,null,null,null,null,null,null,null,null,null,null,null,null,null,null,null,null,null,"Petrol Van 1997","MobileRoadVehicleUS"]
[null,null,null,null,null,null,null,null,null,null,null,null,null,null,null,null,null,null,null,null,null,null,null,null,"Petrol Van 1998","MobileRoadVehicleUS"]
[null,null,null,null,null,null,null,null,null,null,null,null,null,null,null,null,null,null,null,null,null,null,null,null,"Petrol Van 1999","MobileRoadVehicleUS"]
[null,null,null,null,null,null,null,null,null,null,null,null,null,null,null,null,null,null,null,null,null,null,null,null,"Petrol Van 2000","MobileRoadVehicleUS"]
[null,null,null,null,null,null,null,null,null,null,null,null,null,null,null,null,null,null,null,null,null,null,null,null,"Petrol Van 2001","MobileRoadVehicleUS"]
[null,null,null,null,null,null,null,null,null,null,null,null,null,null,null,null,null,null,null,null,null,null,null,null,"Petrol Van 2002","MobileRoadVehicleUS"]
[null,null,null,null,null,null,null,null,null,null,null,null,null,null,null,null,null,null,null,null,null,null,null,null,"Petrol Van 2003","MobileRoadVehicleUS"]
[null,null,null,null,null,null,null,null,null,null,null,null,null,null,null,null,null,null,null,null,null,null,null,null,"Petrol Van 2004","MobileRoadVehicleUS"]
[null,null,null,null,null,null,null,null,null,null,null,null,null,null,null,null,null,null,null,null,null,null,null,null,"Petrol Van 2005","MobileRoadVehicleUS"]
[null,null,null,null,null,null,null,null,null,null,null,null,null,null,null,null,null,null,null,null,null,null,null,null,"Petrol Van 2006","MobileRoadVehicleUS"]
[null,null,null,null,null,null,null,null,null,null,null,null,null,null,null,null,null,null,null,null,null,null,null,null,"Petrol Van 2007","MobileRoadVehicleUS"]
[null,null,null,null,null,null,null,null,null,null,null,null,null,null,null,null,null,null,null,null,null,null,null,null,"Petrol Van 2008","MobileRoadVehicleUS"]
[null,null,null,null,null,null,null,null,null,null,null,null,null,null,null,null,null,null,null,null,null,null,null,null,"Petrol Van 2009","MobileRoadVehicleUS"]
[null,null,null,null,null,null,null,null,null,null,null,null,null,null,null,null,null,null,null,null,null,null,null,null,"Petrol Van 2010","MobileRoadVehicleUS"]
[null,null,null,null,null,null,null,null,null,null,null,null,null,null,null,null,null,null,null,null,null,null,null,null,"Petrol Van 2011","MobileRoadVehicleUS"]
[null,null,null,null,null,null,null,null,null,null,null,null,null,null,null,null,null,null,null,null,null,null,null,null,"Petrol Van 2012","MobileRoadVehicleUS"]
[null,null,null,null,null,null,null,null,null,null,null,null,null,null,null,null,null,null,null,null,null,null,null,null,"Petrol Van 2013","MobileRoadVehicleUS"]
[null,null,null,null,null,null,null,null,null,null,null,null,null,null,null,null,null,null,null,null,null,null,null,null,"Petrol Van 2014","MobileRoadVehicleUS"]
[null,null,null,null,null,null,null,null,null,null,null,null,null,null,null,null,null,null,null,null,null,null,null,null,"Petrol Van 2015","MobileRoadVehicleUS"]
[null,null,null,null,null,null,null,null,null,null,null,null,null,null,null,null,null,null,null,null,null,null,null,null,"Petrol Van 2016","MobileRoadVehicleUS"]
[null,null,null,null,null,null,null,null,null,null,null,null,null,null,null,null,null,null,null,null,null,null,null,null,"Petrol Van 2017","MobileRoadVehicleUS"]
[null,null,null,null,null,null,null,null,null,null,null,null,null,null,null,null,null,null,null,null,null,null,null,null,"Petrol Van 2018","MobileRoadVehicleUS"]
[null,null,null,null,null,null,null,null,null,null,null,null,null,null,null,null,null,null,null,null,null,null,null,null,"PRMS (Puerto Rico Miscellaneous)","ElecUS"]
[null,null,null,null,null,null,null,null,null,null,null,null,null,null,null,null,null,null,null,null,null,null,null,null,"R-401A","FugUS"]
[null,null,null,null,null,null,null,null,null,null,null,null,null,null,null,null,null,null,null,null,null,null,null,null,"R-401B","FugUS"]
[null,null,null,null,null,null,null,null,null,null,null,null,null,null,null,null,null,null,null,null,null,null,null,null,"R-401C","FugUS"]
[null,null,null,null,null,null,null,null,null,null,null,null,null,null,null,null,null,null,null,null,null,null,null,null,"R-402A","FugUS"]
[null,null,null,null,null,null,null,null,null,null,null,null,null,null,null,null,null,null,null,null,null,null,null,null,"R-402B","FugUS"]
[null,null,null,null,null,null,null,null,null,null,null,null,null,null,null,null,null,null,null,null,null,null,null,null,"R-403B","FugUS"]
[null,null,null,null,null,null,null,null,null,null,null,null,null,null,null,null,null,null,null,null,null,null,null,null,"R-404A","FugUS"]
[null,null,null,null,null,null,null,null,null,null,null,null,null,null,null,null,null,null,null,null,null,null,null,null,"R-406A","FugUS"]
[null,null,null,null,null,null,null,null,null,null,null,null,null,null,null,null,null,null,null,null,null,null,null,null,"R-407A","FugUS"]
[null,null,null,null,null,null,null,null,null,null,null,null,null,null,null,null,null,null,null,null,null,null,null,null,"R-407B","FugUS"]
[null,null,null,null,null,null,null,null,null,null,null,null,null,null,null,null,null,null,null,null,null,null,null,null,"R-407C","FugUS"]
[null,null,null,null,null,null,null,null,null,null,null,null,null,null,null,null,null,null,null,null,null,null,null,null,"R-407D","FugUS"]
[null,null,null,null,null,null,null,null,null,null,null,null,null,null,null,null,null,null,null,null,null,null,null,null,"R-407E","FugUS"]
[null,null,null,null,null,null,null,null,null,null,null,null,null,null,null,null,null,null,null,null,null,null,null,null,"R-408A","FugUS"]
[null,null,null,null,null,null,null,null,null,null,null,null,null,null,null,null,null,null,null,null,null,null,null,null,"R-409A","FugUS"]
[null,null,null,null,null,null,null,null,null,null,null,null,null,null,null,null,null,null,null,null,null,null,null,null,"R-410A","FugUS"]
[null,null,null,null,null,null,null,null,null,null,null,null,null,null,null,null,null,null,null,null,null,null,null,null,"R-410B","FugUS"]
[null,null,null,null,null,null,null,null,null,null,null,null,null,null,null,null,null,null,null,null,null,null,null,null,"R-411A","FugUS"]
[null,null,null,null,null,null,null,null,null,null,null,null,null,null,null,null,null,null,null,null,null,null,null,null,"R-411B","FugUS"]
[null,null,null,null,null,null,null,null,null,null,null,null,null,null,null,null,null,null,null,null,null,null,null,null,"R-413A","FugUS"]
[null,null,null,null,null,null,null,null,null,null,null,null,null,null,null,null,null,null,null,null,null,null,null,null,"R-414A","FugUS"]
[null,null,null,null,null,null,null,null,null,null,null,null,null,null,null,null,null,null,null,null,null,null,null,null,"R-414B","FugUS"]
[null,null,null,null,null,null,null,null,null,null,null,null,null,null,null,null,null,null,null,null,null,null,null,null,"R-417A","FugUS"]
[null,null,null,null,null,null,null,null,null,null,null,null,null,null,null,null,null,null,null,null,null,null,null,null,"R-422A","FugUS"]
[null,null,null,null,null,null,null,null,null,null,null,null,null,null,null,null,null,null,null,null,null,null,null,null,"R-422D","FugUS"]
[null,null,null,null,null,null,null,null,null,null,null,null,null,null,null,null,null,null,null,null,null,null,null,null,"R-423A","FugUS"]
[null,null,null,null,null,null,null,null,null,null,null,null,null,null,null,null,null,null,null,null,null,null,null,null,"R-424A","FugUS"]
[null,null,null,null,null,null,null,null,null,null,null,null,null,null,null,null,null,null,null,null,null,null,null,null,"R-426A","FugUS"]
[null,null,null,null,null,null,null,null,null,null,null,null,null,null,null,null,null,null,null,null,null,null,null,null,"R-428A","FugUS"]
[null,null,null,null,null,null,null,null,null,null,null,null,null,null,null,null,null,null,null,null,null,null,null,null,"R-434A","FugUS"]
[null,null,null,null,null,null,null,null,null,null,null,null,null,null,null,null,null,null,null,null,null,null,null,null,"R-500","FugUS"]
[null,null,null,null,null,null,null,null,null,null,null,null,null,null,null,null,null,null,null,null,null,null,null,null,"R-502","FugUS"]
[null,null,null,null,null,null,null,null,null,null,null,null,null,null,null,null,null,null,null,null,null,null,null,null,"R-504","FugUS"]
[null,null,null,null,null,null,null,null,null,null,null,null,null,null,null,null,null,null,null,null,null,null,null,null,"R-507","FugUS"]
[null,null,null,null,null,null,null,null,null,null,null,null,null,null,null,null,null,null,null,null,null,null,null,null,"R-508A","FugUS"]
[null,null,null,null,null,null,null,null,null,null,null,null,null,null,null,null,null,null,null,null,null,null,null,null,"R-508B","FugUS"]
[null,null,null,null,null,null,null,null,null,null,null,null,null,null,null,null,null,null,null,null,null,null,null,null,"Residual Fuel Oil","MobileVehicleFuelUS"]
[null,null,null,null,null,null,null,null,null,null,null,null,null,null,null,null,null,null,null,null,null,null,null,null,"Residual Fuel Oil Boat","MobileNonRoadVehicleUS"]
[null,null,null,null,null,null,null,null,null,null,null,null,null,null,null,null,null,null,null,null,null,null,null,null,"RFCE (RFC East)","ElecUS"]
[null,null,null,null,null,null,null,null,null,null,null,null,null,null,null,null,null,null,null,null,null,null,null,null,"RFCM (RFC Michigan)","ElecUS"]
[null,null,null,null,null,null,null,null,null,null,null,null,null,null,null,null,null,null,null,null,null,null,null,null,"RFCW (RFC West)","ElecUS"]
[null,null,null,null,null,null,null,null,null,null,null,null,null,null,null,null,null,null,null,null,null,null,null,null,"RMPA (WECC Rockies)","ElecUS"]
[null,null,null,null,null,null,null,null,null,null,null,null,null,null,null,null,null,null,null,null,null,null,null,null,"Short Haul (< 300 miles)","BusinessTravUS"]
[null,null,null,null,null,null,null,null,null,null,null,null,null,null,null,null,null,null,null,null,null,null,null,null,"SPNO (SPP North)","ElecUS"]
[null,null,null,null,null,null,null,null,null,null,null,null,null,null,null,null,null,null,null,null,null,null,null,null,"SPSO (SPP South)","ElecUS"]
[null,null,null,null,null,null,null,null,null,null,null,null,null,null,null,null,null,null,null,null,null,null,null,null,"SRMV (SERC Mississippi Valley)","ElecUS"]
[null,null,null,null,null,null,null,null,null,null,null,null,null,null,null,null,null,null,null,null,null,null,null,null,"SRMW (SERC Midwest)","ElecUS"]
[null,null,null,null,null,null,null,null,null,null,null,null,null,null,null,null,null,null,null,null,null,null,null,null,"SRSO (SERC South)","ElecUS"]
[null,null,null,null,null,null,null,null,null,null,null,null,null,null,null,null,null,null,null,null,null,null,null,null,"SRTV (SERC Tennessee Valley)","ElecUS"]
[null,null,null,null,null,null,null,null,null,null,null,null,null,null,null,null,null,null,null,null,null,null,null,null,"SRVC (SERC Virginia/Carolina)","ElecUS"]
[null,null,null,null,null,null,null,null,null,null,null,null,null,null,null,null,null,null,null,null,null,null,null,null,"Transit Rail (i.e. Subway, Tram)","BusinessTravUS"]

{"sheet":"Conversions - US","index":30,"n_rows":296,"n_cols":28,"rows_kept":296,"cut":false,"hidden":true,"merged":[[1,25,1,27],[34,7,35,12],[1,1,1,5],[1,7,1,12],[1,14,1,18],[1,19,1,23]]}
[null,null,null,null,null,null,null,"Simplified GHG Emissions Calculator | US EPA"]
[null,"Unit Conversions",null,null,null,null,null,"Unit Conversions",null,null,null,null,null,null,"Emission Factors",null,null,null,null,null,null,null,null,null,null,"Weight"]
[null,"Type","Convert From ","Convert To","Multiply By","Units",null,"Fuel Type","Convert From ","Convert To","Concatenate","Multiply By","Units",null,"Scope","Fuel Type","Unit","CO2 Factor \n(kg / Unit)","CH4 Factor \n(g / unit)","N2O Factor \n(g / unit)","GWP","Recycled CO2 Factor","Landfill CO2 Factor","Combusted CO2 Factor",null,"Type","Conversion","From / To"]
[null,"Mass","lb","g",453.6,"g /  lb",null,"Natural Gas","ccf","scf",{"$f":"CONCATENATE(Table43[[#This Row],[Convert From ]],Table43[[#This Row],[Convert To]])","v":"ccfscf"},100,"scf / ccf",null,"Product Transportation","Aircraft","mile",1.1599999999999999,0,3.5700000000000003E-2,0,0,0,0,null,"ElecUS",0.4536,"lb / kg"]
[null,"Mass","lb","kg",0.4536,"kg / lb",null,"Natural Gas","Dth","scf",{"$f":"CONCATENATE(Table43[[#This Row],[Convert From ]],Table43[[#This Row],[Convert To]])","v":"Dthscf"},974.7,"scf / Dth",null,"Electricity","AKGD (ASCC Alaska Grid)","kWh",1114.4000000000001,9.8000000000000004E-2,1.2999999999999999E-2,0,0,0,0,null,"FugUS",0.4536,"lb / kg"]
[null,"Mass","lb","ton",4.5360000000000002E-4,"metric ton / lb",null,"Mobile Vehicle Fuel","gallon","gallon",{"$f":"CONCATENATE(Table43[[#This Row],[Convert From ]],Table43[[#This Row],[Convert To]])","v":"gallongallon"},1,"gallon / gallon",null,"Electricity","AKMS (ASCC Miscellaneous)","kWh",549.29999999999995,2.5999999999999999E-2,4.0000000000000001E-3,0,0,0,0,null,"NaturalGasUS",0]
[null,"Mass","kg","lb",2.2050000000000001,"lb / kg",null,"Fugitive","kg","lb",{"$f":"CONCATENATE(Table43[[#This Row],[Convert From ]],Table43[[#This Row],[Convert To]])","v":"kglb"},2.2050000000000001,"kg / lb",null,"Stationary","Anthracite Coal","short ton",2602,276,40,0,0,0,0]
[null,"Mass","g","short ton",{"$f":"E9/1000","v":1.1020000000000002E-6},"short ton / g",null,"Electricity","kWh","kWh",{"$f":"CONCATENATE(Table43[[#This Row],[Convert From ]],Table43[[#This Row],[Convert To]])","v":"kWhkWh"},1,"kWh / kWh",null,"Mobile Vehicle Fuel","Aviation Gasoline","gallon",8.31,0,0,0,0,0,0]
[null,"Mass","kg","short ton",{"$f":"E10/1000","v":1.1020000000000001E-3},"short ton / kg",null,"Natural Gas","kWh","scf",{"$f":"CONCATENATE(Table43[[#This Row],[Convert From ]],Table43[[#This Row],[Convert To]])","v":"kWhscf"},3.3260000000000001,"scf / kWh",null,"Mobile Non-Road Vehicle","Aviation Gasoline Aircraft","gallon",0,7.06,0.11,0,0,0,0]
[null,"Mass","metric ton","short ton",1.1020000000000001,"short ton / metric ton",null,"Fugitive","lb","lb",{"$f":"CONCATENATE(Table43[[#This Row],[Convert From ]],Table43[[#This Row],[Convert To]])","v":"lblb"},1,"lb / lb",null,"Electricity","AZNM (WECC Southwest)","kWh",952.3,6.8000000000000005E-2,0.01,0,0,0,0]
[null,"Mass","lb","short ton",{"$f":"1/2000","v":5.0000000000000001E-4},"short ton / lb",null,"Steam","lb","mmBtu",{"$f":"CONCATENATE(Table43[[#This Row],[Convert From ]],Table43[[#This Row],[Convert To]])","v":"lbmmBtu"},{"$f":"1.194/1000","v":1.194E-3},"mmBtu / lb",null,"Mobile Vehicle Fuel","Biodiesel (100%)","gallon",9.4499999999999993,0,0,0,0,0,0]
[null,"Mass","short ton","short ton",1,"short ton / short ton",null,"Natural Gas","m3","scf",{"$f":"CONCATENATE(Table43[[#This Row],[Convert From ]],Table43[[#This Row],[Convert To]])","v":"m3scf"},35.31,"scf / m3",null,"Mobile Road Vehicle","Biodiesel Bus","mile",0,8.9999999999999993E-3,4.2999999999999997E-2,0,0,0,0]
[null,"Mass","metric ton","lb",2205,"lb / metric ton",null,"Natural Gas","Mcf","scf",{"$f":"CONCATENATE(Table43[[#This Row],[Convert From ]],Table43[[#This Row],[Convert To]])","v":"Mcfscf"},1000,"scf / Mcf",null,"Mobile Road Vehicle","Biodiesel Car","mile",0,0.03,1.9E-2,0,0,0,0]
[null,"Mass","metric ton","kg",1000,"kg / metric ton",null,"Mobile Road Vehicle","mile","gallon",{"$f":"CONCATENATE(Table43[[#This Row],[Convert From ]],Table43[[#This Row],[Convert To]])","v":"milegallon"},{"$f":"1/24.1","v":4.1493775933609957E-2},"mile / gallon",null,"Mobile Road Vehicle","Biodiesel HGV","mile",0,8.9999999999999993E-3,4.2999999999999997E-2,0,0,0,0]
[null,"Volume","scf","gal",7.4805000000000001,"gal / scf",null,"Mobile Road Vehicle","mile","mile",{"$f":"CONCATENATE(Table43[[#This Row],[Convert From ]],Table43[[#This Row],[Convert To]])","v":"milemile"},1,"mile / mile",null,"Mobile Road Vehicle","Biodiesel Truck","mile",0,8.9999999999999993E-3,1E-3,0,0,0,0]
[null,"Volume","scf","bbl",0.17810000000000001,"bbl / scf",null,"Steam","Mlb","mmBtu",{"$f":"CONCATENATE(Table43[[#This Row],[Convert From ]],Table43[[#This Row],[Convert To]])","v":"MlbmmBtu"},1.194,"mmBtu / Mlb",null,"Mobile Road Vehicle","Biodiesel Van","mile",0,2.9000000000000001E-2,2.1000000000000001E-2,0,0,0,0]
[null,"Volume","scf","L",28.32,"L / scf",null,"Distillate Fuel Oil No. 2","mmBtu","gallon",{"$f":"CONCATENATE(Table43[[#This Row],[Convert From ]],Table43[[#This Row],[Convert To]])","v":"mmBtugallon"},{"$f":"1/0.138","v":7.2463768115942022},"gallon / mmBtu",null,"Stationary","Bituminous Coal","short ton",2325,274,40,0,0,0,0]
[null,"Volume","scf","m3",2.8320000000000001E-2,"m3 / scf",null,"Residual Fuel Oil No. 6","mmBtu","gallon",{"$f":"CONCATENATE(Table43[[#This Row],[Convert From ]],Table43[[#This Row],[Convert To]])","v":"mmBtugallon"},{"$f":"1/0.15","v":6.666666666666667},"gallon / mmBtu",null,"Product Transportation","Boat","mile",3.5999999999999997E-2,1.1599999999999999E-2,1.6000000000000001E-3,0,0,0,0]
[null,"Volume","gal","bbl",2.3800000000000002E-2,"bbl / gal",null,"Kerosene","mmBtu","gallon",{"$f":"CONCATENATE(Table43[[#This Row],[Convert From ]],Table43[[#This Row],[Convert To]])","v":"mmBtugallon"},{"$f":"1/0.135","v":7.4074074074074066},"gallon / mmBtu",null,"Employee Commuting","Bus","mile",5.3999999999999999E-2,2.06E-2,8.9999999999999998E-4,0,0,0,0]
[null,"Volume","gal","L",3.7850000000000001,"L / gal",null,"Liquefied Petroleum Gases (LPG)","mmBtu","gallon",{"$f":"CONCATENATE(Table43[[#This Row],[Convert From ]],Table43[[#This Row],[Convert To]])","v":"mmBtugallon"},{"$f":"1/0.092","v":10.869565217391305},"gallon / mmBtu",null,"Employee Business Travel","Bus","passenger-mile",5.3999999999999999E-2,2.06E-2,8.9999999999999998E-4,0,0,0,0]
[null,"Volume","gal","m3",3.7850000000000002E-3,"m3 / gal",null,"Natural Gas","mmBtu","scf",{"$f":"CONCATENATE(Table43[[#This Row],[Convert From ]],Table43[[#This Row],[Convert To]])","v":"mmBtuscf"},{"$f":"ROUND(1/0.001026,6)","v":974.65886899999998},"scf / mmBtu",null,"Electricity","CAMX (WECC California)","kWh",453.2,3.3000000000000002E-2,4.0000000000000001E-3,0,0,0,0]
[null,"Volume","bbl","gal",42,"gal / bbl",null,"Landfill Gas","mmBtu","scf",{"$f":"CONCATENATE(Table43[[#This Row],[Convert From ]],Table43[[#This Row],[Convert To]])","v":"mmBtuscf"},{"$f":"1/0.000485","v":2061.8556701030925},"scf / mmBtu",null,"Employee Commuting","Car","mile",0.34100000000000003,8.9999999999999993E-3,8.0000000000000002E-3,0,0,0,0]
[null,"Volume","bbl","L",158.99,"L / bbl",null,"Anthracite Coal","mmBtu","Short ton",{"$f":"CONCATENATE(Table43[[#This Row],[Convert From ]],Table43[[#This Row],[Convert To]])","v":"mmBtuShort ton"},{"$f":"1/25.09","v":3.9856516540454363E-2},"short ton / mmBtu",null,"Product Transportation","Car","mile",0.34100000000000003,8.9999999999999993E-3,8.0000000000000002E-3,0,0,0,0]
[null,"Volume","bbl","m3",0.15890000000000001,"m3 / bbl",null,"Bituminous Coal","mmBtu","Short ton",{"$f":"CONCATENATE(Table43[[#This Row],[Convert From ]],Table43[[#This Row],[Convert To]])","v":"mmBtuShort ton"},{"$f":"1/24.93","v":4.011231448054553E-2},"short ton / mmBtu",null,"Mobile Road Vehicle","CNG Bus","mile",0,10,1E-3,0,0,0,0]
[null,"Volume","L","m3",1E-3,"m3 / L",null,"Sub-bituminous Coal","mmBtu","Short ton",{"$f":"CONCATENATE(Table43[[#This Row],[Convert From ]],Table43[[#This Row],[Convert To]])","v":"mmBtuShort ton"},{"$f":"1/17.25","v":5.7971014492753624E-2},"short ton / mmBtu",null,"Mobile Road Vehicle","CNG Car","mile",0,8.2000000000000003E-2,6.0000000000000001E-3,0,0,0,0]
[null,"Volume","L","gal",0.26419999999999999,"gal / L",null,"Coal Coke","mmBtu","Short ton",{"$f":"CONCATENATE(Table43[[#This Row],[Convert From ]],Table43[[#This Row],[Convert To]])","v":"mmBtuShort ton"},{"$f":"1/24.8","v":4.0322580645161289E-2},"short ton / mmBtu",null,"Mobile Road Vehicle","CNG HGV","mile",0,3.7,1E-3,0,0,0,0]
[null,"Volume","m3","bbl",6.2896999999999998,"bbl / m3",null,"Lignite Coal","mmBtu","Short ton",{"$f":"CONCATENATE(Table43[[#This Row],[Convert From ]],Table43[[#This Row],[Convert To]])","v":"mmBtuShort ton"},{"$f":"1/14.21","v":7.0372976776917659E-2},"short ton / mmBtu",null,"Mobile Road Vehicle","CNG Truck","mile",0,4.2,1E-3,0,0,0,0]
[null,"Volume","m3","gal",264.2,"gal / m3",null,"Mixed (Electric Power Sector)","mmBtu","Short ton",{"$f":"CONCATENATE(Table43[[#This Row],[Convert From ]],Table43[[#This Row],[Convert To]])","v":"mmBtuShort ton"},{"$f":"1/19.73","v":5.0684237202230108E-2},"short ton / mmBtu",null,"Mobile Road Vehicle","CNG Van","mile",0,0.123,1.0999999999999999E-2,0,0,0,0]
[null,"Volume","m3","L",1000,"L / m3",null,"Wood and Wood Residuals","mmBtu","Short ton",{"$f":"CONCATENATE(Table43[[#This Row],[Convert From ]],Table43[[#This Row],[Convert To]])","v":"mmBtuShort ton"},{"$f":"1/17.48","v":5.7208237986270019E-2},"short ton / mmBtu",null,"Stationary","Coal Coke","n/a",0,0,0,0,0,0,0]
[null,"Energy","kWh","Btu",3412,"Btu / kWh",null,"Natural Gas","scf","scf",{"$f":"CONCATENATE(Table43[[#This Row],[Convert From ]],Table43[[#This Row],[Convert To]])","v":"scfscf"},1,"scf / scf",null,"Employee Business Travel","Commuter Rail","passenger-mile",0.14299999999999999,1.1900000000000001E-2,2.8999999999999998E-3,0,0,0,0]
[null,"Energy","kWh","KJ",3600,"KJ / kWh",null,"Steam","short ton","mmBtu",{"$f":"CONCATENATE(Table43[[#This Row],[Convert From ]],Table43[[#This Row],[Convert To]])","v":"short tonmmBtu"},2.3879999999999999,"mmBtu / short ton",null,"Mobile Vehicle Fuel","Compressed Natural Gas (CNG)","scf",5.4440000000000002E-2,0,0,0,0,0,0]
[null,"Energy","MJ","GJ",1E-3,"GJ / MJ",null,"Natural Gas","therm","scf",{"$f":"CONCATENATE(Table43[[#This Row],[Convert From ]],Table43[[#This Row],[Convert To]])","v":"thermscf"},97.5,"scf / therm",null,"Mobile Vehicle Fuel","Diesel","gallon",10.210000000000001,0,0,0,0,0,0]
[null,"Energy","GJ","mmBtu",0.94779999999999998,"mmBtu / GJ",null,"Business Travel",null,null,{"$f":"CONCATENATE(Table43[[#This Row],[Convert From ]],Table43[[#This Row],[Convert To]])","v":""},null,null,null,"Mobile Non-Road Vehicle","Diesel Agricultural Equipment","gallon",0,0.28000000000000003,0.49,0,0,0,0]
[null,"Energy","GJ","kWh",277.8,"kWh / GJ",null,null,null,null,null,null,null,null,"Mobile Non-Road Vehicle","Diesel Agricultural Off-road","gallon",0,0.13,0.49,0,0,0,0]
[null,"Energy","Btu","J",1055,"J / Btu",null,"NOTE: The calculations in analysis tables do not currently distinguish the separate mmBtu/short ton, and mmBtu/gallon conversions. Correct at a later date if required.",null,null,null,null,null,null,"Mobile Non-Road Vehicle","Diesel Airport Equipment","gallon",0,0.17,0.49,0,0,0,0]
[null,"Energy","mmBtu","GJ",1.0549999999999999,"GJ / mmBtu",null,null,null,null,null,null,null,null,"Mobile Non-Road Vehicle","Diesel Boat","gallon",0,0.31,0.5,0,0,0,0]
[null,"Energy","mmBtu","kWh",293,"kWh / mmBtu",null,null,null,null,null,null,null,null,"Mobile Road Vehicle","Diesel Car 1960-1982","mile",0,5.9999999999999995E-4,1.1999999999999999E-3,0,0,0,0]
[null,"Energy","therm","Btu",100000,"Btu / therm",null,null,null,null,null,null,null,null,"Mobile Road Vehicle","Diesel Car 1983-1995","mile",0,5.0000000000000001E-4,1E-3,0,0,0,0]
[null,"Energy","therm","GJ",0.1055,"GJ / therm",null,null,null,null,null,null,null,null,"Mobile Road Vehicle","Diesel Car 1996-2006","mile",0,5.0000000000000001E-4,1E-3,0,0,0,0]
[null,"Energy","therm","kWh",29.3,"kWh / therm",null,null,null,null,null,null,null,null,"Mobile Road Vehicle","Diesel Car 2007-2018","mile",0,3.0200000000000001E-2,1.9199999999999998E-2,0,0,0,0]
[null,"Distance","mile","km",1.609,"km / mile",null,null,null,null,null,null,null,null,"Mobile Non-Road Vehicle","Diesel Commercial Equipment","gallon",0,0.23,0.47,0,0,0,0]
[null,"Distance","nautical mile","mile",1.1499999999999999,"mile / nautical mile",null,null,null,null,null,null,null,null,"Mobile Non-Road Vehicle","Diesel Construction Equipment","gallon",0,0.2,0.47,0,0,0,0]
[null,"Distance","km","mile",{"$f":"ROUND(1/E41,3)","v":0.622},"mile / km",null,null,null,null,null,null,null,null,"Mobile Non-Road Vehicle","Diesel Construction Off-road","gallon",0,0.13,0.49,0,0,0,0]
[null,null,null,null,null,null,null,null,null,null,null,null,null,null,"Mobile Non-Road Vehicle","Diesel Garden Equipment","gallon",0,0.33,0.47,0,0,0,0]
[null,null,null,null,null,null,null,null,null,null,null,null,null,null,"Mobile Road Vehicle","Diesel HGV 1960-2006","mile",0,5.1000000000000004E-3,4.7999999999999996E-3,0,0,0,0]
[null,null,null,null,null,null,null,null,null,null,null,null,null,null,"Mobile Road Vehicle","Diesel HGV 2007-2018","mile",0,9.4999999999999998E-3,4.3099999999999999E-2,0,0,0,0]
[null,null,null,null,null,null,null,null,null,null,null,null,null,null,"Mobile Non-Road Vehicle","Diesel Locomotive","gallon",0,0.8,0.26,0,0,0,0]
[null,null,null,null,null,null,null,null,null,null,null,null,null,null,"Mobile Non-Road Vehicle","Diesel Logging Equipment","gallon",0,0.1,0.49,0,0,0,0]
[null,null,null,null,null,null,null,null,null,null,null,null,null,null,"Mobile Non-Road Vehicle","Diesel Railroad Equipment","gallon",0,0.44,0.42,0,0,0,0]
[null,null,null,null,null,null,null,null,null,null,null,null,null,null,"Mobile Non-Road Vehicle","Diesel Recreational Equipment","gallon",0,0.41,0.41,0,0,0,0]
[null,null,null,null,null,null,null,null,null,null,null,null,null,null,"Mobile Road Vehicle","Diesel Van 1960-1982","mile",0,1.1000000000000001E-3,1.6999999999999999E-3,0,0,0,0]
[null,null,null,null,null,null,null,null,null,null,null,null,null,null,"Mobile Road Vehicle","Diesel Van 1983-1995","mile",0,8.9999999999999998E-4,1.4E-3,0,0,0,0]
[null,null,null,null,null,null,null,null,null,null,null,null,null,null,"Mobile Road Vehicle","Diesel Van 1996-2006","mile",0,1E-3,1.5E-3,0,0,0,0]
[null,null,null,null,null,null,null,null,null,null,null,null,null,null,"Mobile Road Vehicle","Diesel Van 2007-2018","mile",0,2.9000000000000001E-2,2.1399999999999999E-2,0,0,0,0]
[null,null,null,null,null,null,null,null,null,null,null,null,null,null,"Stationary","Distillate Fuel Oil No. 2","gallon",10.210000000000001,0.41,0.08,0,0,0,0]
[null,null,null,null,null,null,null,null,null,null,null,null,null,null,"Electricity","ERCT (ERCOT All)","kWh",868.6,5.7000000000000002E-2,8.0000000000000002E-3,0,0,0,0]
[null,null,null,null,null,null,null,null,null,null,null,null,null,null,"Mobile Vehicle Fuel","Ethanol (100%)","gallon",5.75,0,0,0,0,0,0]
[null,null,null,null,null,null,null,null,null,null,null,null,null,null,"Mobile Road Vehicle","Ethanol Bus","mile",0,2.1999999999999999E-2,3.2000000000000001E-2,0,0,0,0]
[null,null,null,null,null,null,null,null,null,null,null,null,null,null,"Mobile Road Vehicle","Ethanol Car","mile",0,8.0000000000000002E-3,6.0000000000000001E-3,0,0,0,0]
[null,null,null,null,null,null,null,null,null,null,null,null,null,null,"Mobile Road Vehicle","Ethanol HGV","mile",0,7.4999999999999997E-2,2.8000000000000001E-2,0,0,0,0]
[null,null,null,null,null,null,null,null,null,null,null,null,null,null,"Mobile Road Vehicle","Ethanol Van","mile",0,1.2E-2,1.0999999999999999E-2,0,0,0,0]
[null,null,null,null,null,null,null,null,null,null,null,null,null,null,"Electricity","FRCC (FRCC All)","kWh",861,5.5E-2,7.0000000000000001E-3,0,0,0,0]
[null,null,null,null,null,null,null,null,null,null,null,null,null,null,"Mobile Non-Road Vehicle","Gasoline (2 stroke) Agricultural Equipment","gallon",0,12.96,0.06,0,0,0,0]
[null,null,null,null,null,null,null,null,null,null,null,null,null,null,"Mobile Non-Road Vehicle","Gasoline (2 stroke) Boat","gallon",0,9.5399999999999991,0.06,0,0,0,0]
[null,null,null,null,null,null,null,null,null,null,null,null,null,null,"Mobile Non-Road Vehicle","Gasoline (2 stroke) Commercial Equipment","gallon",0,15.14,0.06,0,0,0,0]
[null,null,null,null,null,null,null,null,null,null,null,null,null,null,"Mobile Non-Road Vehicle","Gasoline (2 stroke) Construction Equipment","gallon",0,12.42,7.0000000000000007E-2,0,0,0,0]
[null,null,null,null,null,null,null,null,null,null,null,null,null,null,"Mobile Non-Road Vehicle","Gasoline (2 stroke) Garden Equipment","gallon",0,15.57,0.06,0,0,0,0]
[null,null,null,null,null,null,null,null,null,null,null,null,null,null,"Mobile Non-Road Vehicle","Gasoline (2 stroke) Logging Equipment","gallon",0,12.03,0.08,0,0,0,0]
[null,null,null,null,null,null,null,null,null,null,null,null,null,null,"Mobile Non-Road Vehicle","Gasoline (2 stroke) Recreational Equipment","gallon",0,7.81,0.03,0,0,0,0]
[null,null,null,null,null,null,null,null,null,null,null,null,null,null,"Mobile Non-Road Vehicle","Gasoline (4 stroke) Agricultural Equipment","gallon",0,7.24,0.21,0,0,0,0]
[null,null,null,null,null,null,null,null,null,null,null,null,null,null,"Mobile Non-Road Vehicle","Gasoline (4 stroke) Boat","gallon",0,4.88,0.23,0,0,0,0]
[null,null,null,null,null,null,null,null,null,null,null,null,null,null,"Mobile Non-Road Vehicle","Gasoline (4 stroke) Commercial Equipment","gallon",0,5.48,0.2,0,0,0,0]
[null,null,null,null,null,null,null,null,null,null,null,null,null,null,"Mobile Non-Road Vehicle","Gasoline (4 stroke) Construction Equipment","gallon",0,5.58,0.2,0,0,0,0]
[null,null,null,null,null,null,null,null,null,null,null,null,null,null,"Mobile Non-Road Vehicle","Gasoline (4 stroke) Garden Equipment","gallon",0,5.84,0.18,0,0,0,0]
[null,null,null,null,null,null,null,null,null,null,null,null,null,null,"Mobile Non-Road Vehicle","Gasoline (4 stroke) Logging Equipment","gallon",0,6.71,0.18,0,0,0,0]
[null,null,null,null,null,null,null,null,null,null,null,null,null,null,"Mobile Non-Road Vehicle","Gasoline (4 stroke) Recreational Equipment","gallon",0,8.4499999999999993,0.19,0,0,0,0]
[null,null,null,null,null,null,null,null,null,null,null,null,null,null,"Mobile Non-Road Vehicle","Gasoline Agricultural Off-road","gallon",0,7.24,0.21,0,0,0,0]
[null,null,null,null,null,null,null,null,null,null,null,null,null,null,"Mobile Non-Road Vehicle","Gasoline Airport Equipment","gallon",0,2.58,0.25,0,0,0,0]
[null,null,null,null,null,null,null,null,null,null,null,null,null,null,"Mobile Non-Road Vehicle","Gasoline Construction Off-road","gallon",0,5.58,0.2,0,0,0,0]
[null,null,null,null,null,null,null,null,null,null,null,null,null,null,"Mobile Non-Road Vehicle","Gasoline Railroad Equipment","gallon",0,5.78,0.19,0,0,0,0]
[null,null,null,null,null,null,null,null,null,null,null,null,null,null,"Fugitive","HFC-125","lb",0,0,0,3500,0,0,0]
[null,null,null,null,null,null,null,null,null,null,null,null,null,null,"Fugitive","HFC-134","lb",0,0,0,1100,0,0,0]
[null,null,null,null,null,null,null,null,null,null,null,null,null,null,"Fugitive","HFC-134a","lb",0,0,0,1430,0,0,0]
[null,null,null,null,null,null,null,null,null,null,null,null,null,null,"Fugitive","HFC-143","lb",0,0,0,353,0,0,0]
[null,null,null,null,null,null,null,null,null,null,null,null,null,null,"Fugitive","HFC-143a","lb",0,0,0,4470,0,0,0]
[null,null,null,null,null,null,null,null,null,null,null,null,null,null,"Fugitive","HFC-152","lb",0,0,0,53,0,0,0]
[null,null,null,null,null,null,null,null,null,null,null,null,null,null,"Fugitive","HFC-152a","lb",0,0,0,124,0,0,0]
[null,null,null,null,null,null,null,null,null,null,null,null,null,null,"Fugitive","HFC-161","lb",0,0,0,12,0,0,0]
[null,null,null,null,null,null,null,null,null,null,null,null,null,null,"Fugitive","HFC-227ea","lb",0,0,0,3220,0,0,0]
[null,null,null,null,null,null,null,null,null,null,null,null,null,null,"Fugitive","HFC-23","lb",0,0,0,14800,0,0,0]
[null,null,null,null,null,null,null,null,null,null,null,null,null,null,"Fugitive","HFC-236cb","lb",0,0,0,1340,0,0,0]
[null,null,null,null,null,null,null,null,null,null,null,null,null,null,"Fugitive","HFC-236ea","lb",0,0,0,1370,0,0,0]
[null,null,null,null,null,null,null,null,null,null,null,null,null,null,"Fugitive","HFC-236fa","lb",0,0,0,9810,0,0,0]
[null,null,null,null,null,null,null,null,null,null,null,null,null,null,"Fugitive","HFC-245ca","lb",0,0,0,693,0,0,0]
[null,null,null,null,null,null,null,null,null,null,null,null,null,null,"Fugitive","HFC-245fa","lb",0,0,0,1030,0,0,0]
[null,null,null,null,null,null,null,null,null,null,null,null,null,null,"Fugitive","HFC-32","lb",0,0,0,675,0,0,0]
[null,null,null,null,null,null,null,null,null,null,null,null,null,null,"Fugitive","HFC-365mfc","lb",0,0,0,794,0,0,0]
[null,null,null,null,null,null,null,null,null,null,null,null,null,null,"Fugitive","HFC-41","lb",0,0,0,92,0,0,0]
[null,null,null,null,null,null,null,null,null,null,null,null,null,null,"Fugitive","HFC-43-10mee","lb",0,0,0,1640,0,0,0]
[null,null,null,null,null,null,null,null,null,null,null,null,null,null,"Product Transportation","HGV","mile",1.407,1.2999999999999999E-2,3.3000000000000002E-2,0,0,0,0]
[null,null,null,null,null,null,null,null,null,null,null,null,null,null,"Electricity","HIMS (HICC Miscellaneous)","kWh",1185.5999999999999,0.14299999999999999,2.1999999999999999E-2,0,0,0,0]
[null,null,null,null,null,null,null,null,null,null,null,null,null,null,"Electricity","HIOA (HICC Oahu)","kWh",1694.5,0.185,2.8000000000000001E-2,0,0,0,0]
[null,null,null,null,null,null,null,null,null,null,null,null,null,null,"Employee Business Travel","Intercity Rail - National Average","passenger-mile",0.113,9.1999999999999998E-3,2.5999999999999999E-3,0,0,0,0]
[null,null,null,null,null,null,null,null,null,null,null,null,null,null,"Employee Business Travel","Intercity Rail - Northeast Corridor","passenger-mile",5.8000000000000003E-2,5.4999999999999997E-3,6.9999999999999999E-4,0,0,0,0]
[null,null,null,null,null,null,null,null,null,null,null,null,null,null,"Employee Business Travel","Intercity Rail - Other Routes","passenger-mile",0.15,1.17E-2,3.8E-3,0,0,0,0]
[null,null,null,null,null,null,null,null,null,null,null,null,null,null,"Mobile Non-Road Vehicle","Jet Fuel Aircraft","gallon",0,0,0.3,0,0,0,0]
[null,null,null,null,null,null,null,null,null,null,null,null,null,null,"Stationary","Kerosene","gallon",10.15,0.41,0.08,0,0,0,0]
[null,null,null,null,null,null,null,null,null,null,null,null,null,null,"Mobile Vehicle Fuel","Kerosene-Type Jet Fuel","gallon",9.75,0,0,0,0,0,0]
[null,null,null,null,null,null,null,null,null,null,null,null,null,null,"Stationary","Landfill Gas","scf",2.5253999999999999E-2,1.5520000000000002E-3,3.0600000000000001E-4,0,0,0,0]
[null,null,null,null,null,null,null,null,null,null,null,null,null,null,"Employee Business Travel","Light-Duty Truck","mile",0.46400000000000002,1.2E-2,0.01,0,0,0,0]
[null,null,null,null,null,null,null,null,null,null,null,null,null,null,"Stationary","Lignite Coal","short ton",1389,156,23,0,0,0,0]
[null,null,null,null,null,null,null,null,null,null,null,null,null,null,"Mobile Vehicle Fuel","Liquefied Natural Gas (LNG)","gallon",4.5,0,0,0,0,0,0]
[null,null,null,null,null,null,null,null,null,null,null,null,null,null,"Stationary","Liquefied Petroleum Gases (LPG)","gallon",5.68,0.28000000000000003,0.06,0,0,0,0]
[null,null,null,null,null,null,null,null,null,null,null,null,null,null,"Mobile Vehicle Fuel","Liquefied Petroleum Gases (LPG)","gallon",5.68,0,0,0,0,0,0]
[null,null,null,null,null,null,null,null,null,null,null,null,null,null,"Mobile Road Vehicle","LNG Bus","mile",0,10,1E-3,0,0,0,0]
[null,null,null,null,null,null,null,null,null,null,null,null,null,null,"Mobile Road Vehicle","LNG HGV","mile",0,3.7,1E-3,0,0,0,0]
[null,null,null,null,null,null,null,null,null,null,null,null,null,null,"Mobile Road Vehicle","LNG Truck","mile",0,4.2,4.2999999999999997E-2,0,0,0,0]
[null,null,null,null,null,null,null,null,null,null,null,null,null,null,"Mobile Road Vehicle","LNG Van","mile",0,0.123,1.0999999999999999E-2,0,0,0,0]
[null,null,null,null,null,null,null,null,null,null,null,null,null,null,"Employee Business Travel","Long Haul (>= 2300 miles)","passenger-mile",0.161,5.9999999999999995E-4,5.1000000000000004E-3,0,0,0,0]
[null,null,null,null,null,null,null,null,null,null,null,null,null,null,"Mobile Non-Road Vehicle","LPG Agricultural Equipment","gallon",0,2.19,0.39,0,0,0,0]
[null,null,null,null,null,null,null,null,null,null,null,null,null,null,"Mobile Non-Road Vehicle","LPG Airport Equipment","gallon",0,0.33,0.41,0,0,0,0]
[null,null,null,null,null,null,null,null,null,null,null,null,null,null,"Mobile Road Vehicle","LPG Bus","mile",0,3.4000000000000002E-2,1.7000000000000001E-2,0,0,0,0]
[null,null,null,null,null,null,null,null,null,null,null,null,null,null,"Mobile Road Vehicle","LPG Car","mile",0,8.0000000000000002E-3,6.0000000000000001E-3,0,0,0,0]
[null,null,null,null,null,null,null,null,null,null,null,null,null,null,"Mobile Non-Road Vehicle","LPG Commercial Equipment","gallon",0,0.44,0.41,0,0,0,0]
[null,null,null,null,null,null,null,null,null,null,null,null,null,null,"Mobile Non-Road Vehicle","LPG Construction Equipment","gallon",0,1.05,0.41,0,0,0,0]
[null,null,null,null,null,null,null,null,null,null,null,null,null,null,"Mobile Non-Road Vehicle","LPG Garden Equipment","gallon",0,0.35,0.41,0,0,0,0]
[null,null,null,null,null,null,null,null,null,null,null,null,null,null,"Mobile Road Vehicle","LPG HGV","mile",0,1.2999999999999999E-2,2.5999999999999999E-2,0,0,0,0]
[null,null,null,null,null,null,null,null,null,null,null,null,null,null,"Mobile Non-Road Vehicle","LPG Railroad Equipment","gallon",0,1.2,0.41,0,0,0,0]
[null,null,null,null,null,null,null,null,null,null,null,null,null,null,"Mobile Non-Road Vehicle","LPG Recreational Equipment","gallon",0,2.98,0.38,0,0,0,0]
[null,null,null,null,null,null,null,null,null,null,null,null,null,null,"Mobile Road Vehicle","LPG Truck","mile",0,1.4E-2,3.4000000000000002E-2,0,0,0,0]
[null,null,null,null,null,null,null,null,null,null,null,null,null,null,"Mobile Road Vehicle","LPG Van","mile",0,1.2E-2,1.2999999999999999E-2,0,0,0,0]
[null,null,null,null,null,null,null,null,null,null,null,null,null,null,"Employee Business Travel","Medium Haul (>= 300 miles, < 2300 miles)","passenger-mile",0.13100000000000001,5.9999999999999995E-4,4.1999999999999997E-3,0,0,0,0]
[null,null,null,null,null,null,null,null,null,null,null,null,null,null,"Mobile Road Vehicle","Methanol Bus","mile",0,2.1999999999999999E-2,3.2000000000000001E-2,0,0,0,0]
[null,null,null,null,null,null,null,null,null,null,null,null,null,null,"Mobile Road Vehicle","Methanol Car","mile",0,8.0000000000000002E-3,6.0000000000000001E-3,0,0,0,0]
[null,null,null,null,null,null,null,null,null,null,null,null,null,null,"Mobile Road Vehicle","Methanol HGV","mile",0,7.4999999999999997E-2,2.8000000000000001E-2,0,0,0,0]
[null,null,null,null,null,null,null,null,null,null,null,null,null,null,"Stationary","Mixed (Electric Power Sector)","n/a",0,0,0,0,0,0,0]
[null,null,null,null,null,null,null,null,null,null,null,null,null,null,"Waste","Mixed Electronics","short ton",0,0,0,0,0,0.02,0.87]
[null,null,null,null,null,null,null,null,null,null,null,null,null,null,"Waste","Mixed Metals","short ton",0,0,0,0,0.23,0.02,0.01]
[null,null,null,null,null,null,null,null,null,null,null,null,null,null,"Waste","Mixed Paper","short ton",0,0,0,0,7.0000000000000007E-2,0.8,0.05]
[null,null,null,null,null,null,null,null,null,null,null,null,null,null,"Waste","Mixed Plastics","short ton",0,0,0,0,0.22,0.02,2.34]
[null,null,null,null,null,null,null,null,null,null,null,null,null,null,"Waste","Mixed Recyclables","short ton",0,0,0,0,0.09,0.68,0.11]
[null,null,null,null,null,null,null,null,null,null,null,null,null,null,"Waste","Mixed Solid Waste","short ton",0,0,0,0,0,0.52,0.43]
[null,null,null,null,null,null,null,null,null,null,null,null,null,null,"Employee Commuting","Motorbike","mile",0.189,7.0000000000000007E-2,7.0000000000000001E-3,0,0,0,0]
[null,null,null,null,null,null,null,null,null,null,null,null,null,null,"Employee Business Travel","Motorcycle","mile",0.189,7.0000000000000007E-2,7.0000000000000001E-3,0,0,0,0]
[null,null,null,null,null,null,null,null,null,null,null,null,null,null,"Electricity","MROE (MRO East)","kWh",1502.6,0.14699999999999999,2.1999999999999999E-2,0,0,0,0]
[null,null,null,null,null,null,null,null,null,null,null,null,null,null,"Electricity","MROW (MRO West)","kWh",1098.4000000000001,0.11899999999999999,1.7000000000000001E-2,0,0,0,0]
[null,null,null,null,null,null,null,null,null,null,null,null,null,null,"Stationary","Natural Gas","scf",5.4440000000000002E-2,1.0300000000000001E-3,1E-4,0,0,0,0]
[null,null,null,null,null,null,null,null,null,null,null,null,null,null,"Electricity","NEWE (NPCC New England)","kWh",488.9,7.6999999999999999E-2,0.01,0,0,0,0]
[null,null,null,null,null,null,null,null,null,null,null,null,null,null,"Electricity","NWPP (WECC Northwest)","kWh",715.2,6.8000000000000005E-2,0.01,0,0,0,0]
[null,null,null,null,null,null,null,null,null,null,null,null,null,null,"Electricity","NYCW (NPCC NYC/Westchester)","kWh",553.79999999999995,2.1000000000000001E-2,2E-3,0,0,0,0]
[null,null,null,null,null,null,null,null,null,null,null,null,null,null,"Electricity","NYLI (NPCC Long Island)","kWh",1209,0.157,0.02,0,0,0,0]
[null,null,null,null,null,null,null,null,null,null,null,null,null,null,"Electricity","NYUP (NPCC Upstate NY)","kWh",232.3,1.7000000000000001E-2,2E-3,0,0,0,0]
[null,null,null,null,null,null,null,null,null,null,null,null,null,null,"Employee Business Travel","Passenger Car","mile",0.34100000000000003,8.9999999999999993E-3,8.0000000000000002E-3,0,0,0,0]
[null,null,null,null,null,null,null,null,null,null,null,null,null,null,"Mobile Vehicle Fuel","Petrol","gallon",8.7799999999999994,0,0,0,0,0,0]
[null,null,null,null,null,null,null,null,null,null,null,null,null,null,"Mobile Road Vehicle","Petrol Car 1984-93","mile",0,7.0400000000000004E-2,6.4699999999999994E-2,0,0,0,0]
[null,null,null,null,null,null,null,null,null,null,null,null,null,null,"Mobile Road Vehicle","Petrol Car 1994","mile",0,6.1699999999999998E-2,6.0299999999999999E-2,0,0,0,0]
[null,null,null,null,null,null,null,null,null,null,null,null,null,null,"Mobile Road Vehicle","Petrol Car 1995","mile",0,5.3100000000000001E-2,5.6000000000000001E-2,0,0,0,0]
[null,null,null,null,null,null,null,null,null,null,null,null,null,null,"Mobile Road Vehicle","Petrol Car 1996","mile",0,4.3400000000000001E-2,5.0299999999999997E-2,0,0,0,0]
[null,null,null,null,null,null,null,null,null,null,null,null,null,null,"Mobile Road Vehicle","Petrol Car 1997","mile",0,3.3700000000000001E-2,4.4600000000000001E-2,0,0,0,0]
[null,null,null,null,null,null,null,null,null,null,null,null,null,null,"Mobile Road Vehicle","Petrol Car 1998","mile",0,2.4E-2,3.8899999999999997E-2,0,0,0,0]
[null,null,null,null,null,null,null,null,null,null,null,null,null,null,"Mobile Road Vehicle","Petrol Car 1999","mile",0,2.1499999999999998E-2,3.5499999999999997E-2,0,0,0,0]
[null,null,null,null,null,null,null,null,null,null,null,null,null,null,"Mobile Road Vehicle","Petrol Car 2000","mile",0,1.7500000000000002E-2,3.04E-2,0,0,0,0]
[null,null,null,null,null,null,null,null,null,null,null,null,null,null,"Mobile Road Vehicle","Petrol Car 2001","mile",0,1.0500000000000001E-2,2.12E-2,0,0,0,0]
[null,null,null,null,null,null,null,null,null,null,null,null,null,null,"Mobile Road Vehicle","Petrol Car 2002","mile",0,1.0200000000000001E-2,2.07E-2,0,0,0,0]
[null,null,null,null,null,null,null,null,null,null,null,null,null,null,"Mobile Road Vehicle","Petrol Car 2003","mile",0,9.4999999999999998E-3,1.8100000000000002E-2,0,0,0,0]
[null,null,null,null,null,null,null,null,null,null,null,null,null,null,"Mobile Road Vehicle","Petrol Car 2004","mile",0,7.7999999999999996E-3,8.5000000000000006E-3,0,0,0,0]
[null,null,null,null,null,null,null,null,null,null,null,null,null,null,"Mobile Road Vehicle","Petrol Car 2005","mile",0,7.4999999999999997E-3,6.7000000000000002E-3,0,0,0,0]
[null,null,null,null,null,null,null,null,null,null,null,null,null,null,"Mobile Road Vehicle","Petrol Car 2006","mile",0,7.6E-3,7.4999999999999997E-3,0,0,0,0]
[null,null,null,null,null,null,null,null,null,null,null,null,null,null,"Mobile Road Vehicle","Petrol Car 2007","mile",0,7.1999999999999998E-3,5.1999999999999998E-3,0,0,0,0]
[null,null,null,null,null,null,null,null,null,null,null,null,null,null,"Mobile Road Vehicle","Petrol Car 2008","mile",0,7.1999999999999998E-3,4.8999999999999998E-3,0,0,0,0]
[null,null,null,null,null,null,null,null,null,null,null,null,null,null,"Mobile Road Vehicle","Petrol Car 2009","mile",0,7.1000000000000004E-3,4.5999999999999999E-3,0,0,0,0]
[null,null,null,null,null,null,null,null,null,null,null,null,null,null,"Mobile Road Vehicle","Petrol Car 2010","mile",0,7.1000000000000004E-3,4.5999999999999999E-3,0,0,0,0]
[null,null,null,null,null,null,null,null,null,null,null,null,null,null,"Mobile Road Vehicle","Petrol Car 2011","mile",0,7.1000000000000004E-3,4.5999999999999999E-3,0,0,0,0]
[null,null,null,null,null,null,null,null,null,null,null,null,null,null,"Mobile Road Vehicle","Petrol Car 2012","mile",0,7.1000000000000004E-3,4.5999999999999999E-3,0,0,0,0]
[null,null,null,null,null,null,null,null,null,null,null,null,null,null,"Mobile Road Vehicle","Petrol Car 2013","mile",0,7.1000000000000004E-3,4.5999999999999999E-3,0,0,0,0]
[null,null,null,null,null,null,null,null,null,null,null,null,null,null,"Mobile Road Vehicle","Petrol Car 2014","mile",0,7.1000000000000004E-3,4.5999999999999999E-3,0,0,0,0]
[null,null,null,null,null,null,null,null,null,null,null,null,null,null,"Mobile Road Vehicle","Petrol Car 2015","mile",0,6.7999999999999996E-3,4.1999999999999997E-3,0,0,0,0]
[null,null,null,null,null,null,null,null,null,null,null,null,null,null,"Mobile Road Vehicle","Petrol Car 2016","mile",0,6.4999999999999997E-3,3.8E-3,0,0,0,0]
[null,null,null,null,null,null,null,null,null,null,null,null,null,null,"Mobile Road Vehicle","Petrol Car 2017","mile",0,5.4000000000000003E-3,1.8E-3,0,0,0,0]
[null,null,null,null,null,null,null,null,null,null,null,null,null,null,"Mobile Road Vehicle","Petrol Car 2018","mile",0,5.1999999999999998E-3,1.6000000000000001E-3,0,0,0,0]
[null,null,null,null,null,null,null,null,null,null,null,null,null,null,"Mobile Road Vehicle","Petrol HGV 1985-86","mile",0,0.40899999999999997,5.1499999999999997E-2,0,0,0,0]
[null,null,null,null,null,null,null,null,null,null,null,null,null,null,"Mobile Road Vehicle","Petrol HGV 1987","mile",0,0.36749999999999999,8.4900000000000003E-2,0,0,0,0]
[null,null,null,null,null,null,null,null,null,null,null,null,null,null,"Mobile Road Vehicle","Petrol HGV 1988-1989","mile",0,0.34920000000000001,9.3299999999999994E-2,0,0,0,0]
[null,null,null,null,null,null,null,null,null,null,null,null,null,null,"Mobile Road Vehicle","Petrol HGV 1990-1995","mile",0,0.3246,0.1142,0,0,0,0]
[null,null,null,null,null,null,null,null,null,null,null,null,null,null,"Mobile Road Vehicle","Petrol HGV 1996","mile",0,0.1278,0.16800000000000001,0,0,0,0]
[null,null,null,null,null,null,null,null,null,null,null,null,null,null,"Mobile Road Vehicle","Petrol HGV 1997","mile",0,9.2399999999999996E-2,0.1726,0,0,0,0]
[null,null,null,null,null,null,null,null,null,null,null,null,null,null,"Mobile Road Vehicle","Petrol HGV 1998","mile",0,6.5500000000000003E-2,0.17499999999999999,0,0,0,0]
[null,null,null,null,null,null,null,null,null,null,null,null,null,null,"Mobile Road Vehicle","Petrol HGV 1999","mile",0,6.4799999999999996E-2,0.1724,0,0,0,0]
[null,null,null,null,null,null,null,null,null,null,null,null,null,null,"Mobile Road Vehicle","Petrol HGV 2000","mile",0,6.3E-2,0.16600000000000001,0,0,0,0]
[null,null,null,null,null,null,null,null,null,null,null,null,null,null,"Mobile Road Vehicle","Petrol HGV 2001","mile",0,5.7700000000000001E-2,0.14680000000000001,0,0,0,0]
[null,null,null,null,null,null,null,null,null,null,null,null,null,null,"Mobile Road Vehicle","Petrol HGV 2002","mile",0,6.3399999999999998E-2,0.1673,0,0,0,0]
[null,null,null,null,null,null,null,null,null,null,null,null,null,null,"Mobile Road Vehicle","Petrol HGV 2003","mile",0,6.0199999999999997E-2,0.15529999999999999,0,0,0,0]
[null,null,null,null,null,null,null,null,null,null,null,null,null,null,"Mobile Road Vehicle","Petrol HGV 2004","mile",0,2.98E-2,1.6400000000000001E-2,0,0,0,0]
[null,null,null,null,null,null,null,null,null,null,null,null,null,null,"Mobile Road Vehicle","Petrol HGV 2005","mile",0,2.9700000000000001E-2,8.3000000000000001E-3,0,0,0,0]
[null,null,null,null,null,null,null,null,null,null,null,null,null,null,"Mobile Road Vehicle","Petrol HGV 2006","mile",0,2.9899999999999999E-2,2.41E-2,0,0,0,0]
[null,null,null,null,null,null,null,null,null,null,null,null,null,null,"Mobile Road Vehicle","Petrol HGV 2007","mile",0,3.2199999999999999E-2,1.5E-3,0,0,0,0]
[null,null,null,null,null,null,null,null,null,null,null,null,null,null,"Mobile Road Vehicle","Petrol HGV 2008","mile",0,3.4000000000000002E-2,1.5E-3,0,0,0,0]
[null,null,null,null,null,null,null,null,null,null,null,null,null,null,"Mobile Road Vehicle","Petrol HGV 2009","mile",0,3.39E-2,1.5E-3,0,0,0,0]
[null,null,null,null,null,null,null,null,null,null,null,null,null,null,"Mobile Road Vehicle","Petrol HGV 2010","mile",0,3.2000000000000001E-2,1.5E-3,0,0,0,0]
[null,null,null,null,null,null,null,null,null,null,null,null,null,null,"Mobile Road Vehicle","Petrol HGV 2011","mile",0,3.04E-2,1.5E-3,0,0,0,0]
[null,null,null,null,null,null,null,null,null,null,null,null,null,null,"Mobile Road Vehicle","Petrol HGV 2012","mile",0,3.1300000000000001E-2,1.5E-3,0,0,0,0]
[null,null,null,null,null,null,null,null,null,null,null,null,null,null,"Mobile Road Vehicle","Petrol HGV 2013","mile",0,3.1300000000000001E-2,1.5E-3,0,0,0,0]
[null,null,null,null,null,null,null,null,null,null,null,null,null,null,"Mobile Road Vehicle","Petrol HGV 2014","mile",0,3.15E-2,1.5E-3,0,0,0,0]
[null,null,null,null,null,null,null,null,null,null,null,null,null,null,"Mobile Road Vehicle","Petrol HGV 2015","mile",0,3.32E-2,2.0999999999999999E-3,0,0,0,0]
[null,null,null,null,null,null,null,null,null,null,null,null,null,null,"Mobile Road Vehicle","Petrol HGV 2016","mile",0,3.2099999999999997E-2,6.1000000000000004E-3,0,0,0,0]
[null,null,null,null,null,null,null,null,null,null,null,null,null,null,"Mobile Road Vehicle","Petrol HGV 2017","mile",0,3.2899999999999999E-2,8.3999999999999995E-3,0,0,0,0]
[null,null,null,null,null,null,null,null,null,null,null,null,null,null,"Mobile Road Vehicle","Petrol HGV 2018","mile",0,3.2599999999999997E-2,8.2000000000000007E-3,0,0,0,0]
[null,null,null,null,null,null,null,null,null,null,null,null,null,null,"Mobile Road Vehicle","Petrol Motorbike 1960-1995","mile",0,8.9899999999999994E-2,8.6999999999999994E-3,0,0,0,0]
[null,null,null,null,null,null,null,null,null,null,null,null,null,null,"Mobile Road Vehicle","Petrol Motorbike 1996-2018","mile",0,6.7199999999999996E-2,6.8999999999999999E-3,0,0,0,0]
[null,null,null,null,null,null,null,null,null,null,null,null,null,null,"Mobile Road Vehicle","Petrol Van 1987-93","mile",0,8.1299999999999997E-2,0.10349999999999999,0,0,0,0]
[null,null,null,null,null,null,null,null,null,null,null,null,null,null,"Mobile Road Vehicle","Petrol Van 1994","mile",0,6.4600000000000005E-2,9.8199999999999996E-2,0,0,0,0]
[null,null,null,null,null,null,null,null,null,null,null,null,null,null,"Mobile Road Vehicle","Petrol Van 1995","mile",0,5.1700000000000003E-2,9.0800000000000006E-2,0,0,0,0]
[null,null,null,null,null,null,null,null,null,null,null,null,null,null,"Mobile Road Vehicle","Petrol Van 1996","mile",0,4.5199999999999997E-2,8.7099999999999997E-2,0,0,0,0]
[null,null,null,null,null,null,null,null,null,null,null,null,null,null,"Mobile Road Vehicle","Petrol Van 1997","mile",0,4.5199999999999997E-2,8.7099999999999997E-2,0,0,0,0]
[null,null,null,null,null,null,null,null,null,null,null,null,null,null,"Mobile Road Vehicle","Petrol Van 1998","mile",0,4.1200000000000001E-2,7.8700000000000006E-2,0,0,0,0]
[null,null,null,null,null,null,null,null,null,null,null,null,null,null,"Mobile Road Vehicle","Petrol Van 1999","mile",0,3.3300000000000003E-2,6.1800000000000001E-2,0,0,0,0]
[null,null,null,null,null,null,null,null,null,null,null,null,null,null,"Mobile Road Vehicle","Petrol Van 2000","mile",0,3.4000000000000002E-2,6.3100000000000003E-2,0,0,0,0]
[null,null,null,null,null,null,null,null,null,null,null,null,null,null,"Mobile Road Vehicle","Petrol Van 2001","mile",0,2.2100000000000002E-2,3.7900000000000003E-2,0,0,0,0]
[null,null,null,null,null,null,null,null,null,null,null,null,null,null,"Mobile Road Vehicle","Petrol Van 2002","mile",0,2.4199999999999999E-2,4.24E-2,0,0,0,0]
[null,null,null,null,null,null,null,null,null,null,null,null,null,null,"Mobile Road Vehicle","Petrol Van 2003","mile",0,2.2100000000000002E-2,3.73E-2,0,0,0,0]
[null,null,null,null,null,null,null,null,null,null,null,null,null,null,"Mobile Road Vehicle","Petrol Van 2004","mile",0,1.15E-2,8.8000000000000005E-3,0,0,0,0]
[null,null,null,null,null,null,null,null,null,null,null,null,null,null,"Mobile Road Vehicle","Petrol Van 2005","mile",0,1.0500000000000001E-2,6.4000000000000003E-3,0,0,0,0]
[null,null,null,null,null,null,null,null,null,null,null,null,null,null,"Mobile Road Vehicle","Petrol Van 2006","mile",0,1.0800000000000001E-2,8.0000000000000002E-3,0,0,0,0]
[null,null,null,null,null,null,null,null,null,null,null,null,null,null,"Mobile Road Vehicle","Petrol Van 2007","mile",0,1.03E-2,6.1000000000000004E-3,0,0,0,0]
[null,null,null,null,null,null,null,null,null,null,null,null,null,null,"Mobile Road Vehicle","Petrol Van 2008","mile",0,9.4999999999999998E-3,3.5999999999999999E-3,0,0,0,0]
[null,null,null,null,null,null,null,null,null,null,null,null,null,null,"Mobile Road Vehicle","Petrol Van 2009","mile",0,9.4999999999999998E-3,3.5999999999999999E-3,0,0,0,0]
[null,null,null,null,null,null,null,null,null,null,null,null,null,null,"Mobile Road Vehicle","Petrol Van 2010","mile",0,9.4999999999999998E-3,3.5000000000000001E-3,0,0,0,0]
[null,null,null,null,null,null,null,null,null,null,null,null,null,null,"Mobile Road Vehicle","Petrol Van 2011","mile",0,9.5999999999999992E-3,3.3999999999999998E-3,0,0,0,0]
[null,null,null,null,null,null,null,null,null,null,null,null,null,null,"Mobile Road Vehicle","Petrol Van 2012","mile",0,9.5999999999999992E-3,3.3E-3,0,0,0,0]
[null,null,null,null,null,null,null,null,null,null,null,null,null,null,"Mobile Road Vehicle","Petrol Van 2013","mile",0,9.4999999999999998E-3,3.5000000000000001E-3,0,0,0,0]
[null,null,null,null,null,null,null,null,null,null,null,null,null,null,"Mobile Road Vehicle","Petrol Van 2014","mile",0,9.4999999999999998E-3,3.3E-3,0,0,0,0]
[null,null,null,null,null,null,null,null,null,null,null,null,null,null,"Mobile Road Vehicle","Petrol Van 2015","mile",0,9.4000000000000004E-3,3.0999999999999999E-3,0,0,0,0]
[null,null,null,null,null,null,null,null,null,null,null,null,null,null,"Mobile Road Vehicle","Petrol Van 2016","mile",0,9.1000000000000004E-3,2.8999999999999998E-3,0,0,0,0]
[null,null,null,null,null,null,null,null,null,null,null,null,null,null,"Mobile Road Vehicle","Petrol Van 2017","mile",0,8.3999999999999995E-3,1.8E-3,0,0,0,0]
[null,null,null,null,null,null,null,null,null,null,null,null,null,null,"Mobile Road Vehicle","Petrol Van 2018","mile",0,8.0999999999999996E-3,1.5E-3,0,0,0,0]
[null,null,null,null,null,null,null,null,null,null,null,null,null,null,"Electricity","PRMS (Puerto Rico Miscellaneous)","kWh",1537.3,8.4000000000000005E-2,1.2999999999999999E-2,0,0,0,0]
[null,null,null,null,null,null,null,null,null,null,null,null,null,null,"Fugitive","R-401A","lb",0,0,0,16,0,0,0]
[null,null,null,null,null,null,null,null,null,null,null,null,null,null,"Fugitive","R-401B","lb",0,0,0,14,0,0,0]
[null,null,null,null,null,null,null,null,null,null,null,null,null,null,"Fugitive","R-401C","lb",0,0,0,19,0,0,0]
[null,null,null,null,null,null,null,null,null,null,null,null,null,null,"Fugitive","R-402A","lb",0,0,0,2100,0,0,0]
[null,null,null,null,null,null,null,null,null,null,null,null,null,null,"Fugitive","R-402B","lb",0,0,0,1330,0,0,0]
[null,null,null,null,null,null,null,null,null,null,null,null,null,null,"Fugitive","R-403B","lb",0,0,0,3444,0,0,0]
[null,null,null,null,null,null,null,null,null,null,null,null,null,null,"Fugitive","R-404A","lb",0,0,0,3922,0,0,0]
[null,null,null,null,null,null,null,null,null,null,null,null,null,null,"Fugitive","R-406A","lb",0,0,0,0,0,0,0]
[null,null,null,null,null,null,null,null,null,null,null,null,null,null,"Fugitive","R-407A","lb",0,0,0,2107,0,0,0]
[null,null,null,null,null,null,null,null,null,null,null,null,null,null,"Fugitive","R-407B","lb",0,0,0,2804,0,0,0]
[null,null,null,null,null,null,null,null,null,null,null,null,null,null,"Fugitive","R-407C","lb",0,0,0,1774,0,0,0]
[null,null,null,null,null,null,null,null,null,null,null,null,null,null,"Fugitive","R-407D","lb",0,0,0,1627,0,0,0]
[null,null,null,null,null,null,null,null,null,null,null,null,null,null,"Fugitive","R-407E","lb",0,0,0,1552,0,0,0]
[null,null,null,null,null,null,null,null,null,null,null,null,null,null,"Fugitive","R-408A","lb",0,0,0,2301,0,0,0]
[null,null,null,null,null,null,null,null,null,null,null,null,null,null,"Fugitive","R-409A","lb",0,0,0,0,0,0,0]
[null,null,null,null,null,null,null,null,null,null,null,null,null,null,"Fugitive","R-410A","lb",0,0,0,2088,0,0,0]
[null,null,null,null,null,null,null,null,null,null,null,null,null,null,"Fugitive","R-410B","lb",0,0,0,2229,0,0,0]
[null,null,null,null,null,null,null,null,null,null,null,null,null,null,"Fugitive","R-411A","lb",0,0,0,14,0,0,0]
[null,null,null,null,null,null,null,null,null,null,null,null,null,null,"Fugitive","R-411B","lb",0,0,0,4,0,0,0]
[null,null,null,null,null,null,null,null,null,null,null,null,null,null,"Fugitive","R-413A","lb",0,0,0,2053,0,0,0]
[null,null,null,null,null,null,null,null,null,null,null,null,null,null,"Fugitive","R-414A","lb",0,0,0,0,0,0,0]
[null,null,null,null,null,null,null,null,null,null,null,null,null,null,"Fugitive","R-414B","lb",0,0,0,0,0,0,0]
[null,null,null,null,null,null,null,null,null,null,null,null,null,null,"Fugitive","R-417A","lb",0,0,0,2346,0,0,0]
[null,null,null,null,null,null,null,null,null,null,null,null,null,null,"Fugitive","R-422A","lb",0,0,0,3143,0,0,0]
[null,null,null,null,null,null,null,null,null,null,null,null,null,null,"Fugitive","R-422D","lb",0,0,0,2729,0,0,0]
[null,null,null,null,null,null,null,null,null,null,null,null,null,null,"Fugitive","R-423A","lb",0,0,0,2280,0,0,0]
[null,null,null,null,null,null,null,null,null,null,null,null,null,null,"Fugitive","R-424A","lb",0,0,0,2440,0,0,0]
[null,null,null,null,null,null,null,null,null,null,null,null,null,null,"Fugitive","R-426A","lb",0,0,0,1508,0,0,0]
[null,null,null,null,null,null,null,null,null,null,null,null,null,null,"Fugitive","R-428A","lb",0,0,0,3607,0,0,0]
[null,null,null,null,null,null,null,null,null,null,null,null,null,null,"Fugitive","R-434A","lb",0,0,0,3245,0,0,0]
[null,null,null,null,null,null,null,null,null,null,null,null,null,null,"Fugitive","R-500","lb",0,0,0,32,0,0,0]
[null,null,null,null,null,null,null,null,null,null,null,null,null,null,"Fugitive","R-502","lb",0,0,0,0,0,0,0]
[null,null,null,null,null,null,null,null,null,null,null,null,null,null,"Fugitive","R-504","lb",0,0,0,325,0,0,0]
[null,null,null,null,null,null,null,null,null,null,null,null,null,null,"Fugitive","R-507","lb",0,0,0,3985,0,0,0]
[null,null,null,null,null,null,null,null,null,null,null,null,null,null,"Fugitive","R-508A","lb",0,0,0,13214,0,0,0]
[null,null,null,null,null,null,null,null,null,null,null,null,null,null,"Fugitive","R-508B","lb",0,0,0,13396,0,0,0]
[null,null,null,null,null,null,null,null,null,null,null,null,null,null,"Product Transportation","Rail","mile",2.1999999999999999E-2,1.6999999999999999E-3,5.0000000000000001E-4,0,0,0,0]
[null,null,null,null,null,null,null,null,null,null,null,null,null,null,"Employee Commuting","Rail - Average","mile",0.113,9.1999999999999998E-3,2.5999999999999999E-3,0,0,0,0]
[null,null,null,null,null,null,null,null,null,null,null,null,null,null,"Mobile Vehicle Fuel","Residual Fuel Oil","gallon",11.27,0,0,0,0,0,0]
[null,null,null,null,null,null,null,null,null,null,null,null,null,null,"Mobile Non-Road Vehicle","Residual Fuel Oil Boat","gallon",0,0.55000000000000004,0.55000000000000004,0,0,0,0]
[null,null,null,null,null,null,null,null,null,null,null,null,null,null,"Stationary","Residual Fuel Oil No. 6","gallon",11.27,0.45,0.09,0,0,0,0]
[null,null,null,null,null,null,null,null,null,null,null,null,null,null,"Electricity","RFCE (RFC East)","kWh",695,5.2999999999999999E-2,7.0000000000000001E-3,0,0,0,0]
[null,null,null,null,null,null,null,null,null,null,null,null,null,null,"Electricity","RFCM (RFC Michigan)","kWh",1189.3,0.114,1.6E-2,0,0,0,0]
[null,null,null,null,null,null,null,null,null,null,null,null,null,null,"Electricity","RFCW (RFC West)","kWh",1067.7,9.9000000000000005E-2,1.4E-2,0,0,0,0]
[null,null,null,null,null,null,null,null,null,null,null,null,null,null,"Electricity","RMPA (WECC Rockies)","kWh",1242.5999999999999,0.11700000000000001,1.7000000000000001E-2,0,0,0,0]
[null,null,null,null,null,null,null,null,null,null,null,null,null,null,"Employee Business Travel","Short Haul (< 300 miles)","passenger-mile",0.20599999999999999,7.1000000000000004E-3,6.4999999999999997E-3,0,0,0,0]
[null,null,null,null,null,null,null,null,null,null,null,null,null,null,"Electricity","SPNO (SPP North)","kWh",1070,0.112,1.6E-2,0,0,0,0]
[null,null,null,null,null,null,null,null,null,null,null,null,null,null,"Electricity","SPSO (SPP South)","kWh",1002,7.0000000000000007E-2,0.01,0,0,0,0]
[null,null,null,null,null,null,null,null,null,null,null,null,null,null,"Electricity","SRMV (SERC Mississippi Valley)","kWh",806.8,4.2999999999999997E-2,6.0000000000000001E-3,0,0,0,0]
[null,null,null,null,null,null,null,null,null,null,null,null,null,null,"Electricity","SRMW (SERC Midwest)","kWh",1584.4,0.16900000000000001,2.5000000000000001E-2,0,0,0,0]
[null,null,null,null,null,null,null,null,null,null,null,null,null,null,"Electricity","SRSO (SERC South)","kWh",969.2,7.0999999999999994E-2,0.01,0,0,0,0]
[null,null,null,null,null,null,null,null,null,null,null,null,null,null,"Electricity","SRTV (SERC Tennessee Valley)","kWh",949.7,8.6999999999999994E-2,1.2999999999999999E-2,0,0,0,0]
[null,null,null,null,null,null,null,null,null,null,null,null,null,null,"Electricity","SRVC (SERC Virginia/Carolina)","kWh",675.4,5.8000000000000003E-2,8.0000000000000002E-3,0,0,0,0]
[null,null,null,null,null,null,null,null,null,null,null,null,null,null,"Stationary","Sub-bituminous Coal","short ton",1676,190,28,0,0,0,0]
[null,null,null,null,null,null,null,null,null,null,null,null,null,null,"Employee Commuting","Tram","mile",0.106,9.4999999999999998E-3,1.2999999999999999E-3,0,0,0,0]
[null,null,null,null,null,null,null,null,null,null,null,null,null,null,"Employee Business Travel","Transit Rail (i.e. Subway, Tram)","passenger-mile",0.106,9.4999999999999998E-3,1.2999999999999999E-3,0,0,0,0]
[null,null,null,null,null,null,null,null,null,null,null,null,null,null,"Product Transportation","Truck","mile",0.21099999999999999,2E-3,4.8999999999999998E-3,0,0,0,0]
[null,null,null,null,null,null,null,null,null,null,null,null,null,null,"Employee Commuting","Van","mile",0.46400000000000002,1.2E-2,0.01,0,0,0,0]
[null,null,null,null,null,null,null,null,null,null,null,null,null,null,"Product Transportation","Van","mile",0.46400000000000002,1.2E-2,0.01,0,0,0,0]
[null,null,null,null,null,null,null,null,null,null,null,null,null,null,"Stationary","Wood and Wood Residuals","short ton",1640,126,63,0,0,0,0]

{"sheet":"Analysis List - UK","index":31,"n_rows":131,"n_cols":76,"rows_kept":131,"cut":false,"hidden":true,"merged":[]}
[null,"Relationship",null,"Entity",null,"Location",null,"Scopes",null,"Scope_1","Scope_2","Scope_3",null,"Source","Pseudonym",null,"StationaryUK","Mobile Vehicle Fuel","Mobile Road Vehicle","Mobile Non-Road Vehicle","FugitiveUK",null,"ElectricityUK",null,"Emission ","Pseudonym",null,"StatUK",null,"ElecUK",null,"MobileRoadVehicle",null,"MobileNonRoadVehicle",null,"FugitiveUK",null,"Scope 2 emissions",null,"Measure",null,"Unit - production",null,"Unit - currency",null,"Authority",null,"BusinessTravelUK",null,"EmployeeTravUK",null,null,null,null,null,null,null,"Reporting",null,"Relevance",null,"Purchases","CapitalSpend","SupplierFuel","SupplierTransport","SupplierWaste","EmployeeTravel","EmployeeCommute","SupplierLease","CustomerTransport","CustomerProcessing","CustomerUse","Endoflife","CustomerLease","Franchises","Investments"]
[null,"Direct",null,"Camira Fabrics Limited",null,"Mirfield",null,"Scope_1",null,"Stationary","Electricity","Purchased Goods & Services",null,"Aviation Gasoline","AviationGasolineUK",null,"Butane","Petrol","Petrol Car - Average","Ferry - Average","HFC-23",null,"Electricty",null,"Bus - Average","EmployeeTravlUK",null,"kWh",null,"kWh",null,"mile",null,"passenger_km",null,"kg",null,"Electricity",null,"litres",null,"m",null,"GBP",null,"DBEIS/DEFRA",null,"Petrol Car- Average",null,"mile",null,null,null,null,null,null,null,"Yes",null,"Relevant, calculated",null,"Stationary","Stationary","Stationary","Van - Average Unknown Fuel","Open-loop waste treatment","Domestic Air Travel","Car","Stationary","Van - Average Unknown Fuel","Stationary","Stationary","Stationary","Stationary","Stationary","Stationary"]
[null,"Supplier",null,"Camira Yarns Limited",null,"Meltham",null,"Scope_2",null,"Mobile Road Vehicle",null,"Capital Goods",null,"Biodiesel (100%)","BiodieselUK",null,"CNG","Diesel","Diesel Car - Average","Freight Flight - Domestic","HFC-32",null,null,null,"Butane","StatUK",null,"mmBtu",null,null,null,null,null,"tonne_km",null,null,null,"Steam",null,"tonnes",null,"kg",null,"EUR",null,"EPA",null,"Diesel Car- Average",null,"km",null,null,null,null,null,null,null,"No",null,"Relevant, not yet calculated",null,"Mobile","Mobile","Mobile","HGV - All Average Laden","Closed-loop waste treatment","Short-haul Air Travel","Motorbike","Mobile","HGV - All Average Laden","Mobile","Mobile","Mobile","Mobile","Mobile","Mobile"]
[null,"Employee",null,"Holmfirth Dyers Limited",null,"Nottingham",null,"Scope_3",null,"Mobile Non-Road Vehicle",null,"Supplier Fuel & Energy Related Activities",null,"Capital Goods","CapitalSpendUK",null,"LNG","Residual Fuel Oil","Hybrid Car - Average","Freight Flight - Short Haul","HFC-41",null,null,null,"Carbon tetrachloride","FugUK",null,"Dth",null,null,null,null,null,null,null,null,null,"None",null,"kWh",null,null,null,"USD",null,null,null,"Hybrid Car- Average",null,null,null,null,null,null,null,null,null,"In Progress",null,"Not relevant, calculated",null,"Fugitive","Fugitive","Fugitive","Domestic Air Travel","Combustion waste treatment","Long-haul Air Travel","Taxi","Fugitive","Domestic Air Travel","Fugitive","Fugitive","Fugitive","Fugitive","Fugitive","Fugitive"]
[null,"Customer",null,"UAB Camira Fabrics",null,"Birkby",null,null,null,"Fugitive",null,"Supplier Transportation & Distribution",null,"Compressed Natural Gas (CNG)","CNGUK",null,"LPG","Aviation Gasoline","CNG Car - Average","Freight Flight - Long Haul","HFC-125",null,null,null,"CFC-11/R11 = trichlorofluoromethane","FugUK",null,"therm",null,null,null,null,null,null,null,null,null,null,null,"kg",null,null,null,"AUD",null,null,null,"CNG Car- Average",null,null,null,null,null,null,null,null,null,"Unsure",null,"Not relevant, explanation provided",null,"Process","Process","Process","Short-haul Air Travel","Landfill waste treatment","Ferry","Bus","Process","Short-haul Air Travel","Process","Process","Process","Process","Process","Process"]
[null,null,null,null,null,"Holmfirth",null,null,null,null,null,"Supplier Waste Generated in Operations",null,"Customer Processing of Sold Products","CustomerProcessingUK",null,"Natural Gas","Kerosene-Type Jet Fuel","LPG Car - Average","Freight Rail","HFC-134",null,null,null,"CFC-113","FugUK",null,"ccf",null,null,null,null,null,null,null,null,null,null,null,"miles",null,null,null,"CNY",null,null,null,"LPG Car- Average",null,null,null,null,null,null,null,null,null,null,null,"Not evaluated",null,"Electricity","Electricity","Electricity","Long-haul Air Travel","Composting","Car","Rail","Electricity","Long-haul Air Travel","Electricity","Electricity","Electricity","Electricity","Electricity","Electricity"]
[null,null,null,null,null,"Lithuania",null,null,null,null,null,"Employee Business Travel",null,"Customer Transportation & Distribution","CustomerTransportUK",null,"Natural gas (100% mineral blend)","Liquefied Petroleum Gases (LPG)","Motorbike - Average","Container Ship - Average","HFC-134a",null,null,null,"CFC-114","FugUK",null,"Mcf",null,null,null,null,null,null,null,null,null,null,null,"kilometers",null,null,null,null,null,null,null,"Motorbike- Average",null,null,null,null,null,null,null,null,null,null,null,null,null,"Steam","Steam","Steam","Rail",null,"Motorbike",null,"Steam","Rail","Steam","Steam","Steam","Steam","Steam","Steam"]
[null,null,null,null,null,null,null,null,null,null,null,"Employee Commuting",null,"Customer Use of Sold Products","CustomerUseUK",null,"Other petroleum gas","Ethanol (100%)","Petrol Van - Average","Passenger Flight - Domestic","HFC-143",null,null,null,"CFC-115","FugUK",null,"m3",null,null,null,null,null,null,null,null,null,null,null,"cubic meters",null,null,null,null,null,null,null,"Taxi - Regular",null,null,null,null,null,null,null,null,null,null,null,null,null,"Purchased Goods & Services","Purchased Goods & Services","Transmission & distribution losses (electricity, steam, heating & cooling)","Sea tanker - Crude",null,"Taxi",null,null,"Sea tanker - Crude",null,null,"Open-loop waste treatment"]
[null,null,null,null,null,null,null,null,null,null,null,"Leased Assets from Supplier",null,"Diesel","DieselUK",null,"Propane","Biodiesel (100%)","Diesel Van - Average","Passenger Flight - Short Haul","HFC-143a",null,null,null,"CFC-12/R12 = dichlorodifluoromethane","FugUK",null,"scf",null,null,null,null,null,null,null,null,null,null,null,null,null,null,null,null,null,null,null,"Taxi - Black Cab",null,null,null,null,null,null,null,null,null,null,null,null,null,"Capital Goods","Capital Goods"," ","Sea tanker - Products",null,"Bus",null,null,"Sea tanker - Products",null,null,"Closed-loop waste treatment"]
[null,null,null,null,null,null,null,null,null,null,null,"Customer Transportation & Distribution",null,"Electricity","ElectricityUK",null,null,"Liquefied Natural Gas (LNG)","Hybrid Van - Average","Passenger Flight - Long Haul","HFC-152a",null,null,null,"CFC-13","FugUK",null,null,null,null,null,null,null,null,null,null,null,null,null,null,null,null,null,null,null,null,null,"Bus - Average",null,null,null,null,null,null,null,null,null,null,null,null,null,"Supplier Fuel & Energy Related Activities","Supplier Fuel & Energy Related Activities"," ","Sea tanker - Chemicals",null,"Rail",null,null,"Sea tanker - Chemicals",null,null,"Combustion waste treatment"]
[null,null,null,null,null,null,null,null,null,null,null,"Customer Processing of Sold Products",null,"Employee Business Travel","EmployeeTravelUK",null,null,"Compressed Natural Gas (CNG)","CNG Van - Average",null,"HFC-227ea",null,null,null,"CNG","StatUK",null,null,null,null,null,null,null,null,null,null,null,null,null,null,null,null,null,null,null,null,null,"Passenger Rail - National Rail",null,null,null,null,null,null,null,null,null,null,null,null,null,"Supplier Transportation & Distribution","Supplier Transportation & Distribution"," ","Sea tanker - LNG",null,null,null,null,"Sea tanker - LNG",null,null,"Landfill waste treatment"]
[null,null,null,null,null,null,null,null,null,null,null,"Customer Use of Sold Products",null,"Employee Commuting","EmployeeCommuteUK",null,null,null,"LPG Van - Average",null,"HFC-236fa",null,null,null,"CNG Car - Average","MobRVUK",null,null,null,null,null,null,null,null,null,null,null,null,null,null,null,null,null,null,null,null,null,"Passenger Rail - International Rail",null,null,null,null,null,null,null,null,null,null,null,null,null,"Supplier Waste Generated in Operations","Supplier Waste Generated in Operations"," ","Sea tanker - LPG",null,null,null,null,"Sea tanker - LPG",null,null,"Composting"]
[null,null,null,null,null,null,null,null,null,null,null,"End-of-Life Treatment of Sold Products",null,"End-of-Life Treatment of Sold Products","EndoflifeUK",null,null,null,"Diesel HGV - Rigid - Average Load",null,"HFC-245fa",null,null,null,"CNG Car- Average","EmployeeTravlUK",null,null,null,null,null,null,null,null,null,null,null,null,null,null,null,null,null,null,null,null,null,"Passenger Rail - Light rail & tram",null,null,null,null,null,null,null,null,null,null,null,null,null,"Employee Business Travel","Employee Business Travel"," ","Cargo ship - Bulk carrier",null,null,null,null,"Cargo ship - Bulk carrier"]
[null,null,null,null,null,null,null,null,null,null,null,"Leased Assets to Customer",null,"Ethanol (100%)","EthanolUK",null,null,null,"Diesel HGV - Artic - Average Load",null,"HFC-43-I0mee",null,null,null,"CNG Van - Average","MobRVUK",null,null,null,null,null,null,null,null,null,null,null,null,null,null,null,null,null,null,null,null,null,"Passenger Rail - London Underground",null,null,null,null,null,null,null,null,null,null,null,null,null,"Employee Commuting","Employee Commuting"," ","Cargo ship - General",null,null,null,null,"Cargo ship - General"]
[null,null,null,null,null,null,null,null,null,null,null,"Franchises",null,"Franchises","FranchisesUK",null,null,null,null,null,"Perfluoromethane (PFC-14)",null,null,null,"Container Ship - Average","MobNRVUK",null,null,null,null,null,null,null,null,null,null,null,null,null,null,null,null,null,null,null,null,null,null,null,null,null,null,null,null,null,null,null,null,null,null,null,"Leased Assets from Supplier","Leased Assets from Supplier"," ","Cargo ship - Container",null,null,null,null,"Cargo ship - Container"]
[null,null,null,null,null,null,null,null,null,null,null,"Investments",null,"Fugitive","FugitiveUK",null,null,null,null,null,"Perfluoroethane (PFC-116)",null,null,null,"Diesel Car - Average","MobRVUK",null,null,null,null,null,null,null,null,null,null,null,null,null,null,null,null,null,null,null,null,null,null,null,null,null,null,null,null,null,null,null,null,null,null,null,null,null,null,"Cargo ship - Vehicles",null,null,null,null,"Cargo ship - Vehicles"]
[null,null,null,null,null,null,null,null,null,null,null,null,null,"Investments","InvestmentsUK",null,null,null,null,null,"Perfluoropropane (PFC-218)",null,null,null,"Diesel Car- Average","EmployeeTravlUK",null,null,null,null,null,null,null,null,null,null,null,null,null,null,null,null,null,null,null,null,null,null,null,null,null,null,null,null,null,null,null,null,null,null,null,null,null,null,"Cargo ship - RoRo",null,null,null,null,"Cargo ship - RoRo"]
[null,null,null,null,null,null,null,null,null,null,null,null,null,"Kerosene-Type Jet Fuel","KeroseneTypeJetFuelUK",null,null,null,null,null,"Perfluorocyclobutane (PFC-318)",null,null,null,"Diesel HGV - Artic - Average Load","MobRVUK",null,null,null,null,null,null,null,null,null,null,null,null,null,null,null,null,null,null,null,null,null,null,null,null,null,null,null,null,null,null,null,null,null,null,null,null,null,null,"Cargo ship - RoPax",null,null,null,null,"Cargo ship - RoPax"]
[null,null,null,null,null,null,null,null,null,null,null,null,null,"Leased Assets from Supplier","SupplierLeaseUK",null,null,null,null,null,"Perfluorobutane (PFC-3-1-10)",null,null,null,"Diesel HGV - Rigid - Average Load","MobRVUK",null,null,null,null,null,null,null,null,null,null,null,null,null,null,null,null,null,null,null,null,null,null,null,null,null,null,null,null,null,null,null,null,null,null,null,null,null,null,"Cargo ship - Refrigerated",null,null,null,null,"Cargo ship - Refrigerated"]
[null,null,null,null,null,null,null,null,null,null,null,null,null,"Leased Assets to Customer","CustomerLeaseUK",null,null,null,null,null,"Perfluoropentane (PFC-4-1-12)",null,null,null,"Diesel Van - Average","MobRVUK"]
[null,null,null,null,null,null,null,null,null,null,null,null,null,"Liquefied Natural Gas (LNG)","LNGUK",null,null,null,null,null,"Perfluorohexane (PFC-5-1-14)",null,null,null,"Dimethylether","FugUK"]
[null,null,null,null,null,null,null,null,null,null,null,null,null,"Liquefied Petroleum Gases (LPG)","LPGUK",null,null,null,null,null,"Sulphur hexafluoride (SF6)",null,null,null,"Electricity","ElecUK"]
[null,null,null,null,null,null,null,null,null,null,null,null,null,"Mobile","MobileUK",null,null,null,null,null,"HFC-152",null,null,null,"Ferry - Average","MobNRVUK"]
[null,null,null,null,null,null,null,null,null,null,null,null,null,"Mobile Non-Road Vehicle","MobileNRVUK",null,null,null,null,null,"HFC-161",null,null,null,"Freight Flight - Domestic","MobNRVUK"]
[null,null,null,null,null,null,null,null,null,null,null,null,null,"Mobile Road Vehicle","MobileRVUK",null,null,null,null,null,"HFC-236cb",null,null,null,"Freight Flight - Long Haul","MobNRVUK"]
[null,null,null,null,null,null,null,null,null,null,null,null,null,"Mobile Vehicle Fuel","MobileVFUK",null,null,null,null,null,"HFC-236ea",null,null,null,"Freight Flight - Short Haul","MobNRVUK"]
[null,null,null,null,null,null,null,null,null,null,null,null,null,"Petrol","PetrolUK",null,null,null,null,null,"HFC-245ca",null,null,null,"Freight Rail","MobNRVUK"]
[null,null,null,null,null,null,null,null,null,null,null,null,null,"Process","ProcessUK",null,null,null,null,null,"HFC-365mfc",null,null,null,"Halon-1211","FugUK"]
[null,null,null,null,null,null,null,null,null,null,null,null,null,"Purchased Goods & Services","PurchasesUK",null,null,null,null,null,"R404A",null,null,null,"Halon-1301","FugUK"]
[null,null,null,null,null,null,null,null,null,null,null,null,null,"Residual Fuel Oil","ResidualFuelOilUK",null,null,null,null,null,"R407A",null,null,null,"Halon-2402","FugUK"]
[null,null,null,null,null,null,null,null,null,null,null,null,null,"Stationary","StationaryUK",null,null,null,null,null,"R407C",null,null,null,"HCFC-123","FugUK"]
[null,null,null,null,null,null,null,null,null,null,null,null,null,"Steam","SteamUK",null,null,null,null,null,"R407F",null,null,null,"HCFC-124","FugUK"]
[null,null,null,null,null,null,null,null,null,null,null,null,null,"Supplier Fuel & Energy Related Activities","SupplierFuelUK",null,null,null,null,null,"R408A",null,null,null,"HCFC-141b","FugUK"]
[null,null,null,null,null,null,null,null,null,null,null,null,null,"Supplier Transportation & Distribution","SupplierTransportUK",null,null,null,null,null,"R410A",null,null,null,"HCFC-142b","FugUK"]
[null,null,null,null,null,null,null,null,null,null,null,null,null,"Supplier Waste Generated in Operations","SupplierWasteUK",null,null,null,null,null,"R507A",null,null,null,"HCFC-21","FugUK"]
[null,null,null,null,null,null,null,null,null,null,null,null,null,null,null,null,null,null,null,null,"R508B",null,null,null,"HCFC-22/R22 = chlorodifluoromethane","FugUK"]
[null,null,null,null,null,null,null,null,null,null,null,null,null,null,null,null,null,null,null,null,"R403A",null,null,null,"HCFC-225ca","FugUK"]
[null,null,null,null,null,null,null,null,null,null,null,null,null,null,null,null,null,null,null,null,"CFC-11/R11 = trichlorofluoromethane",null,null,null,"HCFC-225cb","FugUK"]
[null,null,null,null,null,null,null,null,null,null,null,null,null,null,null,null,null,null,null,null,"CFC-12/R12 = dichlorodifluoromethane",null,null,null,"HCFE-235da2","FugUK"]
[null,null,null,null,null,null,null,null,null,null,null,null,null,null,null,null,null,null,null,null,"CFC-13",null,null,null,"HFC-125","FugUK"]
[null,null,null,null,null,null,null,null,null,null,null,null,null,null,null,null,null,null,null,null,"CFC-113",null,null,null,"HFC-134","FugUK"]
[null,null,null,null,null,null,null,null,null,null,null,null,null,null,null,null,null,null,null,null,"CFC-114",null,null,null,"HFC-134a","FugUK"]
[null,null,null,null,null,null,null,null,null,null,null,null,null,null,null,null,null,null,null,null,"CFC-115",null,null,null,"HFC-143","FugUK"]
[null,null,null,null,null,null,null,null,null,null,null,null,null,null,null,null,null,null,null,null,"Halon-1211",null,null,null,"HFC-143a","FugUK"]
[null,null,null,null,null,null,null,null,null,null,null,null,null,null,null,null,null,null,null,null,"Halon-1301",null,null,null,"HFC-152","FugUK"]
[null,null,null,null,null,null,null,null,null,null,null,null,null,null,null,null,null,null,null,null,"Halon-2402",null,null,null,"HFC-152a","FugUK"]
[null,null,null,null,null,null,null,null,null,null,null,null,null,null,null,null,null,null,null,null,"Carbon tetrachloride",null,null,null,"HFC-161","FugUK"]
[null,null,null,null,null,null,null,null,null,null,null,null,null,null,null,null,null,null,null,null,"Methyl bromide",null,null,null,"HFC-227ea","FugUK"]
[null,null,null,null,null,null,null,null,null,null,null,null,null,null,null,null,null,null,null,null,"Methyl chloroform",null,null,null,"HFC-23","FugUK"]
[null,null,null,null,null,null,null,null,null,null,null,null,null,null,null,null,null,null,null,null,"HCFC-22/R22 = chlorodifluoromethane",null,null,null,"HFC-236cb","FugUK"]
[null,null,null,null,null,null,null,null,null,null,null,null,null,null,null,null,null,null,null,null,"HCFC-123",null,null,null,"HFC-236ea","FugUK"]
[null,null,null,null,null,null,null,null,null,null,null,null,null,null,null,null,null,null,null,null,"HCFC-124",null,null,null,"HFC-236fa","FugUK"]
[null,null,null,null,null,null,null,null,null,null,null,null,null,null,null,null,null,null,null,null,"HCFC-141b",null,null,null,"HFC-245ca","FugUK"]
[null,null,null,null,null,null,null,null,null,null,null,null,null,null,null,null,null,null,null,null,"HCFC-142b",null,null,null,"HFC-245fa","FugUK"]
[null,null,null,null,null,null,null,null,null,null,null,null,null,null,null,null,null,null,null,null,"HCFC-225ca",null,null,null,"HFC-32","FugUK"]
[null,null,null,null,null,null,null,null,null,null,null,null,null,null,null,null,null,null,null,null,"HCFC-225cb",null,null,null,"HFC-365mfc","FugUK"]
[null,null,null,null,null,null,null,null,null,null,null,null,null,null,null,null,null,null,null,null,"HCFC-21",null,null,null,"HFC-41","FugUK"]
[null,null,null,null,null,null,null,null,null,null,null,null,null,null,null,null,null,null,null,null,"Nitrogen trifluoride",null,null,null,"HFC-43-I0mee","FugUK"]
[null,null,null,null,null,null,null,null,null,null,null,null,null,null,null,null,null,null,null,null,"PFC-9-1-18",null,null,null,"HFE-125","FugUK"]
[null,null,null,null,null,null,null,null,null,null,null,null,null,null,null,null,null,null,null,null,"Trifluoromethyl sulphur pentafluoride",null,null,null,"HFE-134","FugUK"]
[null,null,null,null,null,null,null,null,null,null,null,null,null,null,null,null,null,null,null,null,"Perfluorocyclopropane",null,null,null,"HFE-143a","FugUK"]
[null,null,null,null,null,null,null,null,null,null,null,null,null,null,null,null,null,null,null,null,"HFE-125",null,null,null,"HFE-236ca12 (HG-10)","FugUK"]
[null,null,null,null,null,null,null,null,null,null,null,null,null,null,null,null,null,null,null,null,"HFE-134",null,null,null,"HFE-245cb2","FugUK"]
[null,null,null,null,null,null,null,null,null,null,null,null,null,null,null,null,null,null,null,null,"HFE-143a",null,null,null,"HFE-245fa2","FugUK"]
[null,null,null,null,null,null,null,null,null,null,null,null,null,null,null,null,null,null,null,null,"HCFE-235da2",null,null,null,"HFE-254cb2","FugUK"]
[null,null,null,null,null,null,null,null,null,null,null,null,null,null,null,null,null,null,null,null,"HFE-245cb2",null,null,null,"HFE-338pcc13 (HG-01)","FugUK"]
[null,null,null,null,null,null,null,null,null,null,null,null,null,null,null,null,null,null,null,null,"HFE-245fa2",null,null,null,"HFE-347mcc3","FugUK"]
[null,null,null,null,null,null,null,null,null,null,null,null,null,null,null,null,null,null,null,null,"HFE-254cb2",null,null,null,"HFE-347pcf2","FugUK"]
[null,null,null,null,null,null,null,null,null,null,null,null,null,null,null,null,null,null,null,null,"HFE-347mcc3",null,null,null,"HFE-356pcc3","FugUK"]
[null,null,null,null,null,null,null,null,null,null,null,null,null,null,null,null,null,null,null,null,"HFE-347pcf2",null,null,null,"HFE-43-10pccc124 (H-Galden1040x)","FugUK"]
[null,null,null,null,null,null,null,null,null,null,null,null,null,null,null,null,null,null,null,null,"HFE-356pcc3",null,null,null,"HFE-449sl (HFE-7100)","FugUK"]
[null,null,null,null,null,null,null,null,null,null,null,null,null,null,null,null,null,null,null,null,"HFE-449sl (HFE-7100)",null,null,null,"HFE-569sf2 (HFE-7200)","FugUK"]
[null,null,null,null,null,null,null,null,null,null,null,null,null,null,null,null,null,null,null,null,"HFE-569sf2 (HFE-7200)",null,null,null,"Hybrid Car - Average","MobRVUK"]
[null,null,null,null,null,null,null,null,null,null,null,null,null,null,null,null,null,null,null,null,"HFE-43-10pccc124 (H-Galden1040x)",null,null,null,"Hybrid Car- Average","EmployeeTravlUK"]
[null,null,null,null,null,null,null,null,null,null,null,null,null,null,null,null,null,null,null,null,"HFE-236ca12 (HG-10)",null,null,null,"Hybrid Van - Average","MobRVUK"]
[null,null,null,null,null,null,null,null,null,null,null,null,null,null,null,null,null,null,null,null,"HFE-338pcc13 (HG-01)",null,null,null,"LNG","StatUK"]
[null,null,null,null,null,null,null,null,null,null,null,null,null,null,null,null,null,null,null,null,"PFPMIE",null,null,null,"LPG","StatUK"]
[null,null,null,null,null,null,null,null,null,null,null,null,null,null,null,null,null,null,null,null,"Dimethylether",null,null,null,"LPG Car - Average","MobRVUK"]
[null,null,null,null,null,null,null,null,null,null,null,null,null,null,null,null,null,null,null,null,"Methylene chloride",null,null,null,"LPG Car- Average","EmployeeTravlUK"]
[null,null,null,null,null,null,null,null,null,null,null,null,null,null,null,null,null,null,null,null,"Methyl chloride",null,null,null,"LPG Van - Average","MobRVUK"]
[null,null,null,null,null,null,null,null,null,null,null,null,null,null,null,null,null,null,null,null,"R290 = propane",null,null,null,"Methyl bromide","FugUK"]
[null,null,null,null,null,null,null,null,null,null,null,null,null,null,null,null,null,null,null,null,"R600A = isobutane",null,null,null,"Methyl chloride","FugUK"]
[null,null,null,null,null,null,null,null,null,null,null,null,null,null,null,null,null,null,null,null,"R1234yf*",null,null,null,"Methyl chloroform","FugUK"]
[null,null,null,null,null,null,null,null,null,null,null,null,null,null,null,null,null,null,null,null,"R1234ze*",null,null,null,"Methylene chloride","FugUK"]
[null,null,null,null,null,null,null,null,null,null,null,null,null,null,null,null,null,null,null,null,"R406A",null,null,null,"Motorbike - Average","MobRVUK"]
[null,null,null,null,null,null,null,null,null,null,null,null,null,null,null,null,null,null,null,null,"R409A",null,null,null,"Motorbike- Average","EmployeeTravlUK"]
[null,null,null,null,null,null,null,null,null,null,null,null,null,null,null,null,null,null,null,null,"R502",null,null,null,"Natural Gas","StatUK"]
[null,null,null,null,null,null,null,null,null,null,null,null,null,null,null,null,null,null,null,null,null,null,null,null,"Natural gas (100% mineral blend)","StatUK"]
[null,null,null,null,null,null,null,null,null,null,null,null,null,null,null,null,null,null,null,null,null,null,null,null,"Nitrogen trifluoride","FugUK"]
[null,null,null,null,null,null,null,null,null,null,null,null,null,null,null,null,null,null,null,null,null,null,null,null,"Other petroleum gas","StatUK"]
[null,null,null,null,null,null,null,null,null,null,null,null,null,null,null,null,null,null,null,null,null,null,null,null,"Passenger Flight - Domestic","MobNRVUK"]
[null,null,null,null,null,null,null,null,null,null,null,null,null,null,null,null,null,null,null,null,null,null,null,null,"Passenger Flight - Long Haul","MobNRVUK"]
[null,null,null,null,null,null,null,null,null,null,null,null,null,null,null,null,null,null,null,null,null,null,null,null,"Passenger Flight - Short Haul","MobNRVUK"]
[null,null,null,null,null,null,null,null,null,null,null,null,null,null,null,null,null,null,null,null,null,null,null,null,"Passenger Rail - International Rail","EmployeeTravlUK"]
[null,null,null,null,null,null,null,null,null,null,null,null,null,null,null,null,null,null,null,null,null,null,null,null,"Passenger Rail - Light rail & tram","EmployeeTravlUK"]
[null,null,null,null,null,null,null,null,null,null,null,null,null,null,null,null,null,null,null,null,null,null,null,null,"Passenger Rail - London Underground","EmployeeTravlUK"]
[null,null,null,null,null,null,null,null,null,null,null,null,null,null,null,null,null,null,null,null,null,null,null,null,"Passenger Rail - National Rail","EmployeeTravlUK"]
[null,null,null,null,null,null,null,null,null,null,null,null,null,null,null,null,null,null,null,null,null,null,null,null,"Perfluorobutane (PFC-3-1-10)","FugUK"]
[null,null,null,null,null,null,null,null,null,null,null,null,null,null,null,null,null,null,null,null,null,null,null,null,"Perfluorocyclobutane (PFC-318)","FugUK"]
[null,null,null,null,null,null,null,null,null,null,null,null,null,null,null,null,null,null,null,null,null,null,null,null,"Perfluorocyclopropane","FugUK"]
[null,null,null,null,null,null,null,null,null,null,null,null,null,null,null,null,null,null,null,null,null,null,null,null,"Perfluoroethane (PFC-116)","FugUK"]
[null,null,null,null,null,null,null,null,null,null,null,null,null,null,null,null,null,null,null,null,null,null,null,null,"Perfluorohexane (PFC-5-1-14)","FugUK"]
[null,null,null,null,null,null,null,null,null,null,null,null,null,null,null,null,null,null,null,null,null,null,null,null,"Perfluoromethane (PFC-14)","FugUK"]
[null,null,null,null,null,null,null,null,null,null,null,null,null,null,null,null,null,null,null,null,null,null,null,null,"Perfluoropentane (PFC-4-1-12)","FugUK"]
[null,null,null,null,null,null,null,null,null,null,null,null,null,null,null,null,null,null,null,null,null,null,null,null,"Perfluoropropane (PFC-218)","FugUK"]
[null,null,null,null,null,null,null,null,null,null,null,null,null,null,null,null,null,null,null,null,null,null,null,null,"Petrol Car - Average","MobRVUK"]
[null,null,null,null,null,null,null,null,null,null,null,null,null,null,null,null,null,null,null,null,null,null,null,null,"Petrol Car- Average","EmployeeTravlUK"]
[null,null,null,null,null,null,null,null,null,null,null,null,null,null,null,null,null,null,null,null,null,null,null,null,"Petrol Van - Average","MobRVUK"]
[null,null,null,null,null,null,null,null,null,null,null,null,null,null,null,null,null,null,null,null,null,null,null,null,"PFC-9-1-18","FugUK"]
[null,null,null,null,null,null,null,null,null,null,null,null,null,null,null,null,null,null,null,null,null,null,null,null,"PFPMIE","FugUK"]
[null,null,null,null,null,null,null,null,null,null,null,null,null,null,null,null,null,null,null,null,null,null,null,null,"Propane","StatUK"]
[null,null,null,null,null,null,null,null,null,null,null,null,null,null,null,null,null,null,null,null,null,null,null,null,"R1234yf*","FugUK"]
[null,null,null,null,null,null,null,null,null,null,null,null,null,null,null,null,null,null,null,null,null,null,null,null,"R1234ze*","FugUK"]
[null,null,null,null,null,null,null,null,null,null,null,null,null,null,null,null,null,null,null,null,null,null,null,null,"R290 = propane","FugUK"]
[null,null,null,null,null,null,null,null,null,null,null,null,null,null,null,null,null,null,null,null,null,null,null,null,"R403A","FugUK"]
[null,null,null,null,null,null,null,null,null,null,null,null,null,null,null,null,null,null,null,null,null,null,null,null,"R404A","FugUK"]
[null,null,null,null,null,null,null,null,null,null,null,null,null,null,null,null,null,null,null,null,null,null,null,null,"R406A","FugUK"]
[null,null,null,null,null,null,null,null,null,null,null,null,null,null,null,null,null,null,null,null,null,null,null,null,"R407A","FugUK"]
[null,null,null,null,null,null,null,null,null,null,null,null,null,null,null,null,null,null,null,null,null,null,null,null,"R407C","FugUK"]
[null,null,null,null,null,null,null,null,null,null,null,null,null,null,null,null,null,null,null,null,null,null,null,null,"R407F","FugUK"]
[null,null,null,null,null,null,null,null,null,null,null,null,null,null,null,null,null,null,null,null,null,null,null,null,"R408A","FugUK"]
[null,null,null,null,null,null,null,null,null,null,null,null,null,null,null,null,null,null,null,null,null,null,null,null,"R409A","FugUK"]
[null,null,null,null,null,null,null,null,null,null,null,null,null,null,null,null,null,null,null,null,null,null,null,null,"R410A","FugUK"]
[null,null,null,null,null,null,null,null,null,null,null,null,null,null,null,null,null,null,null,null,null,null,null,null,"R502","FugUK"]
[null,null,null,null,null,null,null,null,null,null,null,null,null,null,null,null,null,null,null,null,null,null,null,null,"R507A","FugUK"]
[null,null,null,null,null,null,null,null,null,null,null,null,null,null,null,null,null,null,null,null,null,null,null,null,"R508B","FugUK"]
[null,null,null,null,null,null,null,null,null,null,null,null,null,null,null,null,null,null,null,null,null,null,null,null,"R600A = isobutane","FugUK"]
[null,null,null,null,null,null,null,null,null,null,null,null,null,null,null,null,null,null,null,null,null,null,null,null,"Sulphur hexafluoride (SF6)","FugUK"]
[null,null,null,null,null,null,null,null,null,null,null,null,null,null,null,null,null,null,null,null,null,null,null,null,"Taxi - Black Cab","EmployeeTravlUK"]
[null,null,null,null,null,null,null,null,null,null,null,null,null,null,null,null,null,null,null,null,null,null,null,null,"Taxi - Regular","EmployeeTravlUK"]
[null,null,null,null,null,null,null,null,null,null,null,null,null,null,null,null,null,null,null,null,null,null,null,null,"Trifluoromethyl sulphur pentafluoride","FugUK"]

{"sheet":"Conversions - UK","index":32,"n_rows":133,"n_cols":29,"rows_kept":133,"cut":false,"hidden":true,"merged":[[1,26,1,28],[34,7,35,12],[1,1,1,5],[1,7,1,12],[1,14,1,18],[1,19,1,23]]}
[null,null,null,null,null,null,null,"Greenhouse gas reporting: conversion factors 2021 - GOV.UK (www.gov.uk)"]
[null,"Unit Conversions",null,null,null,null,null,"Heat Content Conversions",null,null,null,null,null,null,"Emission Factors",null,null,null,null,null,null,null,null,null,null,null,"Weight"]
[null,"Type","Convert From ","Convert To","Multiply By","Units",null,"Fuel Type","Convert From ","Convert To","Concatenate","Multiply By","Units",null,"Scope","Fuel Type","Unit","SECR","CO2 Factor \n(kg / Unit)","CH4 Factor \n(g / unit)","N2O Factor \n(g / unit)","GWP","Recycled CO2 Factor","Landfill CO2 Factor","Combusted CO2 Factor",null,"Type","Conversion","From / To"]
[null,"Mass","lb","g",453.6,"g /  lb",null,"Natural Gas","ccf","scf",{"$f":"CONCATENATE(Table43299[[#This Row],[Convert From ]],Table43299[[#This Row],[Convert To]])","v":"ccfscf"},100,"scf / ccf",null,"Employee Business Travel","Bus - Average","km",0,0.10144,1.0000000000000001E-5,8.1999999999999998E-4,0,0,0,0,null,"ElecUK",0.4536,"lb / kg"]
[null,"Mass","lb","kg",0.4536,"kg / lb",null,"Natural Gas","Dth","scf",{"$f":"CONCATENATE(Table43299[[#This Row],[Convert From ]],Table43299[[#This Row],[Convert To]])","v":"Dthscf"},974.7,"scf / Dth",null,"Stationary","Butane","kWh",0,0.22209999999999999,1.7000000000000001E-4,1.2999999999999999E-4,0,0,0,0,null,"FugUK",0.4536,"lb / kg"]
[null,"Mass","lb","ton",4.5360000000000002E-4,"metric ton / lb",null,"Mobile Vehicle Fuel","gallon","gallon",{"$f":"CONCATENATE(Table43299[[#This Row],[Convert From ]],Table43299[[#This Row],[Convert To]])","v":"gallongallon"},1,"gallon / gallon",null,"Fugitive","Carbon tetrachloride","kg",0,0,0,0,1400,0,0,0,null,"NaturalGasUS",0]
[null,"Mass","kg","lb",2.2050000000000001,"lb / kg",null,"Employee Business Travel","km","mile",{"$f":"CONCATENATE(Table43299[[#This Row],[Convert From ]],Table43299[[#This Row],[Convert To]])","v":"kmmile"},{"$f":"1/1.609","v":0.62150403977625857},null,null,"Fugitive","CFC-11/R11 = trichlorofluoromethane","kg",0,0,0,0,4750,0,0,0]
[null,"Mass","g","short ton",{"$f":"E9/1000","v":1.1020000000000002E-6},"short ton / g",null,"Electricity","kWh","kWh",{"$f":"CONCATENATE(Table43299[[#This Row],[Convert From ]],Table43299[[#This Row],[Convert To]])","v":"kWhkWh"},1,"kWh / kWh",null,"Fugitive","CFC-113","kg",0,0,0,0,6130,0,0,0]
[null,"Mass","kg","short ton",{"$f":"E10/1000","v":1.1020000000000001E-3},"short ton / kg",null,"Natural Gas","kWh","scf",{"$f":"CONCATENATE(Table43299[[#This Row],[Convert From ]],Table43299[[#This Row],[Convert To]])","v":"kWhscf"},3.3260000000000001,"scf / kWh",null,"Fugitive","CFC-114","kg",0,0,0,0,10000,0,0,0]
[null,"Mass","metric ton","short ton",1.1020000000000001,"short ton / metric ton",null,"Fugitive","lb","kg",{"$f":"CONCATENATE(Table43299[[#This Row],[Convert From ]],Table43299[[#This Row],[Convert To]])","v":"lbkg"},2.2050000000000001,null,null,"Fugitive","CFC-115","kg",0,0,0,0,7370,0,0,0]
[null,"Mass","lb","short ton",{"$f":"1/2000","v":5.0000000000000001E-4},"short ton / lb",null,"Fugitive","lb","lb",{"$f":"CONCATENATE(Table43299[[#This Row],[Convert From ]],Table43299[[#This Row],[Convert To]])","v":"lblb"},1,"lb / lb",null,"Fugitive","CFC-12/R12 = dichlorodifluoromethane","kg",0,0,0,0,10900,0,0,0]
[null,"Mass","short ton","short ton",1,"short ton / short ton",null,"Steam","lb","mmBtu",{"$f":"CONCATENATE(Table43299[[#This Row],[Convert From ]],Table43299[[#This Row],[Convert To]])","v":"lbmmBtu"},{"$f":"1.194/1000","v":1.194E-3},"mmBtu / lb",null,"Fugitive","CFC-13","kg",0,0,0,0,14400,0,0,0]
[null,"Mass","metric ton","lb",2205,"lb / metric ton",null,"Natural Gas","m3","scf",{"$f":"CONCATENATE(Table43299[[#This Row],[Convert From ]],Table43299[[#This Row],[Convert To]])","v":"m3scf"},35.31,"scf / m3",null,"Stationary","CNG","kWh",0,0.18282000000000001,2.5000000000000001E-4,1E-4,0,0,0,0]
[null,"Mass","metric ton","kg",1000,"kg / metric ton",null,"Natural Gas","Mcf","scf",{"$f":"CONCATENATE(Table43299[[#This Row],[Convert From ]],Table43299[[#This Row],[Convert To]])","v":"Mcfscf"},1000,"scf / Mcf",null,"Mobile Road Vehicle","CNG Car - Average","kWh",1.38422,0.28042,2.5500000000000002E-3,6.4999999999999997E-4,0,0,0,0]
[null,"Volume","scf","gal",7.4805000000000001,"gal / scf",null,"Mobile Road Vehicle","mile","gallon",{"$f":"CONCATENATE(Table43299[[#This Row],[Convert From ]],Table43299[[#This Row],[Convert To]])","v":"milegallon"},24.1,"mile / gallon",null,"Employee Business Travel","CNG Car- Average","mile",0,0.28042,2.5500000000000002E-3,6.4999999999999997E-4,0,0,0,0]
[null,"Volume","scf","bbl",0.17810000000000001,"bbl / scf",null,"Mobile Road Vehicle","mile","mile",{"$f":"CONCATENATE(Table43299[[#This Row],[Convert From ]],Table43299[[#This Row],[Convert To]])","v":"milemile"},1,"mile / mile",null,"Mobile Road Vehicle","CNG Van - Average","kWh",1.88513,0.39227000000000001,1.89E-3,8.9999999999999998E-4,0,0,0,0]
[null,"Volume","scf","L",28.32,"L / scf",null,"Steam","Mlb","mmBtu",{"$f":"CONCATENATE(Table43299[[#This Row],[Convert From ]],Table43299[[#This Row],[Convert To]])","v":"MlbmmBtu"},1.194,"mmBtu / Mlb",null,"Mobile Non-Road Vehicle","Container Ship - Average","tonne_km",0,1.592E-2,5.0000000000000004E-6,2.1699999999999999E-4,0,0,0,0]
[null,"Volume","scf","m3",2.8320000000000001E-2,"m3 / scf",null,"Distillate Fuel Oil No. 2","mmBtu","gallon",{"$f":"CONCATENATE(Table43299[[#This Row],[Convert From ]],Table43299[[#This Row],[Convert To]])","v":"mmBtugallon"},{"$f":"1/0.138","v":7.2463768115942022},"gallon / mmBtu",null,"Mobile Road Vehicle","Diesel Car - Average","kWh",1.0811500000000001,0.26804,1.0000000000000001E-5,3.0300000000000001E-3,0,0,0,0]
[null,"Volume","gal","bbl",2.3800000000000002E-2,"bbl / gal",null,"Residual Fuel Oil No. 6","mmBtu","gallon",{"$f":"CONCATENATE(Table43299[[#This Row],[Convert From ]],Table43299[[#This Row],[Convert To]])","v":"mmBtugallon"},{"$f":"1/0.15","v":6.666666666666667},"gallon / mmBtu",null,"Employee Business Travel","Diesel Car- Average","mile",0,0.26804,1.0000000000000001E-5,3.0300000000000001E-3,0,0,0,0]
[null,"Volume","gal","L",3.7850000000000001,"L / gal",null,"Kerosene","mmBtu","gallon",{"$f":"CONCATENATE(Table43299[[#This Row],[Convert From ]],Table43299[[#This Row],[Convert To]])","v":"mmBtugallon"},{"$f":"1/0.135","v":7.4074074074074066},"gallon / mmBtu",null,"Mobile Road Vehicle","Diesel HGV - Artic - Average Load","kWh",5.7858799999999997,1.4392199999999999,2.0000000000000001E-4,2.5850000000000001E-2,0,0,0,0]
[null,"Volume","gal","m3",3.7850000000000002E-3,"m3 / gal",null,"Liquefied Petroleum Gases (LPG)","mmBtu","gallon",{"$f":"CONCATENATE(Table43299[[#This Row],[Convert From ]],Table43299[[#This Row],[Convert To]])","v":"mmBtugallon"},{"$f":"1/0.092","v":10.869565217391305},"gallon / mmBtu",null,"Mobile Road Vehicle","Diesel HGV - Rigid - Average Load","kWh",5.1318099999999998,1.2760400000000001,2.7E-4,1.6070000000000001E-2,0,0,0,0]
[null,"Volume","bbl","gal",42,"gal / bbl",null,"Natural Gas","mmBtu","scf",{"$f":"CONCATENATE(Table43299[[#This Row],[Convert From ]],Table43299[[#This Row],[Convert To]])","v":"mmBtuscf"},{"$f":"ROUND(1/0.001026,6)","v":974.65886899999998},"scf / mmBtu",null,"Mobile Road Vehicle","Diesel Van - Average","kWh",1.55339,0.38511000000000001,1.0000000000000001E-5,3.0000000000000001E-3,0,0,0,0]
[null,"Volume","bbl","L",158.99,"L / bbl",null,"Landfill Gas","mmBtu","scf",{"$f":"CONCATENATE(Table43299[[#This Row],[Convert From ]],Table43299[[#This Row],[Convert To]])","v":"mmBtuscf"},{"$f":"1/0.000485","v":2061.8556701030925},"scf / mmBtu",null,"Fugitive","Dimethylether","kg",0,0,0,0,1,0,0,0]
[null,"Volume","bbl","m3",0.15890000000000001,"m3 / bbl",null,"Anthracite Coal","mmBtu","Short ton",{"$f":"CONCATENATE(Table43299[[#This Row],[Convert From ]],Table43299[[#This Row],[Convert To]])","v":"mmBtuShort ton"},{"$f":"1/25.09","v":3.9856516540454363E-2},"short ton / mmBtu",null,"Electricity","Electricity","kWh",0,0.21016000000000001,8.0000000000000004E-4,1.3699999999999999E-3,0,0,0,0]
[null,"Volume","L","m3",1E-3,"m3 / L",null,"Bituminous Coal","mmBtu","Short ton",{"$f":"CONCATENATE(Table43299[[#This Row],[Convert From ]],Table43299[[#This Row],[Convert To]])","v":"mmBtuShort ton"},{"$f":"1/24.93","v":4.011231448054553E-2},"short ton / mmBtu",null,"Mobile Non-Road Vehicle","Ferry - Average","passenger_km",0,0.111313,3.3000000000000003E-5,1.516E-3,0,0,0,0]
[null,"Volume","L","gal",0.26419999999999999,"gal / L",null,"Sub-bituminous Coal","mmBtu","Short ton",{"$f":"CONCATENATE(Table43299[[#This Row],[Convert From ]],Table43299[[#This Row],[Convert To]])","v":"mmBtuShort ton"},{"$f":"1/17.25","v":5.7971014492753624E-2},"short ton / mmBtu",null,"Mobile Non-Road Vehicle","Freight Flight - Domestic","tonne_km",0,4.4694900000000004,1.8799999999999999E-3,2.2259999999999999E-2,0,0,0,0]
[null,"Volume","m3","bbl",6.2896999999999998,"bbl / m3",null,"Coal Coke","mmBtu","Short ton",{"$f":"CONCATENATE(Table43299[[#This Row],[Convert From ]],Table43299[[#This Row],[Convert To]])","v":"mmBtuShort ton"},{"$f":"1/24.8","v":4.0322580645161289E-2},"short ton / mmBtu",null,"Mobile Non-Road Vehicle","Freight Flight - Long Haul","tonne_km",0,1.0138100000000001,4.0000000000000003E-5,5.0499999999999998E-3,0,0,0,0]
[null,"Volume","m3","gal",264.2,"gal / m3",null,"Lignite Coal","mmBtu","Short ton",{"$f":"CONCATENATE(Table43299[[#This Row],[Convert From ]],Table43299[[#This Row],[Convert To]])","v":"mmBtuShort ton"},{"$f":"1/14.21","v":7.0372976776917659E-2},"short ton / mmBtu",null,"Mobile Non-Road Vehicle","Freight Flight - Short Haul","tonne_km",0,2.2907999999999999,8.0000000000000007E-5,1.141E-2,0,0,0,0]
[null,"Volume","m3","L",1000,"L / m3",null,"Mixed (Electric Power Sector)","mmBtu","Short ton",{"$f":"CONCATENATE(Table43299[[#This Row],[Convert From ]],Table43299[[#This Row],[Convert To]])","v":"mmBtuShort ton"},{"$f":"1/19.73","v":5.0684237202230108E-2},"short ton / mmBtu",null,"Mobile Non-Road Vehicle","Freight Rail","tonne_km",0,2.7490000000000001E-2,2.0000000000000002E-5,3.1E-4,0,0,0,0]
[null,"Energy","kWh","Btu",3412,"Btu / kWh",null,"Wood and Wood Residuals","mmBtu","Short ton",{"$f":"CONCATENATE(Table43299[[#This Row],[Convert From ]],Table43299[[#This Row],[Convert To]])","v":"mmBtuShort ton"},{"$f":"1/17.48","v":5.7208237986270019E-2},"short ton / mmBtu",null,"Fugitive","Halon-1211","kg",0,0,0,0,1890,0,0,0]
[null,"Energy","kWh","KJ",3600,"KJ / kWh",null,"Natural Gas","scf","scf",{"$f":"CONCATENATE(Table43299[[#This Row],[Convert From ]],Table43299[[#This Row],[Convert To]])","v":"scfscf"},1,"scf / scf",null,"Fugitive","Halon-1301","kg",0,0,0,0,7140,0,0,0]
[null,"Energy","MJ","GJ",1E-3,"GJ / MJ",null,"Steam","short ton","mmBtu",{"$f":"CONCATENATE(Table43299[[#This Row],[Convert From ]],Table43299[[#This Row],[Convert To]])","v":"short tonmmBtu"},2.3879999999999999,"mmBtu / short ton",null,"Fugitive","Halon-2402","kg",0,0,0,0,1640,0,0,0]
[null,"Energy","GJ","mmBtu",0.94779999999999998,"mmBtu / GJ",null,"Natural Gas","therm","scf",{"$f":"CONCATENATE(Table43299[[#This Row],[Convert From ]],Table43299[[#This Row],[Convert To]])","v":"thermscf"},97.5,"scf / therm",null,"Fugitive","HCFC-123","kg",0,0,0,0,77,0,0,0]
[null,"Energy","GJ","kWh",277.8,"kWh / GJ",null,null,null,null,null,null,null,null,"Fugitive","HCFC-124","kg",0,0,0,0,609,0,0,0,null,null," "]
[null,"Energy","Btu","J",1055,"J / Btu",null,"NOTE: The calculations in analysis tables do not currently distinguish the separate mmBtu/short ton, and mmBtu/gallon conversions. Correct at a later date if required.",null,null,null,null,null,null,"Fugitive","HCFC-141b","kg",0,0,0,0,725,0,0,0]
[null,"Energy","mmBtu","GJ",1.0549999999999999,"GJ / mmBtu",null,null,null,null,null,null,null,null,"Fugitive","HCFC-142b","kg",0,0,0,0,2310,0,0,0]
[null,"Energy","mmBtu","kWh",293,"kWh / mmBtu",null,null,null,null,null,null,null,null,"Fugitive","HCFC-21","kg",0,0,0,0,151,0,0,0]
[null,"Energy","therm","Btu",100000,"Btu / therm",null,null,null,null,null,null,null,null,"Fugitive","HCFC-22/R22 = chlorodifluoromethane","kg",0,0,0,0,1810,0,0,0]
[null,"Energy","therm","GJ",0.1055,"GJ / therm",null,null,null,null,null,null,null,null,"Fugitive","HCFC-225ca","kg",0,0,0,0,122,0,0,0]
[null,"Energy","therm","kWh",29.3,"kWh / therm",null,null,null,null,null,null,null,null,"Fugitive","HCFC-225cb","kg",0,0,0,0,595,0,0,0]
[null,"Distance","mile","km",1.609,"km / mile",null,null,null,null,null,null,null,null,"Fugitive","HCFE-235da2","kg",0,0,0,0,350,0,0,0]
[null,"Distance","nautical mile","mile",1.1499999999999999,"mile / nautical mile",null,null,null,null,null,null,null,null,"Fugitive","HFC-125","kg",0,0,0,0,3500,0,0,0]
[null,"Distance","km","mile",{"$f":"ROUND(1/E41,3)","v":0.622},"mile / km",null,null,null,null,null,null,null,null,"Fugitive","HFC-134","kg",0,0,0,0,1100,0,0,0]
[null,null,null,null,null,null,null,null,null,null,null,null,null,null,"Fugitive","HFC-134a","kg",0,0,0,0,1430,0,0,0]
[null,null,null,null,null,null,null,null,null,null,null,null,null,null,"Fugitive","HFC-143","kg",0,0,0,0,353,0,0,0]
[null,null,null,null,null,null,null,null,null,null,null,null,null,null,"Fugitive","HFC-143a","kg",0,0,0,0,4470,0,0,0]
[null,null,null,null,null,null,null,null,null,null,null,null,null,null,"Fugitive","HFC-152","kg",0,0,0,0,53,0,0,0]
[null,null,null,null,null,null,null,null,null,null,null,null,null,null,"Fugitive","HFC-152a","kg",0,0,0,0,124,0,0,0]
[null,null,null,null,null,null,null,null,null,null,null,null,null,null,"Fugitive","HFC-161","kg",0,0,0,0,12,0,0,0]
[null,null,null,null,null,null,null,null,null,null,null,null,null,null,"Fugitive","HFC-227ea","kg",0,0,0,0,3220,0,0,0]
[null,null,null,null,null,null,null,null,null,null,null,null,null,null,"Fugitive","HFC-23","kg",0,0,0,0,14800,0,0,0]
[null,null,null,null,null,null,null,null,null,null,null,null,null,null,"Fugitive","HFC-236cb","kg",0,0,0,0,1340,0,0,0]
[null,null,null,null,null,null,null,null,null,null,null,null,null,null,"Fugitive","HFC-236ea","kg",0,0,0,0,1370,0,0,0]
[null,null,null,null,null,null,null,null,null,null,null,null,null,null,"Fugitive","HFC-236fa","kg",0,0,0,0,9810,0,0,0]
[null,null,null,null,null,null,null,null,null,null,null,null,null,null,"Fugitive","HFC-245ca","kg",0,0,0,0,693,0,0,0]
[null,null,null,null,null,null,null,null,null,null,null,null,null,null,"Fugitive","HFC-245fa","kg",0,0,0,0,1030,0,0,0]
[null,null,null,null,null,null,null,null,null,null,null,null,null,null,"Fugitive","HFC-32","kg",0,0,0,0,675,0,0,0]
[null,null,null,null,null,null,null,null,null,null,null,null,null,null,"Fugitive","HFC-365mfc","kg",0,0,0,0,794,0,0,0]
[null,null,null,null,null,null,null,null,null,null,null,null,null,null,"Fugitive","HFC-41","kg",0,0,0,0,92,0,0,0]
[null,null,null,null,null,null,null,null,null,null,null,null,null,null,"Fugitive","HFC-43-I0mee","kg",0,0,0,0,1640,0,0,0]
[null,null,null,null,null,null,null,null,null,null,null,null,null,null,"Fugitive","HFE-125","kg",0,0,0,0,14900,0,0,0]
[null,null,null,null,null,null,null,null,null,null,null,null,null,null,"Fugitive","HFE-134","kg",0,0,0,0,6320,0,0,0]
[null,null,null,null,null,null,null,null,null,null,null,null,null,null,"Fugitive","HFE-143a","kg",0,0,0,0,756,0,0,0]
[null,null,null,null,null,null,null,null,null,null,null,null,null,null,"Fugitive","HFE-236ca12 (HG-10)","kg",0,0,0,0,2800,0,0,0]
[null,null,null,null,null,null,null,null,null,null,null,null,null,null,"Fugitive","HFE-245cb2","kg",0,0,0,0,708,0,0,0]
[null,null,null,null,null,null,null,null,null,null,null,null,null,null,"Fugitive","HFE-245fa2","kg",0,0,0,0,659,0,0,0]
[null,null,null,null,null,null,null,null,null,null,null,null,null,null,"Fugitive","HFE-254cb2","kg",0,0,0,0,359,0,0,0]
[null,null,null,null,null,null,null,null,null,null,null,null,null,null,"Fugitive","HFE-338pcc13 (HG-01)","kg",0,0,0,0,1500,0,0,0]
[null,null,null,null,null,null,null,null,null,null,null,null,null,null,"Fugitive","HFE-347mcc3","kg",0,0,0,0,575,0,0,0]
[null,null,null,null,null,null,null,null,null,null,null,null,null,null,"Fugitive","HFE-347pcf2","kg",0,0,0,0,580,0,0,0]
[null,null,null,null,null,null,null,null,null,null,null,null,null,null,"Fugitive","HFE-356pcc3","kg",0,0,0,0,110,0,0,0]
[null,null,null,null,null,null,null,null,null,null,null,null,null,null,"Fugitive","HFE-43-10pccc124 (H-Galden1040x)","kg",0,0,0,0,1870,0,0,0]
[null,null,null,null,null,null,null,null,null,null,null,null,null,null,"Fugitive","HFE-449sl (HFE-7100)","kg",0,0,0,0,297,0,0,0]
[null,null,null,null,null,null,null,null,null,null,null,null,null,null,"Fugitive","HFE-569sf2 (HFE-7200)","kg",0,0,0,0,59,0,0,0]
[null,null,null,null,null,null,null,null,null,null,null,null,null,null,"Mobile Road Vehicle","Hybrid Car - Average","kWh",0.77927000000000002,0.19031000000000001,2.7E-4,1.7600000000000001E-3,0,0,0,0]
[null,null,null,null,null,null,null,null,null,null,null,null,null,null,"Employee Business Travel","Hybrid Car- Average","mile",0,0.19031000000000001,2.7E-4,1.7600000000000001E-3,0,0,0,0]
[null,null,null,null,null,null,null,null,null,null,null,null,null,null,"Mobile Road Vehicle","Hybrid Van - Average","kWh",1.9363300000000001,0.39227000000000001,1.89E-3,8.9999999999999998E-4,0,0,0,0]
[null,null,null,null,null,null,null,null,null,null,null,null,null,null,"Stationary","LNG","kWh",0,0.18403,2.5000000000000001E-4,1E-4,0,0,0,0]
[null,null,null,null,null,null,null,null,null,null,null,null,null,null,"Stationary","LPG","kWh",0,0.21418999999999999,1.7000000000000001E-4,1.2999999999999999E-4,0,0,0,0]
[null,null,null,null,null,null,null,null,null,null,null,null,null,null,"Mobile Road Vehicle","LPG Car - Average","kWh",1.38422,0.31835999999999998,8.0000000000000007E-5,6.4999999999999997E-4,0,0,0,0]
[null,null,null,null,null,null,null,null,null,null,null,null,null,null,"Employee Business Travel","LPG Car- Average","mile",0,0.31835999999999998,8.0000000000000007E-5,6.4999999999999997E-4,0,0,0,0]
[null,null,null,null,null,null,null,null,null,null,null,null,null,null,"Mobile Road Vehicle","LPG Van - Average","kWh",1.5486599999999999,0.43356,6.0000000000000002E-5,8.9999999999999998E-4,0,0,0,0]
[null,null,null,null,null,null,null,null,null,null,null,null,null,null,"Fugitive","Methyl bromide","kg",0,0,0,0,5,0,0,0]
[null,null,null,null,null,null,null,null,null,null,null,null,null,null,"Fugitive","Methyl chloride","kg",0,0,0,0,13,0,0,0]
[null,null,null,null,null,null,null,null,null,null,null,null,null,null,"Fugitive","Methyl chloroform","kg",0,0,0,0,146,0,0,0]
[null,null,null,null,null,null,null,null,null,null,null,null,null,null,"Fugitive","Methylene chloride","kg",0,0,0,0,8.6999999999999993,0,0,0]
[null,null,null,null,null,null,null,null,null,null,null,null,null,null,"Mobile Road Vehicle","Motorbike - Average","kWh",0.74456,0.17924999999999999,2.5400000000000002E-3,9.5E-4,0,0,0,0]
[null,null,null,null,null,null,null,null,null,null,null,null,null,null,"Employee Business Travel","Motorbike - Average","mile",0,0.17924999999999999,2.5400000000000002E-3,9.5E-4,0,0,0,0]
[null,null,null,null,null,null,null,null,null,null,null,null,null,null,"Stationary","Natural Gas","kWh",0,0.18282000000000001,2.5000000000000001E-4,1E-4,0,0,0,0]
[null,null,null,null,null,null,null,null,null,null,null,null,null,null,"Stationary","Natural gas (100% mineral blend)","kWh",0,0.18403,2.5000000000000001E-4,1E-4,0,0,0,0]
[null,null,null,null,null,null,null,null,null,null,null,null,null,null,"Fugitive","Nitrogen trifluoride","kg",0,0,0,0,17200,0,0,0]
[null,null,null,null,null,null,null,null,null,null,null,null,null,null,"Stationary","Other petroleum gas","kWh",0,0.18304999999999999,8.0000000000000007E-5,1E-4,0,0,0,0]
[null,null,null,null,null,null,null,null,null,null,null,null,null,null,"Mobile Non-Road Vehicle","Passenger Flight - Domestic","passenger_km",0,0.24454999999999999,1E-4,1.2199999999999999E-3,0,0,0,0]
[null,null,null,null,null,null,null,null,null,null,null,null,null,null,"Mobile Non-Road Vehicle","Passenger Flight - Long Haul","passenger_km",0,0.19212000000000001,1.0000000000000001E-5,9.6000000000000002E-4,0,0,0,0]
[null,null,null,null,null,null,null,null,null,null,null,null,null,null,"Mobile Non-Road Vehicle","Passenger Flight - Short Haul","passenger_km",0,0.15276000000000001,1.0000000000000001E-5,7.6000000000000004E-4,0,0,0,0]
[null,null,null,null,null,null,null,null,null,null,null,null,null,null,"Employee Business Travel","Passenger Rail - International Rail","km",0,4.4099999999999999E-3,2.0000000000000002E-5,3.0000000000000001E-5,0,0,0,0]
[null,null,null,null,null,null,null,null,null,null,null,null,null,null,"Employee Business Travel","Passenger Rail - Light rail & tram","km",0,2.8320000000000001E-2,1.1E-4,1.8000000000000001E-4,0,0,0,0]
[null,null,null,null,null,null,null,null,null,null,null,null,null,null,"Employee Business Travel","Passenger Rail - London Underground","km",0,2.7529999999999999E-2,1E-4,1.8000000000000001E-4,0,0,0,0]
[null,null,null,null,null,null,null,null,null,null,null,null,null,null,"Employee Business Travel","Passenger Rail - National Rail","km",0,3.5099999999999999E-2,6.9999999999999994E-5,3.2000000000000003E-4,0,0,0,0]
[null,null,null,null,null,null,null,null,null,null,null,null,null,null,"Fugitive","Perfluorobutane (PFC-3-1-10)","kg",0,0,0,0,8860,0,0,0]
[null,null,null,null,null,null,null,null,null,null,null,null,null,null,"Fugitive","Perfluorocyclobutane (PFC-318)","kg",0,0,0,0,10300,0,0,0]
[null,null,null,null,null,null,null,null,null,null,null,null,null,null,"Fugitive","Perfluorocyclopropane","kg",0,0,0,0,17340,0,0,0]
[null,null,null,null,null,null,null,null,null,null,null,null,null,null,"Fugitive","Perfluoroethane (PFC-116)","kg",0,0,0,0,12200,0,0,0]
[null,null,null,null,null,null,null,null,null,null,null,null,null,null,"Fugitive","Perfluorohexane (PFC-5-1-14)","kg",0,0,0,0,9300,0,0,0]
[null,null,null,null,null,null,null,null,null,null,null,null,null,null,"Fugitive","Perfluoromethane (PFC-14)","kg",0,0,0,0,7390,0,0,0]
[null,null,null,null,null,null,null,null,null,null,null,null,null,null,"Fugitive","Perfluoropentane (PFC-4-1-12)","kg",0,0,0,0,9160,0,0,0]
[null,null,null,null,null,null,null,null,null,null,null,null,null,null,"Fugitive","Perfluoropropane (PFC-218)","kg",0,0,0,0,8830,0,0,0]
[null,null,null,null,null,null,null,null,null,null,null,null,null,null,"Mobile Road Vehicle","Petrol Car - Average","kWh",1.1607099999999999,0.27944000000000002,5.1000000000000004E-4,5.8E-4,0,0,0,0]
[null,null,null,null,null,null,null,null,null,null,null,null,null,null,"Employee Business Travel","Petrol Car- Average","mile",0,0.27944000000000002,5.1000000000000004E-4,5.8E-4,0,0,0,0]
[null,null,null,null,null,null,null,null,null,null,null,null,null,null,"Mobile Road Vehicle","Petrol Van - Average","kWh",1.4020999999999999,0.33755000000000002,3.8000000000000002E-4,7.9000000000000001E-4,0,0,0,0]
[null,null,null,null,null,null,null,null,null,null,null,null,null,null,"Fugitive","PFC-9-1-18","kg",0,0,0,0,7500,0,0,0]
[null,null,null,null,null,null,null,null,null,null,null,null,null,null,"Fugitive","PFPMIE","kg",0,0,0,0,10300,0,0,0]
[null,null,null,null,null,null,null,null,null,null,null,null,null,null,"Stationary","Propane","kWh",0,0.21381,1.6000000000000001E-4,1.2999999999999999E-4,0,0,0,0]
[null,null,null,null,null,null,null,null,null,null,null,null,null,null,"Fugitive","R1234yf*","kg",0,0,0,0,0,0,0,0]
[null,null,null,null,null,null,null,null,null,null,null,null,null,null,"Fugitive","R1234ze*","kg",0,0,0,0,0,0,0,0]
[null,null,null,null,null,null,null,null,null,null,null,null,null,null,"Fugitive","R290 = propane","kg",0,0,0,0,3.3,0,0,0]
[null,null,null,null,null,null,null,null,null,null,null,null,null,null,"Fugitive","R403A","kg",0,0,0,0,3124,0,0,0]
[null,null,null,null,null,null,null,null,null,null,null,null,null,null,"Fugitive","R404A","kg",0,0,0,0,3922,0,0,0]
[null,null,null,null,null,null,null,null,null,null,null,null,null,null,"Fugitive","R406A","kg",0,0,0,0,1943,0,0,0]
[null,null,null,null,null,null,null,null,null,null,null,null,null,null,"Fugitive","R407A","kg",0,0,0,0,2107,0,0,0]
[null,null,null,null,null,null,null,null,null,null,null,null,null,null,"Fugitive","R407C","kg",0,0,0,0,1774,0,0,0]
[null,null,null,null,null,null,null,null,null,null,null,null,null,null,"Fugitive","R407F","kg",0,0,0,0,1825,0,0,0]
[null,null,null,null,null,null,null,null,null,null,null,null,null,null,"Fugitive","R408A","kg",0,0,0,0,3152,0,0,0]
[null,null,null,null,null,null,null,null,null,null,null,null,null,null,"Fugitive","R409A","kg",0,0,0,0,1585,0,0,0]
[null,null,null,null,null,null,null,null,null,null,null,null,null,null,"Fugitive","R410A","kg",0,0,0,0,2088,0,0,0]
[null,null,null,null,null,null,null,null,null,null,null,null,null,null,"Fugitive","R502","kg",0,0,0,0,4657,0,0,0]
[null,null,null,null,null,null,null,null,null,null,null,null,null,null,"Fugitive","R507A","kg",0,0,0,0,3985,0,0,0]
[null,null,null,null,null,null,null,null,null,null,null,null,null,null,"Fugitive","R508B","kg",0,0,0,0,13396,0,0,0]
[null,null,null,null,null,null,null,null,null,null,null,null,null,null,"Fugitive","R600A = isobutane","kg",0,0,0,0,3,0,0,0]
[null,null,null,null,null,null,null,null,null,null,null,null,null,null,"Fugitive","Sulphur hexafluoride (SF6)","kg",0,0,0,0,22800,0,0,0]
[null,null,null,null,null,null,null,null,null,null,null,null,null,null,"Employee Business Travel","Taxi - Black Cab","km",0,0.30436000000000002,4.1400000000000002E-6,1.8799999999999999E-3,0,0,0,0]
[null,null,null,null,null,null,null,null,null,null,null,null,null,null,"Employee Business Travel","Taxi - Regular","km",0,0.20638000000000001,4.1400000000000002E-6,1.8799999999999999E-3,0,0,0,0]
[null,null,null,null,null,null,null,null,null,null,null,null,null,null,"Fugitive","Trifluoromethyl sulphur pentafluoride","kg",0,0,0,0,17700,0,0,0]