BEGIN:VCALENDAR
PRODID:-//AT Content Types//AT Event//EN
VERSION:2.0
METHOD:PUBLISH
BEGIN:VEVENT
DTSTAMP:20260423T171747Z
CREATED:20191029T122840Z
UID:ATEvent-14641aec04fe4aedbf8cdf0bc43f699b
LAST-MODIFIED:20250328T113634Z
SUMMARY:Public drop in
DTSTART:20191114T110000Z
DTEND:20191114T190000Z
DESCRIPTION:We will be attending an event at Low Grange Community Cent
 re\, Low Grange Avenue\, Billingham\, TS23 3PF. We will be there to ex
 plain our permitting process\, regulatory role and answer any queries 
 people may have.
CLASS:PUBLIC
END:VEVENT
END:VCALENDAR
