BEGIN:VCALENDAR
PRODID:-//AT Content Types//AT Event//EN
VERSION:2.0
METHOD:PUBLISH
BEGIN:VEVENT
DTSTAMP:20260423T171901Z
CREATED:20191029T122840Z
UID:ATEvent-56e5010aa0a543ce9e21898881d22160
LAST-MODIFIED:20250328T113634Z
SUMMARY:Public Drop In
DTSTART:20191113T110000Z
DTEND:20191113T190000Z
DESCRIPTION:We will be attending an event at The Clarences Resource & 
 Community Centre,Port Clarence Road\, Port Clarence TS2 1TW. We will b
 e there to explain our permitting process\, regulatory role and answer
  any queries people may have.
CLASS:PUBLIC
END:VEVENT
END:VCALENDAR
