BEGIN:VCALENDAR
PRODID:-//AT Content Types//AT Event//EN
VERSION:2.0
METHOD:PUBLISH
BEGIN:VEVENT
DTSTAMP:20260419T194941Z
CREATED:20240910T091737Z
UID:ATEvent-d5b5bcdb130045fa89887a1048245057
LAST-MODIFIED:20240910T091858Z
SUMMARY:Public drop in event at All Saints Church
DTSTART:20241012T140000Z
DTEND:20241012T170000Z
DESCRIPTION:All Saints Church\nWeston Green\nChestnut Ave\nEsher \nKT1
 0 8JL
CLASS:PUBLIC
END:VEVENT
END:VCALENDAR
