BEGIN:VCALENDAR
PRODID:-//AT Content Types//AT Event//EN
VERSION:2.0
METHOD:PUBLISH
BEGIN:VEVENT
DTSTAMP:20260419T195125Z
CREATED:20240910T091737Z
UID:ATEvent-83ba93eaa13f480c8556ae6f2b619145
LAST-MODIFIED:20240910T091858Z
SUMMARY:Public drop in event at the Civic Centre
DTSTART:20240911T140000Z
DTEND:20240911T170000Z
DESCRIPTION:Committee Rooms at the Civic Centre \n1 High Street\nEsher
  \nKT10 9ST
CLASS:PUBLIC
END:VEVENT
END:VCALENDAR
